BEGIN:VCALENDAR
VERSION:2.0
PRODID:-//Downtown Dayton Partnership - ECPv6.8.1//NONSGML v1.0//EN
CALSCALE:GREGORIAN
METHOD:PUBLISH
X-WR-CALNAME:Downtown Dayton Partnership
X-ORIGINAL-URL:https://downtowndayton.org
X-WR-CALDESC:Events for Downtown Dayton Partnership
REFRESH-INTERVAL;VALUE=DURATION:PT1H
X-Robots-Tag:noindex
X-PUBLISHED-TTL:PT1H
BEGIN:VTIMEZONE
TZID:America/New_York
BEGIN:DAYLIGHT
TZOFFSETFROM:-0500
TZOFFSETTO:-0400
TZNAME:EDT
DTSTART:20250309T070000
END:DAYLIGHT
BEGIN:STANDARD
TZOFFSETFROM:-0400
TZOFFSETTO:-0500
TZNAME:EST
DTSTART:20251102T060000
END:STANDARD
TZID:America/Detroit
BEGIN:DAYLIGHT
TZOFFSETFROM:-0500
TZOFFSETTO:-0400
TZNAME:EDT
DTSTART:20250309T070000
END:DAYLIGHT
BEGIN:STANDARD
TZOFFSETFROM:-0400
TZOFFSETTO:-0500
TZNAME:EST
DTSTART:20251102T060000
END:STANDARD
END:VTIMEZONE
BEGIN:VEVENT
DTSTART;TZID=America/New_York:20251102T150000
DTEND;TZID=America/New_York:20251102T150000
DTSTAMP:20260420T013049
CREATED:20251023T121206Z
LAST-MODIFIED:20251023T121206Z
UID:10045406-1762095600-1762095600@downtowndayton.org
SUMMARY:Explorer Albert Lin: In Search Of Lost Cities
DESCRIPTION:Albert Lin is a professional explorer\, blurring boundaries between human and machine\, while uncovering the lost relics of our past. In 2016\, Albert lost his leg below the knee as a result of a car accident in the California Dunes. His transformation through the use of innovative prosthetics drives his relentless quest into the farthest reaches of our planet – from Mongolia to the Mayan jungle – employing a technologist’s approach to unearth lost cultural stories and rituals. His first National Geographic expedition was to Mongolia to locate the elusive tomb of the leader Genghis Khan. Today\, he continues his search using cutting-edge satellite technology to locate the lost cities of the Maya and uncover timeless insights in the Arabian desert\, exploring human resilience and ancient wisdom. \nAlbert’s most noteworthy accomplishment involves using lidar (laser mapping) to uncover ancient cities concealed beneath the canopies of remote jungles\, mountain ranges\, and deserts. His expeditions have been brought to a global audience in adventure-driven factual TV series\, including “Lost Treasures Of The Maya\,” “Buried Secrets Of The Bible\,” and “Lost Cities With Albert Lin.” Fueled by a Ph.D. in engineering\, Albert surveys ancient civilizations with a keen eye.
URL:https://downtowndayton.org/event/explorer-albert-lin-in-search-of-lost-cities/
LOCATION:Victoria Theatre\, 138 N. Main St.\, Dayton\, OH\, 45402\, United States
ATTACH;FMTTYPE=image/jpeg:https://downtowndayton.org/wp-content/uploads/2025/10/lin.jpg
END:VEVENT
BEGIN:VEVENT
DTSTART;TZID=America/New_York:20251103T130000
DTEND;TZID=America/New_York:20251103T140000
DTSTAMP:20260420T013049
CREATED:20250828T121449Z
LAST-MODIFIED:20250828T121449Z
UID:10039614-1762174800-1762178400@downtowndayton.org
SUMMARY:Stuffed Animal Checkup
DESCRIPTION:Dayton Metro Library is excited to introduce a new storytime series\, Stuffed Animal Checkup\, taking place at various Branch locations through December. This engaging and educational program is designed to help young children and their caregivers become more comfortable with the idea of visiting the doctor. Children in PreK through Kindergarten are invited to bring their favorite stuffed animal to the Library to hear a story about going to the doctor. After the story\, kids will guide their stuffed friends through a series of fun and interactive “checkup” stations—checking eyes\, ears\, weight\, and even giving a pretend shot. Registration is not required. For more information\, visit DaytonMetroLibrary.org or call the Library’s Ask Me Line at 937.463.2665.
URL:https://downtowndayton.org/event/stuffed-animal-checkup/
LOCATION:Dayton Metro Library – Main Library\, 215 E. Third Street\, Dayton\, OH\, 45402
ATTACH;FMTTYPE=image/jpeg:https://downtowndayton.org/wp-content/uploads/2023/08/dml.jpg
END:VEVENT
BEGIN:VEVENT
DTSTART;TZID=America/New_York:20251103T130000
DTEND;TZID=America/New_York:20251103T140000
DTSTAMP:20260420T013049
CREATED:20251020T124940Z
LAST-MODIFIED:20251020T124940Z
UID:10044084-1762174800-1762178400@downtowndayton.org
SUMMARY:Stuffed Animal Checkup
DESCRIPTION:Stuffed Animal Checkup \n\nMonday\, November 3\, 1-2 pm\, Main Library\, Children’s Creativity Space\n\nChildren in Pre-K through Kindergarten are invited to bring a favorite stuffed toy for a storytime about visiting the doctor. After the story\, their stuffed friends will go through interactive “checkup” stations—checking eyes\, ears\, weight\, and even receiving a pretend shot.
URL:https://downtowndayton.org/event/stuffed-animal-checkup-2/
LOCATION:Dayton Metro Library – Main Library\, 215 E. Third Street\, Dayton\, OH\, 45402
ATTACH;FMTTYPE=image/jpeg:https://downtowndayton.org/wp-content/uploads/2023/08/dml.jpg
END:VEVENT
BEGIN:VEVENT
DTSTART;TZID=America/New_York:20251103T150000
DTEND;TZID=America/New_York:20251103T160000
DTSTAMP:20260420T013049
CREATED:20251021T181405Z
LAST-MODIFIED:20251021T181405Z
UID:10045102-1762182000-1762185600@downtowndayton.org
SUMMARY:Meditation Monday: A Journey into Gratitude
DESCRIPTION:Meditation Monday: A Journey into Gratitude\, Mondays in November\, 3-4 pm\, Main Library\, Opportunity Center: The Heartfulness Meditation Center of Beavercreek presents a calming\, guided meditation experience focused on gratitude. Each session is designed to help participants relax\, recharge\, and support well-being. (Adults) \n\nNovember 3: The power of pause\nNovember 10: Disengage from default mode by tuning into the heart
URL:https://downtowndayton.org/event/meditation-monday-a-journey-into-gratitude/2025-11-03/
LOCATION:Dayton Metro Library – Main Library\, 215 E. Third Street\, Dayton\, OH\, 45402
ATTACH;FMTTYPE=image/jpeg:https://downtowndayton.org/wp-content/uploads/2023/08/dml.jpg
END:VEVENT
BEGIN:VEVENT
DTSTART;TZID=America/New_York:20251103T150000
DTEND;TZID=America/New_York:20251103T160000
DTSTAMP:20260420T013049
CREATED:20251023T140821Z
LAST-MODIFIED:20251023T140821Z
UID:10045408-1762182000-1762185600@downtowndayton.org
SUMMARY:Meditation Monday: A Journey into Gratitude
DESCRIPTION:Meditation Monday: A Journey into Gratitude\, Monday\, November 3\, 10\, 17\, and 24\, 3-4 pm\, Main Library\, Opportunity Center: The Heartfulness Meditation Center of Beavercreek provides a calming\, guided meditation experience focused on gratitude. Each session is designed to help patrons relax and recharge. Topics include the power of pause\, disengaging from default mode\, releasing burdens\, and rewiring with gratitude. (Adults)
URL:https://downtowndayton.org/event/meditation-monday-a-journey-into-gratitude-2/2025-11-03/
LOCATION:Dayton Metro Library – Main Library\, 215 E. Third Street\, Dayton\, OH\, 45402
ATTACH;FMTTYPE=image/jpeg:https://downtowndayton.org/wp-content/uploads/2023/08/dml.jpg
END:VEVENT
BEGIN:VEVENT
DTSTART;TZID=America/New_York:20251103T173000
DTEND;TZID=America/New_York:20251103T183000
DTSTAMP:20260420T013049
CREATED:20251020T125016Z
LAST-MODIFIED:20251020T125016Z
UID:10044085-1762191000-1762194600@downtowndayton.org
SUMMARY:Hometown Heroes Family Storytime
DESCRIPTION:Hometown Heroes Family Storytime \n\nMonday\, November 3\, 5:30–6:30 pm\, Main Library\, Children’s Creativity Space\n\nAs part of DML’s Reading Railroad Initiative\, this session features guest reader Darius Beckham\, Senior Policy Aide to Dayton Mayor Jeffrey J. Mims.
URL:https://downtowndayton.org/event/hometown-heroes-family-storytime-4/
LOCATION:Dayton Metro Library – Main Library\, 215 E. Third Street\, Dayton\, OH\, 45402
ATTACH;FMTTYPE=image/jpeg:https://downtowndayton.org/wp-content/uploads/2023/08/dml.jpg
END:VEVENT
BEGIN:VEVENT
DTSTART;TZID=America/Detroit:20251104T190000
DTEND;TZID=America/Detroit:20251104T190000
DTSTAMP:20260420T013049
CREATED:20250114T175514Z
LAST-MODIFIED:20250114T175514Z
UID:10050146-1762282800-1762282800@downtowndayton.org
SUMMARY:Trivia Tuesday
DESCRIPTION:Trivia Tuesdays are fun for everyone at The Dayton Beer Company! Get $3.50 DBC Pints every Tuesday with trivia starting at 7:00 p.m. Cheers!
URL:https://downtowndayton.org/event/trivia-tuesday-2025-05-20/
LOCATION:OH
ATTACH;FMTTYPE=image/jpeg:https://downtowndayton.org/wp-content/uploads/2025/01/dbc.jpg
END:VEVENT
BEGIN:VEVENT
DTSTART;TZID=America/Detroit:20251104T190000
DTEND;TZID=America/Detroit:20251104T190000
DTSTAMP:20260420T013049
CREATED:20250114T175514Z
LAST-MODIFIED:20250114T175514Z
UID:10051391-1762282800-1762282800@downtowndayton.org
SUMMARY:Trivia Tuesday
DESCRIPTION:Trivia Tuesdays are fun for everyone at The Dayton Beer Company! Get $3.50 DBC Pints every Tuesday with trivia starting at 7:00 p.m. Cheers!
URL:https://downtowndayton.org/event/trivia-tuesday-2025-05-06-2/
LOCATION:OH
ATTACH;FMTTYPE=image/jpeg:https://downtowndayton.org/wp-content/uploads/2025/01/dbc.jpg
END:VEVENT
BEGIN:VEVENT
DTSTART;TZID=America/Detroit:20251104T190000
DTEND;TZID=America/Detroit:20251104T190000
DTSTAMP:20260420T013049
CREATED:20250114T175514Z
LAST-MODIFIED:20250114T175514Z
UID:10050539-1762282800-1762282800@downtowndayton.org
SUMMARY:Trivia Tuesday
DESCRIPTION:Trivia Tuesdays are fun for everyone at The Dayton Beer Company! Get $3.50 DBC Pints every Tuesday with trivia starting at 7:00 p.m. Cheers!
URL:https://downtowndayton.org/event/trivia-tuesday-2025-09-09/
LOCATION:OH
ATTACH;FMTTYPE=image/jpeg:https://downtowndayton.org/wp-content/uploads/2025/01/dbc.jpg
END:VEVENT
BEGIN:VEVENT
DTSTART;TZID=America/Detroit:20251104T190000
DTEND;TZID=America/Detroit:20251104T190000
DTSTAMP:20260420T013049
CREATED:20250114T175514Z
LAST-MODIFIED:20250114T175514Z
UID:10049498-1762282800-1762282800@downtowndayton.org
SUMMARY:Trivia Tuesday
DESCRIPTION:Trivia Tuesdays are fun for everyone at The Dayton Beer Company! Get $3.50 DBC Pints every Tuesday with trivia starting at 7:00 p.m. Cheers!
URL:https://downtowndayton.org/event/trivia-tuesday-2025-01-28/
LOCATION:OH
ATTACH;FMTTYPE=image/jpeg:https://downtowndayton.org/wp-content/uploads/2025/01/dbc.jpg
END:VEVENT
BEGIN:VEVENT
DTSTART;TZID=America/Detroit:20251104T190000
DTEND;TZID=America/Detroit:20251104T190000
DTSTAMP:20260420T013049
CREATED:20250114T175514Z
LAST-MODIFIED:20250114T175514Z
UID:10052709-1762282800-1762282800@downtowndayton.org
SUMMARY:Trivia Tuesday
DESCRIPTION:Trivia Tuesdays are fun for everyone at The Dayton Beer Company! Get $3.50 DBC Pints every Tuesday with trivia starting at 7:00 p.m. Cheers!
URL:https://downtowndayton.org/event/trivia-tuesday-2025-07-22-3/
LOCATION:OH
ATTACH;FMTTYPE=image/jpeg:https://downtowndayton.org/wp-content/uploads/2025/01/dbc.jpg
END:VEVENT
BEGIN:VEVENT
DTSTART;TZID=America/Detroit:20251104T190000
DTEND;TZID=America/Detroit:20251104T190000
DTSTAMP:20260420T013049
CREATED:20250114T175514Z
LAST-MODIFIED:20250114T175514Z
UID:10051580-1762282800-1762282800@downtowndayton.org
SUMMARY:Trivia Tuesday
DESCRIPTION:Trivia Tuesdays are fun for everyone at The Dayton Beer Company! Get $3.50 DBC Pints every Tuesday with trivia starting at 7:00 p.m. Cheers!
URL:https://downtowndayton.org/event/trivia-tuesday-2025-06-17-2/
LOCATION:OH
ATTACH;FMTTYPE=image/jpeg:https://downtowndayton.org/wp-content/uploads/2025/01/dbc.jpg
END:VEVENT
BEGIN:VEVENT
DTSTART;TZID=America/Detroit:20251104T190000
DTEND;TZID=America/Detroit:20251104T190000
DTSTAMP:20260420T013049
CREATED:20250114T175514Z
LAST-MODIFIED:20250114T175514Z
UID:10052205-1762282800-1762282800@downtowndayton.org
SUMMARY:Trivia Tuesday
DESCRIPTION:Trivia Tuesdays are fun for everyone at The Dayton Beer Company! Get $3.50 DBC Pints every Tuesday with trivia starting at 7:00 p.m. Cheers!
URL:https://downtowndayton.org/event/trivia-tuesday-2025-04-01-3/
LOCATION:OH
ATTACH;FMTTYPE=image/jpeg:https://downtowndayton.org/wp-content/uploads/2025/01/dbc.jpg
END:VEVENT
BEGIN:VEVENT
DTSTART;TZID=America/Detroit:20251104T190000
DTEND;TZID=America/Detroit:20251104T190000
DTSTAMP:20260420T013049
CREATED:20250114T175514Z
LAST-MODIFIED:20250114T175514Z
UID:10051283-1762282800-1762282800@downtowndayton.org
SUMMARY:Trivia Tuesday
DESCRIPTION:Trivia Tuesdays are fun for everyone at The Dayton Beer Company! Get $3.50 DBC Pints every Tuesday with trivia starting at 7:00 p.m. Cheers!
URL:https://downtowndayton.org/event/trivia-tuesday-2025-04-15-2/
LOCATION:OH
ATTACH;FMTTYPE=image/jpeg:https://downtowndayton.org/wp-content/uploads/2025/01/dbc.jpg
END:VEVENT
BEGIN:VEVENT
DTSTART;TZID=America/Detroit:20251104T190000
DTEND;TZID=America/Detroit:20251104T190000
DTSTAMP:20260420T013049
CREATED:20250114T175514Z
LAST-MODIFIED:20250114T175514Z
UID:10050044-1762282800-1762282800@downtowndayton.org
SUMMARY:Trivia Tuesday
DESCRIPTION:Trivia Tuesdays are fun for everyone at The Dayton Beer Company! Get $3.50 DBC Pints every Tuesday with trivia starting at 7:00 p.m. Cheers!
URL:https://downtowndayton.org/event/trivia-tuesday-2025-04-29/
LOCATION:OH
ATTACH;FMTTYPE=image/jpeg:https://downtowndayton.org/wp-content/uploads/2025/01/dbc.jpg
END:VEVENT
BEGIN:VEVENT
DTSTART;TZID=America/Detroit:20251104T190000
DTEND;TZID=America/Detroit:20251104T190000
DTSTAMP:20260420T013049
CREATED:20250114T175514Z
LAST-MODIFIED:20250114T175514Z
UID:10052634-1762282800-1762282800@downtowndayton.org
SUMMARY:Trivia Tuesday
DESCRIPTION:Trivia Tuesdays are fun for everyone at The Dayton Beer Company! Get $3.50 DBC Pints every Tuesday with trivia starting at 7:00 p.m. Cheers!
URL:https://downtowndayton.org/event/trivia-tuesday-2025-07-01-3/
LOCATION:OH
ATTACH;FMTTYPE=image/jpeg:https://downtowndayton.org/wp-content/uploads/2025/01/dbc.jpg
END:VEVENT
BEGIN:VEVENT
DTSTART;TZID=America/Detroit:20251104T190000
DTEND;TZID=America/Detroit:20251104T190000
DTSTAMP:20260420T013049
CREATED:20250114T175514Z
LAST-MODIFIED:20250114T175514Z
UID:10051490-1762282800-1762282800@downtowndayton.org
SUMMARY:Trivia Tuesday
DESCRIPTION:Trivia Tuesdays are fun for everyone at The Dayton Beer Company! Get $3.50 DBC Pints every Tuesday with trivia starting at 7:00 p.m. Cheers!
URL:https://downtowndayton.org/event/trivia-tuesday-2025-05-27-2/
LOCATION:OH
ATTACH;FMTTYPE=image/jpeg:https://downtowndayton.org/wp-content/uploads/2025/01/dbc.jpg
END:VEVENT
BEGIN:VEVENT
DTSTART;TZID=America/Detroit:20251104T190000
DTEND;TZID=America/Detroit:20251104T190000
DTSTAMP:20260420T013049
CREATED:20250114T175514Z
LAST-MODIFIED:20250114T175514Z
UID:10050522-1762282800-1762282800@downtowndayton.org
SUMMARY:Trivia Tuesday
DESCRIPTION:Trivia Tuesdays are fun for everyone at The Dayton Beer Company! Get $3.50 DBC Pints every Tuesday with trivia starting at 7:00 p.m. Cheers!
URL:https://downtowndayton.org/event/trivia-tuesday-2025-09-02/
LOCATION:OH
ATTACH;FMTTYPE=image/jpeg:https://downtowndayton.org/wp-content/uploads/2025/01/dbc.jpg
END:VEVENT
BEGIN:VEVENT
DTSTART;TZID=America/Detroit:20251104T190000
DTEND;TZID=America/Detroit:20251104T190000
DTSTAMP:20260420T013049
CREATED:20250114T175514Z
LAST-MODIFIED:20250114T175514Z
UID:10052082-1762282800-1762282800@downtowndayton.org
SUMMARY:Trivia Tuesday
DESCRIPTION:Trivia Tuesdays are fun for everyone at The Dayton Beer Company! Get $3.50 DBC Pints every Tuesday with trivia starting at 7:00 p.m. Cheers!
URL:https://downtowndayton.org/event/trivia-tuesday-2025-03-11-3/
LOCATION:OH
ATTACH;FMTTYPE=image/jpeg:https://downtowndayton.org/wp-content/uploads/2025/01/dbc.jpg
END:VEVENT
BEGIN:VEVENT
DTSTART;TZID=America/Detroit:20251104T190000
DTEND;TZID=America/Detroit:20251104T190000
DTSTAMP:20260420T013049
CREATED:20250114T175514Z
LAST-MODIFIED:20250114T175514Z
UID:10051166-1762282800-1762282800@downtowndayton.org
SUMMARY:Trivia Tuesday
DESCRIPTION:Trivia Tuesdays are fun for everyone at The Dayton Beer Company! Get $3.50 DBC Pints every Tuesday with trivia starting at 7:00 p.m. Cheers!
URL:https://downtowndayton.org/event/trivia-tuesday-2025-03-25-2/
LOCATION:OH
ATTACH;FMTTYPE=image/jpeg:https://downtowndayton.org/wp-content/uploads/2025/01/dbc.jpg
END:VEVENT
BEGIN:VEVENT
DTSTART;TZID=America/Detroit:20251104T190000
DTEND;TZID=America/Detroit:20251104T190000
DTSTAMP:20260420T013049
CREATED:20250114T175514Z
LAST-MODIFIED:20250114T175514Z
UID:10049933-1762282800-1762282800@downtowndayton.org
SUMMARY:Trivia Tuesday
DESCRIPTION:Trivia Tuesdays are fun for everyone at The Dayton Beer Company! Get $3.50 DBC Pints every Tuesday with trivia starting at 7:00 p.m. Cheers!
URL:https://downtowndayton.org/event/trivia-tuesday-2025-04-08/
LOCATION:OH
ATTACH;FMTTYPE=image/jpeg:https://downtowndayton.org/wp-content/uploads/2025/01/dbc.jpg
END:VEVENT
BEGIN:VEVENT
DTSTART;TZID=America/Detroit:20251104T190000
DTEND;TZID=America/Detroit:20251104T190000
DTSTAMP:20260420T013049
CREATED:20250114T175514Z
LAST-MODIFIED:20250114T175514Z
UID:10052550-1762282800-1762282800@downtowndayton.org
SUMMARY:Trivia Tuesday
DESCRIPTION:Trivia Tuesdays are fun for everyone at The Dayton Beer Company! Get $3.50 DBC Pints every Tuesday with trivia starting at 7:00 p.m. Cheers!
URL:https://downtowndayton.org/event/trivia-tuesday-2025-06-10-3/
LOCATION:OH
ATTACH;FMTTYPE=image/jpeg:https://downtowndayton.org/wp-content/uploads/2025/01/dbc.jpg
END:VEVENT
BEGIN:VEVENT
DTSTART;TZID=America/Detroit:20251104T190000
DTEND;TZID=America/Detroit:20251104T190000
DTSTAMP:20260420T013049
CREATED:20250114T175514Z
LAST-MODIFIED:20250114T175514Z
UID:10050465-1762282800-1762282800@downtowndayton.org
SUMMARY:Trivia Tuesday
DESCRIPTION:Trivia Tuesdays are fun for everyone at The Dayton Beer Company! Get $3.50 DBC Pints every Tuesday with trivia starting at 7:00 p.m. Cheers!
URL:https://downtowndayton.org/event/trivia-tuesday-2025-08-12/
LOCATION:OH
ATTACH;FMTTYPE=image/jpeg:https://downtowndayton.org/wp-content/uploads/2025/01/dbc.jpg
END:VEVENT
BEGIN:VEVENT
DTSTART;TZID=America/Detroit:20251104T190000
DTEND;TZID=America/Detroit:20251104T190000
DTSTAMP:20260420T013049
CREATED:20250114T175514Z
LAST-MODIFIED:20250114T175514Z
UID:10051950-1762282800-1762282800@downtowndayton.org
SUMMARY:Trivia Tuesday
DESCRIPTION:Trivia Tuesdays are fun for everyone at The Dayton Beer Company! Get $3.50 DBC Pints every Tuesday with trivia starting at 7:00 p.m. Cheers!
URL:https://downtowndayton.org/event/trivia-tuesday-2025-02-18-3/
LOCATION:OH
ATTACH;FMTTYPE=image/jpeg:https://downtowndayton.org/wp-content/uploads/2025/01/dbc.jpg
END:VEVENT
BEGIN:VEVENT
DTSTART;TZID=America/Detroit:20251104T190000
DTEND;TZID=America/Detroit:20251104T190000
DTSTAMP:20260420T013049
CREATED:20250114T175514Z
LAST-MODIFIED:20250114T175514Z
UID:10050349-1762282800-1762282800@downtowndayton.org
SUMMARY:Trivia Tuesday
DESCRIPTION:Trivia Tuesdays are fun for everyone at The Dayton Beer Company! Get $3.50 DBC Pints every Tuesday with trivia starting at 7:00 p.m. Cheers!
URL:https://downtowndayton.org/event/trivia-tuesday-2025-07-08/
LOCATION:OH
ATTACH;FMTTYPE=image/jpeg:https://downtowndayton.org/wp-content/uploads/2025/01/dbc.jpg
END:VEVENT
BEGIN:VEVENT
DTSTART;TZID=America/Detroit:20251104T190000
DTEND;TZID=America/Detroit:20251104T190000
DTSTAMP:20260420T013049
CREATED:20250114T175514Z
LAST-MODIFIED:20250114T175514Z
UID:10049813-1762282800-1762282800@downtowndayton.org
SUMMARY:Trivia Tuesday
DESCRIPTION:Trivia Tuesdays are fun for everyone at The Dayton Beer Company! Get $3.50 DBC Pints every Tuesday with trivia starting at 7:00 p.m. Cheers!
URL:https://downtowndayton.org/event/trivia-tuesday-2025-03-18/
LOCATION:OH
ATTACH;FMTTYPE=image/jpeg:https://downtowndayton.org/wp-content/uploads/2025/01/dbc.jpg
END:VEVENT
BEGIN:VEVENT
DTSTART;TZID=America/Detroit:20251104T190000
DTEND;TZID=America/Detroit:20251104T190000
DTSTAMP:20260420T013049
CREATED:20250114T175514Z
LAST-MODIFIED:20250114T175514Z
UID:10051040-1762282800-1762282800@downtowndayton.org
SUMMARY:Trivia Tuesday
DESCRIPTION:Trivia Tuesdays are fun for everyone at The Dayton Beer Company! Get $3.50 DBC Pints every Tuesday with trivia starting at 7:00 p.m. Cheers!
URL:https://downtowndayton.org/event/trivia-tuesday-2025-03-04-2/
LOCATION:OH
ATTACH;FMTTYPE=image/jpeg:https://downtowndayton.org/wp-content/uploads/2025/01/dbc.jpg
END:VEVENT
BEGIN:VEVENT
DTSTART;TZID=America/Detroit:20251104T190000
DTEND;TZID=America/Detroit:20251104T190000
DTSTAMP:20260420T013049
CREATED:20250114T175514Z
LAST-MODIFIED:20250114T175514Z
UID:10052457-1762282800-1762282800@downtowndayton.org
SUMMARY:Trivia Tuesday
DESCRIPTION:Trivia Tuesdays are fun for everyone at The Dayton Beer Company! Get $3.50 DBC Pints every Tuesday with trivia starting at 7:00 p.m. Cheers!
URL:https://downtowndayton.org/event/trivia-tuesday-2025-05-20-3/
LOCATION:OH
ATTACH;FMTTYPE=image/jpeg:https://downtowndayton.org/wp-content/uploads/2025/01/dbc.jpg
END:VEVENT
BEGIN:VEVENT
DTSTART;TZID=America/Detroit:20251104T190000
DTEND;TZID=America/Detroit:20251104T190000
DTSTAMP:20260420T013049
CREATED:20250114T175514Z
LAST-MODIFIED:20250114T175514Z
UID:10051809-1762282800-1762282800@downtowndayton.org
SUMMARY:Trivia Tuesday
DESCRIPTION:Trivia Tuesdays are fun for everyone at The Dayton Beer Company! Get $3.50 DBC Pints every Tuesday with trivia starting at 7:00 p.m. Cheers!
URL:https://downtowndayton.org/event/trivia-tuesday-2025-01-28-3/
LOCATION:OH
ATTACH;FMTTYPE=image/jpeg:https://downtowndayton.org/wp-content/uploads/2025/01/dbc.jpg
END:VEVENT
BEGIN:VEVENT
DTSTART;TZID=America/Detroit:20251104T190000
DTEND;TZID=America/Detroit:20251104T190000
DTSTAMP:20260420T013049
CREATED:20250114T175514Z
LAST-MODIFIED:20250114T175514Z
UID:10050268-1762282800-1762282800@downtowndayton.org
SUMMARY:Trivia Tuesday
DESCRIPTION:Trivia Tuesdays are fun for everyone at The Dayton Beer Company! Get $3.50 DBC Pints every Tuesday with trivia starting at 7:00 p.m. Cheers!
URL:https://downtowndayton.org/event/trivia-tuesday-2025-06-17/
LOCATION:OH
ATTACH;FMTTYPE=image/jpeg:https://downtowndayton.org/wp-content/uploads/2025/01/dbc.jpg
END:VEVENT
END:VCALENDAR