BEGIN:VCALENDAR
VERSION:2.0
PRODID:-//Downtown Dayton Partnership - ECPv6.8.1//NONSGML v1.0//EN
CALSCALE:GREGORIAN
METHOD:PUBLISH
X-WR-CALNAME:Downtown Dayton Partnership
X-ORIGINAL-URL:https://downtowndayton.org
X-WR-CALDESC:Events for Downtown Dayton Partnership
REFRESH-INTERVAL;VALUE=DURATION:PT1H
X-Robots-Tag:noindex
X-PUBLISHED-TTL:PT1H
BEGIN:VTIMEZONE
TZID:America/Detroit
BEGIN:DAYLIGHT
TZOFFSETFROM:-0500
TZOFFSETTO:-0400
TZNAME:EDT
DTSTART:20250309T070000
END:DAYLIGHT
BEGIN:STANDARD
TZOFFSETFROM:-0400
TZOFFSETTO:-0500
TZNAME:EST
DTSTART:20251102T060000
END:STANDARD
TZID:America/New_York
BEGIN:DAYLIGHT
TZOFFSETFROM:-0500
TZOFFSETTO:-0400
TZNAME:EDT
DTSTART:20250309T070000
END:DAYLIGHT
BEGIN:STANDARD
TZOFFSETFROM:-0400
TZOFFSETTO:-0500
TZNAME:EST
DTSTART:20251102T060000
END:STANDARD
END:VTIMEZONE
BEGIN:VEVENT
DTSTART;TZID=America/Detroit:20251111T190000
DTEND;TZID=America/Detroit:20251111T190000
DTSTAMP:20260425T094217
CREATED:20250114T175514Z
LAST-MODIFIED:20250114T175514Z
UID:10050045-1762887600-1762887600@downtowndayton.org
SUMMARY:Trivia Tuesday
DESCRIPTION:Trivia Tuesdays are fun for everyone at The Dayton Beer Company! Get $3.50 DBC Pints every Tuesday with trivia starting at 7:00 p.m. Cheers!
URL:https://downtowndayton.org/event/trivia-tuesday-2025-04-29/
LOCATION:OH
ATTACH;FMTTYPE=image/jpeg:https://downtowndayton.org/wp-content/uploads/2025/01/dbc.jpg
END:VEVENT
BEGIN:VEVENT
DTSTART;TZID=America/Detroit:20251111T190000
DTEND;TZID=America/Detroit:20251111T190000
DTSTAMP:20260425T094217
CREATED:20250114T175514Z
LAST-MODIFIED:20250114T175514Z
UID:10050114-1762887600-1762887600@downtowndayton.org
SUMMARY:Trivia Tuesday
DESCRIPTION:Trivia Tuesdays are fun for everyone at The Dayton Beer Company! Get $3.50 DBC Pints every Tuesday with trivia starting at 7:00 p.m. Cheers!
URL:https://downtowndayton.org/event/trivia-tuesday-2025-05-13/
LOCATION:OH
ATTACH;FMTTYPE=image/jpeg:https://downtowndayton.org/wp-content/uploads/2025/01/dbc.jpg
END:VEVENT
BEGIN:VEVENT
DTSTART;TZID=America/Detroit:20251111T190000
DTEND;TZID=America/Detroit:20251111T190000
DTSTAMP:20260425T094217
CREATED:20250114T175514Z
LAST-MODIFIED:20250114T175514Z
UID:10050179-1762887600-1762887600@downtowndayton.org
SUMMARY:Trivia Tuesday
DESCRIPTION:Trivia Tuesdays are fun for everyone at The Dayton Beer Company! Get $3.50 DBC Pints every Tuesday with trivia starting at 7:00 p.m. Cheers!
URL:https://downtowndayton.org/event/trivia-tuesday-2025-05-27/
LOCATION:OH
ATTACH;FMTTYPE=image/jpeg:https://downtowndayton.org/wp-content/uploads/2025/01/dbc.jpg
END:VEVENT
BEGIN:VEVENT
DTSTART;TZID=America/Detroit:20251111T190000
DTEND;TZID=America/Detroit:20251111T190000
DTSTAMP:20260425T094217
CREATED:20250114T175514Z
LAST-MODIFIED:20250114T175514Z
UID:10050240-1762887600-1762887600@downtowndayton.org
SUMMARY:Trivia Tuesday
DESCRIPTION:Trivia Tuesdays are fun for everyone at The Dayton Beer Company! Get $3.50 DBC Pints every Tuesday with trivia starting at 7:00 p.m. Cheers!
URL:https://downtowndayton.org/event/trivia-tuesday-2025-06-10/
LOCATION:OH
ATTACH;FMTTYPE=image/jpeg:https://downtowndayton.org/wp-content/uploads/2025/01/dbc.jpg
END:VEVENT
BEGIN:VEVENT
DTSTART;TZID=America/Detroit:20251111T190000
DTEND;TZID=America/Detroit:20251111T190000
DTSTAMP:20260425T094217
CREATED:20250114T175514Z
LAST-MODIFIED:20250114T175514Z
UID:10051459-1762887600-1762887600@downtowndayton.org
SUMMARY:Trivia Tuesday
DESCRIPTION:Trivia Tuesdays are fun for everyone at The Dayton Beer Company! Get $3.50 DBC Pints every Tuesday with trivia starting at 7:00 p.m. Cheers!
URL:https://downtowndayton.org/event/trivia-tuesday-2025-05-20-2/
LOCATION:OH
ATTACH;FMTTYPE=image/jpeg:https://downtowndayton.org/wp-content/uploads/2025/01/dbc.jpg
END:VEVENT
BEGIN:VEVENT
DTSTART;TZID=America/Detroit:20251111T190000
DTEND;TZID=America/Detroit:20251111T190000
DTSTAMP:20260425T094217
CREATED:20250114T175514Z
LAST-MODIFIED:20250114T175514Z
UID:10051522-1762887600-1762887600@downtowndayton.org
SUMMARY:Trivia Tuesday
DESCRIPTION:Trivia Tuesdays are fun for everyone at The Dayton Beer Company! Get $3.50 DBC Pints every Tuesday with trivia starting at 7:00 p.m. Cheers!
URL:https://downtowndayton.org/event/trivia-tuesday-2025-06-03-2/
LOCATION:OH
ATTACH;FMTTYPE=image/jpeg:https://downtowndayton.org/wp-content/uploads/2025/01/dbc.jpg
END:VEVENT
BEGIN:VEVENT
DTSTART;TZID=America/Detroit:20251111T190000
DTEND;TZID=America/Detroit:20251111T190000
DTSTAMP:20260425T094217
CREATED:20250114T175514Z
LAST-MODIFIED:20250114T175514Z
UID:10051581-1762887600-1762887600@downtowndayton.org
SUMMARY:Trivia Tuesday
DESCRIPTION:Trivia Tuesdays are fun for everyone at The Dayton Beer Company! Get $3.50 DBC Pints every Tuesday with trivia starting at 7:00 p.m. Cheers!
URL:https://downtowndayton.org/event/trivia-tuesday-2025-06-17-2/
LOCATION:OH
ATTACH;FMTTYPE=image/jpeg:https://downtowndayton.org/wp-content/uploads/2025/01/dbc.jpg
END:VEVENT
BEGIN:VEVENT
DTSTART;TZID=America/Detroit:20251111T190000
DTEND;TZID=America/Detroit:20251111T190000
DTSTAMP:20260425T094217
CREATED:20250114T175514Z
LAST-MODIFIED:20250114T175514Z
UID:10051636-1762887600-1762887600@downtowndayton.org
SUMMARY:Trivia Tuesday
DESCRIPTION:Trivia Tuesdays are fun for everyone at The Dayton Beer Company! Get $3.50 DBC Pints every Tuesday with trivia starting at 7:00 p.m. Cheers!
URL:https://downtowndayton.org/event/trivia-tuesday-2025-07-01-2/
LOCATION:OH
ATTACH;FMTTYPE=image/jpeg:https://downtowndayton.org/wp-content/uploads/2025/01/dbc.jpg
END:VEVENT
BEGIN:VEVENT
DTSTART;TZID=America/Detroit:20251111T190000
DTEND;TZID=America/Detroit:20251111T190000
DTSTAMP:20260425T094217
CREATED:20250114T175514Z
LAST-MODIFIED:20250114T175514Z
UID:10051687-1762887600-1762887600@downtowndayton.org
SUMMARY:Trivia Tuesday
DESCRIPTION:Trivia Tuesdays are fun for everyone at The Dayton Beer Company! Get $3.50 DBC Pints every Tuesday with trivia starting at 7:00 p.m. Cheers!
URL:https://downtowndayton.org/event/trivia-tuesday-2025-07-15-2/
LOCATION:OH
ATTACH;FMTTYPE=image/jpeg:https://downtowndayton.org/wp-content/uploads/2025/01/dbc.jpg
END:VEVENT
BEGIN:VEVENT
DTSTART;TZID=America/Detroit:20251111T190000
DTEND;TZID=America/Detroit:20251111T190000
DTSTAMP:20260425T094217
CREATED:20250114T175514Z
LAST-MODIFIED:20250114T175514Z
UID:10051761-1762887600-1762887600@downtowndayton.org
SUMMARY:Trivia Tuesday
DESCRIPTION:Trivia Tuesdays are fun for everyone at The Dayton Beer Company! Get $3.50 DBC Pints every Tuesday with trivia starting at 7:00 p.m. Cheers!
URL:https://downtowndayton.org/event/trivia-tuesday-2025-01-21-3/
LOCATION:OH
ATTACH;FMTTYPE=image/jpeg:https://downtowndayton.org/wp-content/uploads/2025/01/dbc.jpg
END:VEVENT
BEGIN:VEVENT
DTSTART;TZID=America/Detroit:20251111T190000
DTEND;TZID=America/Detroit:20251111T190000
DTSTAMP:20260425T094217
CREATED:20250114T175514Z
LAST-MODIFIED:20250114T175514Z
UID:10051858-1762887600-1762887600@downtowndayton.org
SUMMARY:Trivia Tuesday
DESCRIPTION:Trivia Tuesdays are fun for everyone at The Dayton Beer Company! Get $3.50 DBC Pints every Tuesday with trivia starting at 7:00 p.m. Cheers!
URL:https://downtowndayton.org/event/trivia-tuesday-2025-02-04-3/
LOCATION:OH
ATTACH;FMTTYPE=image/jpeg:https://downtowndayton.org/wp-content/uploads/2025/01/dbc.jpg
END:VEVENT
BEGIN:VEVENT
DTSTART;TZID=America/Detroit:20251111T190000
DTEND;TZID=America/Detroit:20251111T190000
DTSTAMP:20260425T094217
CREATED:20250114T175514Z
LAST-MODIFIED:20250114T175514Z
UID:10051951-1762887600-1762887600@downtowndayton.org
SUMMARY:Trivia Tuesday
DESCRIPTION:Trivia Tuesdays are fun for everyone at The Dayton Beer Company! Get $3.50 DBC Pints every Tuesday with trivia starting at 7:00 p.m. Cheers!
URL:https://downtowndayton.org/event/trivia-tuesday-2025-02-18-3/
LOCATION:OH
ATTACH;FMTTYPE=image/jpeg:https://downtowndayton.org/wp-content/uploads/2025/01/dbc.jpg
END:VEVENT
BEGIN:VEVENT
DTSTART;TZID=America/Detroit:20251111T190000
DTEND;TZID=America/Detroit:20251111T190000
DTSTAMP:20260425T094217
CREATED:20250114T175514Z
LAST-MODIFIED:20250114T175514Z
UID:10052040-1762887600-1762887600@downtowndayton.org
SUMMARY:Trivia Tuesday
DESCRIPTION:Trivia Tuesdays are fun for everyone at The Dayton Beer Company! Get $3.50 DBC Pints every Tuesday with trivia starting at 7:00 p.m. Cheers!
URL:https://downtowndayton.org/event/trivia-tuesday-2025-03-04-3/
LOCATION:OH
ATTACH;FMTTYPE=image/jpeg:https://downtowndayton.org/wp-content/uploads/2025/01/dbc.jpg
END:VEVENT
BEGIN:VEVENT
DTSTART;TZID=America/Detroit:20251111T190000
DTEND;TZID=America/Detroit:20251111T190000
DTSTAMP:20260425T094217
CREATED:20250114T175514Z
LAST-MODIFIED:20250114T175514Z
UID:10052125-1762887600-1762887600@downtowndayton.org
SUMMARY:Trivia Tuesday
DESCRIPTION:Trivia Tuesdays are fun for everyone at The Dayton Beer Company! Get $3.50 DBC Pints every Tuesday with trivia starting at 7:00 p.m. Cheers!
URL:https://downtowndayton.org/event/trivia-tuesday-2025-03-18-3/
LOCATION:OH
ATTACH;FMTTYPE=image/jpeg:https://downtowndayton.org/wp-content/uploads/2025/01/dbc.jpg
END:VEVENT
BEGIN:VEVENT
DTSTART;TZID=America/Detroit:20251111T190000
DTEND;TZID=America/Detroit:20251111T190000
DTSTAMP:20260425T094217
CREATED:20250114T175514Z
LAST-MODIFIED:20250114T175514Z
UID:10052206-1762887600-1762887600@downtowndayton.org
SUMMARY:Trivia Tuesday
DESCRIPTION:Trivia Tuesdays are fun for everyone at The Dayton Beer Company! Get $3.50 DBC Pints every Tuesday with trivia starting at 7:00 p.m. Cheers!
URL:https://downtowndayton.org/event/trivia-tuesday-2025-04-01-3/
LOCATION:OH
ATTACH;FMTTYPE=image/jpeg:https://downtowndayton.org/wp-content/uploads/2025/01/dbc.jpg
END:VEVENT
BEGIN:VEVENT
DTSTART;TZID=America/Detroit:20251111T190000
DTEND;TZID=America/Detroit:20251111T190000
DTSTAMP:20260425T094217
CREATED:20250114T175514Z
LAST-MODIFIED:20250114T175514Z
UID:10050811-1762887600-1762887600@downtowndayton.org
SUMMARY:Trivia Tuesday
DESCRIPTION:Trivia Tuesdays are fun for everyone at The Dayton Beer Company! Get $3.50 DBC Pints every Tuesday with trivia starting at 7:00 p.m. Cheers!
URL:https://downtowndayton.org/event/trivia-tuesday-2025-01-28-2/
LOCATION:OH
ATTACH;FMTTYPE=image/jpeg:https://downtowndayton.org/wp-content/uploads/2025/01/dbc.jpg
END:VEVENT
BEGIN:VEVENT
DTSTART;TZID=America/Detroit:20251111T190000
DTEND;TZID=America/Detroit:20251111T190000
DTSTAMP:20260425T094217
CREATED:20250114T175514Z
LAST-MODIFIED:20250114T175514Z
UID:10050906-1762887600-1762887600@downtowndayton.org
SUMMARY:Trivia Tuesday
DESCRIPTION:Trivia Tuesdays are fun for everyone at The Dayton Beer Company! Get $3.50 DBC Pints every Tuesday with trivia starting at 7:00 p.m. Cheers!
URL:https://downtowndayton.org/event/trivia-tuesday-2025-02-11-2/
LOCATION:OH
ATTACH;FMTTYPE=image/jpeg:https://downtowndayton.org/wp-content/uploads/2025/01/dbc.jpg
END:VEVENT
BEGIN:VEVENT
DTSTART;TZID=America/Detroit:20251111T190000
DTEND;TZID=America/Detroit:20251111T190000
DTSTAMP:20260425T094217
CREATED:20250114T175514Z
LAST-MODIFIED:20250114T175514Z
UID:10050997-1762887600-1762887600@downtowndayton.org
SUMMARY:Trivia Tuesday
DESCRIPTION:Trivia Tuesdays are fun for everyone at The Dayton Beer Company! Get $3.50 DBC Pints every Tuesday with trivia starting at 7:00 p.m. Cheers!
URL:https://downtowndayton.org/event/trivia-tuesday-2025-02-25-2/
LOCATION:OH
ATTACH;FMTTYPE=image/jpeg:https://downtowndayton.org/wp-content/uploads/2025/01/dbc.jpg
END:VEVENT
BEGIN:VEVENT
DTSTART;TZID=America/Detroit:20251111T190000
DTEND;TZID=America/Detroit:20251111T190000
DTSTAMP:20260425T094217
CREATED:20250114T175514Z
LAST-MODIFIED:20250114T175514Z
UID:10051084-1762887600-1762887600@downtowndayton.org
SUMMARY:Trivia Tuesday
DESCRIPTION:Trivia Tuesdays are fun for everyone at The Dayton Beer Company! Get $3.50 DBC Pints every Tuesday with trivia starting at 7:00 p.m. Cheers!
URL:https://downtowndayton.org/event/trivia-tuesday-2025-03-11-2/
LOCATION:OH
ATTACH;FMTTYPE=image/jpeg:https://downtowndayton.org/wp-content/uploads/2025/01/dbc.jpg
END:VEVENT
BEGIN:VEVENT
DTSTART;TZID=America/Detroit:20251111T190000
DTEND;TZID=America/Detroit:20251111T190000
DTSTAMP:20260425T094218
CREATED:20250114T175514Z
LAST-MODIFIED:20250114T175514Z
UID:10051167-1762887600-1762887600@downtowndayton.org
SUMMARY:Trivia Tuesday
DESCRIPTION:Trivia Tuesdays are fun for everyone at The Dayton Beer Company! Get $3.50 DBC Pints every Tuesday with trivia starting at 7:00 p.m. Cheers!
URL:https://downtowndayton.org/event/trivia-tuesday-2025-03-25-2/
LOCATION:OH
ATTACH;FMTTYPE=image/jpeg:https://downtowndayton.org/wp-content/uploads/2025/01/dbc.jpg
END:VEVENT
BEGIN:VEVENT
DTSTART;TZID=America/Detroit:20251111T190000
DTEND;TZID=America/Detroit:20251111T190000
DTSTAMP:20260425T094218
CREATED:20250114T175514Z
LAST-MODIFIED:20250114T175514Z
UID:10051246-1762887600-1762887600@downtowndayton.org
SUMMARY:Trivia Tuesday
DESCRIPTION:Trivia Tuesdays are fun for everyone at The Dayton Beer Company! Get $3.50 DBC Pints every Tuesday with trivia starting at 7:00 p.m. Cheers!
URL:https://downtowndayton.org/event/trivia-tuesday-2025-04-08-2/
LOCATION:OH
ATTACH;FMTTYPE=image/jpeg:https://downtowndayton.org/wp-content/uploads/2025/01/dbc.jpg
END:VEVENT
BEGIN:VEVENT
DTSTART;TZID=America/Detroit:20251111T190000
DTEND;TZID=America/Detroit:20251111T190000
DTSTAMP:20260425T094218
CREATED:20250114T175514Z
LAST-MODIFIED:20250114T175514Z
UID:10051321-1762887600-1762887600@downtowndayton.org
SUMMARY:Trivia Tuesday
DESCRIPTION:Trivia Tuesdays are fun for everyone at The Dayton Beer Company! Get $3.50 DBC Pints every Tuesday with trivia starting at 7:00 p.m. Cheers!
URL:https://downtowndayton.org/event/trivia-tuesday-2025-04-22-2/
LOCATION:OH
ATTACH;FMTTYPE=image/jpeg:https://downtowndayton.org/wp-content/uploads/2025/01/dbc.jpg
END:VEVENT
BEGIN:VEVENT
DTSTART;TZID=America/Detroit:20251111T190000
DTEND;TZID=America/Detroit:20251111T190000
DTSTAMP:20260425T094218
CREATED:20250114T175514Z
LAST-MODIFIED:20250114T175514Z
UID:10051392-1762887600-1762887600@downtowndayton.org
SUMMARY:Trivia Tuesday
DESCRIPTION:Trivia Tuesdays are fun for everyone at The Dayton Beer Company! Get $3.50 DBC Pints every Tuesday with trivia starting at 7:00 p.m. Cheers!
URL:https://downtowndayton.org/event/trivia-tuesday-2025-05-06-2/
LOCATION:OH
ATTACH;FMTTYPE=image/jpeg:https://downtowndayton.org/wp-content/uploads/2025/01/dbc.jpg
END:VEVENT
BEGIN:VEVENT
DTSTART;TZID=America/Detroit:20251111T190000
DTEND;TZID=America/Detroit:20251111T190000
DTSTAMP:20260425T094218
CREATED:20250114T175514Z
LAST-MODIFIED:20250114T175514Z
UID:10050585-1762887600-1762887600@downtowndayton.org
SUMMARY:Trivia Tuesday
DESCRIPTION:Trivia Tuesdays are fun for everyone at The Dayton Beer Company! Get $3.50 DBC Pints every Tuesday with trivia starting at 7:00 p.m. Cheers!
URL:https://downtowndayton.org/event/trivia-tuesday-2025-09-30/
LOCATION:OH
ATTACH;FMTTYPE=image/jpeg:https://downtowndayton.org/wp-content/uploads/2025/01/dbc.jpg
END:VEVENT
BEGIN:VEVENT
DTSTART;TZID=America/Detroit:20251111T190000
DTEND;TZID=America/Detroit:20251111T190000
DTSTAMP:20260425T094218
CREATED:20250114T175514Z
LAST-MODIFIED:20250114T175514Z
UID:10050610-1762887600-1762887600@downtowndayton.org
SUMMARY:Trivia Tuesday
DESCRIPTION:Trivia Tuesdays are fun for everyone at The Dayton Beer Company! Get $3.50 DBC Pints every Tuesday with trivia starting at 7:00 p.m. Cheers!
URL:https://downtowndayton.org/event/trivia-tuesday-2025-10-14/
LOCATION:OH
ATTACH;FMTTYPE=image/jpeg:https://downtowndayton.org/wp-content/uploads/2025/01/dbc.jpg
END:VEVENT
BEGIN:VEVENT
DTSTART;TZID=America/Detroit:20251111T190000
DTEND;TZID=America/Detroit:20251111T190000
DTSTAMP:20260425T094218
CREATED:20250114T175514Z
LAST-MODIFIED:20250114T175514Z
UID:10049499-1762887600-1762887600@downtowndayton.org
SUMMARY:Trivia Tuesday
DESCRIPTION:Trivia Tuesdays are fun for everyone at The Dayton Beer Company! Get $3.50 DBC Pints every Tuesday with trivia starting at 7:00 p.m. Cheers!
URL:https://downtowndayton.org/event/trivia-tuesday-2025-01-28/
LOCATION:OH
ATTACH;FMTTYPE=image/jpeg:https://downtowndayton.org/wp-content/uploads/2025/01/dbc.jpg
END:VEVENT
BEGIN:VEVENT
DTSTART;TZID=America/Detroit:20251111T190000
DTEND;TZID=America/Detroit:20251111T190000
DTSTAMP:20260425T094218
CREATED:20250114T175514Z
LAST-MODIFIED:20250114T175514Z
UID:10049594-1762887600-1762887600@downtowndayton.org
SUMMARY:Trivia Tuesday
DESCRIPTION:Trivia Tuesdays are fun for everyone at The Dayton Beer Company! Get $3.50 DBC Pints every Tuesday with trivia starting at 7:00 p.m. Cheers!
URL:https://downtowndayton.org/event/trivia-tuesday-2025-02-11/
LOCATION:OH
ATTACH;FMTTYPE=image/jpeg:https://downtowndayton.org/wp-content/uploads/2025/01/dbc.jpg
END:VEVENT
BEGIN:VEVENT
DTSTART;TZID=America/Detroit:20251111T190000
DTEND;TZID=America/Detroit:20251111T190000
DTSTAMP:20260425T094218
CREATED:20250114T175514Z
LAST-MODIFIED:20250114T175514Z
UID:10049685-1762887600-1762887600@downtowndayton.org
SUMMARY:Trivia Tuesday
DESCRIPTION:Trivia Tuesdays are fun for everyone at The Dayton Beer Company! Get $3.50 DBC Pints every Tuesday with trivia starting at 7:00 p.m. Cheers!
URL:https://downtowndayton.org/event/trivia-tuesday-2025-02-25/
LOCATION:OH
ATTACH;FMTTYPE=image/jpeg:https://downtowndayton.org/wp-content/uploads/2025/01/dbc.jpg
END:VEVENT
BEGIN:VEVENT
DTSTART;TZID=America/New_York:20251111T193000
DTEND;TZID=America/New_York:20251111T193000
DTSTAMP:20260425T094218
CREATED:20251106T132153Z
LAST-MODIFIED:20251106T132153Z
UID:10046690-1762889400-1762889400@downtowndayton.org
SUMMARY:The Wiz
DESCRIPTION:Nov. 11-16 \nThe Tony® Award-winning Best Musical that took the world by storm is back. THE WIZ returns “home” to stages across America in an all-new tour\, direct from Broadway. \nThe Baltimore Sun raves “Powerhouse performances. Stunning choreography. Visionary sets” and the Chicago Sun-Times proclaims THE WIZ is “An eye-popping and high-intensity revival!” \nThis groundbreaking twist on The Wizard Of Oz changed the face of Broadway – from its iconic score packed with soul\, gospel\, rock\, and ’70s funk to its stirring tale of Dorothy’s journey to find her place in a contemporary world. \nWith direction by Schele Williams (The Notebook\, revival of Disney’s Aida)\, choreography by JaQuel Knight (Beyoncé’s “Single Ladies\,” Black Is King)\, and additional material by Tony®-nominated and Emmy-nominated writer and TV host Amber Ruffin (“The Amber Ruffin Show\,” “Late Night With Seth Meyers”)\, this dynamite infusion of ballet\, jazz\, and modern pop brings a whole new groove to easing on down the road. Everybody rejoice!
URL:https://downtowndayton.org/event/the-wiz/2025-11-11/
LOCATION:The Benjamin & Marian Schuster Performing Arts Center\, 1 West Second Street\, Dayton\, OH\, 45402
ATTACH;FMTTYPE=image/jpeg:https://downtowndayton.org/wp-content/uploads/2025/11/wiz.jpg
END:VEVENT
BEGIN:VEVENT
DTSTART;TZID=America/New_York:20251112T163000
DTEND;TZID=America/New_York:20251112T163000
DTSTAMP:20260425T094218
CREATED:20251106T132253Z
LAST-MODIFIED:20251106T132253Z
UID:10046698-1762965000-1762965000@downtowndayton.org
SUMMARY:DLCA Broadway Studio: The Wiz
DESCRIPTION:DLCA BROADWAY STUDIO: THE WIZ offers your student a unique opportunity to immerse themselves in the world of Broadway. In addition to enjoying the Dayton Live Broadway Series presentation of THE WIZ\, students participate in an exclusive workshop led by a touring cast member (when available)\, enjoy a complimentary preshow dinner\, and collect special tour merchandise. This experience is designed to create lasting memories for your student\, making each Broadway Studio a cherished adventure into the heart of Broadway.
URL:https://downtowndayton.org/event/dlca-broadway-studio-the-wiz/
LOCATION:PNC Arts Annex\, 46 N. Ludlow St.\, Dayton\, OH\, 45402
ATTACH;FMTTYPE=image/jpeg:https://downtowndayton.org/wp-content/uploads/2025/11/dlcawiz.jpg
END:VEVENT
END:VCALENDAR