BEGIN:VCALENDAR
VERSION:2.0
PRODID:-//Downtown Dayton Partnership - ECPv6.8.1//NONSGML v1.0//EN
CALSCALE:GREGORIAN
METHOD:PUBLISH
X-ORIGINAL-URL:https://downtowndayton.org
X-WR-CALDESC:Events for Downtown Dayton Partnership
REFRESH-INTERVAL;VALUE=DURATION:PT1H
X-Robots-Tag:noindex
X-PUBLISHED-TTL:PT1H
BEGIN:VTIMEZONE
TZID:America/Detroit
BEGIN:DAYLIGHT
TZOFFSETFROM:-0500
TZOFFSETTO:-0400
TZNAME:EDT
DTSTART:20250309T070000
END:DAYLIGHT
BEGIN:STANDARD
TZOFFSETFROM:-0400
TZOFFSETTO:-0500
TZNAME:EST
DTSTART:20251102T060000
END:STANDARD
TZID:America/New_York
BEGIN:DAYLIGHT
TZOFFSETFROM:-0500
TZOFFSETTO:-0400
TZNAME:EDT
DTSTART:20250309T070000
END:DAYLIGHT
BEGIN:STANDARD
TZOFFSETFROM:-0400
TZOFFSETTO:-0500
TZNAME:EST
DTSTART:20251102T060000
END:STANDARD
END:VTIMEZONE
BEGIN:VEVENT
DTSTART;TZID=America/Detroit:20251030T183000
DTEND;TZID=America/Detroit:20251030T213000
DTSTAMP:20260424T112955
CREATED:20250114T175650Z
LAST-MODIFIED:20250114T175650Z
UID:10045453-1761849000-1761859800@downtowndayton.org
SUMMARY:Karaoke
DESCRIPTION:Join us for Karaoke Thursdays at The Dayton Beer Company\, hosted by Limelight Entertainment from 6:30 p.m.-9:30p.m. Cheers!
URL:https://downtowndayton.org/event/karaoke-2025-01-23/
LOCATION:OH
ATTACH;FMTTYPE=image/jpeg:https://downtowndayton.org/wp-content/uploads/2025/01/dbc.jpg
END:VEVENT
BEGIN:VEVENT
DTSTART;TZID=America/Detroit:20251030T183000
DTEND;TZID=America/Detroit:20251030T213000
DTSTAMP:20260424T112955
CREATED:20250114T175650Z
LAST-MODIFIED:20250114T175650Z
UID:10047673-1761849000-1761859800@downtowndayton.org
SUMMARY:Karaoke
DESCRIPTION:Join us for Karaoke Thursdays at The Dayton Beer Company\, hosted by Limelight Entertainment from 6:30 p.m.-9:30p.m. Cheers!
URL:https://downtowndayton.org/event/karaoke-2025-05-29-2/
LOCATION:OH
ATTACH;FMTTYPE=image/jpeg:https://downtowndayton.org/wp-content/uploads/2025/01/dbc.jpg
END:VEVENT
BEGIN:VEVENT
DTSTART;TZID=America/Detroit:20251030T183000
DTEND;TZID=America/Detroit:20251030T213000
DTSTAMP:20260424T112955
CREATED:20250114T175650Z
LAST-MODIFIED:20250114T175650Z
UID:10045546-1761849000-1761859800@downtowndayton.org
SUMMARY:Karaoke
DESCRIPTION:Join us for Karaoke Thursdays at The Dayton Beer Company\, hosted by Limelight Entertainment from 6:30 p.m.-9:30p.m. Cheers!
URL:https://downtowndayton.org/event/karaoke-2025-02-06/
LOCATION:OH
ATTACH;FMTTYPE=image/jpeg:https://downtowndayton.org/wp-content/uploads/2025/01/dbc.jpg
END:VEVENT
BEGIN:VEVENT
DTSTART;TZID=America/Detroit:20251030T183000
DTEND;TZID=America/Detroit:20251030T213000
DTSTAMP:20260424T112955
CREATED:20250114T175650Z
LAST-MODIFIED:20250114T175650Z
UID:10047768-1761849000-1761859800@downtowndayton.org
SUMMARY:Karaoke
DESCRIPTION:Join us for Karaoke Thursdays at The Dayton Beer Company\, hosted by Limelight Entertainment from 6:30 p.m.-9:30p.m. Cheers!
URL:https://downtowndayton.org/event/karaoke-2025-01-30-3/
LOCATION:OH
ATTACH;FMTTYPE=image/jpeg:https://downtowndayton.org/wp-content/uploads/2025/01/dbc.jpg
END:VEVENT
BEGIN:VEVENT
DTSTART;TZID=America/Detroit:20251030T183000
DTEND;TZID=America/Detroit:20251030T213000
DTSTAMP:20260424T112955
CREATED:20250114T175650Z
LAST-MODIFIED:20250114T175650Z
UID:10045635-1761849000-1761859800@downtowndayton.org
SUMMARY:Karaoke
DESCRIPTION:Join us for Karaoke Thursdays at The Dayton Beer Company\, hosted by Limelight Entertainment from 6:30 p.m.-9:30p.m. Cheers!
URL:https://downtowndayton.org/event/karaoke-2025-02-20/
LOCATION:OH
ATTACH;FMTTYPE=image/jpeg:https://downtowndayton.org/wp-content/uploads/2025/01/dbc.jpg
END:VEVENT
BEGIN:VEVENT
DTSTART;TZID=America/Detroit:20251030T183000
DTEND;TZID=America/Detroit:20251030T213000
DTSTAMP:20260424T112955
CREATED:20250114T175650Z
LAST-MODIFIED:20250114T175650Z
UID:10047859-1761849000-1761859800@downtowndayton.org
SUMMARY:Karaoke
DESCRIPTION:Join us for Karaoke Thursdays at The Dayton Beer Company\, hosted by Limelight Entertainment from 6:30 p.m.-9:30p.m. Cheers!
URL:https://downtowndayton.org/event/karaoke-2025-02-13-3/
LOCATION:OH
ATTACH;FMTTYPE=image/jpeg:https://downtowndayton.org/wp-content/uploads/2025/01/dbc.jpg
END:VEVENT
BEGIN:VEVENT
DTSTART;TZID=America/Detroit:20251030T183000
DTEND;TZID=America/Detroit:20251030T213000
DTSTAMP:20260424T112955
CREATED:20250114T175650Z
LAST-MODIFIED:20250114T175650Z
UID:10045720-1761849000-1761859800@downtowndayton.org
SUMMARY:Karaoke
DESCRIPTION:Join us for Karaoke Thursdays at The Dayton Beer Company\, hosted by Limelight Entertainment from 6:30 p.m.-9:30p.m. Cheers!
URL:https://downtowndayton.org/event/karaoke-2025-03-06/
LOCATION:OH
ATTACH;FMTTYPE=image/jpeg:https://downtowndayton.org/wp-content/uploads/2025/01/dbc.jpg
END:VEVENT
BEGIN:VEVENT
DTSTART;TZID=America/Detroit:20251030T183000
DTEND;TZID=America/Detroit:20251030T213000
DTSTAMP:20260424T112955
CREATED:20250114T175650Z
LAST-MODIFIED:20250114T175650Z
UID:10047946-1761849000-1761859800@downtowndayton.org
SUMMARY:Karaoke
DESCRIPTION:Join us for Karaoke Thursdays at The Dayton Beer Company\, hosted by Limelight Entertainment from 6:30 p.m.-9:30p.m. Cheers!
URL:https://downtowndayton.org/event/karaoke-2025-02-27-3/
LOCATION:OH
ATTACH;FMTTYPE=image/jpeg:https://downtowndayton.org/wp-content/uploads/2025/01/dbc.jpg
END:VEVENT
BEGIN:VEVENT
DTSTART;TZID=America/Detroit:20251030T183000
DTEND;TZID=America/Detroit:20251030T213000
DTSTAMP:20260424T112955
CREATED:20250114T175650Z
LAST-MODIFIED:20250114T175650Z
UID:10045801-1761849000-1761859800@downtowndayton.org
SUMMARY:Karaoke
DESCRIPTION:Join us for Karaoke Thursdays at The Dayton Beer Company\, hosted by Limelight Entertainment from 6:30 p.m.-9:30p.m. Cheers!
URL:https://downtowndayton.org/event/karaoke-2025-03-20/
LOCATION:OH
ATTACH;FMTTYPE=image/jpeg:https://downtowndayton.org/wp-content/uploads/2025/01/dbc.jpg
END:VEVENT
BEGIN:VEVENT
DTSTART;TZID=America/Detroit:20251030T183000
DTEND;TZID=America/Detroit:20251030T213000
DTSTAMP:20260424T112955
CREATED:20250114T175650Z
LAST-MODIFIED:20250114T175650Z
UID:10048029-1761849000-1761859800@downtowndayton.org
SUMMARY:Karaoke
DESCRIPTION:Join us for Karaoke Thursdays at The Dayton Beer Company\, hosted by Limelight Entertainment from 6:30 p.m.-9:30p.m. Cheers!
URL:https://downtowndayton.org/event/karaoke-2025-03-13-3/
LOCATION:OH
ATTACH;FMTTYPE=image/jpeg:https://downtowndayton.org/wp-content/uploads/2025/01/dbc.jpg
END:VEVENT
BEGIN:VEVENT
DTSTART;TZID=America/Detroit:20251030T183000
DTEND;TZID=America/Detroit:20251030T213000
DTSTAMP:20260424T112956
CREATED:20250114T175650Z
LAST-MODIFIED:20250114T175650Z
UID:10045878-1761849000-1761859800@downtowndayton.org
SUMMARY:Karaoke
DESCRIPTION:Join us for Karaoke Thursdays at The Dayton Beer Company\, hosted by Limelight Entertainment from 6:30 p.m.-9:30p.m. Cheers!
URL:https://downtowndayton.org/event/karaoke-2025-04-03/
LOCATION:OH
ATTACH;FMTTYPE=image/jpeg:https://downtowndayton.org/wp-content/uploads/2025/01/dbc.jpg
END:VEVENT
BEGIN:VEVENT
DTSTART;TZID=America/Detroit:20251030T183000
DTEND;TZID=America/Detroit:20251030T213000
DTSTAMP:20260424T112956
CREATED:20250114T175650Z
LAST-MODIFIED:20250114T175650Z
UID:10048108-1761849000-1761859800@downtowndayton.org
SUMMARY:Karaoke
DESCRIPTION:Join us for Karaoke Thursdays at The Dayton Beer Company\, hosted by Limelight Entertainment from 6:30 p.m.-9:30p.m. Cheers!
URL:https://downtowndayton.org/event/karaoke-2025-03-27-3/
LOCATION:OH
ATTACH;FMTTYPE=image/jpeg:https://downtowndayton.org/wp-content/uploads/2025/01/dbc.jpg
END:VEVENT
BEGIN:VEVENT
DTSTART;TZID=America/Detroit:20251030T183000
DTEND;TZID=America/Detroit:20251030T213000
DTSTAMP:20260424T112956
CREATED:20250114T175650Z
LAST-MODIFIED:20250114T175650Z
UID:10045951-1761849000-1761859800@downtowndayton.org
SUMMARY:Karaoke
DESCRIPTION:Join us for Karaoke Thursdays at The Dayton Beer Company\, hosted by Limelight Entertainment from 6:30 p.m.-9:30p.m. Cheers!
URL:https://downtowndayton.org/event/karaoke-2025-04-17/
LOCATION:OH
ATTACH;FMTTYPE=image/jpeg:https://downtowndayton.org/wp-content/uploads/2025/01/dbc.jpg
END:VEVENT
BEGIN:VEVENT
DTSTART;TZID=America/Detroit:20251030T183000
DTEND;TZID=America/Detroit:20251030T213000
DTSTAMP:20260424T112956
CREATED:20250114T175650Z
LAST-MODIFIED:20250114T175650Z
UID:10048183-1761849000-1761859800@downtowndayton.org
SUMMARY:Karaoke
DESCRIPTION:Join us for Karaoke Thursdays at The Dayton Beer Company\, hosted by Limelight Entertainment from 6:30 p.m.-9:30p.m. Cheers!
URL:https://downtowndayton.org/event/karaoke-2025-04-10-3/
LOCATION:OH
ATTACH;FMTTYPE=image/jpeg:https://downtowndayton.org/wp-content/uploads/2025/01/dbc.jpg
END:VEVENT
BEGIN:VEVENT
DTSTART;TZID=America/Detroit:20251030T183000
DTEND;TZID=America/Detroit:20251030T213000
DTSTAMP:20260424T112956
CREATED:20250114T175650Z
LAST-MODIFIED:20250114T175650Z
UID:10046020-1761849000-1761859800@downtowndayton.org
SUMMARY:Karaoke
DESCRIPTION:Join us for Karaoke Thursdays at The Dayton Beer Company\, hosted by Limelight Entertainment from 6:30 p.m.-9:30p.m. Cheers!
URL:https://downtowndayton.org/event/karaoke-2025-05-01/
LOCATION:OH
ATTACH;FMTTYPE=image/jpeg:https://downtowndayton.org/wp-content/uploads/2025/01/dbc.jpg
END:VEVENT
BEGIN:VEVENT
DTSTART;TZID=America/Detroit:20251030T183000
DTEND;TZID=America/Detroit:20251030T213000
DTSTAMP:20260424T112956
CREATED:20250114T175650Z
LAST-MODIFIED:20250114T175650Z
UID:10048254-1761849000-1761859800@downtowndayton.org
SUMMARY:Karaoke
DESCRIPTION:Join us for Karaoke Thursdays at The Dayton Beer Company\, hosted by Limelight Entertainment from 6:30 p.m.-9:30p.m. Cheers!
URL:https://downtowndayton.org/event/karaoke-2025-04-24-3/
LOCATION:OH
ATTACH;FMTTYPE=image/jpeg:https://downtowndayton.org/wp-content/uploads/2025/01/dbc.jpg
END:VEVENT
BEGIN:VEVENT
DTSTART;TZID=America/Detroit:20251030T183000
DTEND;TZID=America/Detroit:20251030T213000
DTSTAMP:20260424T112956
CREATED:20250114T175650Z
LAST-MODIFIED:20250114T175650Z
UID:10046085-1761849000-1761859800@downtowndayton.org
SUMMARY:Karaoke
DESCRIPTION:Join us for Karaoke Thursdays at The Dayton Beer Company\, hosted by Limelight Entertainment from 6:30 p.m.-9:30p.m. Cheers!
URL:https://downtowndayton.org/event/karaoke-2025-05-15/
LOCATION:OH
ATTACH;FMTTYPE=image/jpeg:https://downtowndayton.org/wp-content/uploads/2025/01/dbc.jpg
END:VEVENT
BEGIN:VEVENT
DTSTART;TZID=America/Detroit:20251030T183000
DTEND;TZID=America/Detroit:20251030T213000
DTSTAMP:20260424T112956
CREATED:20250114T175650Z
LAST-MODIFIED:20250114T175650Z
UID:10048321-1761849000-1761859800@downtowndayton.org
SUMMARY:Karaoke
DESCRIPTION:Join us for Karaoke Thursdays at The Dayton Beer Company\, hosted by Limelight Entertainment from 6:30 p.m.-9:30p.m. Cheers!
URL:https://downtowndayton.org/event/karaoke-2025-05-08-3/
LOCATION:OH
ATTACH;FMTTYPE=image/jpeg:https://downtowndayton.org/wp-content/uploads/2025/01/dbc.jpg
END:VEVENT
BEGIN:VEVENT
DTSTART;TZID=America/Detroit:20251030T183000
DTEND;TZID=America/Detroit:20251030T213000
DTSTAMP:20260424T112956
CREATED:20250114T175650Z
LAST-MODIFIED:20250114T175650Z
UID:10046146-1761849000-1761859800@downtowndayton.org
SUMMARY:Karaoke
DESCRIPTION:Join us for Karaoke Thursdays at The Dayton Beer Company\, hosted by Limelight Entertainment from 6:30 p.m.-9:30p.m. Cheers!
URL:https://downtowndayton.org/event/karaoke-2025-05-29/
LOCATION:OH
ATTACH;FMTTYPE=image/jpeg:https://downtowndayton.org/wp-content/uploads/2025/01/dbc.jpg
END:VEVENT
BEGIN:VEVENT
DTSTART;TZID=America/Detroit:20251030T183000
DTEND;TZID=America/Detroit:20251030T213000
DTSTAMP:20260424T112956
CREATED:20250114T175650Z
LAST-MODIFIED:20250114T175650Z
UID:10048384-1761849000-1761859800@downtowndayton.org
SUMMARY:Karaoke
DESCRIPTION:Join us for Karaoke Thursdays at The Dayton Beer Company\, hosted by Limelight Entertainment from 6:30 p.m.-9:30p.m. Cheers!
URL:https://downtowndayton.org/event/karaoke-2025-05-22-3/
LOCATION:OH
ATTACH;FMTTYPE=image/jpeg:https://downtowndayton.org/wp-content/uploads/2025/01/dbc.jpg
END:VEVENT
BEGIN:VEVENT
DTSTART;TZID=America/Detroit:20251030T183000
DTEND;TZID=America/Detroit:20251030T213000
DTSTAMP:20260424T112956
CREATED:20250114T175650Z
LAST-MODIFIED:20250114T175650Z
UID:10046203-1761849000-1761859800@downtowndayton.org
SUMMARY:Karaoke
DESCRIPTION:Join us for Karaoke Thursdays at The Dayton Beer Company\, hosted by Limelight Entertainment from 6:30 p.m.-9:30p.m. Cheers!
URL:https://downtowndayton.org/event/karaoke-2025-06-12/
LOCATION:OH
ATTACH;FMTTYPE=image/jpeg:https://downtowndayton.org/wp-content/uploads/2025/01/dbc.jpg
END:VEVENT
BEGIN:VEVENT
DTSTART;TZID=America/Detroit:20251030T183000
DTEND;TZID=America/Detroit:20251030T213000
DTSTAMP:20260424T112956
CREATED:20250114T175650Z
LAST-MODIFIED:20250114T175650Z
UID:10046256-1761849000-1761859800@downtowndayton.org
SUMMARY:Karaoke
DESCRIPTION:Join us for Karaoke Thursdays at The Dayton Beer Company\, hosted by Limelight Entertainment from 6:30 p.m.-9:30p.m. Cheers!
URL:https://downtowndayton.org/event/karaoke-2025-06-26/
LOCATION:OH
ATTACH;FMTTYPE=image/jpeg:https://downtowndayton.org/wp-content/uploads/2025/01/dbc.jpg
END:VEVENT
BEGIN:VEVENT
DTSTART;TZID=America/Detroit:20251030T183000
DTEND;TZID=America/Detroit:20251030T213000
DTSTAMP:20260424T112956
CREATED:20250114T175650Z
LAST-MODIFIED:20250114T175650Z
UID:10046980-1761849000-1761859800@downtowndayton.org
SUMMARY:Karaoke
DESCRIPTION:Join us for Karaoke Thursdays at The Dayton Beer Company\, hosted by Limelight Entertainment from 6:30 p.m.-9:30p.m. Cheers!
URL:https://downtowndayton.org/event/karaoke-2025-01-23-2/
LOCATION:OH
ATTACH;FMTTYPE=image/jpeg:https://downtowndayton.org/wp-content/uploads/2025/01/dbc.jpg
END:VEVENT
BEGIN:VEVENT
DTSTART;TZID=America/Detroit:20251030T183000
DTEND;TZID=America/Detroit:20251030T213000
DTSTAMP:20260424T112956
CREATED:20250114T175650Z
LAST-MODIFIED:20250114T175650Z
UID:10046305-1761849000-1761859800@downtowndayton.org
SUMMARY:Karaoke
DESCRIPTION:Join us for Karaoke Thursdays at The Dayton Beer Company\, hosted by Limelight Entertainment from 6:30 p.m.-9:30p.m. Cheers!
URL:https://downtowndayton.org/event/karaoke-2025-07-10/
LOCATION:OH
ATTACH;FMTTYPE=image/jpeg:https://downtowndayton.org/wp-content/uploads/2025/01/dbc.jpg
END:VEVENT
BEGIN:VEVENT
DTSTART;TZID=America/Detroit:20251030T183000
DTEND;TZID=America/Detroit:20251030T213000
DTSTAMP:20260424T112956
CREATED:20250114T175650Z
LAST-MODIFIED:20250114T175650Z
UID:10047073-1761849000-1761859800@downtowndayton.org
SUMMARY:Karaoke
DESCRIPTION:Join us for Karaoke Thursdays at The Dayton Beer Company\, hosted by Limelight Entertainment from 6:30 p.m.-9:30p.m. Cheers!
URL:https://downtowndayton.org/event/karaoke-2025-02-06-2/
LOCATION:OH
ATTACH;FMTTYPE=image/jpeg:https://downtowndayton.org/wp-content/uploads/2025/01/dbc.jpg
END:VEVENT
BEGIN:VEVENT
DTSTART;TZID=America/Detroit:20251030T183000
DTEND;TZID=America/Detroit:20251030T213000
DTSTAMP:20260424T112956
CREATED:20250114T175650Z
LAST-MODIFIED:20250114T175650Z
UID:10046350-1761849000-1761859800@downtowndayton.org
SUMMARY:Karaoke
DESCRIPTION:Join us for Karaoke Thursdays at The Dayton Beer Company\, hosted by Limelight Entertainment from 6:30 p.m.-9:30p.m. Cheers!
URL:https://downtowndayton.org/event/karaoke-2025-07-24/
LOCATION:OH
ATTACH;FMTTYPE=image/jpeg:https://downtowndayton.org/wp-content/uploads/2025/01/dbc.jpg
END:VEVENT
BEGIN:VEVENT
DTSTART;TZID=America/Detroit:20251030T183000
DTEND;TZID=America/Detroit:20251030T213000
DTSTAMP:20260424T112956
CREATED:20250114T175650Z
LAST-MODIFIED:20250114T175650Z
UID:10047162-1761849000-1761859800@downtowndayton.org
SUMMARY:Karaoke
DESCRIPTION:Join us for Karaoke Thursdays at The Dayton Beer Company\, hosted by Limelight Entertainment from 6:30 p.m.-9:30p.m. Cheers!
URL:https://downtowndayton.org/event/karaoke-2025-02-20-2/
LOCATION:OH
ATTACH;FMTTYPE=image/jpeg:https://downtowndayton.org/wp-content/uploads/2025/01/dbc.jpg
END:VEVENT
BEGIN:VEVENT
DTSTART;TZID=America/Detroit:20251030T183000
DTEND;TZID=America/Detroit:20251030T213000
DTSTAMP:20260424T112956
CREATED:20250114T175650Z
LAST-MODIFIED:20250114T175650Z
UID:10049266-1761849000-1761859800@downtowndayton.org
SUMMARY:Karaoke
DESCRIPTION:Join us for Karaoke Thursdays at The Dayton Beer Company\, hosted by Limelight Entertainment from 6:30 p.m.-9:30p.m. Cheers!
URL:https://downtowndayton.org/event/karaoke-2025-05-29-4/
LOCATION:OH
ATTACH;FMTTYPE=image/jpeg:https://downtowndayton.org/wp-content/uploads/2025/01/dbc.jpg
END:VEVENT
BEGIN:VEVENT
DTSTART;TZID=America/Detroit:20251030T183000
DTEND;TZID=America/Detroit:20251030T213000
DTSTAMP:20260424T112956
CREATED:20250114T175650Z
LAST-MODIFIED:20250114T175650Z
UID:10046503-1761849000-1761859800@downtowndayton.org
SUMMARY:Karaoke
DESCRIPTION:Join us for Karaoke Thursdays at The Dayton Beer Company\, hosted by Limelight Entertainment from 6:30 p.m.-9:30p.m. Cheers!
URL:https://downtowndayton.org/event/karaoke-2025-09-25/
LOCATION:OH
ATTACH;FMTTYPE=image/jpeg:https://downtowndayton.org/wp-content/uploads/2025/01/dbc.jpg
END:VEVENT
BEGIN:VEVENT
DTSTART;TZID=America/New_York:20251030T190000
DTEND;TZID=America/New_York:20251030T230000
DTSTAMP:20260424T112956
CREATED:20250909T172655Z
LAST-MODIFIED:20250909T172655Z
UID:10039777-1761850800-1761865200@downtowndayton.org
SUMMARY:EMO Night with Flicker // Fade
DESCRIPTION:Get ready to scream your favorite lyrics and relive your Warped Tour days—EMO NIGHT is coming to Dayton! Featuring a full live performance by Flicker//Fade\, this high-energy night will bring you the best of Emo\, Pop-Punk\, and nostalgic anthems from the golden era of angst. Whether you’re a former scene kid or just discovering the genre\, this is your night to sing\, jump\, and feel everything. Black eyeliner optional—but encouraged.  Thursday\, October 30\, 2025  The Brightside – 905 E 3rd St\, Dayton  Doors at 7 PM  Tickets: https://tickets.venuepilot.com/e/emo-night-ft-flicker-fade-live-emo-band-night-2025-10-30-the-brightside-music-event-venue-dayton-09115a $17 in advance $20 at the door .  All ages welcome (under 18 requires adult supervision)
URL:https://downtowndayton.org/event/emo-night-with-flicker-fade-2/
LOCATION:The Brightside\, 905 E. Third St.\, Dayton\, OH\, 45402
ATTACH;FMTTYPE=image/jpeg:https://downtowndayton.org/wp-content/uploads/2025/09/EMO-Night-with-Flicker-Fade.jpeg
END:VEVENT
END:VCALENDAR