BEGIN:VCALENDAR
VERSION:2.0
PRODID:-//Downtown Dayton Partnership - ECPv6.8.1//NONSGML v1.0//EN
CALSCALE:GREGORIAN
METHOD:PUBLISH
X-ORIGINAL-URL:https://downtowndayton.org
X-WR-CALDESC:Events for Downtown Dayton Partnership
REFRESH-INTERVAL;VALUE=DURATION:PT1H
X-Robots-Tag:noindex
X-PUBLISHED-TTL:PT1H
BEGIN:VTIMEZONE
TZID:America/Detroit
BEGIN:DAYLIGHT
TZOFFSETFROM:-0500
TZOFFSETTO:-0400
TZNAME:EDT
DTSTART:20250309T070000
END:DAYLIGHT
BEGIN:STANDARD
TZOFFSETFROM:-0400
TZOFFSETTO:-0500
TZNAME:EST
DTSTART:20251102T060000
END:STANDARD
TZID:America/New_York
BEGIN:DAYLIGHT
TZOFFSETFROM:-0500
TZOFFSETTO:-0400
TZNAME:EDT
DTSTART:20250309T070000
END:DAYLIGHT
BEGIN:STANDARD
TZOFFSETFROM:-0400
TZOFFSETTO:-0500
TZNAME:EST
DTSTART:20251102T060000
END:STANDARD
END:VTIMEZONE
BEGIN:VEVENT
DTSTART;TZID=America/Detroit:20251015T190000
DTEND;TZID=America/Detroit:20251015T210000
DTSTAMP:20260424T190653
CREATED:20250114T175815Z
LAST-MODIFIED:20250114T175815Z
UID:10041949-1760554800-1760562000@downtowndayton.org
SUMMARY:Puzzle Feud
DESCRIPTION:Calling all puzzle fans! Join us for Puzzle Feud every Wednesday from 7:00 p.m.-9:00 p.m. (or until the first puzzle is completed). Complete a 500-piece puzzle of your choice with teams of up to 4 with a 2-hour limit. All teams must sign up at the bar on the day of and teams must go to the bar once their puzzle is completed. The winning team receives a prize. Cheers!
URL:https://downtowndayton.org/event/puzzle-feud-2025-06-18/
LOCATION:OH
ATTACH;FMTTYPE=image/jpeg:https://downtowndayton.org/wp-content/uploads/2025/01/dbc.jpg
END:VEVENT
BEGIN:VEVENT
DTSTART;TZID=America/Detroit:20251015T190000
DTEND;TZID=America/Detroit:20251015T210000
DTSTAMP:20260424T190653
CREATED:20250114T175815Z
LAST-MODIFIED:20250114T175815Z
UID:10042258-1760554800-1760562000@downtowndayton.org
SUMMARY:Puzzle Feud
DESCRIPTION:Calling all puzzle fans! Join us for Puzzle Feud every Wednesday from 7:00 p.m.-9:00 p.m. (or until the first puzzle is completed). Complete a 500-piece puzzle of your choice with teams of up to 4 with a 2-hour limit. All teams must sign up at the bar on the day of and teams must go to the bar once their puzzle is completed. The winning team receives a prize. Cheers!
URL:https://downtowndayton.org/event/puzzle-feud-2025-02-12-2/
LOCATION:OH
ATTACH;FMTTYPE=image/jpeg:https://downtowndayton.org/wp-content/uploads/2025/01/dbc.jpg
END:VEVENT
BEGIN:VEVENT
DTSTART;TZID=America/Detroit:20251015T190000
DTEND;TZID=America/Detroit:20251015T210000
DTSTAMP:20260424T190653
CREATED:20250114T175815Z
LAST-MODIFIED:20250114T175815Z
UID:10042842-1760554800-1760562000@downtowndayton.org
SUMMARY:Puzzle Feud
DESCRIPTION:Calling all puzzle fans! Join us for Puzzle Feud every Wednesday from 7:00 p.m.-9:00 p.m. (or until the first puzzle is completed). Complete a 500-piece puzzle of your choice with teams of up to 4 with a 2-hour limit. All teams must sign up at the bar on the day of and teams must go to the bar once their puzzle is completed. The winning team receives a prize. Cheers!
URL:https://downtowndayton.org/event/puzzle-feud-2025-06-04-2/
LOCATION:OH
ATTACH;FMTTYPE=image/jpeg:https://downtowndayton.org/wp-content/uploads/2025/01/dbc.jpg
END:VEVENT
BEGIN:VEVENT
DTSTART;TZID=America/Detroit:20251015T190000
DTEND;TZID=America/Detroit:20251015T210000
DTSTAMP:20260424T190653
CREATED:20250114T175815Z
LAST-MODIFIED:20250114T175815Z
UID:10043350-1760554800-1760562000@downtowndayton.org
SUMMARY:Puzzle Feud
DESCRIPTION:Calling all puzzle fans! Join us for Puzzle Feud every Wednesday from 7:00 p.m.-9:00 p.m. (or until the first puzzle is completed). Complete a 500-piece puzzle of your choice with teams of up to 4 with a 2-hour limit. All teams must sign up at the bar on the day of and teams must go to the bar once their puzzle is completed. The winning team receives a prize. Cheers!
URL:https://downtowndayton.org/event/puzzle-feud-2025-02-26-3/
LOCATION:OH
ATTACH;FMTTYPE=image/jpeg:https://downtowndayton.org/wp-content/uploads/2025/01/dbc.jpg
END:VEVENT
BEGIN:VEVENT
DTSTART;TZID=America/Detroit:20251015T190000
DTEND;TZID=America/Detroit:20251015T210000
DTSTAMP:20260424T190653
CREATED:20250114T175815Z
LAST-MODIFIED:20250114T175815Z
UID:10044657-1760554800-1760562000@downtowndayton.org
SUMMARY:Puzzle Feud
DESCRIPTION:Calling all puzzle fans! Join us for Puzzle Feud every Wednesday from 7:00 p.m.-9:00 p.m. (or until the first puzzle is completed). Complete a 500-piece puzzle of your choice with teams of up to 4 with a 2-hour limit. All teams must sign up at the bar on the day of and teams must go to the bar once their puzzle is completed. The winning team receives a prize. Cheers!
URL:https://downtowndayton.org/event/puzzle-feud-2025-04-23-4/
LOCATION:OH
ATTACH;FMTTYPE=image/jpeg:https://downtowndayton.org/wp-content/uploads/2025/01/dbc.jpg
END:VEVENT
BEGIN:VEVENT
DTSTART;TZID=America/Detroit:20251015T190000
DTEND;TZID=America/Detroit:20251015T210000
DTSTAMP:20260424T190653
CREATED:20250114T175815Z
LAST-MODIFIED:20250114T175815Z
UID:10043587-1760554800-1760562000@downtowndayton.org
SUMMARY:Puzzle Feud
DESCRIPTION:Calling all puzzle fans! Join us for Puzzle Feud every Wednesday from 7:00 p.m.-9:00 p.m. (or until the first puzzle is completed). Complete a 500-piece puzzle of your choice with teams of up to 4 with a 2-hour limit. All teams must sign up at the bar on the day of and teams must go to the bar once their puzzle is completed. The winning team receives a prize. Cheers!
URL:https://downtowndayton.org/event/puzzle-feud-2025-04-09-3/
LOCATION:OH
ATTACH;FMTTYPE=image/jpeg:https://downtowndayton.org/wp-content/uploads/2025/01/dbc.jpg
END:VEVENT
BEGIN:VEVENT
DTSTART;TZID=America/Detroit:20251015T190000
DTEND;TZID=America/Detroit:20251015T210000
DTSTAMP:20260424T190653
CREATED:20250114T175815Z
LAST-MODIFIED:20250114T175815Z
UID:10041265-1760554800-1760562000@downtowndayton.org
SUMMARY:Puzzle Feud
DESCRIPTION:Calling all puzzle fans! Join us for Puzzle Feud every Wednesday from 7:00 p.m.-9:00 p.m. (or until the first puzzle is completed). Complete a 500-piece puzzle of your choice with teams of up to 4 with a 2-hour limit. All teams must sign up at the bar on the day of and teams must go to the bar once their puzzle is completed. The winning team receives a prize. Cheers!
URL:https://downtowndayton.org/event/puzzle-feud-2025-02-05/
LOCATION:OH
ATTACH;FMTTYPE=image/jpeg:https://downtowndayton.org/wp-content/uploads/2025/01/dbc.jpg
END:VEVENT
BEGIN:VEVENT
DTSTART;TZID=America/Detroit:20251015T190000
DTEND;TZID=America/Detroit:20251015T210000
DTSTAMP:20260424T190653
CREATED:20250114T175815Z
LAST-MODIFIED:20250114T175815Z
UID:10044040-1760554800-1760562000@downtowndayton.org
SUMMARY:Puzzle Feud
DESCRIPTION:Calling all puzzle fans! Join us for Puzzle Feud every Wednesday from 7:00 p.m.-9:00 p.m. (or until the first puzzle is completed). Complete a 500-piece puzzle of your choice with teams of up to 4 with a 2-hour limit. All teams must sign up at the bar on the day of and teams must go to the bar once their puzzle is completed. The winning team receives a prize. Cheers!
URL:https://downtowndayton.org/event/puzzle-feud-2025-08-20/
LOCATION:OH
ATTACH;FMTTYPE=image/jpeg:https://downtowndayton.org/wp-content/uploads/2025/01/dbc.jpg
END:VEVENT
BEGIN:VEVENT
DTSTART;TZID=America/Detroit:20251015T190000
DTEND;TZID=America/Detroit:20251015T210000
DTSTAMP:20260424T190653
CREATED:20250114T175815Z
LAST-MODIFIED:20250114T175815Z
UID:10041865-1760554800-1760562000@downtowndayton.org
SUMMARY:Puzzle Feud
DESCRIPTION:Calling all puzzle fans! Join us for Puzzle Feud every Wednesday from 7:00 p.m.-9:00 p.m. (or until the first puzzle is completed). Complete a 500-piece puzzle of your choice with teams of up to 4 with a 2-hour limit. All teams must sign up at the bar on the day of and teams must go to the bar once their puzzle is completed. The winning team receives a prize. Cheers!
URL:https://downtowndayton.org/event/puzzle-feud-2025-05-28/
LOCATION:OH
ATTACH;FMTTYPE=image/jpeg:https://downtowndayton.org/wp-content/uploads/2025/01/dbc.jpg
END:VEVENT
BEGIN:VEVENT
DTSTART;TZID=America/Detroit:20251015T190000
DTEND;TZID=America/Detroit:20251015T210000
DTSTAMP:20260424T190653
CREATED:20250114T175815Z
LAST-MODIFIED:20250114T175815Z
UID:10042752-1760554800-1760562000@downtowndayton.org
SUMMARY:Puzzle Feud
DESCRIPTION:Calling all puzzle fans! Join us for Puzzle Feud every Wednesday from 7:00 p.m.-9:00 p.m. (or until the first puzzle is completed). Complete a 500-piece puzzle of your choice with teams of up to 4 with a 2-hour limit. All teams must sign up at the bar on the day of and teams must go to the bar once their puzzle is completed. The winning team receives a prize. Cheers!
URL:https://downtowndayton.org/event/puzzle-feud-2025-05-14-2/
LOCATION:OH
ATTACH;FMTTYPE=image/jpeg:https://downtowndayton.org/wp-content/uploads/2025/01/dbc.jpg
END:VEVENT
BEGIN:VEVENT
DTSTART;TZID=America/Detroit:20251015T190000
DTEND;TZID=America/Detroit:20251015T210000
DTSTAMP:20260424T190653
CREATED:20250114T175815Z
LAST-MODIFIED:20250114T175815Z
UID:10043218-1760554800-1760562000@downtowndayton.org
SUMMARY:Puzzle Feud
DESCRIPTION:Calling all puzzle fans! Join us for Puzzle Feud every Wednesday from 7:00 p.m.-9:00 p.m. (or until the first puzzle is completed). Complete a 500-piece puzzle of your choice with teams of up to 4 with a 2-hour limit. All teams must sign up at the bar on the day of and teams must go to the bar once their puzzle is completed. The winning team receives a prize. Cheers!
URL:https://downtowndayton.org/event/puzzle-feud-2025-02-05-3/
LOCATION:OH
ATTACH;FMTTYPE=image/jpeg:https://downtowndayton.org/wp-content/uploads/2025/01/dbc.jpg
END:VEVENT
BEGIN:VEVENT
DTSTART;TZID=America/Detroit:20251015T190000
DTEND;TZID=America/Detroit:20251015T210000
DTSTAMP:20260424T190653
CREATED:20250114T175815Z
LAST-MODIFIED:20250114T175815Z
UID:10042120-1760554800-1760562000@downtowndayton.org
SUMMARY:Puzzle Feud
DESCRIPTION:Calling all puzzle fans! Join us for Puzzle Feud every Wednesday from 7:00 p.m.-9:00 p.m. (or until the first puzzle is completed). Complete a 500-piece puzzle of your choice with teams of up to 4 with a 2-hour limit. All teams must sign up at the bar on the day of and teams must go to the bar once their puzzle is completed. The winning team receives a prize. Cheers!
URL:https://downtowndayton.org/event/puzzle-feud-2025-01-22-2/
LOCATION:OH
ATTACH;FMTTYPE=image/jpeg:https://downtowndayton.org/wp-content/uploads/2025/01/dbc.jpg
END:VEVENT
BEGIN:VEVENT
DTSTART;TZID=America/Detroit:20251015T190000
DTEND;TZID=America/Detroit:20251015T210000
DTSTAMP:20260424T190653
CREATED:20250114T175815Z
LAST-MODIFIED:20250114T175815Z
UID:10045021-1760554800-1760562000@downtowndayton.org
SUMMARY:Puzzle Feud
DESCRIPTION:Calling all puzzle fans! Join us for Puzzle Feud every Wednesday from 7:00 p.m.-9:00 p.m. (or until the first puzzle is completed). Complete a 500-piece puzzle of your choice with teams of up to 4 with a 2-hour limit. All teams must sign up at the bar on the day of and teams must go to the bar once their puzzle is completed. The winning team receives a prize. Cheers!
URL:https://downtowndayton.org/event/puzzle-feud-2025-07-23-4/
LOCATION:OH
ATTACH;FMTTYPE=image/jpeg:https://downtowndayton.org/wp-content/uploads/2025/01/dbc.jpg
END:VEVENT
BEGIN:VEVENT
DTSTART;TZID=America/Detroit:20251015T190000
DTEND;TZID=America/Detroit:20251015T210000
DTSTAMP:20260424T190653
CREATED:20250114T175815Z
LAST-MODIFIED:20250114T175815Z
UID:10043977-1760554800-1760562000@downtowndayton.org
SUMMARY:Puzzle Feud
DESCRIPTION:Calling all puzzle fans! Join us for Puzzle Feud every Wednesday from 7:00 p.m.-9:00 p.m. (or until the first puzzle is completed). Complete a 500-piece puzzle of your choice with teams of up to 4 with a 2-hour limit. All teams must sign up at the bar on the day of and teams must go to the bar once their puzzle is completed. The winning team receives a prize. Cheers!
URL:https://downtowndayton.org/event/puzzle-feud-2025-07-09-3/
LOCATION:OH
ATTACH;FMTTYPE=image/jpeg:https://downtowndayton.org/wp-content/uploads/2025/01/dbc.jpg
END:VEVENT
BEGIN:VEVENT
DTSTART;TZID=America/Detroit:20251015T190000
DTEND;TZID=America/Detroit:20251015T210000
DTSTAMP:20260424T190653
CREATED:20250114T175815Z
LAST-MODIFIED:20250114T175815Z
UID:10041772-1760554800-1760562000@downtowndayton.org
SUMMARY:Puzzle Feud
DESCRIPTION:Calling all puzzle fans! Join us for Puzzle Feud every Wednesday from 7:00 p.m.-9:00 p.m. (or until the first puzzle is completed). Complete a 500-piece puzzle of your choice with teams of up to 4 with a 2-hour limit. All teams must sign up at the bar on the day of and teams must go to the bar once their puzzle is completed. The winning team receives a prize. Cheers!
URL:https://downtowndayton.org/event/puzzle-feud-2025-05-07/
LOCATION:OH
ATTACH;FMTTYPE=image/jpeg:https://downtowndayton.org/wp-content/uploads/2025/01/dbc.jpg
END:VEVENT
BEGIN:VEVENT
DTSTART;TZID=America/Detroit:20251015T190000
DTEND;TZID=America/Detroit:20251015T210000
DTSTAMP:20260424T190653
CREATED:20250114T175815Z
LAST-MODIFIED:20250114T175815Z
UID:10044549-1760554800-1760562000@downtowndayton.org
SUMMARY:Puzzle Feud
DESCRIPTION:Calling all puzzle fans! Join us for Puzzle Feud every Wednesday from 7:00 p.m.-9:00 p.m. (or until the first puzzle is completed). Complete a 500-piece puzzle of your choice with teams of up to 4 with a 2-hour limit. All teams must sign up at the bar on the day of and teams must go to the bar once their puzzle is completed. The winning team receives a prize. Cheers!
URL:https://downtowndayton.org/event/puzzle-feud-2025-04-02-4/
LOCATION:OH
ATTACH;FMTTYPE=image/jpeg:https://downtowndayton.org/wp-content/uploads/2025/01/dbc.jpg
END:VEVENT
BEGIN:VEVENT
DTSTART;TZID=America/Detroit:20251015T190000
DTEND;TZID=America/Detroit:20251015T210000
DTSTAMP:20260424T190653
CREATED:20250114T175815Z
LAST-MODIFIED:20250114T175815Z
UID:10042653-1760554800-1760562000@downtowndayton.org
SUMMARY:Puzzle Feud
DESCRIPTION:Calling all puzzle fans! Join us for Puzzle Feud every Wednesday from 7:00 p.m.-9:00 p.m. (or until the first puzzle is completed). Complete a 500-piece puzzle of your choice with teams of up to 4 with a 2-hour limit. All teams must sign up at the bar on the day of and teams must go to the bar once their puzzle is completed. The winning team receives a prize. Cheers!
URL:https://downtowndayton.org/event/puzzle-feud-2025-04-23-2/
LOCATION:OH
ATTACH;FMTTYPE=image/jpeg:https://downtowndayton.org/wp-content/uploads/2025/01/dbc.jpg
END:VEVENT
BEGIN:VEVENT
DTSTART;TZID=America/Detroit:20251015T190000
DTEND;TZID=America/Detroit:20251015T210000
DTSTAMP:20260424T190653
CREATED:20250114T175815Z
LAST-MODIFIED:20250114T175815Z
UID:10043077-1760554800-1760562000@downtowndayton.org
SUMMARY:Puzzle Feud
DESCRIPTION:Calling all puzzle fans! Join us for Puzzle Feud every Wednesday from 7:00 p.m.-9:00 p.m. (or until the first puzzle is completed). Complete a 500-piece puzzle of your choice with teams of up to 4 with a 2-hour limit. All teams must sign up at the bar on the day of and teams must go to the bar once their puzzle is completed. The winning team receives a prize. Cheers!
URL:https://downtowndayton.org/event/puzzle-feud-2025-08-13/
LOCATION:OH
ATTACH;FMTTYPE=image/jpeg:https://downtowndayton.org/wp-content/uploads/2025/01/dbc.jpg
END:VEVENT
BEGIN:VEVENT
DTSTART;TZID=America/Detroit:20251015T190000
DTEND;TZID=America/Detroit:20251015T210000
DTSTAMP:20260424T190653
CREATED:20250114T175815Z
LAST-MODIFIED:20250114T175815Z
UID:10044952-1760554800-1760562000@downtowndayton.org
SUMMARY:Puzzle Feud
DESCRIPTION:Calling all puzzle fans! Join us for Puzzle Feud every Wednesday from 7:00 p.m.-9:00 p.m. (or until the first puzzle is completed). Complete a 500-piece puzzle of your choice with teams of up to 4 with a 2-hour limit. All teams must sign up at the bar on the day of and teams must go to the bar once their puzzle is completed. The winning team receives a prize. Cheers!
URL:https://downtowndayton.org/event/puzzle-feud-2025-07-02-4/
LOCATION:OH
ATTACH;FMTTYPE=image/jpeg:https://downtowndayton.org/wp-content/uploads/2025/01/dbc.jpg
END:VEVENT
BEGIN:VEVENT
DTSTART;TZID=America/Detroit:20251015T190000
DTEND;TZID=America/Detroit:20251015T210000
DTSTAMP:20260424T190653
CREATED:20250114T175815Z
LAST-MODIFIED:20250114T175815Z
UID:10043902-1760554800-1760562000@downtowndayton.org
SUMMARY:Puzzle Feud
DESCRIPTION:Calling all puzzle fans! Join us for Puzzle Feud every Wednesday from 7:00 p.m.-9:00 p.m. (or until the first puzzle is completed). Complete a 500-piece puzzle of your choice with teams of up to 4 with a 2-hour limit. All teams must sign up at the bar on the day of and teams must go to the bar once their puzzle is completed. The winning team receives a prize. Cheers!
URL:https://downtowndayton.org/event/puzzle-feud-2025-06-18-3/
LOCATION:OH
ATTACH;FMTTYPE=image/jpeg:https://downtowndayton.org/wp-content/uploads/2025/01/dbc.jpg
END:VEVENT
BEGIN:VEVENT
DTSTART;TZID=America/Detroit:20251015T190000
DTEND;TZID=America/Detroit:20251015T210000
DTSTAMP:20260424T190653
CREATED:20250114T175815Z
LAST-MODIFIED:20250114T175815Z
UID:10041670-1760554800-1760562000@downtowndayton.org
SUMMARY:Puzzle Feud
DESCRIPTION:Calling all puzzle fans! Join us for Puzzle Feud every Wednesday from 7:00 p.m.-9:00 p.m. (or until the first puzzle is completed). Complete a 500-piece puzzle of your choice with teams of up to 4 with a 2-hour limit. All teams must sign up at the bar on the day of and teams must go to the bar once their puzzle is completed. The winning team receives a prize. Cheers!
URL:https://downtowndayton.org/event/puzzle-feud-2025-04-16/
LOCATION:OH
ATTACH;FMTTYPE=image/jpeg:https://downtowndayton.org/wp-content/uploads/2025/01/dbc.jpg
END:VEVENT
BEGIN:VEVENT
DTSTART;TZID=America/Detroit:20251015T190000
DTEND;TZID=America/Detroit:20251015T210000
DTSTAMP:20260424T190653
CREATED:20250114T175815Z
LAST-MODIFIED:20250114T175815Z
UID:10044432-1760554800-1760562000@downtowndayton.org
SUMMARY:Puzzle Feud
DESCRIPTION:Calling all puzzle fans! Join us for Puzzle Feud every Wednesday from 7:00 p.m.-9:00 p.m. (or until the first puzzle is completed). Complete a 500-piece puzzle of your choice with teams of up to 4 with a 2-hour limit. All teams must sign up at the bar on the day of and teams must go to the bar once their puzzle is completed. The winning team receives a prize. Cheers!
URL:https://downtowndayton.org/event/puzzle-feud-2025-03-12-4/
LOCATION:OH
ATTACH;FMTTYPE=image/jpeg:https://downtowndayton.org/wp-content/uploads/2025/01/dbc.jpg
END:VEVENT
BEGIN:VEVENT
DTSTART;TZID=America/Detroit:20251015T190000
DTEND;TZID=America/Detroit:20251015T210000
DTSTAMP:20260424T190653
CREATED:20250114T175815Z
LAST-MODIFIED:20250114T175815Z
UID:10042545-1760554800-1760562000@downtowndayton.org
SUMMARY:Puzzle Feud
DESCRIPTION:Calling all puzzle fans! Join us for Puzzle Feud every Wednesday from 7:00 p.m.-9:00 p.m. (or until the first puzzle is completed). Complete a 500-piece puzzle of your choice with teams of up to 4 with a 2-hour limit. All teams must sign up at the bar on the day of and teams must go to the bar once their puzzle is completed. The winning team receives a prize. Cheers!
URL:https://downtowndayton.org/event/puzzle-feud-2025-04-02-2/
LOCATION:OH
ATTACH;FMTTYPE=image/jpeg:https://downtowndayton.org/wp-content/uploads/2025/01/dbc.jpg
END:VEVENT
BEGIN:VEVENT
DTSTART;TZID=America/Detroit:20251015T190000
DTEND;TZID=America/Detroit:20251015T210000
DTSTAMP:20260424T190653
CREATED:20250114T175815Z
LAST-MODIFIED:20250114T175815Z
UID:10045036-1760554800-1760562000@downtowndayton.org
SUMMARY:Puzzle Feud
DESCRIPTION:Calling all puzzle fans! Join us for Puzzle Feud every Wednesday from 7:00 p.m.-9:00 p.m. (or until the first puzzle is completed). Complete a 500-piece puzzle of your choice with teams of up to 4 with a 2-hour limit. All teams must sign up at the bar on the day of and teams must go to the bar once their puzzle is completed. The winning team receives a prize. Cheers!
URL:https://downtowndayton.org/event/puzzle-feud-2025-09-10/
LOCATION:OH
ATTACH;FMTTYPE=image/jpeg:https://downtowndayton.org/wp-content/uploads/2025/01/dbc.jpg
END:VEVENT
BEGIN:VEVENT
DTSTART;TZID=America/Detroit:20251015T190000
DTEND;TZID=America/Detroit:20251015T210000
DTSTAMP:20260424T190653
CREATED:20250114T175815Z
LAST-MODIFIED:20250114T175815Z
UID:10043017-1760554800-1760562000@downtowndayton.org
SUMMARY:Puzzle Feud
DESCRIPTION:Calling all puzzle fans! Join us for Puzzle Feud every Wednesday from 7:00 p.m.-9:00 p.m. (or until the first puzzle is completed). Complete a 500-piece puzzle of your choice with teams of up to 4 with a 2-hour limit. All teams must sign up at the bar on the day of and teams must go to the bar once their puzzle is completed. The winning team receives a prize. Cheers!
URL:https://downtowndayton.org/event/puzzle-feud-2025-07-23-2/
LOCATION:OH
ATTACH;FMTTYPE=image/jpeg:https://downtowndayton.org/wp-content/uploads/2025/01/dbc.jpg
END:VEVENT
BEGIN:VEVENT
DTSTART;TZID=America/New_York:20251015T190000
DTEND;TZID=America/New_York:20251015T230000
DTSTAMP:20260424T190653
CREATED:20250528T120940Z
LAST-MODIFIED:20250925T123704Z
UID:10036586-1760554800-1760569200@downtowndayton.org
SUMMARY:Wu-Tang Wednesdays
DESCRIPTION:Dayton’s legendary Ike B spins old school hip hop and whateva else he wants.
URL:https://downtowndayton.org/event/whateva-wednesdays/2025-10-15/
LOCATION:The Barrel House\, 417 E. Third St.\, Dayton\, OH\, 45402\, United States
ATTACH;FMTTYPE=image/jpeg:https://downtowndayton.org/wp-content/uploads/2025/05/wu.jpg
END:VEVENT
BEGIN:VEVENT
DTSTART;TZID=America/New_York:20251015T193000
DTEND;TZID=America/New_York:20251015T193000
DTSTAMP:20260424T190653
CREATED:20251009T130431Z
LAST-MODIFIED:20251009T130431Z
UID:10041033-1760556600-1760556600@downtowndayton.org
SUMMARY:The Sound Of Music
DESCRIPTION:For 65 years\, THE SOUND OF MUSIC has been one of our “favorite things.” With its timeless story and irresistibly charming score\, this Rodgers & Hammerstein classic isn’t just meant to be enjoyed – it’s meant to be shared. Now\, a critically acclaimed North American tour brings the cherished musical to stages across the country to teach a new generation to sing. \nDirected by three-time Tony Award® winner Jack O’Brien (Hairspray)\, this vibrant and romantic tale of Maria and the von Trapp family will captivate audiences with its universal themes of love\, resilience\, and the power of music. \nFeaturing beloved songs like “Do-Re-Mi\,” “Sixteen Going on Seventeen\,” and “Edelweiss\,” THE SOUND OF MUSIC is the iconic tale of a spirited nun who chooses not to live behind closed doors – and\, by following her heart\, learns to climb every mountain. \nTHE SOUND OF MUSIC features music by Richard Rodgers\, lyrics by Oscar Hammerstein II\, and book by Howard Lindsay and Russel Crouse\, suggested by The Trapp Family Singers by Maria Augusta Trapp. 2025 marks the 60th anniversary of the Oscar®-winning film\, which continues to be one of the most successful movie musicals of all time.
URL:https://downtowndayton.org/event/the-sound-of-music/2025-10-15/
LOCATION:The Benjamin & Marian Schuster Performing Arts Center\, 1 West Second Street\, Dayton\, OH\, 45402
ATTACH;FMTTYPE=image/jpeg:https://downtowndayton.org/wp-content/uploads/2025/10/hillsalive.jpg
END:VEVENT
BEGIN:VEVENT
DTSTART;TZID=America/New_York:20251015T193000
DTEND;TZID=America/New_York:20251015T213000
DTSTAMP:20260424T190653
CREATED:20251014T195105Z
LAST-MODIFIED:20251014T195105Z
UID:10041121-1760556600-1760563800@downtowndayton.org
SUMMARY:Jazz night with Natalie Cressmand and Ian Faquini
DESCRIPTION:Get ready for a night of soulful jazz music and good vibes at Joui Wine! Join us for an intimate evening featuring the incredible talents of Natalie Cressman and Ian Faquini. Local vocalist Kammeron Frost will start off the evening. Let their music sweep you off your feet in this in-person event that promises to be nothing short of magical. HOW TO GO: Wednesday\, October 15\, 2025 Joui Wine\, 117 E 3rd St\, Dayton\, OH Doors 7pm Show 7:30 – 9:30pm Tickets $20 advance / $25 at the door About the Artists: Describing the musical partnership of Natalie Cressman and Ian Faquini as a duo is accurate\, but their collaboration contains multitudes. She’s a trombonist\, vocalist and songwriter from San Francisco. He’s a composer\, guitarist\, and singer from Brasilia. Together they’ve honed a singularly expansive creative communion encompassing their love of the Brazilian songbook\, jazz\, Impressionism and sophisticated pop songcraft. Their original material features lyrics in Portuguese\, French and English set to music drawing from a vast stylistic spectrum. With sumptuous two-part vocal harmonies hugging Brazilian-accented Portuguese accompanied by trombone and acoustic guitar\, Cressman and Faquini’s richly orchestrated sound seems to emanate from a much larger ensemble. Website: https://www.nataliecressman.com
URL:https://downtowndayton.org/event/jazz-night-with-natalie-cressmand-and-ian-faquini/
LOCATION:Joui Wine\, 117 E. Third St.\, Dayton\, OH\, 45402
ATTACH;FMTTYPE=image/jpeg:https://downtowndayton.org/wp-content/uploads/2025/10/2025_10_15_Natalie-Cressman-horizontal-scaled.jpg
END:VEVENT
BEGIN:VEVENT
DTSTART;VALUE=DATE:20251016
DTEND;VALUE=DATE:20251017
DTSTAMP:20260424T190654
CREATED:20251002T125306Z
LAST-MODIFIED:20251002T125306Z
UID:10040929-1760572800-1760659199@downtowndayton.org
SUMMARY:Water Street District Pint Path
DESCRIPTION:Sip your way through local brews\, grab a bite at buzzworthy spots and discover why Water Street District is where Dayton comes to play. Pick up a free Water Street District Pint Path passport from any participating business. Once a passport has been picked up\, purchase a menu item of choice at each stop to receive a stamp on the passport. Once you’ve sipped and stamped at all 14 locations\, turn in your passport to Water Street District’s leasing office (115 Madison Street) to claim your prize. Pint Path Passport stops can be completed at the leisure of each participant. Cheers! Please remember to drink responsibly. Find a list of participating businesses and more details here: https://www.waterstreetdayton.com/wsdpintpath
URL:https://downtowndayton.org/event/water-street-district-pint-path/2025-10-16/
LOCATION:Water Street District
ATTACH;FMTTYPE=image/jpeg:https://downtowndayton.org/wp-content/uploads/2025/10/wsdpintpath.jpg
END:VEVENT
BEGIN:VEVENT
DTSTART;TZID=America/New_York:20251016T080000
DTEND;TZID=America/New_York:20251016T170000
DTSTAMP:20260424T190654
CREATED:20250909T125304Z
LAST-MODIFIED:20250909T125304Z
UID:10039750-1760601600-1760634000@downtowndayton.org
SUMMARY:Ding Chao and John Tronsor Exhibit
DESCRIPTION:The Sinclair Community College Art Department is pleased to present The Dialogue by Chao Ding in the Burnell R. Roberts Triangle Gallery and limen series by John Tronsor in the Works on Paper Gallery. The Dialogue is a visual diary of paintings exploring evocative moments and fragments of time in the artist’s life. Ding explores loneliness and mystery through textural layers and subtle colors\, focusing on revealing forgotten beauties and poetic significance through deserted spaces in the work. Tronsor’s limen series is a collection of photographs created during a period of self-quarantine focusing on his apartment windows\, which were sealed shut and covered with a white semi-opaque film. The resulting photos reflect landscapes paralleling tundras or oceans with their own depth and singularity. There will be a virtual artist talk via Zoom on Friday\, October 3\, 2025\, at 12pm. Visit www.sinclair.edu/artgalleries for details. The exhibitions will be on display from September 29–October 28\, 2025. Galleries are located on the fourth floor of building 13 (located at West Fifth and Perry Streets). The galleries are free and open to the public from 8am–6pm Monday–Friday and 9am–12pm Saturdays. Free and accessible parking is located in Parking Lot K.
URL:https://downtowndayton.org/event/ding-chao-and-john-tronsor-exhibit/2025-10-16/
LOCATION:Galleries at Sinclair College\, 444 W. Third St.\, Bldg. 13\, Dayton\, OH\, 45402
ATTACH;FMTTYPE=image/jpeg:https://downtowndayton.org/wp-content/uploads/2025/09/sinc.jpg
END:VEVENT
END:VCALENDAR