BEGIN:VCALENDAR
VERSION:2.0
PRODID:-//Downtown Dayton Partnership - ECPv6.8.1//NONSGML v1.0//EN
CALSCALE:GREGORIAN
METHOD:PUBLISH
X-ORIGINAL-URL:https://downtowndayton.org
X-WR-CALDESC:Events for Downtown Dayton Partnership
REFRESH-INTERVAL;VALUE=DURATION:PT1H
X-Robots-Tag:noindex
X-PUBLISHED-TTL:PT1H
BEGIN:VTIMEZONE
TZID:America/Detroit
BEGIN:DAYLIGHT
TZOFFSETFROM:-0500
TZOFFSETTO:-0400
TZNAME:EDT
DTSTART:20250309T070000
END:DAYLIGHT
BEGIN:STANDARD
TZOFFSETFROM:-0400
TZOFFSETTO:-0500
TZNAME:EST
DTSTART:20251102T060000
END:STANDARD
END:VTIMEZONE
BEGIN:VEVENT
DTSTART;TZID=America/Detroit:20251105T190000
DTEND;TZID=America/Detroit:20251105T210000
DTSTAMP:20260424T062051
CREATED:20250114T175815Z
LAST-MODIFIED:20250114T175815Z
UID:10043310-1762369200-1762376400@downtowndayton.org
SUMMARY:Puzzle Feud
DESCRIPTION:Calling all puzzle fans! Join us for Puzzle Feud every Wednesday from 7:00 p.m.-9:00 p.m. (or until the first puzzle is completed). Complete a 500-piece puzzle of your choice with teams of up to 4 with a 2-hour limit. All teams must sign up at the bar on the day of and teams must go to the bar once their puzzle is completed. The winning team receives a prize. Cheers!
URL:https://downtowndayton.org/event/puzzle-feud-2025-02-19-3/
LOCATION:OH
ATTACH;FMTTYPE=image/jpeg:https://downtowndayton.org/wp-content/uploads/2025/01/dbc.jpg
END:VEVENT
BEGIN:VEVENT
DTSTART;TZID=America/Detroit:20251105T190000
DTEND;TZID=America/Detroit:20251105T210000
DTSTAMP:20260424T062051
CREATED:20250114T175815Z
LAST-MODIFIED:20250114T175815Z
UID:10042216-1762369200-1762376400@downtowndayton.org
SUMMARY:Puzzle Feud
DESCRIPTION:Calling all puzzle fans! Join us for Puzzle Feud every Wednesday from 7:00 p.m.-9:00 p.m. (or until the first puzzle is completed). Complete a 500-piece puzzle of your choice with teams of up to 4 with a 2-hour limit. All teams must sign up at the bar on the day of and teams must go to the bar once their puzzle is completed. The winning team receives a prize. Cheers!
URL:https://downtowndayton.org/event/puzzle-feud-2025-02-05-2/
LOCATION:OH
ATTACH;FMTTYPE=image/jpeg:https://downtowndayton.org/wp-content/uploads/2025/01/dbc.jpg
END:VEVENT
BEGIN:VEVENT
DTSTART;TZID=America/Detroit:20251105T190000
DTEND;TZID=America/Detroit:20251105T210000
DTSTAMP:20260424T062051
CREATED:20250114T175815Z
LAST-MODIFIED:20250114T175815Z
UID:10041222-1762369200-1762376400@downtowndayton.org
SUMMARY:Puzzle Feud
DESCRIPTION:Calling all puzzle fans! Join us for Puzzle Feud every Wednesday from 7:00 p.m.-9:00 p.m. (or until the first puzzle is completed). Complete a 500-piece puzzle of your choice with teams of up to 4 with a 2-hour limit. All teams must sign up at the bar on the day of and teams must go to the bar once their puzzle is completed. The winning team receives a prize. Cheers!
URL:https://downtowndayton.org/event/puzzle-feud-2025-01-29/
LOCATION:OH
ATTACH;FMTTYPE=image/jpeg:https://downtowndayton.org/wp-content/uploads/2025/01/dbc.jpg
END:VEVENT
BEGIN:VEVENT
DTSTART;TZID=America/Detroit:20251105T190000
DTEND;TZID=America/Detroit:20251105T210000
DTSTAMP:20260424T062051
CREATED:20250114T175815Z
LAST-MODIFIED:20250114T175815Z
UID:10044309-1762369200-1762376400@downtowndayton.org
SUMMARY:Puzzle Feud
DESCRIPTION:Calling all puzzle fans! Join us for Puzzle Feud every Wednesday from 7:00 p.m.-9:00 p.m. (or until the first puzzle is completed). Complete a 500-piece puzzle of your choice with teams of up to 4 with a 2-hour limit. All teams must sign up at the bar on the day of and teams must go to the bar once their puzzle is completed. The winning team receives a prize. Cheers!
URL:https://downtowndayton.org/event/puzzle-feud-2025-02-19-4/
LOCATION:OH
ATTACH;FMTTYPE=image/jpeg:https://downtowndayton.org/wp-content/uploads/2025/01/dbc.jpg
END:VEVENT
BEGIN:VEVENT
DTSTART;TZID=America/Detroit:20251105T190000
DTEND;TZID=America/Detroit:20251105T210000
DTSTAMP:20260424T062051
CREATED:20250114T175815Z
LAST-MODIFIED:20250114T175815Z
UID:10041673-1762369200-1762376400@downtowndayton.org
SUMMARY:Puzzle Feud
DESCRIPTION:Calling all puzzle fans! Join us for Puzzle Feud every Wednesday from 7:00 p.m.-9:00 p.m. (or until the first puzzle is completed). Complete a 500-piece puzzle of your choice with teams of up to 4 with a 2-hour limit. All teams must sign up at the bar on the day of and teams must go to the bar once their puzzle is completed. The winning team receives a prize. Cheers!
URL:https://downtowndayton.org/event/puzzle-feud-2025-04-16/
LOCATION:OH
ATTACH;FMTTYPE=image/jpeg:https://downtowndayton.org/wp-content/uploads/2025/01/dbc.jpg
END:VEVENT
BEGIN:VEVENT
DTSTART;TZID=America/Detroit:20251105T190000
DTEND;TZID=America/Detroit:20251105T210000
DTSTAMP:20260424T062051
CREATED:20250114T175815Z
LAST-MODIFIED:20250114T175815Z
UID:10044660-1762369200-1762376400@downtowndayton.org
SUMMARY:Puzzle Feud
DESCRIPTION:Calling all puzzle fans! Join us for Puzzle Feud every Wednesday from 7:00 p.m.-9:00 p.m. (or until the first puzzle is completed). Complete a 500-piece puzzle of your choice with teams of up to 4 with a 2-hour limit. All teams must sign up at the bar on the day of and teams must go to the bar once their puzzle is completed. The winning team receives a prize. Cheers!
URL:https://downtowndayton.org/event/puzzle-feud-2025-04-23-4/
LOCATION:OH
ATTACH;FMTTYPE=image/jpeg:https://downtowndayton.org/wp-content/uploads/2025/01/dbc.jpg
END:VEVENT
BEGIN:VEVENT
DTSTART;TZID=America/Detroit:20251105T190000
DTEND;TZID=America/Detroit:20251105T210000
DTSTAMP:20260424T062051
CREATED:20250114T175815Z
LAST-MODIFIED:20250114T175815Z
UID:10041952-1762369200-1762376400@downtowndayton.org
SUMMARY:Puzzle Feud
DESCRIPTION:Calling all puzzle fans! Join us for Puzzle Feud every Wednesday from 7:00 p.m.-9:00 p.m. (or until the first puzzle is completed). Complete a 500-piece puzzle of your choice with teams of up to 4 with a 2-hour limit. All teams must sign up at the bar on the day of and teams must go to the bar once their puzzle is completed. The winning team receives a prize. Cheers!
URL:https://downtowndayton.org/event/puzzle-feud-2025-06-18/
LOCATION:OH
ATTACH;FMTTYPE=image/jpeg:https://downtowndayton.org/wp-content/uploads/2025/01/dbc.jpg
END:VEVENT
BEGIN:VEVENT
DTSTART;TZID=America/Detroit:20251105T190000
DTEND;TZID=America/Detroit:20251105T210000
DTSTAMP:20260424T062051
CREATED:20250114T175815Z
LAST-MODIFIED:20250114T175815Z
UID:10043728-1762369200-1762376400@downtowndayton.org
SUMMARY:Puzzle Feud
DESCRIPTION:Calling all puzzle fans! Join us for Puzzle Feud every Wednesday from 7:00 p.m.-9:00 p.m. (or until the first puzzle is completed). Complete a 500-piece puzzle of your choice with teams of up to 4 with a 2-hour limit. All teams must sign up at the bar on the day of and teams must go to the bar once their puzzle is completed. The winning team receives a prize. Cheers!
URL:https://downtowndayton.org/event/puzzle-feud-2025-05-07-3/
LOCATION:OH
ATTACH;FMTTYPE=image/jpeg:https://downtowndayton.org/wp-content/uploads/2025/01/dbc.jpg
END:VEVENT
BEGIN:VEVENT
DTSTART;TZID=America/Detroit:20251105T190000
DTEND;TZID=America/Detroit:20251105T210000
DTSTAMP:20260424T062051
CREATED:20250114T175815Z
LAST-MODIFIED:20250114T175815Z
UID:10045053-1762369200-1762376400@downtowndayton.org
SUMMARY:Puzzle Feud
DESCRIPTION:Calling all puzzle fans! Join us for Puzzle Feud every Wednesday from 7:00 p.m.-9:00 p.m. (or until the first puzzle is completed). Complete a 500-piece puzzle of your choice with teams of up to 4 with a 2-hour limit. All teams must sign up at the bar on the day of and teams must go to the bar once their puzzle is completed. The winning team receives a prize. Cheers!
URL:https://downtowndayton.org/event/puzzle-feud-2025-09-17/
LOCATION:OH
ATTACH;FMTTYPE=image/jpeg:https://downtowndayton.org/wp-content/uploads/2025/01/dbc.jpg
END:VEVENT
BEGIN:VEVENT
DTSTART;TZID=America/Detroit:20251105T190000
DTEND;TZID=America/Detroit:20251105T210000
DTSTAMP:20260424T062051
CREATED:20250114T175815Z
LAST-MODIFIED:20250114T175815Z
UID:10042656-1762369200-1762376400@downtowndayton.org
SUMMARY:Puzzle Feud
DESCRIPTION:Calling all puzzle fans! Join us for Puzzle Feud every Wednesday from 7:00 p.m.-9:00 p.m. (or until the first puzzle is completed). Complete a 500-piece puzzle of your choice with teams of up to 4 with a 2-hour limit. All teams must sign up at the bar on the day of and teams must go to the bar once their puzzle is completed. The winning team receives a prize. Cheers!
URL:https://downtowndayton.org/event/puzzle-feud-2025-04-23-2/
LOCATION:OH
ATTACH;FMTTYPE=image/jpeg:https://downtowndayton.org/wp-content/uploads/2025/01/dbc.jpg
END:VEVENT
BEGIN:VEVENT
DTSTART;TZID=America/Detroit:20251105T190000
DTEND;TZID=America/Detroit:20251105T210000
DTSTAMP:20260424T062051
CREATED:20250114T175815Z
LAST-MODIFIED:20250114T175815Z
UID:10042975-1762369200-1762376400@downtowndayton.org
SUMMARY:Puzzle Feud
DESCRIPTION:Calling all puzzle fans! Join us for Puzzle Feud every Wednesday from 7:00 p.m.-9:00 p.m. (or until the first puzzle is completed). Complete a 500-piece puzzle of your choice with teams of up to 4 with a 2-hour limit. All teams must sign up at the bar on the day of and teams must go to the bar once their puzzle is completed. The winning team receives a prize. Cheers!
URL:https://downtowndayton.org/event/puzzle-feud-2025-07-09-2/
LOCATION:OH
ATTACH;FMTTYPE=image/jpeg:https://downtowndayton.org/wp-content/uploads/2025/01/dbc.jpg
END:VEVENT
BEGIN:VEVENT
DTSTART;TZID=America/Detroit:20251105T190000
DTEND;TZID=America/Detroit:20251105T210000
DTSTAMP:20260424T062051
CREATED:20250114T175815Z
LAST-MODIFIED:20250114T175815Z
UID:10044979-1762369200-1762376400@downtowndayton.org
SUMMARY:Puzzle Feud
DESCRIPTION:Calling all puzzle fans! Join us for Puzzle Feud every Wednesday from 7:00 p.m.-9:00 p.m. (or until the first puzzle is completed). Complete a 500-piece puzzle of your choice with teams of up to 4 with a 2-hour limit. All teams must sign up at the bar on the day of and teams must go to the bar once their puzzle is completed. The winning team receives a prize. Cheers!
URL:https://downtowndayton.org/event/puzzle-feud-2025-07-09-4/
LOCATION:OH
ATTACH;FMTTYPE=image/jpeg:https://downtowndayton.org/wp-content/uploads/2025/01/dbc.jpg
END:VEVENT
BEGIN:VEVENT
DTSTART;TZID=America/Detroit:20251105T190000
DTEND;TZID=America/Detroit:20251105T210000
DTSTAMP:20260424T062051
CREATED:20250114T175815Z
LAST-MODIFIED:20250114T175815Z
UID:10044025-1762369200-1762376400@downtowndayton.org
SUMMARY:Puzzle Feud
DESCRIPTION:Calling all puzzle fans! Join us for Puzzle Feud every Wednesday from 7:00 p.m.-9:00 p.m. (or until the first puzzle is completed). Complete a 500-piece puzzle of your choice with teams of up to 4 with a 2-hour limit. All teams must sign up at the bar on the day of and teams must go to the bar once their puzzle is completed. The winning team receives a prize. Cheers!
URL:https://downtowndayton.org/event/puzzle-feud-2025-07-23-3/
LOCATION:OH
ATTACH;FMTTYPE=image/jpeg:https://downtowndayton.org/wp-content/uploads/2025/01/dbc.jpg
END:VEVENT
BEGIN:VEVENT
DTSTART;TZID=America/Detroit:20251105T190000
DTEND;TZID=America/Detroit:20251105T210000
DTSTAMP:20260424T062051
CREATED:20250114T175815Z
LAST-MODIFIED:20250114T175815Z
UID:10043353-1762369200-1762376400@downtowndayton.org
SUMMARY:Puzzle Feud
DESCRIPTION:Calling all puzzle fans! Join us for Puzzle Feud every Wednesday from 7:00 p.m.-9:00 p.m. (or until the first puzzle is completed). Complete a 500-piece puzzle of your choice with teams of up to 4 with a 2-hour limit. All teams must sign up at the bar on the day of and teams must go to the bar once their puzzle is completed. The winning team receives a prize. Cheers!
URL:https://downtowndayton.org/event/puzzle-feud-2025-02-26-3/
LOCATION:OH
ATTACH;FMTTYPE=image/jpeg:https://downtowndayton.org/wp-content/uploads/2025/01/dbc.jpg
END:VEVENT
BEGIN:VEVENT
DTSTART;TZID=America/Detroit:20251105T190000
DTEND;TZID=America/Detroit:20251105T210000
DTSTAMP:20260424T062051
CREATED:20250114T175815Z
LAST-MODIFIED:20250114T175815Z
UID:10042261-1762369200-1762376400@downtowndayton.org
SUMMARY:Puzzle Feud
DESCRIPTION:Calling all puzzle fans! Join us for Puzzle Feud every Wednesday from 7:00 p.m.-9:00 p.m. (or until the first puzzle is completed). Complete a 500-piece puzzle of your choice with teams of up to 4 with a 2-hour limit. All teams must sign up at the bar on the day of and teams must go to the bar once their puzzle is completed. The winning team receives a prize. Cheers!
URL:https://downtowndayton.org/event/puzzle-feud-2025-02-12-2/
LOCATION:OH
ATTACH;FMTTYPE=image/jpeg:https://downtowndayton.org/wp-content/uploads/2025/01/dbc.jpg
END:VEVENT
BEGIN:VEVENT
DTSTART;TZID=America/Detroit:20251105T190000
DTEND;TZID=America/Detroit:20251105T210000
DTSTAMP:20260424T062051
CREATED:20250114T175815Z
LAST-MODIFIED:20250114T175815Z
UID:10041268-1762369200-1762376400@downtowndayton.org
SUMMARY:Puzzle Feud
DESCRIPTION:Calling all puzzle fans! Join us for Puzzle Feud every Wednesday from 7:00 p.m.-9:00 p.m. (or until the first puzzle is completed). Complete a 500-piece puzzle of your choice with teams of up to 4 with a 2-hour limit. All teams must sign up at the bar on the day of and teams must go to the bar once their puzzle is completed. The winning team receives a prize. Cheers!
URL:https://downtowndayton.org/event/puzzle-feud-2025-02-05/
LOCATION:OH
ATTACH;FMTTYPE=image/jpeg:https://downtowndayton.org/wp-content/uploads/2025/01/dbc.jpg
END:VEVENT
BEGIN:VEVENT
DTSTART;TZID=America/Detroit:20251105T190000
DTEND;TZID=America/Detroit:20251105T210000
DTSTAMP:20260424T062051
CREATED:20250114T175815Z
LAST-MODIFIED:20250114T175815Z
UID:10044352-1762369200-1762376400@downtowndayton.org
SUMMARY:Puzzle Feud
DESCRIPTION:Calling all puzzle fans! Join us for Puzzle Feud every Wednesday from 7:00 p.m.-9:00 p.m. (or until the first puzzle is completed). Complete a 500-piece puzzle of your choice with teams of up to 4 with a 2-hour limit. All teams must sign up at the bar on the day of and teams must go to the bar once their puzzle is completed. The winning team receives a prize. Cheers!
URL:https://downtowndayton.org/event/puzzle-feud-2025-02-26-4/
LOCATION:OH
ATTACH;FMTTYPE=image/jpeg:https://downtowndayton.org/wp-content/uploads/2025/01/dbc.jpg
END:VEVENT
BEGIN:VEVENT
DTSTART;TZID=America/Detroit:20251105T190000
DTEND;TZID=America/Detroit:20251105T210000
DTSTAMP:20260424T062051
CREATED:20250114T175815Z
LAST-MODIFIED:20250114T175815Z
UID:10041708-1762369200-1762376400@downtowndayton.org
SUMMARY:Puzzle Feud
DESCRIPTION:Calling all puzzle fans! Join us for Puzzle Feud every Wednesday from 7:00 p.m.-9:00 p.m. (or until the first puzzle is completed). Complete a 500-piece puzzle of your choice with teams of up to 4 with a 2-hour limit. All teams must sign up at the bar on the day of and teams must go to the bar once their puzzle is completed. The winning team receives a prize. Cheers!
URL:https://downtowndayton.org/event/puzzle-feud-2025-04-23/
LOCATION:OH
ATTACH;FMTTYPE=image/jpeg:https://downtowndayton.org/wp-content/uploads/2025/01/dbc.jpg
END:VEVENT
BEGIN:VEVENT
DTSTART;TZID=America/Detroit:20251105T190000
DTEND;TZID=America/Detroit:20251105T210000
DTSTAMP:20260424T062051
CREATED:20250114T175815Z
LAST-MODIFIED:20250114T175815Z
UID:10044694-1762369200-1762376400@downtowndayton.org
SUMMARY:Puzzle Feud
DESCRIPTION:Calling all puzzle fans! Join us for Puzzle Feud every Wednesday from 7:00 p.m.-9:00 p.m. (or until the first puzzle is completed). Complete a 500-piece puzzle of your choice with teams of up to 4 with a 2-hour limit. All teams must sign up at the bar on the day of and teams must go to the bar once their puzzle is completed. The winning team receives a prize. Cheers!
URL:https://downtowndayton.org/event/puzzle-feud-2025-04-30-4/
LOCATION:OH
ATTACH;FMTTYPE=image/jpeg:https://downtowndayton.org/wp-content/uploads/2025/01/dbc.jpg
END:VEVENT
BEGIN:VEVENT
DTSTART;TZID=America/Detroit:20251105T190000
DTEND;TZID=America/Detroit:20251105T210000
DTSTAMP:20260424T062051
CREATED:20250114T175815Z
LAST-MODIFIED:20250114T175815Z
UID:10041978-1762369200-1762376400@downtowndayton.org
SUMMARY:Puzzle Feud
DESCRIPTION:Calling all puzzle fans! Join us for Puzzle Feud every Wednesday from 7:00 p.m.-9:00 p.m. (or until the first puzzle is completed). Complete a 500-piece puzzle of your choice with teams of up to 4 with a 2-hour limit. All teams must sign up at the bar on the day of and teams must go to the bar once their puzzle is completed. The winning team receives a prize. Cheers!
URL:https://downtowndayton.org/event/puzzle-feud-2025-06-25/
LOCATION:OH
ATTACH;FMTTYPE=image/jpeg:https://downtowndayton.org/wp-content/uploads/2025/01/dbc.jpg
END:VEVENT
BEGIN:VEVENT
DTSTART;TZID=America/Detroit:20251105T190000
DTEND;TZID=America/Detroit:20251105T210000
DTSTAMP:20260424T062051
CREATED:20250114T175815Z
LAST-MODIFIED:20250114T175815Z
UID:10043760-1762369200-1762376400@downtowndayton.org
SUMMARY:Puzzle Feud
DESCRIPTION:Calling all puzzle fans! Join us for Puzzle Feud every Wednesday from 7:00 p.m.-9:00 p.m. (or until the first puzzle is completed). Complete a 500-piece puzzle of your choice with teams of up to 4 with a 2-hour limit. All teams must sign up at the bar on the day of and teams must go to the bar once their puzzle is completed. The winning team receives a prize. Cheers!
URL:https://downtowndayton.org/event/puzzle-feud-2025-05-14-3/
LOCATION:OH
ATTACH;FMTTYPE=image/jpeg:https://downtowndayton.org/wp-content/uploads/2025/01/dbc.jpg
END:VEVENT
BEGIN:VEVENT
DTSTART;TZID=America/Detroit:20251105T190000
DTEND;TZID=America/Detroit:20251105T210000
DTSTAMP:20260424T062051
CREATED:20250114T175815Z
LAST-MODIFIED:20250114T175815Z
UID:10042690-1762369200-1762376400@downtowndayton.org
SUMMARY:Puzzle Feud
DESCRIPTION:Calling all puzzle fans! Join us for Puzzle Feud every Wednesday from 7:00 p.m.-9:00 p.m. (or until the first puzzle is completed). Complete a 500-piece puzzle of your choice with teams of up to 4 with a 2-hour limit. All teams must sign up at the bar on the day of and teams must go to the bar once their puzzle is completed. The winning team receives a prize. Cheers!
URL:https://downtowndayton.org/event/puzzle-feud-2025-04-30-2/
LOCATION:OH
ATTACH;FMTTYPE=image/jpeg:https://downtowndayton.org/wp-content/uploads/2025/01/dbc.jpg
END:VEVENT
BEGIN:VEVENT
DTSTART;TZID=America/Detroit:20251105T190000
DTEND;TZID=America/Detroit:20251105T210000
DTSTAMP:20260424T062051
CREATED:20250114T175815Z
LAST-MODIFIED:20250114T175815Z
UID:10042998-1762369200-1762376400@downtowndayton.org
SUMMARY:Puzzle Feud
DESCRIPTION:Calling all puzzle fans! Join us for Puzzle Feud every Wednesday from 7:00 p.m.-9:00 p.m. (or until the first puzzle is completed). Complete a 500-piece puzzle of your choice with teams of up to 4 with a 2-hour limit. All teams must sign up at the bar on the day of and teams must go to the bar once their puzzle is completed. The winning team receives a prize. Cheers!
URL:https://downtowndayton.org/event/puzzle-feud-2025-07-16-2/
LOCATION:OH
ATTACH;FMTTYPE=image/jpeg:https://downtowndayton.org/wp-content/uploads/2025/01/dbc.jpg
END:VEVENT
BEGIN:VEVENT
DTSTART;TZID=America/Detroit:20251105T190000
DTEND;TZID=America/Detroit:20251105T210000
DTSTAMP:20260424T062051
CREATED:20250114T175815Z
LAST-MODIFIED:20250114T175815Z
UID:10045002-1762369200-1762376400@downtowndayton.org
SUMMARY:Puzzle Feud
DESCRIPTION:Calling all puzzle fans! Join us for Puzzle Feud every Wednesday from 7:00 p.m.-9:00 p.m. (or until the first puzzle is completed). Complete a 500-piece puzzle of your choice with teams of up to 4 with a 2-hour limit. All teams must sign up at the bar on the day of and teams must go to the bar once their puzzle is completed. The winning team receives a prize. Cheers!
URL:https://downtowndayton.org/event/puzzle-feud-2025-07-16-4/
LOCATION:OH
ATTACH;FMTTYPE=image/jpeg:https://downtowndayton.org/wp-content/uploads/2025/01/dbc.jpg
END:VEVENT
BEGIN:VEVENT
DTSTART;TZID=America/Detroit:20251105T190000
DTEND;TZID=America/Detroit:20251105T210000
DTSTAMP:20260424T062051
CREATED:20250114T175815Z
LAST-MODIFIED:20250114T175815Z
UID:10044043-1762369200-1762376400@downtowndayton.org
SUMMARY:Puzzle Feud
DESCRIPTION:Calling all puzzle fans! Join us for Puzzle Feud every Wednesday from 7:00 p.m.-9:00 p.m. (or until the first puzzle is completed). Complete a 500-piece puzzle of your choice with teams of up to 4 with a 2-hour limit. All teams must sign up at the bar on the day of and teams must go to the bar once their puzzle is completed. The winning team receives a prize. Cheers!
URL:https://downtowndayton.org/event/puzzle-feud-2025-08-20/
LOCATION:OH
ATTACH;FMTTYPE=image/jpeg:https://downtowndayton.org/wp-content/uploads/2025/01/dbc.jpg
END:VEVENT
BEGIN:VEVENT
DTSTART;TZID=America/Detroit:20251105T190000
DTEND;TZID=America/Detroit:20251105T210000
DTSTAMP:20260424T062051
CREATED:20250114T175815Z
LAST-MODIFIED:20250114T175815Z
UID:10041313-1762369200-1762376400@downtowndayton.org
SUMMARY:Puzzle Feud
DESCRIPTION:Calling all puzzle fans! Join us for Puzzle Feud every Wednesday from 7:00 p.m.-9:00 p.m. (or until the first puzzle is completed). Complete a 500-piece puzzle of your choice with teams of up to 4 with a 2-hour limit. All teams must sign up at the bar on the day of and teams must go to the bar once their puzzle is completed. The winning team receives a prize. Cheers!
URL:https://downtowndayton.org/event/puzzle-feud-2025-02-12/
LOCATION:OH
ATTACH;FMTTYPE=image/jpeg:https://downtowndayton.org/wp-content/uploads/2025/01/dbc.jpg
END:VEVENT
BEGIN:VEVENT
DTSTART;TZID=America/Detroit:20251105T190000
DTEND;TZID=America/Detroit:20251105T210000
DTSTAMP:20260424T062051
CREATED:20250114T175815Z
LAST-MODIFIED:20250114T175815Z
UID:10043395-1762369200-1762376400@downtowndayton.org
SUMMARY:Puzzle Feud
DESCRIPTION:Calling all puzzle fans! Join us for Puzzle Feud every Wednesday from 7:00 p.m.-9:00 p.m. (or until the first puzzle is completed). Complete a 500-piece puzzle of your choice with teams of up to 4 with a 2-hour limit. All teams must sign up at the bar on the day of and teams must go to the bar once their puzzle is completed. The winning team receives a prize. Cheers!
URL:https://downtowndayton.org/event/puzzle-feud-2025-03-05-3/
LOCATION:OH
ATTACH;FMTTYPE=image/jpeg:https://downtowndayton.org/wp-content/uploads/2025/01/dbc.jpg
END:VEVENT
BEGIN:VEVENT
DTSTART;TZID=America/Detroit:20251105T190000
DTEND;TZID=America/Detroit:20251105T210000
DTSTAMP:20260424T062051
CREATED:20250114T175815Z
LAST-MODIFIED:20250114T175815Z
UID:10042305-1762369200-1762376400@downtowndayton.org
SUMMARY:Puzzle Feud
DESCRIPTION:Calling all puzzle fans! Join us for Puzzle Feud every Wednesday from 7:00 p.m.-9:00 p.m. (or until the first puzzle is completed). Complete a 500-piece puzzle of your choice with teams of up to 4 with a 2-hour limit. All teams must sign up at the bar on the day of and teams must go to the bar once their puzzle is completed. The winning team receives a prize. Cheers!
URL:https://downtowndayton.org/event/puzzle-feud-2025-02-19-2/
LOCATION:OH
ATTACH;FMTTYPE=image/jpeg:https://downtowndayton.org/wp-content/uploads/2025/01/dbc.jpg
END:VEVENT
BEGIN:VEVENT
DTSTART;TZID=America/Detroit:20251105T190000
DTEND;TZID=America/Detroit:20251105T210000
DTSTAMP:20260424T062051
CREATED:20250114T175815Z
LAST-MODIFIED:20250114T175815Z
UID:10044394-1762369200-1762376400@downtowndayton.org
SUMMARY:Puzzle Feud
DESCRIPTION:Calling all puzzle fans! Join us for Puzzle Feud every Wednesday from 7:00 p.m.-9:00 p.m. (or until the first puzzle is completed). Complete a 500-piece puzzle of your choice with teams of up to 4 with a 2-hour limit. All teams must sign up at the bar on the day of and teams must go to the bar once their puzzle is completed. The winning team receives a prize. Cheers!
URL:https://downtowndayton.org/event/puzzle-feud-2025-03-05-4/
LOCATION:OH
ATTACH;FMTTYPE=image/jpeg:https://downtowndayton.org/wp-content/uploads/2025/01/dbc.jpg
END:VEVENT
BEGIN:VEVENT
DTSTART;TZID=America/Detroit:20251105T190000
DTEND;TZID=America/Detroit:20251105T210000
DTSTAMP:20260424T062051
CREATED:20250114T175815Z
LAST-MODIFIED:20250114T175815Z
UID:10044727-1762369200-1762376400@downtowndayton.org
SUMMARY:Puzzle Feud
DESCRIPTION:Calling all puzzle fans! Join us for Puzzle Feud every Wednesday from 7:00 p.m.-9:00 p.m. (or until the first puzzle is completed). Complete a 500-piece puzzle of your choice with teams of up to 4 with a 2-hour limit. All teams must sign up at the bar on the day of and teams must go to the bar once their puzzle is completed. The winning team receives a prize. Cheers!
URL:https://downtowndayton.org/event/puzzle-feud-2025-05-07-4/
LOCATION:OH
ATTACH;FMTTYPE=image/jpeg:https://downtowndayton.org/wp-content/uploads/2025/01/dbc.jpg
END:VEVENT
END:VCALENDAR