BEGIN:VCALENDAR
VERSION:2.0
PRODID:-//Downtown Dayton Partnership - ECPv6.8.1//NONSGML v1.0//EN
CALSCALE:GREGORIAN
METHOD:PUBLISH
X-WR-CALNAME:Downtown Dayton Partnership
X-ORIGINAL-URL:https://downtowndayton.org
X-WR-CALDESC:Events for Downtown Dayton Partnership
REFRESH-INTERVAL;VALUE=DURATION:PT1H
X-Robots-Tag:noindex
X-PUBLISHED-TTL:PT1H
BEGIN:VTIMEZONE
TZID:America/New_York
BEGIN:DAYLIGHT
TZOFFSETFROM:-0500
TZOFFSETTO:-0400
TZNAME:EDT
DTSTART:20250309T070000
END:DAYLIGHT
BEGIN:STANDARD
TZOFFSETFROM:-0400
TZOFFSETTO:-0500
TZNAME:EST
DTSTART:20251102T060000
END:STANDARD
TZID:America/Detroit
BEGIN:DAYLIGHT
TZOFFSETFROM:-0500
TZOFFSETTO:-0400
TZNAME:EDT
DTSTART:20250309T070000
END:DAYLIGHT
BEGIN:STANDARD
TZOFFSETFROM:-0400
TZOFFSETTO:-0500
TZNAME:EST
DTSTART:20251102T060000
END:STANDARD
END:VTIMEZONE
BEGIN:VEVENT
DTSTART;TZID=America/New_York:20251214T083000
DTEND;TZID=America/New_York:20251214T093000
DTSTAMP:20260424T020922
CREATED:20251022T191624Z
LAST-MODIFIED:20251022T191624Z
UID:10045371-1765701000-1765704600@downtowndayton.org
SUMMARY:Breakfast with Santa
DESCRIPTION:Join Santa and his Elves for a tasty buffet breakfast prepared by 2nd Street Market vendors. Watch for details on the Market’s Facebook page. So that more children in the community can attend\, we ask that no more than two adults per child attend. This is a registration only breakfast. Two seatings today\, one is from 8:30 to 9:30 and the other seating is from 10:00 until 11:00. $15.
URL:https://downtowndayton.org/event/breakfast-with-santa-2/2025-12-14/1/
LOCATION:2nd Street Market\, 600 E. Second St.\, Dayton\, OH\, 45402\, USA
ATTACH;FMTTYPE=image/jpeg:https://downtowndayton.org/wp-content/uploads/2023/08/2ndstmkt.jpg
END:VEVENT
BEGIN:VEVENT
DTSTART;TZID=America/New_York:20251214T110000
DTEND;TZID=America/New_York:20251214T130000
DTSTAMP:20260424T020922
CREATED:20251022T191830Z
LAST-MODIFIED:20251022T191830Z
UID:10045375-1765710000-1765717200@downtowndayton.org
SUMMARY:Santa Walks the Market
DESCRIPTION:Join us on December 14th & on December 21st\, a Sunday as Santa walks the Market and get ready to experience the magic of the season. Santa will be here to meet everyone as he walks the Market handing out candy canes.
URL:https://downtowndayton.org/event/santa-walks-the-market/2025-12-14/
LOCATION:2nd Street Market\, 600 E. Second St.\, Dayton\, OH\, 45402\, USA
ATTACH;FMTTYPE=image/jpeg:https://downtowndayton.org/wp-content/uploads/2023/08/2ndstmkt.jpg
END:VEVENT
BEGIN:VEVENT
DTSTART;TZID=America/New_York:20251214T133000
DTEND;TZID=America/New_York:20251214T133000
DTSTAMP:20260424T020922
CREATED:20251126T135716Z
LAST-MODIFIED:20251126T135716Z
UID:10053592-1765719000-1765719000@downtowndayton.org
SUMMARY:Dayton Celebration Chorus Christmas Story in Lessons and Carols
DESCRIPTION:The Dayton Celebration Chorus will present the Christmas Story through Christmas music with narration at St John’s Lutheran Church\, 141 S. Ludlow Street in Downtown Dayton. A reception with desserts will follow.
URL:https://downtowndayton.org/event/dayton-celebration-chorus-christmas-story-in-lessons-and-carols/
LOCATION:St. John’s Lutheran Church\, 141 S. Ludlow St.\, Dayton\, OH\, 45402
ATTACH;FMTTYPE=image/jpeg:https://downtowndayton.org/wp-content/uploads/2024/11/stjohn.jpg
END:VEVENT
BEGIN:VEVENT
DTSTART;TZID=America/New_York:20251214T180000
DTEND;TZID=America/New_York:20251214T210000
DTSTAMP:20260424T020922
CREATED:20251211T173707Z
LAST-MODIFIED:20251211T173707Z
UID:10053937-1765735200-1765746000@downtowndayton.org
SUMMARY:Christmas Vacation Movie Party – Dayton Dinner Theater
DESCRIPTION:Celebrate the Holidays with Music\, Meal\, Trivia\, and Dayton Dinner Theater’s famous interactive movie experience with the classic\, heartwarming\, and hilarious comedy Christmas Vacation. Delight in themed cuisine\, live music\, a film screening\, trivia\, and a costume party! Grab your attic granny hats\, trapper hat\, boots and a robe\, Chicago sports team\, and definitely time to break out your Dickie!
URL:https://downtowndayton.org/event/christmas-vacation-movie-party-dayton-dinner-theater/
LOCATION:The Brightside\, 905 E. Third St.\, Dayton\, OH\, 45402
ATTACH;FMTTYPE=image/jpeg:https://downtowndayton.org/wp-content/uploads/2025/12/chevy.jpg
END:VEVENT
BEGIN:VEVENT
DTSTART;TZID=America/Detroit:20251216T190000
DTEND;TZID=America/Detroit:20251216T190000
DTSTAMP:20260424T020922
CREATED:20250114T175514Z
LAST-MODIFIED:20250114T175514Z
UID:10051212-1765911600-1765911600@downtowndayton.org
SUMMARY:Trivia Tuesday
DESCRIPTION:Trivia Tuesdays are fun for everyone at The Dayton Beer Company! Get $3.50 DBC Pints every Tuesday with trivia starting at 7:00 p.m. Cheers!
URL:https://downtowndayton.org/event/trivia-tuesday-2025-04-01-2/
LOCATION:OH
ATTACH;FMTTYPE=image/jpeg:https://downtowndayton.org/wp-content/uploads/2025/01/dbc.jpg
END:VEVENT
BEGIN:VEVENT
DTSTART;TZID=America/Detroit:20251216T190000
DTEND;TZID=America/Detroit:20251216T190000
DTSTAMP:20260424T020923
CREATED:20250114T175514Z
LAST-MODIFIED:20250114T175514Z
UID:10050404-1765911600-1765911600@downtowndayton.org
SUMMARY:Trivia Tuesday
DESCRIPTION:Trivia Tuesdays are fun for everyone at The Dayton Beer Company! Get $3.50 DBC Pints every Tuesday with trivia starting at 7:00 p.m. Cheers!
URL:https://downtowndayton.org/event/trivia-tuesday-2025-07-22/
LOCATION:OH
ATTACH;FMTTYPE=image/jpeg:https://downtowndayton.org/wp-content/uploads/2025/01/dbc.jpg
END:VEVENT
BEGIN:VEVENT
DTSTART;TZID=America/Detroit:20251216T190000
DTEND;TZID=America/Detroit:20251216T190000
DTSTAMP:20260424T020923
CREATED:20250114T175514Z
LAST-MODIFIED:20250114T175514Z
UID:10052495-1765911600-1765911600@downtowndayton.org
SUMMARY:Trivia Tuesday
DESCRIPTION:Trivia Tuesdays are fun for everyone at The Dayton Beer Company! Get $3.50 DBC Pints every Tuesday with trivia starting at 7:00 p.m. Cheers!
URL:https://downtowndayton.org/event/trivia-tuesday-2025-05-27-3/
LOCATION:OH
ATTACH;FMTTYPE=image/jpeg:https://downtowndayton.org/wp-content/uploads/2025/01/dbc.jpg
END:VEVENT
BEGIN:VEVENT
DTSTART;TZID=America/Detroit:20251216T190000
DTEND;TZID=America/Detroit:20251216T190000
DTSTAMP:20260424T020923
CREATED:20250114T175514Z
LAST-MODIFIED:20250114T175514Z
UID:10050911-1765911600-1765911600@downtowndayton.org
SUMMARY:Trivia Tuesday
DESCRIPTION:Trivia Tuesdays are fun for everyone at The Dayton Beer Company! Get $3.50 DBC Pints every Tuesday with trivia starting at 7:00 p.m. Cheers!
URL:https://downtowndayton.org/event/trivia-tuesday-2025-02-11-2/
LOCATION:OH
ATTACH;FMTTYPE=image/jpeg:https://downtowndayton.org/wp-content/uploads/2025/01/dbc.jpg
END:VEVENT
BEGIN:VEVENT
DTSTART;TZID=America/Detroit:20251216T190000
DTEND;TZID=America/Detroit:20251216T190000
DTSTAMP:20260424T020923
CREATED:20250114T175514Z
LAST-MODIFIED:20250114T175514Z
UID:10050215-1765911600-1765911600@downtowndayton.org
SUMMARY:Trivia Tuesday
DESCRIPTION:Trivia Tuesdays are fun for everyone at The Dayton Beer Company! Get $3.50 DBC Pints every Tuesday with trivia starting at 7:00 p.m. Cheers!
URL:https://downtowndayton.org/event/trivia-tuesday-2025-06-03/
LOCATION:OH
ATTACH;FMTTYPE=image/jpeg:https://downtowndayton.org/wp-content/uploads/2025/01/dbc.jpg
END:VEVENT
BEGIN:VEVENT
DTSTART;TZID=America/Detroit:20251216T190000
DTEND;TZID=America/Detroit:20251216T190000
DTSTAMP:20260424T020923
CREATED:20250114T175514Z
LAST-MODIFIED:20250114T175514Z
UID:10052250-1765911600-1765911600@downtowndayton.org
SUMMARY:Trivia Tuesday
DESCRIPTION:Trivia Tuesdays are fun for everyone at The Dayton Beer Company! Get $3.50 DBC Pints every Tuesday with trivia starting at 7:00 p.m. Cheers!
URL:https://downtowndayton.org/event/trivia-tuesday-2025-04-08-3/
LOCATION:OH
ATTACH;FMTTYPE=image/jpeg:https://downtowndayton.org/wp-content/uploads/2025/01/dbc.jpg
END:VEVENT
BEGIN:VEVENT
DTSTART;TZID=America/Detroit:20251216T190000
DTEND;TZID=America/Detroit:20251216T190000
DTSTAMP:20260424T020923
CREATED:20250114T175514Z
LAST-MODIFIED:20250114T175514Z
UID:10049977-1765911600-1765911600@downtowndayton.org
SUMMARY:Trivia Tuesday
DESCRIPTION:Trivia Tuesdays are fun for everyone at The Dayton Beer Company! Get $3.50 DBC Pints every Tuesday with trivia starting at 7:00 p.m. Cheers!
URL:https://downtowndayton.org/event/trivia-tuesday-2025-04-15/
LOCATION:OH
ATTACH;FMTTYPE=image/jpeg:https://downtowndayton.org/wp-content/uploads/2025/01/dbc.jpg
END:VEVENT
BEGIN:VEVENT
DTSTART;TZID=America/Detroit:20251216T190000
DTEND;TZID=America/Detroit:20251216T190000
DTSTAMP:20260424T020923
CREATED:20250114T175514Z
LAST-MODIFIED:20250114T175514Z
UID:10051815-1765911600-1765911600@downtowndayton.org
SUMMARY:Trivia Tuesday
DESCRIPTION:Trivia Tuesdays are fun for everyone at The Dayton Beer Company! Get $3.50 DBC Pints every Tuesday with trivia starting at 7:00 p.m. Cheers!
URL:https://downtowndayton.org/event/trivia-tuesday-2025-01-28-3/
LOCATION:OH
ATTACH;FMTTYPE=image/jpeg:https://downtowndayton.org/wp-content/uploads/2025/01/dbc.jpg
END:VEVENT
BEGIN:VEVENT
DTSTART;TZID=America/Detroit:20251216T190000
DTEND;TZID=America/Detroit:20251216T190000
DTSTAMP:20260424T020923
CREATED:20250114T175514Z
LAST-MODIFIED:20250114T175514Z
UID:10049690-1765911600-1765911600@downtowndayton.org
SUMMARY:Trivia Tuesday
DESCRIPTION:Trivia Tuesdays are fun for everyone at The Dayton Beer Company! Get $3.50 DBC Pints every Tuesday with trivia starting at 7:00 p.m. Cheers!
URL:https://downtowndayton.org/event/trivia-tuesday-2025-02-25/
LOCATION:OH
ATTACH;FMTTYPE=image/jpeg:https://downtowndayton.org/wp-content/uploads/2025/01/dbc.jpg
END:VEVENT
BEGIN:VEVENT
DTSTART;TZID=America/Detroit:20251216T190000
DTEND;TZID=America/Detroit:20251216T190000
DTSTAMP:20260424T020923
CREATED:20250114T175514Z
LAST-MODIFIED:20250114T175514Z
UID:10051586-1765911600-1765911600@downtowndayton.org
SUMMARY:Trivia Tuesday
DESCRIPTION:Trivia Tuesdays are fun for everyone at The Dayton Beer Company! Get $3.50 DBC Pints every Tuesday with trivia starting at 7:00 p.m. Cheers!
URL:https://downtowndayton.org/event/trivia-tuesday-2025-06-17-2/
LOCATION:OH
ATTACH;FMTTYPE=image/jpeg:https://downtowndayton.org/wp-content/uploads/2025/01/dbc.jpg
END:VEVENT
BEGIN:VEVENT
DTSTART;TZID=America/Detroit:20251216T190000
DTEND;TZID=America/Detroit:20251216T190000
DTSTAMP:20260424T020923
CREATED:20250114T175514Z
LAST-MODIFIED:20250114T175514Z
UID:10050528-1765911600-1765911600@downtowndayton.org
SUMMARY:Trivia Tuesday
DESCRIPTION:Trivia Tuesdays are fun for everyone at The Dayton Beer Company! Get $3.50 DBC Pints every Tuesday with trivia starting at 7:00 p.m. Cheers!
URL:https://downtowndayton.org/event/trivia-tuesday-2025-09-02/
LOCATION:OH
ATTACH;FMTTYPE=image/jpeg:https://downtowndayton.org/wp-content/uploads/2025/01/dbc.jpg
END:VEVENT
BEGIN:VEVENT
DTSTART;TZID=America/Detroit:20251216T190000
DTEND;TZID=America/Detroit:20251216T190000
DTSTAMP:20260424T020923
CREATED:20250114T175514Z
LAST-MODIFIED:20250114T175514Z
UID:10050666-1765911600-1765911600@downtowndayton.org
SUMMARY:Trivia Tuesday
DESCRIPTION:Trivia Tuesdays are fun for everyone at The Dayton Beer Company! Get $3.50 DBC Pints every Tuesday with trivia starting at 7:00 p.m. Cheers!
URL:https://downtowndayton.org/event/trivia-tuesday-2025-11-25/
LOCATION:OH
ATTACH;FMTTYPE=image/jpeg:https://downtowndayton.org/wp-content/uploads/2025/01/dbc.jpg
END:VEVENT
BEGIN:VEVENT
DTSTART;TZID=America/Detroit:20251216T190000
DTEND;TZID=America/Detroit:20251216T190000
DTSTAMP:20260424T020923
CREATED:20250114T175514Z
LAST-MODIFIED:20250114T175514Z
UID:10052613-1765911600-1765911600@downtowndayton.org
SUMMARY:Trivia Tuesday
DESCRIPTION:Trivia Tuesdays are fun for everyone at The Dayton Beer Company! Get $3.50 DBC Pints every Tuesday with trivia starting at 7:00 p.m. Cheers!
URL:https://downtowndayton.org/event/trivia-tuesday-2025-06-24-3/
LOCATION:OH
ATTACH;FMTTYPE=image/jpeg:https://downtowndayton.org/wp-content/uploads/2025/01/dbc.jpg
END:VEVENT
BEGIN:VEVENT
DTSTART;TZID=America/Detroit:20251216T190000
DTEND;TZID=America/Detroit:20251216T190000
DTSTAMP:20260424T020923
CREATED:20250114T175514Z
LAST-MODIFIED:20250114T175514Z
UID:10051362-1765911600-1765911600@downtowndayton.org
SUMMARY:Trivia Tuesday
DESCRIPTION:Trivia Tuesdays are fun for everyone at The Dayton Beer Company! Get $3.50 DBC Pints every Tuesday with trivia starting at 7:00 p.m. Cheers!
URL:https://downtowndayton.org/event/trivia-tuesday-2025-04-29-2/
LOCATION:OH
ATTACH;FMTTYPE=image/jpeg:https://downtowndayton.org/wp-content/uploads/2025/01/dbc.jpg
END:VEVENT
BEGIN:VEVENT
DTSTART;TZID=America/Detroit:20251216T190000
DTEND;TZID=America/Detroit:20251216T190000
DTSTAMP:20260424T020923
CREATED:20250114T175514Z
LAST-MODIFIED:20250114T175514Z
UID:10050671-1765911600-1765911600@downtowndayton.org
SUMMARY:Trivia Tuesday
DESCRIPTION:Trivia Tuesdays are fun for everyone at The Dayton Beer Company! Get $3.50 DBC Pints every Tuesday with trivia starting at 7:00 p.m. Cheers!
URL:https://downtowndayton.org/event/trivia-tuesday-2025-12-02/
LOCATION:OH
ATTACH;FMTTYPE=image/jpeg:https://downtowndayton.org/wp-content/uploads/2025/01/dbc.jpg
END:VEVENT
BEGIN:VEVENT
DTSTART;TZID=America/Detroit:20251216T190000
DTEND;TZID=America/Detroit:20251216T190000
DTSTAMP:20260424T020923
CREATED:20250114T175514Z
LAST-MODIFIED:20250114T175514Z
UID:10051089-1765911600-1765911600@downtowndayton.org
SUMMARY:Trivia Tuesday
DESCRIPTION:Trivia Tuesdays are fun for everyone at The Dayton Beer Company! Get $3.50 DBC Pints every Tuesday with trivia starting at 7:00 p.m. Cheers!
URL:https://downtowndayton.org/event/trivia-tuesday-2025-03-11-2/
LOCATION:OH
ATTACH;FMTTYPE=image/jpeg:https://downtowndayton.org/wp-content/uploads/2025/01/dbc.jpg
END:VEVENT
BEGIN:VEVENT
DTSTART;TZID=America/Detroit:20251216T190000
DTEND;TZID=America/Detroit:20251216T190000
DTSTAMP:20260424T020923
CREATED:20250114T175514Z
LAST-MODIFIED:20250114T175514Z
UID:10050329-1765911600-1765911600@downtowndayton.org
SUMMARY:Trivia Tuesday
DESCRIPTION:Trivia Tuesdays are fun for everyone at The Dayton Beer Company! Get $3.50 DBC Pints every Tuesday with trivia starting at 7:00 p.m. Cheers!
URL:https://downtowndayton.org/event/trivia-tuesday-2025-07-01/
LOCATION:OH
ATTACH;FMTTYPE=image/jpeg:https://downtowndayton.org/wp-content/uploads/2025/01/dbc.jpg
END:VEVENT
BEGIN:VEVENT
DTSTART;TZID=America/Detroit:20251216T190000
DTEND;TZID=America/Detroit:20251216T190000
DTSTAMP:20260424T020923
CREATED:20250114T175514Z
LAST-MODIFIED:20250114T175514Z
UID:10052396-1765911600-1765911600@downtowndayton.org
SUMMARY:Trivia Tuesday
DESCRIPTION:Trivia Tuesdays are fun for everyone at The Dayton Beer Company! Get $3.50 DBC Pints every Tuesday with trivia starting at 7:00 p.m. Cheers!
URL:https://downtowndayton.org/event/trivia-tuesday-2025-05-06-3/
LOCATION:OH
ATTACH;FMTTYPE=image/jpeg:https://downtowndayton.org/wp-content/uploads/2025/01/dbc.jpg
END:VEVENT
BEGIN:VEVENT
DTSTART;TZID=America/Detroit:20251216T190000
DTEND;TZID=America/Detroit:20251216T190000
DTSTAMP:20260424T020923
CREATED:20250114T175514Z
LAST-MODIFIED:20250114T175514Z
UID:10050767-1765911600-1765911600@downtowndayton.org
SUMMARY:Trivia Tuesday
DESCRIPTION:Trivia Tuesdays are fun for everyone at The Dayton Beer Company! Get $3.50 DBC Pints every Tuesday with trivia starting at 7:00 p.m. Cheers!
URL:https://downtowndayton.org/event/trivia-tuesday-2025-01-21-2/
LOCATION:OH
ATTACH;FMTTYPE=image/jpeg:https://downtowndayton.org/wp-content/uploads/2025/01/dbc.jpg
END:VEVENT
BEGIN:VEVENT
DTSTART;TZID=America/Detroit:20251216T190000
DTEND;TZID=America/Detroit:20251216T190000
DTSTAMP:20260424T020923
CREATED:20250114T175514Z
LAST-MODIFIED:20250114T175514Z
UID:10050119-1765911600-1765911600@downtowndayton.org
SUMMARY:Trivia Tuesday
DESCRIPTION:Trivia Tuesdays are fun for everyone at The Dayton Beer Company! Get $3.50 DBC Pints every Tuesday with trivia starting at 7:00 p.m. Cheers!
URL:https://downtowndayton.org/event/trivia-tuesday-2025-05-13/
LOCATION:OH
ATTACH;FMTTYPE=image/jpeg:https://downtowndayton.org/wp-content/uploads/2025/01/dbc.jpg
END:VEVENT
BEGIN:VEVENT
DTSTART;TZID=America/Detroit:20251216T190000
DTEND;TZID=America/Detroit:20251216T190000
DTSTAMP:20260424T020923
CREATED:20250114T175514Z
LAST-MODIFIED:20250114T175514Z
UID:10052130-1765911600-1765911600@downtowndayton.org
SUMMARY:Trivia Tuesday
DESCRIPTION:Trivia Tuesdays are fun for everyone at The Dayton Beer Company! Get $3.50 DBC Pints every Tuesday with trivia starting at 7:00 p.m. Cheers!
URL:https://downtowndayton.org/event/trivia-tuesday-2025-03-18-3/
LOCATION:OH
ATTACH;FMTTYPE=image/jpeg:https://downtowndayton.org/wp-content/uploads/2025/01/dbc.jpg
END:VEVENT
BEGIN:VEVENT
DTSTART;TZID=America/Detroit:20251216T190000
DTEND;TZID=America/Detroit:20251216T190000
DTSTAMP:20260424T020923
CREATED:20250114T175514Z
LAST-MODIFIED:20250114T175514Z
UID:10049860-1765911600-1765911600@downtowndayton.org
SUMMARY:Trivia Tuesday
DESCRIPTION:Trivia Tuesdays are fun for everyone at The Dayton Beer Company! Get $3.50 DBC Pints every Tuesday with trivia starting at 7:00 p.m. Cheers!
URL:https://downtowndayton.org/event/trivia-tuesday-2025-03-25/
LOCATION:OH
ATTACH;FMTTYPE=image/jpeg:https://downtowndayton.org/wp-content/uploads/2025/01/dbc.jpg
END:VEVENT
BEGIN:VEVENT
DTSTART;TZID=America/Detroit:20251216T190000
DTEND;TZID=America/Detroit:20251216T190000
DTSTAMP:20260424T020923
CREATED:20250114T175514Z
LAST-MODIFIED:20250114T175514Z
UID:10051692-1765911600-1765911600@downtowndayton.org
SUMMARY:Trivia Tuesday
DESCRIPTION:Trivia Tuesdays are fun for everyone at The Dayton Beer Company! Get $3.50 DBC Pints every Tuesday with trivia starting at 7:00 p.m. Cheers!
URL:https://downtowndayton.org/event/trivia-tuesday-2025-07-15-2/
LOCATION:OH
ATTACH;FMTTYPE=image/jpeg:https://downtowndayton.org/wp-content/uploads/2025/01/dbc.jpg
END:VEVENT
BEGIN:VEVENT
DTSTART;TZID=America/Detroit:20251216T190000
DTEND;TZID=America/Detroit:20251216T190000
DTSTAMP:20260424T020923
CREATED:20250114T175514Z
LAST-MODIFIED:20250114T175514Z
UID:10050590-1765911600-1765911600@downtowndayton.org
SUMMARY:Trivia Tuesday
DESCRIPTION:Trivia Tuesdays are fun for everyone at The Dayton Beer Company! Get $3.50 DBC Pints every Tuesday with trivia starting at 7:00 p.m. Cheers!
URL:https://downtowndayton.org/event/trivia-tuesday-2025-09-30/
LOCATION:OH
ATTACH;FMTTYPE=image/jpeg:https://downtowndayton.org/wp-content/uploads/2025/01/dbc.jpg
END:VEVENT
BEGIN:VEVENT
DTSTART;TZID=America/Detroit:20251216T190000
DTEND;TZID=America/Detroit:20251216T190000
DTSTAMP:20260424T020923
CREATED:20250114T175514Z
LAST-MODIFIED:20250114T175514Z
UID:10052715-1765911600-1765911600@downtowndayton.org
SUMMARY:Trivia Tuesday
DESCRIPTION:Trivia Tuesdays are fun for everyone at The Dayton Beer Company! Get $3.50 DBC Pints every Tuesday with trivia starting at 7:00 p.m. Cheers!
URL:https://downtowndayton.org/event/trivia-tuesday-2025-07-22-3/
LOCATION:OH
ATTACH;FMTTYPE=image/jpeg:https://downtowndayton.org/wp-content/uploads/2025/01/dbc.jpg
END:VEVENT
BEGIN:VEVENT
DTSTART;TZID=America/Detroit:20251216T190000
DTEND;TZID=America/Detroit:20251216T190000
DTSTAMP:20260424T020923
CREATED:20250114T175514Z
LAST-MODIFIED:20250114T175514Z
UID:10049552-1765911600-1765911600@downtowndayton.org
SUMMARY:Trivia Tuesday
DESCRIPTION:Trivia Tuesdays are fun for everyone at The Dayton Beer Company! Get $3.50 DBC Pints every Tuesday with trivia starting at 7:00 p.m. Cheers!
URL:https://downtowndayton.org/event/trivia-tuesday-2025-02-04/
LOCATION:OH
ATTACH;FMTTYPE=image/jpeg:https://downtowndayton.org/wp-content/uploads/2025/01/dbc.jpg
END:VEVENT
END:VCALENDAR