BEGIN:VCALENDAR
VERSION:2.0
PRODID:-//Downtown Dayton Partnership - ECPv6.8.1//NONSGML v1.0//EN
CALSCALE:GREGORIAN
METHOD:PUBLISH
X-WR-CALNAME:Downtown Dayton Partnership
X-ORIGINAL-URL:https://downtowndayton.org
X-WR-CALDESC:Events for Downtown Dayton Partnership
REFRESH-INTERVAL;VALUE=DURATION:PT1H
X-Robots-Tag:noindex
X-PUBLISHED-TTL:PT1H
BEGIN:VTIMEZONE
TZID:America/New_York
BEGIN:DAYLIGHT
TZOFFSETFROM:-0500
TZOFFSETTO:-0400
TZNAME:EDT
DTSTART:20250309T070000
END:DAYLIGHT
BEGIN:STANDARD
TZOFFSETFROM:-0400
TZOFFSETTO:-0500
TZNAME:EST
DTSTART:20251102T060000
END:STANDARD
TZID:America/Detroit
BEGIN:DAYLIGHT
TZOFFSETFROM:-0500
TZOFFSETTO:-0400
TZNAME:EDT
DTSTART:20250309T070000
END:DAYLIGHT
BEGIN:STANDARD
TZOFFSETFROM:-0400
TZOFFSETTO:-0500
TZNAME:EST
DTSTART:20251102T060000
END:STANDARD
END:VTIMEZONE
BEGIN:VEVENT
DTSTART;TZID=America/New_York:20251123T110000
DTEND;TZID=America/New_York:20251123T150000
DTSTAMP:20260420T171524
CREATED:20251113T193150Z
LAST-MODIFIED:20251113T193150Z
UID:10049382-1763895600-1763910000@downtowndayton.org
SUMMARY:Global Artisan Market
DESCRIPTION:Global Artisan Market\n11:00am – 3:00pm \nAGE: All ages | FREE\nThe Market has partnered with Welcome Dayton and other partner agencies in inviting nine special guest artisans who recently arrived in this country from Argentina\, Bahamas\, Columbia\, Ghana\, India\, Iran\, Sudan and Ukraine to share their cultures with the Market community. Join us for music\, culture sharing and artisan wares.
URL:https://downtowndayton.org/event/global-artisan-market/
LOCATION:2nd Street Market\, 600 E. Second St.\, Dayton\, OH\, 45402\, USA
ATTACH;FMTTYPE=image/jpeg:https://downtowndayton.org/wp-content/uploads/2023/08/2ndstmkt.jpg
END:VEVENT
BEGIN:VEVENT
DTSTART;TZID=America/New_York:20251123T150000
DTEND;TZID=America/New_York:20251123T180000
DTSTAMP:20260420T171524
CREATED:20251114T144820Z
LAST-MODIFIED:20251114T144820Z
UID:10050407-1763910000-1763920800@downtowndayton.org
SUMMARY:Launch Party: From Dayton\, With Love: A Collection of Treasured Sweets\, Past & Present
DESCRIPTION:Celebrate the launch of a brand new cookbook! Join the community launch party with the Dayton Cookbook Club on Nov. 23\, 3–6pm at Sueño. \nFrom Dayton\, With Love: A Collection of Treasured Sweets\, Past & Present.\nA new 100-page cookbook by Dayton baker & writer Megan Smith celebrates the city’s sweetest history — from the flour mills that once lined downtown streets to the home bakers carrying on those traditions today. Featuring recipes and stories from Dayton residents past and present\, From Dayton\, With Love is both a love letter and a time capsule of our community’s kitchens. \nAvailable late November at select Dayton shops and online at daytoncookbook.com.
URL:https://downtowndayton.org/event/launch-party-from-dayton-with-love-a-collection-of-treasured-sweets-past-present/
LOCATION:Sueno\, 607 E. Third St.\, Dayton\, OH\, 45402
CATEGORIES:Author Visits,Book Discussions,Community,Food & Drink,Free Events
ATTACH;FMTTYPE=image/jpeg:https://downtowndayton.org/wp-content/uploads/2025/11/From-Dayton-With-Love-002.jpg
END:VEVENT
BEGIN:VEVENT
DTSTART;TZID=America/New_York:20251123T160000
DTEND;TZID=America/New_York:20251123T160000
DTSTAMP:20260420T171524
CREATED:20251113T183653Z
LAST-MODIFIED:20251113T183653Z
UID:10049310-1763913600-1763913600@downtowndayton.org
SUMMARY:First Baptist Sings
DESCRIPTION:The historic First Baptist Church of Dayton located at 111 West Monument Avenue will present First Baptist Sings\, Sunday\, November 23\, 2025 at 4 p.m.   The concert which is free and open to the public will feature the Chancel Choir under the direction of Dr. William Henry Caldwell accompanied by Alan Kimbrough and Gregory Land. The program will feature sacred works of all periods and styles along with Five Mystical Songs by Ralph Vaughn Williams\, featuring baritone Guy Chambers\, a member of the Wright State University faculty.  The church is handicapped accessible and parking is available in the parking lot next to the church. A reception\, open to all\, will follow the performance immediately in the church’s Fellowship Hall.
URL:https://downtowndayton.org/event/first-baptist-sings-2/
LOCATION:First Baptist Church\, 111 Monument Ave\, Dayton\, OH\, 45402
ATTACH;FMTTYPE=image/jpeg:https://downtowndayton.org/wp-content/uploads/2025/11/475842611_1061565256003091_5578717155375712628_n.jpg
END:VEVENT
BEGIN:VEVENT
DTSTART;TZID=America/New_York:20251123T180000
DTEND;TZID=America/New_York:20251123T210000
DTSTAMP:20260420T171524
CREATED:20251021T120955Z
LAST-MODIFIED:20251021T120955Z
UID:10045094-1763920800-1763931600@downtowndayton.org
SUMMARY:The Breakfast Club Movie Party – Dayton Dinner Theater
DESCRIPTION:The Breakfast Club 40th Anniversary Party – Come serve a “Sunday” trapped with fellow 80’s fans reliving their glory days. Enjoy this cult classic film and a specialty breakfast served by the famous Blueberry Cafe! Dress up as your favorite character\, enjoy some music before the show\, and join in on the trivia too! HOW TO GO? Nov 23\, 2025\, 6:00 PM – 9:00 PM Dayton\, 905 E 3rd St\, Dayton\, OH 45402 Doors open at 5:45 – Food and live music is available from 6-7 pm – Movie starts at 7 pm- A short intermission for dessert and trivia will start at 8 pm – Movie ends around 9:15 pm. Tickets $36 – available at https://www.daytondinnertheater.com/events/the-breakfast-club-movie-party Table reservations only for parties of 6 or more\, otherwise we have open seating For table reservations or other questions\, please email Daytondinnertheater@gmail.com Alcoholic drinks available for purchase
URL:https://downtowndayton.org/event/the-breakfast-club-movie-party-dayton-dinner-theater/
LOCATION:The Brightside\, 905 E. Third St.\, Dayton\, OH\, 45402
ATTACH;FMTTYPE=image/png:https://downtowndayton.org/wp-content/uploads/2025/10/1.png
END:VEVENT
BEGIN:VEVENT
DTSTART;TZID=America/New_York:20251125T080000
DTEND;TZID=America/New_York:20251125T170000
DTSTAMP:20260420T171524
CREATED:20251125T210037Z
LAST-MODIFIED:20251125T210037Z
UID:10052721-1764057600-1764090000@downtowndayton.org
SUMMARY:Extraordinary Night of Fashion Christmas Fashion Show
DESCRIPTION:Tis the Season for Fashion & Collaborations! Are you ready for a show?! \nIt is time for the Extraordinary Night of Fashion Christmas Fashion Show! \nMintha owner of Mintha’s Boutique and Lady Linda owner of Secret Beauty Hats have something in store for you! \nThis Dynamic Duo have collaborated and will be presenting an unforgettable fashion show and we want you there! \n  \nPlease Come Out and Join Us at the… \n  \nExtraordinary Night of Fashion Christmas Fashion Show! \nDecember 14\, 2025 4:00pm-7:00pm \n33 East Fifth Street Dayton\, Ohio 45402 (Formerly the Crowne Plaza) \nThere will be an after party! \nDress to Impress and strut your stuff this is a formal / semi formal event! \n  \nYou do not want to miss this fashion show! There is a lot in store for you! \n  \n2 Outstanding Hosts! \n1 Phenomenal DJ! \nTop Notch Models! \nStylish Fashion! \nBar / Food / Prizes / Vendors / Live Music / After Party \n  \nGo to eventbrite and get your early bird tickets NOW! \n  \nEventbrite is where you go to get your tickets! Eventbrite is where you go to get your tickets! \nPlease hit the link – https://ExtraordinaryChristmasFashionShow.eventbrite.com
URL:https://downtowndayton.org/event/extraordinary-night-of-fashion-christmas-fashion-show/
LOCATION:Dayton Vitality Hotel\, 33 E. Fifth St.\, Dayton\, OH\, 45402\, United States
CATEGORIES:Community,Fashion/beauty,Food & Drink,Holiday,Holidays,Live Music
ATTACH;FMTTYPE=image/jpeg:https://downtowndayton.org/wp-content/uploads/2025/11/Extraordinary-Night-of-Fashio.jpg
END:VEVENT
BEGIN:VEVENT
DTSTART;TZID=America/New_York:20251125T183000
DTEND;TZID=America/New_York:20251125T210000
DTSTAMP:20260420T171524
CREATED:20251120T210521Z
LAST-MODIFIED:20251120T210521Z
UID:10052718-1764095400-1764104400@downtowndayton.org
SUMMARY:Lore On Stage Storytelling Event
DESCRIPTION:Join us for a live storytelling showcase featuring the graduates of LORE’s November class as they share personal journeys of healing—whether physical\, emotional\, or spiritual—that will inspire\, move\, and connect us all. \nThis isn’t a lecture or fiction; it’s real people telling real stories\, live on stage. \nDoors open at 6:30 PM and stories begin at 7:00 PM on Tuesday\, November 25 at The LightHaus\, 510 E 5th Street in Dayton. \nTickets are $10—come ready to listen\, reflect\, and celebrate the courage it takes to heal and to share that journey. Reserve your seat today.
URL:https://downtowndayton.org/event/lore-on-stage-storytelling-event/
LOCATION:The LightHaus\, 510 E. Fifth St.\, Dayton\, OH\, 45402\, United States
CATEGORIES:Arts & Theater,Community,Performing Arts
ATTACH;FMTTYPE=image/png:https://downtowndayton.org/wp-content/uploads/2025/11/Kwaunisha-Graduation-Instagram-Post.png
END:VEVENT
BEGIN:VEVENT
DTSTART;TZID=America/Detroit:20251125T190000
DTEND;TZID=America/Detroit:20251125T190000
DTSTAMP:20260420T171524
CREATED:20250114T175514Z
LAST-MODIFIED:20250114T175514Z
UID:10052085-1764097200-1764097200@downtowndayton.org
SUMMARY:Trivia Tuesday
DESCRIPTION:Trivia Tuesdays are fun for everyone at The Dayton Beer Company! Get $3.50 DBC Pints every Tuesday with trivia starting at 7:00 p.m. Cheers!
URL:https://downtowndayton.org/event/trivia-tuesday-2025-03-11-3/
LOCATION:OH
ATTACH;FMTTYPE=image/jpeg:https://downtowndayton.org/wp-content/uploads/2025/01/dbc.jpg
END:VEVENT
BEGIN:VEVENT
DTSTART;TZID=America/Detroit:20251125T190000
DTEND;TZID=America/Detroit:20251125T190000
DTSTAMP:20260420T171524
CREATED:20250114T175514Z
LAST-MODIFIED:20250114T175514Z
UID:10050011-1764097200-1764097200@downtowndayton.org
SUMMARY:Trivia Tuesday
DESCRIPTION:Trivia Tuesdays are fun for everyone at The Dayton Beer Company! Get $3.50 DBC Pints every Tuesday with trivia starting at 7:00 p.m. Cheers!
URL:https://downtowndayton.org/event/trivia-tuesday-2025-04-22/
LOCATION:OH
ATTACH;FMTTYPE=image/jpeg:https://downtowndayton.org/wp-content/uploads/2025/01/dbc.jpg
END:VEVENT
BEGIN:VEVENT
DTSTART;TZID=America/Detroit:20251125T190000
DTEND;TZID=America/Detroit:20251125T190000
DTSTAMP:20260420T171524
CREATED:20250114T175514Z
LAST-MODIFIED:20250114T175514Z
UID:10051248-1764097200-1764097200@downtowndayton.org
SUMMARY:Trivia Tuesday
DESCRIPTION:Trivia Tuesdays are fun for everyone at The Dayton Beer Company! Get $3.50 DBC Pints every Tuesday with trivia starting at 7:00 p.m. Cheers!
URL:https://downtowndayton.org/event/trivia-tuesday-2025-04-08-2/
LOCATION:OH
ATTACH;FMTTYPE=image/jpeg:https://downtowndayton.org/wp-content/uploads/2025/01/dbc.jpg
END:VEVENT
BEGIN:VEVENT
DTSTART;TZID=America/Detroit:20251125T190000
DTEND;TZID=America/Detroit:20251125T190000
DTSTAMP:20260420T171524
CREATED:20250114T175514Z
LAST-MODIFIED:20250114T175514Z
UID:10050447-1764097200-1764097200@downtowndayton.org
SUMMARY:Trivia Tuesday
DESCRIPTION:Trivia Tuesdays are fun for everyone at The Dayton Beer Company! Get $3.50 DBC Pints every Tuesday with trivia starting at 7:00 p.m. Cheers!
URL:https://downtowndayton.org/event/trivia-tuesday-2025-08-05/
LOCATION:OH
ATTACH;FMTTYPE=image/jpeg:https://downtowndayton.org/wp-content/uploads/2025/01/dbc.jpg
END:VEVENT
BEGIN:VEVENT
DTSTART;TZID=America/Detroit:20251125T190000
DTEND;TZID=America/Detroit:20251125T190000
DTSTAMP:20260420T171524
CREATED:20250114T175514Z
LAST-MODIFIED:20250114T175514Z
UID:10050558-1764097200-1764097200@downtowndayton.org
SUMMARY:Trivia Tuesday
DESCRIPTION:Trivia Tuesdays are fun for everyone at The Dayton Beer Company! Get $3.50 DBC Pints every Tuesday with trivia starting at 7:00 p.m. Cheers!
URL:https://downtowndayton.org/event/trivia-tuesday-2025-09-16/
LOCATION:OH
ATTACH;FMTTYPE=image/jpeg:https://downtowndayton.org/wp-content/uploads/2025/01/dbc.jpg
END:VEVENT
BEGIN:VEVENT
DTSTART;TZID=America/Detroit:20251125T190000
DTEND;TZID=America/Detroit:20251125T190000
DTSTAMP:20260420T171524
CREATED:20250114T175514Z
LAST-MODIFIED:20250114T175514Z
UID:10051998-1764097200-1764097200@downtowndayton.org
SUMMARY:Trivia Tuesday
DESCRIPTION:Trivia Tuesdays are fun for everyone at The Dayton Beer Company! Get $3.50 DBC Pints every Tuesday with trivia starting at 7:00 p.m. Cheers!
URL:https://downtowndayton.org/event/trivia-tuesday-2025-02-25-3/
LOCATION:OH
ATTACH;FMTTYPE=image/jpeg:https://downtowndayton.org/wp-content/uploads/2025/01/dbc.jpg
END:VEVENT
BEGIN:VEVENT
DTSTART;TZID=America/Detroit:20251125T190000
DTEND;TZID=America/Detroit:20251125T190000
DTSTAMP:20260420T171524
CREATED:20250114T175514Z
LAST-MODIFIED:20250114T175514Z
UID:10050764-1764097200-1764097200@downtowndayton.org
SUMMARY:Trivia Tuesday
DESCRIPTION:Trivia Tuesdays are fun for everyone at The Dayton Beer Company! Get $3.50 DBC Pints every Tuesday with trivia starting at 7:00 p.m. Cheers!
URL:https://downtowndayton.org/event/trivia-tuesday-2025-01-21-2/
LOCATION:OH
ATTACH;FMTTYPE=image/jpeg:https://downtowndayton.org/wp-content/uploads/2025/01/dbc.jpg
END:VEVENT
BEGIN:VEVENT
DTSTART;TZID=America/Detroit:20251125T190000
DTEND;TZID=America/Detroit:20251125T190000
DTSTAMP:20260420T171524
CREATED:20250114T175514Z
LAST-MODIFIED:20250114T175514Z
UID:10049452-1764097200-1764097200@downtowndayton.org
SUMMARY:Trivia Tuesday
DESCRIPTION:Trivia Tuesdays are fun for everyone at The Dayton Beer Company! Get $3.50 DBC Pints every Tuesday with trivia starting at 7:00 p.m. Cheers!
URL:https://downtowndayton.org/event/trivia-tuesday-2025-01-21/
LOCATION:OH
ATTACH;FMTTYPE=image/jpeg:https://downtowndayton.org/wp-content/uploads/2025/01/dbc.jpg
END:VEVENT
BEGIN:VEVENT
DTSTART;TZID=America/Detroit:20251125T190000
DTEND;TZID=America/Detroit:20251125T190000
DTSTAMP:20260420T171524
CREATED:20250114T175514Z
LAST-MODIFIED:20250114T175514Z
UID:10052460-1764097200-1764097200@downtowndayton.org
SUMMARY:Trivia Tuesday
DESCRIPTION:Trivia Tuesdays are fun for everyone at The Dayton Beer Company! Get $3.50 DBC Pints every Tuesday with trivia starting at 7:00 p.m. Cheers!
URL:https://downtowndayton.org/event/trivia-tuesday-2025-05-20-3/
LOCATION:OH
ATTACH;FMTTYPE=image/jpeg:https://downtowndayton.org/wp-content/uploads/2025/01/dbc.jpg
END:VEVENT
BEGIN:VEVENT
DTSTART;TZID=America/Detroit:20251125T190000
DTEND;TZID=America/Detroit:20251125T190000
DTSTAMP:20260420T171524
CREATED:20250114T175514Z
LAST-MODIFIED:20250114T175514Z
UID:10050326-1764097200-1764097200@downtowndayton.org
SUMMARY:Trivia Tuesday
DESCRIPTION:Trivia Tuesdays are fun for everyone at The Dayton Beer Company! Get $3.50 DBC Pints every Tuesday with trivia starting at 7:00 p.m. Cheers!
URL:https://downtowndayton.org/event/trivia-tuesday-2025-07-01/
LOCATION:OH
ATTACH;FMTTYPE=image/jpeg:https://downtowndayton.org/wp-content/uploads/2025/01/dbc.jpg
END:VEVENT
BEGIN:VEVENT
DTSTART;TZID=America/Detroit:20251125T190000
DTEND;TZID=America/Detroit:20251125T190000
DTSTAMP:20260420T171524
CREATED:20250114T175514Z
LAST-MODIFIED:20250114T175514Z
UID:10051583-1764097200-1764097200@downtowndayton.org
SUMMARY:Trivia Tuesday
DESCRIPTION:Trivia Tuesdays are fun for everyone at The Dayton Beer Company! Get $3.50 DBC Pints every Tuesday with trivia starting at 7:00 p.m. Cheers!
URL:https://downtowndayton.org/event/trivia-tuesday-2025-06-17-2/
LOCATION:OH
ATTACH;FMTTYPE=image/jpeg:https://downtowndayton.org/wp-content/uploads/2025/01/dbc.jpg
END:VEVENT
BEGIN:VEVENT
DTSTART;TZID=America/Detroit:20251125T190000
DTEND;TZID=America/Detroit:20251125T190000
DTSTAMP:20260420T171524
CREATED:20250114T175514Z
LAST-MODIFIED:20250114T175514Z
UID:10050600-1764097200-1764097200@downtowndayton.org
SUMMARY:Trivia Tuesday
DESCRIPTION:Trivia Tuesdays are fun for everyone at The Dayton Beer Company! Get $3.50 DBC Pints every Tuesday with trivia starting at 7:00 p.m. Cheers!
URL:https://downtowndayton.org/event/trivia-tuesday-2025-10-07/
LOCATION:OH
ATTACH;FMTTYPE=image/jpeg:https://downtowndayton.org/wp-content/uploads/2025/01/dbc.jpg
END:VEVENT
BEGIN:VEVENT
DTSTART;TZID=America/Detroit:20251125T190000
DTEND;TZID=America/Detroit:20251125T190000
DTSTAMP:20260420T171524
CREATED:20250114T175514Z
LAST-MODIFIED:20250114T175514Z
UID:10052042-1764097200-1764097200@downtowndayton.org
SUMMARY:Trivia Tuesday
DESCRIPTION:Trivia Tuesdays are fun for everyone at The Dayton Beer Company! Get $3.50 DBC Pints every Tuesday with trivia starting at 7:00 p.m. Cheers!
URL:https://downtowndayton.org/event/trivia-tuesday-2025-03-04-3/
LOCATION:OH
ATTACH;FMTTYPE=image/jpeg:https://downtowndayton.org/wp-content/uploads/2025/01/dbc.jpg
END:VEVENT
BEGIN:VEVENT
DTSTART;TZID=America/Detroit:20251125T190000
DTEND;TZID=America/Detroit:20251125T190000
DTSTAMP:20260420T171524
CREATED:20250114T175514Z
LAST-MODIFIED:20250114T175514Z
UID:10049974-1764097200-1764097200@downtowndayton.org
SUMMARY:Trivia Tuesday
DESCRIPTION:Trivia Tuesdays are fun for everyone at The Dayton Beer Company! Get $3.50 DBC Pints every Tuesday with trivia starting at 7:00 p.m. Cheers!
URL:https://downtowndayton.org/event/trivia-tuesday-2025-04-15/
LOCATION:OH
ATTACH;FMTTYPE=image/jpeg:https://downtowndayton.org/wp-content/uploads/2025/01/dbc.jpg
END:VEVENT
BEGIN:VEVENT
DTSTART;TZID=America/Detroit:20251125T190000
DTEND;TZID=America/Detroit:20251125T190000
DTSTAMP:20260420T171524
CREATED:20250114T175514Z
LAST-MODIFIED:20250114T175514Z
UID:10051209-1764097200-1764097200@downtowndayton.org
SUMMARY:Trivia Tuesday
DESCRIPTION:Trivia Tuesdays are fun for everyone at The Dayton Beer Company! Get $3.50 DBC Pints every Tuesday with trivia starting at 7:00 p.m. Cheers!
URL:https://downtowndayton.org/event/trivia-tuesday-2025-04-01-2/
LOCATION:OH
ATTACH;FMTTYPE=image/jpeg:https://downtowndayton.org/wp-content/uploads/2025/01/dbc.jpg
END:VEVENT
BEGIN:VEVENT
DTSTART;TZID=America/Detroit:20251125T190000
DTEND;TZID=America/Detroit:20251125T190000
DTSTAMP:20260420T171524
CREATED:20250114T175514Z
LAST-MODIFIED:20250114T175514Z
UID:10050425-1764097200-1764097200@downtowndayton.org
SUMMARY:Trivia Tuesday
DESCRIPTION:Trivia Tuesdays are fun for everyone at The Dayton Beer Company! Get $3.50 DBC Pints every Tuesday with trivia starting at 7:00 p.m. Cheers!
URL:https://downtowndayton.org/event/trivia-tuesday-2025-07-29/
LOCATION:OH
ATTACH;FMTTYPE=image/jpeg:https://downtowndayton.org/wp-content/uploads/2025/01/dbc.jpg
END:VEVENT
BEGIN:VEVENT
DTSTART;TZID=America/Detroit:20251125T190000
DTEND;TZID=America/Detroit:20251125T190000
DTSTAMP:20260420T171524
CREATED:20250114T175514Z
LAST-MODIFIED:20250114T175514Z
UID:10050573-1764097200-1764097200@downtowndayton.org
SUMMARY:Trivia Tuesday
DESCRIPTION:Trivia Tuesdays are fun for everyone at The Dayton Beer Company! Get $3.50 DBC Pints every Tuesday with trivia starting at 7:00 p.m. Cheers!
URL:https://downtowndayton.org/event/trivia-tuesday-2025-09-23/
LOCATION:OH
ATTACH;FMTTYPE=image/jpeg:https://downtowndayton.org/wp-content/uploads/2025/01/dbc.jpg
END:VEVENT
BEGIN:VEVENT
DTSTART;TZID=America/Detroit:20251125T190000
DTEND;TZID=America/Detroit:20251125T190000
DTSTAMP:20260420T171524
CREATED:20250114T175514Z
LAST-MODIFIED:20250114T175514Z
UID:10051953-1764097200-1764097200@downtowndayton.org
SUMMARY:Trivia Tuesday
DESCRIPTION:Trivia Tuesdays are fun for everyone at The Dayton Beer Company! Get $3.50 DBC Pints every Tuesday with trivia starting at 7:00 p.m. Cheers!
URL:https://downtowndayton.org/event/trivia-tuesday-2025-02-18-3/
LOCATION:OH
ATTACH;FMTTYPE=image/jpeg:https://downtowndayton.org/wp-content/uploads/2025/01/dbc.jpg
END:VEVENT
BEGIN:VEVENT
DTSTART;TZID=America/Detroit:20251125T190000
DTEND;TZID=America/Detroit:20251125T190000
DTSTAMP:20260420T171524
CREATED:20250114T175514Z
LAST-MODIFIED:20250114T175514Z
UID:10050642-1764097200-1764097200@downtowndayton.org
SUMMARY:Trivia Tuesday
DESCRIPTION:Trivia Tuesdays are fun for everyone at The Dayton Beer Company! Get $3.50 DBC Pints every Tuesday with trivia starting at 7:00 p.m. Cheers!
URL:https://downtowndayton.org/event/trivia-tuesday-2025-11-04/
LOCATION:OH
ATTACH;FMTTYPE=image/jpeg:https://downtowndayton.org/wp-content/uploads/2025/01/dbc.jpg
END:VEVENT
BEGIN:VEVENT
DTSTART;TZID=America/Detroit:20251125T190000
DTEND;TZID=America/Detroit:20251125T190000
DTSTAMP:20260420T171524
CREATED:20250114T175514Z
LAST-MODIFIED:20250114T175514Z
UID:10052427-1764097200-1764097200@downtowndayton.org
SUMMARY:Trivia Tuesday
DESCRIPTION:Trivia Tuesdays are fun for everyone at The Dayton Beer Company! Get $3.50 DBC Pints every Tuesday with trivia starting at 7:00 p.m. Cheers!
URL:https://downtowndayton.org/event/trivia-tuesday-2025-05-13-3/
LOCATION:OH
ATTACH;FMTTYPE=image/jpeg:https://downtowndayton.org/wp-content/uploads/2025/01/dbc.jpg
END:VEVENT
BEGIN:VEVENT
DTSTART;TZID=America/Detroit:20251125T190000
DTEND;TZID=America/Detroit:20251125T190000
DTSTAMP:20260420T171524
CREATED:20250114T175514Z
LAST-MODIFIED:20250114T175514Z
UID:10050299-1764097200-1764097200@downtowndayton.org
SUMMARY:Trivia Tuesday
DESCRIPTION:Trivia Tuesdays are fun for everyone at The Dayton Beer Company! Get $3.50 DBC Pints every Tuesday with trivia starting at 7:00 p.m. Cheers!
URL:https://downtowndayton.org/event/trivia-tuesday-2025-06-24/
LOCATION:OH
ATTACH;FMTTYPE=image/jpeg:https://downtowndayton.org/wp-content/uploads/2025/01/dbc.jpg
END:VEVENT
BEGIN:VEVENT
DTSTART;TZID=America/Detroit:20251125T190000
DTEND;TZID=America/Detroit:20251125T190000
DTSTAMP:20260420T171524
CREATED:20250114T175514Z
LAST-MODIFIED:20250114T175514Z
UID:10051554-1764097200-1764097200@downtowndayton.org
SUMMARY:Trivia Tuesday
DESCRIPTION:Trivia Tuesdays are fun for everyone at The Dayton Beer Company! Get $3.50 DBC Pints every Tuesday with trivia starting at 7:00 p.m. Cheers!
URL:https://downtowndayton.org/event/trivia-tuesday-2025-06-10-2/
LOCATION:OH
ATTACH;FMTTYPE=image/jpeg:https://downtowndayton.org/wp-content/uploads/2025/01/dbc.jpg
END:VEVENT
BEGIN:VEVENT
DTSTART;TZID=America/Detroit:20251125T190000
DTEND;TZID=America/Detroit:20251125T190000
DTSTAMP:20260420T171524
CREATED:20250114T175514Z
LAST-MODIFIED:20250114T175514Z
UID:10049936-1764097200-1764097200@downtowndayton.org
SUMMARY:Trivia Tuesday
DESCRIPTION:Trivia Tuesdays are fun for everyone at The Dayton Beer Company! Get $3.50 DBC Pints every Tuesday with trivia starting at 7:00 p.m. Cheers!
URL:https://downtowndayton.org/event/trivia-tuesday-2025-04-08/
LOCATION:OH
ATTACH;FMTTYPE=image/jpeg:https://downtowndayton.org/wp-content/uploads/2025/01/dbc.jpg
END:VEVENT
BEGIN:VEVENT
DTSTART;TZID=America/Detroit:20251125T190000
DTEND;TZID=America/Detroit:20251125T190000
DTSTAMP:20260420T171524
CREATED:20250114T175514Z
LAST-MODIFIED:20250114T175514Z
UID:10051169-1764097200-1764097200@downtowndayton.org
SUMMARY:Trivia Tuesday
DESCRIPTION:Trivia Tuesdays are fun for everyone at The Dayton Beer Company! Get $3.50 DBC Pints every Tuesday with trivia starting at 7:00 p.m. Cheers!
URL:https://downtowndayton.org/event/trivia-tuesday-2025-03-25-2/
LOCATION:OH
ATTACH;FMTTYPE=image/jpeg:https://downtowndayton.org/wp-content/uploads/2025/01/dbc.jpg
END:VEVENT
END:VCALENDAR