BEGIN:VCALENDAR
VERSION:2.0
PRODID:-//Downtown Dayton Partnership - ECPv6.8.1//NONSGML v1.0//EN
CALSCALE:GREGORIAN
METHOD:PUBLISH
X-WR-CALNAME:Downtown Dayton Partnership
X-ORIGINAL-URL:https://downtowndayton.org
X-WR-CALDESC:Events for Downtown Dayton Partnership
REFRESH-INTERVAL;VALUE=DURATION:PT1H
X-Robots-Tag:noindex
X-PUBLISHED-TTL:PT1H
BEGIN:VTIMEZONE
TZID:America/New_York
BEGIN:DAYLIGHT
TZOFFSETFROM:-0500
TZOFFSETTO:-0400
TZNAME:EDT
DTSTART:20250309T070000
END:DAYLIGHT
BEGIN:STANDARD
TZOFFSETFROM:-0400
TZOFFSETTO:-0500
TZNAME:EST
DTSTART:20251102T060000
END:STANDARD
TZID:America/Detroit
BEGIN:DAYLIGHT
TZOFFSETFROM:-0500
TZOFFSETTO:-0400
TZNAME:EDT
DTSTART:20250309T070000
END:DAYLIGHT
BEGIN:STANDARD
TZOFFSETFROM:-0400
TZOFFSETTO:-0500
TZNAME:EST
DTSTART:20251102T060000
END:STANDARD
END:VTIMEZONE
BEGIN:VEVENT
DTSTART;TZID=America/New_York:20251214T140000
DTEND;TZID=America/New_York:20251214T140000
DTSTAMP:20260423T112545
CREATED:20250311T121542Z
LAST-MODIFIED:20250311T121542Z
UID:10030960-1765720800-1765720800@downtowndayton.org
SUMMARY:Skinner Pipe Organ Concert
DESCRIPTION:Hear the museum’s restored Skinner pipe organ and see the beautifully renovated Mimi and Stuart Rose Auditorium. Matt Dierking from the Dayton Chapter of the American Guild of Organists will perform at 2 p.m. Free to members; included in museum general admission for non-members.
URL:https://downtowndayton.org/event/skinner-pipe-organ-concert/2025-12-14/
LOCATION:The Dayton Art Institute\, 456 Belmonte Park N\, Dayton\, OH\, 45405\, United States
ATTACH;FMTTYPE=image/jpeg:https://downtowndayton.org/wp-content/uploads/2025/03/skinner.jpg
END:VEVENT
BEGIN:VEVENT
DTSTART;TZID=America/New_York:20251214T140000
DTEND;TZID=America/New_York:20251214T140000
DTSTAMP:20260423T112545
CREATED:20251204T132454Z
LAST-MODIFIED:20251204T132454Z
UID:10053859-1765720800-1765720800@downtowndayton.org
SUMMARY:Seasonal Shorts
DESCRIPTION:DECEMBER 10 – 21\, 2025\nSeasonal Shorts\nPlaywrights: Kelsey Celek\, Chris Leyva\, Marley Masterson\, Aleah Vassell\, Torie Wiggins\, Robb Willoughby\nDirector: Heather Wilson-Bowlby\nSix short plays celebrating seasonal memories\, moments and silliness—for adults only! Featuring all the ups and downs of winter\, our local playwrights’ original plays will have your sides splitting and leaving the theatre in a festive mood. \nRecommended if you liked… Who’s Holiday\, Reindeer Sessions\, A Frosty Night
URL:https://downtowndayton.org/event/seasonal-shorts/2025-12-14/1/
LOCATION:The Human Race Theatre Company\, 126 N. Main St.\, Dayton\, OH\, 45402
ATTACH;FMTTYPE=image/jpeg:https://downtowndayton.org/wp-content/uploads/2025/12/shorts.jpg
END:VEVENT
BEGIN:VEVENT
DTSTART;TZID=America/New_York:20251214T140000
DTEND;TZID=America/New_York:20251214T150000
DTSTAMP:20260423T112545
CREATED:20250730T200412Z
LAST-MODIFIED:20250730T200412Z
UID:10039076-1765720800-1765724400@downtowndayton.org
SUMMARY:Skinner Pipe Organ Concert
DESCRIPTION:Hear the museum’s restored Skinner pipe organ and see the beautifully renovated Mimi and Stuart Rose Auditorium. Matt Dierking from the Dayton Chapter of the American Guild of Organists performs on the 1st & 3rd Sunday of each month at 2 p.m. (unless otherwise noted.) *All performances are an hour unless otherwise noted*
URL:https://downtowndayton.org/event/skinner-pipe-organ-concert-5/2025-12-14/
LOCATION:The Dayton Art Institute\, 456 Belmonte Park N\, Dayton\, OH\, 45405\, United States
ATTACH;FMTTYPE=image/jpeg:https://downtowndayton.org/wp-content/uploads/2025/07/skinnerspook.jpg
END:VEVENT
BEGIN:VEVENT
DTSTART;TZID=America/New_York:20251214T140000
DTEND;TZID=America/New_York:20251214T160000
DTSTAMP:20260423T112545
CREATED:20251117T185031Z
LAST-MODIFIED:20251117T185031Z
UID:10050712-1765720800-1765728000@downtowndayton.org
SUMMARY:Sinclair Theatre presents ‘Twas: A Holiday Musical
DESCRIPTION:Sinclair Theatre is proud to present ‘Twas: A Holiday Musical\, live on stage for ONE WEEKEND ONLY\, December 11-14\, in Sinclair’s Blair Hall Theatre\, Building 2\, on Sinclair’s downtown Dayton campus. \nTickets are $10 and are available online at  www.sinclair.edu/tickets. Groups of 20 or more ordering online save all ticketing fees. \nEvery performance will be interpreted by American Sign Language (ASL) shadow performers. \nWhen the family pets are left alone on Christmas Eve\, they are visited by the neighborhood animals who teach them that humans celebrate winter holidays in different ways. They learn about Hanukkah\, Kwanzaa and La Posada and discover that while humans have different traditions\, ultimately all celebrations are about love and togetherness. \n“This production is the result of a lovely collaboration between Sinclair’s Theatre department and Interpreter Education department\,” says director Kelsey Celek. “In the same way the play’s characters share their traditions and cultures\, these departments are sharing their skills and resources. The result will be a true celebration of community\, both on stage and off.” \nThe cast consists of Ryan Ford\, Ryan Hester\, William Finnell\, Cormari Pullings\, Jhoana Novelo\, Adalia Gaynier\, Tiffany Higgins\, Zella Younce\, Lucas Caldwell\, and Laura Fuentes and featuring ASL shadow performers Tyrone Newsome\, Liza Throne\, Calli Diehl\, Cheyenne “Chey” Reumann\, and Hailey Mount. \nWhere: Sinclair Community College\, Blair Hall Theatre (Building 2)\, 444 W. Third St.\, Dayton Ticket Information: $10 plus $2 service fee. Tickets can be purchased online at: www.sinclair.edu/tickets \nPhoto Credit: Scottie Jackson
URL:https://downtowndayton.org/event/sinclair-theatre-presents-twas-a-holiday-musical/2025-12-14/1/
LOCATION:Blair Hall Theatre – Sinclair\, 444 W. Third St.\, Dayton\, OH\, 45402
CATEGORIES:Arts & Theater,College Events,Holiday,Holidays,Live Theater,Sinclair Community College
ATTACH;FMTTYPE=image/jpeg:https://downtowndayton.org/wp-content/uploads/2025/11/Twas-Promo-Photo-scaled.jpg
END:VEVENT
BEGIN:VEVENT
DTSTART;TZID=America/New_York:20251214T140000
DTEND;TZID=America/New_York:20251214T160000
DTSTAMP:20260423T112545
CREATED:20251211T174028Z
LAST-MODIFIED:20251211T174028Z
UID:10053939-1765720800-1765728000@downtowndayton.org
SUMMARY:A Doll’s High Tea
DESCRIPTION:Bring your favorite doll to DWC’s Victoria mansion decorated for the season for a high tea\, featuring petite tea confections and desserts. There will be a meet and greet for all the dolls\, and a doll parade through the club. Reservations required. Call for cost. 228-1124.
URL:https://downtowndayton.org/event/a-dolls-high-tea-2/2025-12-14/
LOCATION:The Dayton Woman’s Club\, 225 N Ludlow St\, Dayton\, OH\, 45402\, United States
ATTACH;FMTTYPE=image/jpeg:https://downtowndayton.org/wp-content/uploads/2025/11/dwc.jpg
END:VEVENT
BEGIN:VEVENT
DTSTART;TZID=America/New_York:20251214T143000
DTEND;TZID=America/New_York:20251214T143000
DTSTAMP:20260423T112545
CREATED:20251211T172919Z
LAST-MODIFIED:20251211T172919Z
UID:10053927-1765722600-1765722600@downtowndayton.org
SUMMARY:The Nutcracker
DESCRIPTION:After a record-breaking run in 2024\, Brandon Ragland’s THE NUTCRACKER returns\, bringing holiday magic back to Dayton! Set in our very own city\, this beloved tale follows Clara on a breathtaking\, time-traveling adventure filled with dazzling choreography\, enchanting sets\, and Tchaikovsky’s iconic score. A heartwarming tradition for all ages\, THE NUTCRACKER is the perfect way to celebrate the season with family and loved ones.
URL:https://downtowndayton.org/event/the-nutcracker-2/2025-12-14/
LOCATION:The Benjamin & Marian Schuster Performing Arts Center\, 1 West Second Street\, Dayton\, OH\, 45402
ATTACH;FMTTYPE=image/jpeg:https://downtowndayton.org/wp-content/uploads/2025/12/nutcracker.jpg
END:VEVENT
BEGIN:VEVENT
DTSTART;TZID=America/New_York:20251214T150000
DTEND;TZID=America/New_York:20251214T150000
DTSTAMP:20260423T112545
CREATED:20251204T133619Z
LAST-MODIFIED:20251204T133619Z
UID:10053881-1765724400-1765724400@downtowndayton.org
SUMMARY:Light Sensitive
DESCRIPTION:Navigating loneliness and isolation\, two souls find hope—and each other—just when they need it most. Over one extraordinary week\, connection flickers\, hearts brighten\, and something unexpected begins to develop\, bringing a little more light to lives that had nearly gone dark. \nDec. 5–14
URL:https://downtowndayton.org/event/light-sensitive/2025-12-14/
LOCATION:Dayton Theatre Guild\, 430 Wayne Avenue\, Dayton\, OH\, 45410\, USA
ATTACH;FMTTYPE=image/jpeg:https://downtowndayton.org/wp-content/uploads/2025/12/lightsensitive.jpg
END:VEVENT
BEGIN:VEVENT
DTSTART;TZID=America/New_York:20251214T180000
DTEND;TZID=America/New_York:20251214T210000
DTSTAMP:20260423T112545
CREATED:20251113T185251Z
LAST-MODIFIED:20251113T185251Z
UID:10049342-1765735200-1765746000@downtowndayton.org
SUMMARY:Deck the Diamond
DESCRIPTION:Step into a winter wonderland at Day Air Ballpark\, where the magic of the season shines bright! Experience the enchantment of over 1.1 million dazzling lights and enjoy a festive lineup of holiday activities perfect for the whole family. Make unforgettable memories together at this one-of-a-kind holiday celebration. Enjoy festive displays\, a themed light show\, live performances and entertainment\, family fun\, holiday shopping\, delicious treats\, photos with Santa\, ornament decorating\, rides on the North Pole Express\, fire pits and s’mores\, carnival games\, photo opportunities\, letters to Santa\, the grand tree\, and so much more! For tickets and more information\, visit dragonsdeckthediamond.com.
URL:https://downtowndayton.org/event/deck-the-diamond/2025-12-14/
LOCATION:Day Air Ballpark\, 220 North Patterson Blvd.\, Dayton\, OH\, 45402
ATTACH;FMTTYPE=image/jpeg:https://downtowndayton.org/wp-content/uploads/2025/11/deckdiamond.jpg
END:VEVENT
BEGIN:VEVENT
DTSTART;TZID=America/New_York:20251214T180000
DTEND;TZID=America/New_York:20251214T210000
DTSTAMP:20260423T112545
CREATED:20251211T173707Z
LAST-MODIFIED:20251211T173707Z
UID:10053937-1765735200-1765746000@downtowndayton.org
SUMMARY:Christmas Vacation Movie Party – Dayton Dinner Theater
DESCRIPTION:Celebrate the Holidays with Music\, Meal\, Trivia\, and Dayton Dinner Theater’s famous interactive movie experience with the classic\, heartwarming\, and hilarious comedy Christmas Vacation. Delight in themed cuisine\, live music\, a film screening\, trivia\, and a costume party! Grab your attic granny hats\, trapper hat\, boots and a robe\, Chicago sports team\, and definitely time to break out your Dickie!
URL:https://downtowndayton.org/event/christmas-vacation-movie-party-dayton-dinner-theater/
LOCATION:The Brightside\, 905 E. Third St.\, Dayton\, OH\, 45402
ATTACH;FMTTYPE=image/jpeg:https://downtowndayton.org/wp-content/uploads/2025/12/chevy.jpg
END:VEVENT
BEGIN:VEVENT
DTSTART;TZID=America/New_York:20251214T193000
DTEND;TZID=America/New_York:20251214T193000
DTSTAMP:20260423T112545
CREATED:20251204T133157Z
LAST-MODIFIED:20251204T133157Z
UID:10053874-1765740600-1765740600@downtowndayton.org
SUMMARY:Season’s Greetings: A Holiday Cabaret
DESCRIPTION:SEASON’S GREETINGS: A HOLIDAY CABARET is back for its fifth season! Performers Gina Handy and Philip Drennen\, along with Deron Bell and his Merry Melody Makers\, have created an unforgettable cabaret experience to celebrate the holidays. Relax with friends\, laugh with family\, grab a seasonal cocktail\, and most importantly\, “mail” your song requests to Santa! You never know what surprises are in store when the spirit of the holidays takes over! \nDec. 10-14
URL:https://downtowndayton.org/event/seasons-greetings-a-holiday-cabaret-2/2025-12-14/
LOCATION:PNC Arts Annex\, 46 N. Ludlow St.\, Dayton\, OH\, 45402
ATTACH;FMTTYPE=image/jpeg:https://downtowndayton.org/wp-content/uploads/2025/12/sgcab.jpg
END:VEVENT
BEGIN:VEVENT
DTSTART;VALUE=DATE:20251215
DTEND;VALUE=DATE:20251216
DTSTAMP:20260423T112545
CREATED:20251126T144656Z
LAST-MODIFIED:20251126T144656Z
UID:10053775-1765756800-1765843199@downtowndayton.org
SUMMARY:Winter Gift Gallery (Local Artist Nook)
DESCRIPTION:Artists will showcase paintings\, ceramics\, blown glass\, prints\, and jewelry for sale. Mon.-Thurs. 9:30 a.m.-5:30 p.m.\, Fri. 9 a.m.-4:30 p.m.\, Sat. 11 a.m.-1 p.m.
URL:https://downtowndayton.org/event/winter-gift-gallery-local-artist-nook-2/2025-12-15/
LOCATION:K12 Gallery & TEJAS\, 341 S. Jefferson St.\, Dayton\, OH\, 45402
ATTACH;FMTTYPE=image/jpeg:https://downtowndayton.org/wp-content/uploads/2023/12/k12tejas-scaled.jpg
END:VEVENT
BEGIN:VEVENT
DTSTART;TZID=America/New_York:20251215T150000
DTEND;TZID=America/New_York:20251215T180000
DTSTAMP:20260423T112545
CREATED:20250924T115502Z
LAST-MODIFIED:20250924T115502Z
UID:10040106-1765810800-1765821600@downtowndayton.org
SUMMARY:Artist in Training (AIT) Program
DESCRIPTION:After school Artist in Training program geared for grades 3rd-12th grades. Classes are Monday-Wednesdays from 3:00pm-6:00pm. Open Studio time to explore different types of mediums such as Drawing\, Painting\, Clay\, Digital Art.  20.00 per session for Members/40.00 per session for Non-Members.
URL:https://downtowndayton.org/event/artist-in-training-ait-program/2025-12-15/
LOCATION:K12 Gallery & TEJAS\, 341 S. Jefferson St.\, Dayton\, OH\, 45402
ATTACH;FMTTYPE=image/jpeg:https://downtowndayton.org/wp-content/uploads/2023/12/k12tejas-scaled.jpg
END:VEVENT
BEGIN:VEVENT
DTSTART;TZID=America/New_York:20251215T190000
DTEND;TZID=America/New_York:20251215T190000
DTSTAMP:20260423T112545
CREATED:20250903T114445Z
LAST-MODIFIED:20250903T114445Z
UID:10039644-1765825200-1765825200@downtowndayton.org
SUMMARY:Wassail\, Wit\, and Who Done It? presented by Mayhem & Mystery
DESCRIPTION:It’s Christmas time and The Wassail Warblers\, a group of long-time friends and semi-committed amateur carolers\, are making their annual rounds of holiday cheer. Armed with matching scarves\, an curated setlist\, and exactly one person who can actually sing\, they’re determined to brighten their town with off-key classics and questionable choreography. Midway through “Good King Wenceslas\,” one of the carolers slips away. But when they’re still missing by dessert\, the group begins to panic. Can you solve the mystery? Join us for holiday fun and see. Join Mayhem & Mystery for their always popular interactive Holiday Who-done-it? Seating begins at 6:45 when salads and bread are served. Dinner (several choices) arrives after Act 1 is finished. Act 2 finishes with a dessert (full-sized\, several choices) and a call to write down your thoughts on the crime. Solutions are revealed in Act 3 followed by prizes recognizing the three most correct answers and the three most entertaining (cast choice). Show runs Mondays\, November 10\, 2025 – January 26\, 2026\, plus Wednesday\, December 10\, and Fridays\, November 14\, December 26\, and January 9. Seating begins at 6:45 PM with Act 1 beginning around 7:00 PM. The evening runs through 9:00-9:30 PM\, depending on audience size and interaction. Reservations are required and can be. made by calling 937-461-3913. https://www.facebook.com/MayhemMystery  $39.95 per person; tax and gratuity not included
URL:https://downtowndayton.org/event/wassail-wit-and-who-done-it-presented-by-mayhem-mystery/2025-12-15/
LOCATION:Spaghetti Warehouse\, 36 W. Fifth St.\, Dayton\, OH\, 45402
ATTACH;FMTTYPE=image/jpeg:https://downtowndayton.org/wp-content/uploads/2025/09/wassail.jpg
END:VEVENT
BEGIN:VEVENT
DTSTART;TZID=America/New_York:20251216T130000
DTEND;TZID=America/New_York:20251216T150000
DTSTAMP:20260423T112545
CREATED:20250924T114502Z
LAST-MODIFIED:20250924T114502Z
UID:10039833-1765890000-1765897200@downtowndayton.org
SUMMARY:Adult Weekday Classes
DESCRIPTION:Tuesday and Wednesday weekday classes: Tuesdays (September-May) Stained Glass Classes: 1:00pm-3:00pm Ceramics/Clay Classes: 3:00pm-5:00pm Glassblowing Classes: 3:30pm-5:30pm Wednesdays (September-May) Still Life Oil Painting Classes: 1:00pm-3:00pm Glassblowing Classes: 2:00pm-4:00pm or 6:00pm-8:00pm. Call for Costs.
URL:https://downtowndayton.org/event/adult-weekday-classes/2025-12-16/
LOCATION:K12 Gallery & TEJAS\, 341 S. Jefferson St.\, Dayton\, OH\, 45402
ATTACH;FMTTYPE=image/jpeg:https://downtowndayton.org/wp-content/uploads/2023/12/k12tejas-scaled.jpg
END:VEVENT
BEGIN:VEVENT
DTSTART;TZID=America/New_York:20251216T150000
DTEND;TZID=America/New_York:20251216T170000
DTSTAMP:20260423T112545
CREATED:20250924T114552Z
LAST-MODIFIED:20250924T114552Z
UID:10039868-1765897200-1765904400@downtowndayton.org
SUMMARY:Adult Weekday Classes
DESCRIPTION:Tuesday and Wednesday weekday classes: Tuesdays (September-May) Stained Glass Classes: 1:00pm-3:00pm Ceramics/Clay Classes: 3:00pm-5:00pm Glassblowing Classes: 3:30pm-5:30pm Wednesdays (September-May) Still Life Oil Painting Classes: 1:00pm-3:00pm Glassblowing Classes: 2:00pm-4:00pm or 6:00pm-8:00pm. Call for Costs.
URL:https://downtowndayton.org/event/adult-weekday-classes-2/2025-12-16/
LOCATION:K12 Gallery & TEJAS\, 341 S. Jefferson St.\, Dayton\, OH\, 45402
ATTACH;FMTTYPE=image/jpeg:https://downtowndayton.org/wp-content/uploads/2023/12/k12tejas-scaled.jpg
END:VEVENT
BEGIN:VEVENT
DTSTART;TZID=America/New_York:20251216T153000
DTEND;TZID=America/New_York:20251216T173000
DTSTAMP:20260423T112545
CREATED:20250924T114821Z
LAST-MODIFIED:20250924T114821Z
UID:10039904-1765899000-1765906200@downtowndayton.org
SUMMARY:Adult Weekday Classes
DESCRIPTION:Tuesday and Wednesday weekday classes: Tuesdays (September-May) Stained Glass Classes: 1:00pm-3:00pm Ceramics/Clay Classes: 3:00pm-5:00pm Glassblowing Classes: 3:30pm-5:30pm Wednesdays (September-May) Still Life Oil Painting Classes: 1:00pm-3:00pm Glassblowing Classes: 2:00pm-4:00pm or 6:00pm-8:00pm. Call for Costs.
URL:https://downtowndayton.org/event/adult-weekday-classes-3/2025-12-16/
LOCATION:K12 Gallery & TEJAS\, 341 S. Jefferson St.\, Dayton\, OH\, 45402
ATTACH;FMTTYPE=image/jpeg:https://downtowndayton.org/wp-content/uploads/2023/12/k12tejas-scaled.jpg
END:VEVENT
BEGIN:VEVENT
DTSTART;TZID=America/Detroit:20251216T190000
DTEND;TZID=America/Detroit:20251216T190000
DTSTAMP:20260423T112545
CREATED:20250114T175514Z
LAST-MODIFIED:20250114T175514Z
UID:10051956-1765911600-1765911600@downtowndayton.org
SUMMARY:Trivia Tuesday
DESCRIPTION:Trivia Tuesdays are fun for everyone at The Dayton Beer Company! Get $3.50 DBC Pints every Tuesday with trivia starting at 7:00 p.m. Cheers!
URL:https://downtowndayton.org/event/trivia-tuesday-2025-02-18-3/
LOCATION:OH
ATTACH;FMTTYPE=image/jpeg:https://downtowndayton.org/wp-content/uploads/2025/01/dbc.jpg
END:VEVENT
BEGIN:VEVENT
DTSTART;TZID=America/Detroit:20251216T190000
DTEND;TZID=America/Detroit:20251216T190000
DTSTAMP:20260423T112545
CREATED:20250114T175514Z
LAST-MODIFIED:20250114T175514Z
UID:10050215-1765911600-1765911600@downtowndayton.org
SUMMARY:Trivia Tuesday
DESCRIPTION:Trivia Tuesdays are fun for everyone at The Dayton Beer Company! Get $3.50 DBC Pints every Tuesday with trivia starting at 7:00 p.m. Cheers!
URL:https://downtowndayton.org/event/trivia-tuesday-2025-06-03/
LOCATION:OH
ATTACH;FMTTYPE=image/jpeg:https://downtowndayton.org/wp-content/uploads/2025/01/dbc.jpg
END:VEVENT
BEGIN:VEVENT
DTSTART;TZID=America/Detroit:20251216T190000
DTEND;TZID=America/Detroit:20251216T190000
DTSTAMP:20260423T112545
CREATED:20250114T175514Z
LAST-MODIFIED:20250114T175514Z
UID:10051614-1765911600-1765911600@downtowndayton.org
SUMMARY:Trivia Tuesday
DESCRIPTION:Trivia Tuesdays are fun for everyone at The Dayton Beer Company! Get $3.50 DBC Pints every Tuesday with trivia starting at 7:00 p.m. Cheers!
URL:https://downtowndayton.org/event/trivia-tuesday-2025-06-24-2/
LOCATION:OH
ATTACH;FMTTYPE=image/jpeg:https://downtowndayton.org/wp-content/uploads/2025/01/dbc.jpg
END:VEVENT
BEGIN:VEVENT
DTSTART;TZID=America/Detroit:20251216T190000
DTEND;TZID=America/Detroit:20251216T190000
DTSTAMP:20260423T112545
CREATED:20250114T175514Z
LAST-MODIFIED:20250114T175514Z
UID:10049900-1765911600-1765911600@downtowndayton.org
SUMMARY:Trivia Tuesday
DESCRIPTION:Trivia Tuesdays are fun for everyone at The Dayton Beer Company! Get $3.50 DBC Pints every Tuesday with trivia starting at 7:00 p.m. Cheers!
URL:https://downtowndayton.org/event/trivia-tuesday-2025-04-01/
LOCATION:OH
ATTACH;FMTTYPE=image/jpeg:https://downtowndayton.org/wp-content/uploads/2025/01/dbc.jpg
END:VEVENT
BEGIN:VEVENT
DTSTART;TZID=America/Detroit:20251216T190000
DTEND;TZID=America/Detroit:20251216T190000
DTSTAMP:20260423T112545
CREATED:20250114T175514Z
LAST-MODIFIED:20250114T175514Z
UID:10050653-1765911600-1765911600@downtowndayton.org
SUMMARY:Trivia Tuesday
DESCRIPTION:Trivia Tuesdays are fun for everyone at The Dayton Beer Company! Get $3.50 DBC Pints every Tuesday with trivia starting at 7:00 p.m. Cheers!
URL:https://downtowndayton.org/event/trivia-tuesday-2025-11-11/
LOCATION:OH
ATTACH;FMTTYPE=image/jpeg:https://downtowndayton.org/wp-content/uploads/2025/01/dbc.jpg
END:VEVENT
BEGIN:VEVENT
DTSTART;TZID=America/Detroit:20251216T190000
DTEND;TZID=America/Detroit:20251216T190000
DTSTAMP:20260423T112545
CREATED:20250114T175514Z
LAST-MODIFIED:20250114T175514Z
UID:10052495-1765911600-1765911600@downtowndayton.org
SUMMARY:Trivia Tuesday
DESCRIPTION:Trivia Tuesdays are fun for everyone at The Dayton Beer Company! Get $3.50 DBC Pints every Tuesday with trivia starting at 7:00 p.m. Cheers!
URL:https://downtowndayton.org/event/trivia-tuesday-2025-05-27-3/
LOCATION:OH
ATTACH;FMTTYPE=image/jpeg:https://downtowndayton.org/wp-content/uploads/2025/01/dbc.jpg
END:VEVENT
BEGIN:VEVENT
DTSTART;TZID=America/Detroit:20251216T190000
DTEND;TZID=America/Detroit:20251216T190000
DTSTAMP:20260423T112545
CREATED:20250114T175514Z
LAST-MODIFIED:20250114T175514Z
UID:10049504-1765911600-1765911600@downtowndayton.org
SUMMARY:Trivia Tuesday
DESCRIPTION:Trivia Tuesdays are fun for everyone at The Dayton Beer Company! Get $3.50 DBC Pints every Tuesday with trivia starting at 7:00 p.m. Cheers!
URL:https://downtowndayton.org/event/trivia-tuesday-2025-01-28/
LOCATION:OH
ATTACH;FMTTYPE=image/jpeg:https://downtowndayton.org/wp-content/uploads/2025/01/dbc.jpg
END:VEVENT
BEGIN:VEVENT
DTSTART;TZID=America/Detroit:20251216T190000
DTEND;TZID=America/Detroit:20251216T190000
DTSTAMP:20260423T112545
CREATED:20250114T175514Z
LAST-MODIFIED:20250114T175514Z
UID:10050545-1765911600-1765911600@downtowndayton.org
SUMMARY:Trivia Tuesday
DESCRIPTION:Trivia Tuesdays are fun for everyone at The Dayton Beer Company! Get $3.50 DBC Pints every Tuesday with trivia starting at 7:00 p.m. Cheers!
URL:https://downtowndayton.org/event/trivia-tuesday-2025-09-09/
LOCATION:OH
ATTACH;FMTTYPE=image/jpeg:https://downtowndayton.org/wp-content/uploads/2025/01/dbc.jpg
END:VEVENT
BEGIN:VEVENT
DTSTART;TZID=America/Detroit:20251216T190000
DTEND;TZID=America/Detroit:20251216T190000
DTSTAMP:20260423T112545
CREATED:20250114T175514Z
LAST-MODIFIED:20250114T175514Z
UID:10051326-1765911600-1765911600@downtowndayton.org
SUMMARY:Trivia Tuesday
DESCRIPTION:Trivia Tuesdays are fun for everyone at The Dayton Beer Company! Get $3.50 DBC Pints every Tuesday with trivia starting at 7:00 p.m. Cheers!
URL:https://downtowndayton.org/event/trivia-tuesday-2025-04-22-2/
LOCATION:OH
ATTACH;FMTTYPE=image/jpeg:https://downtowndayton.org/wp-content/uploads/2025/01/dbc.jpg
END:VEVENT
BEGIN:VEVENT
DTSTART;TZID=America/Detroit:20251216T190000
DTEND;TZID=America/Detroit:20251216T190000
DTSTAMP:20260423T112545
CREATED:20250114T175514Z
LAST-MODIFIED:20250114T175514Z
UID:10052171-1765911600-1765911600@downtowndayton.org
SUMMARY:Trivia Tuesday
DESCRIPTION:Trivia Tuesdays are fun for everyone at The Dayton Beer Company! Get $3.50 DBC Pints every Tuesday with trivia starting at 7:00 p.m. Cheers!
URL:https://downtowndayton.org/event/trivia-tuesday-2025-03-25-3/
LOCATION:OH
ATTACH;FMTTYPE=image/jpeg:https://downtowndayton.org/wp-content/uploads/2025/01/dbc.jpg
END:VEVENT
BEGIN:VEVENT
DTSTART;TZID=America/Detroit:20251216T190000
DTEND;TZID=America/Detroit:20251216T190000
DTSTAMP:20260423T112545
CREATED:20250114T175514Z
LAST-MODIFIED:20250114T175514Z
UID:10050355-1765911600-1765911600@downtowndayton.org
SUMMARY:Trivia Tuesday
DESCRIPTION:Trivia Tuesdays are fun for everyone at The Dayton Beer Company! Get $3.50 DBC Pints every Tuesday with trivia starting at 7:00 p.m. Cheers!
URL:https://downtowndayton.org/event/trivia-tuesday-2025-07-08/
LOCATION:OH
ATTACH;FMTTYPE=image/jpeg:https://downtowndayton.org/wp-content/uploads/2025/01/dbc.jpg
END:VEVENT
BEGIN:VEVENT
DTSTART;TZID=America/Detroit:20251216T190000
DTEND;TZID=America/Detroit:20251216T190000
DTSTAMP:20260423T112545
CREATED:20250114T175514Z
LAST-MODIFIED:20250114T175514Z
UID:10050957-1765911600-1765911600@downtowndayton.org
SUMMARY:Trivia Tuesday
DESCRIPTION:Trivia Tuesdays are fun for everyone at The Dayton Beer Company! Get $3.50 DBC Pints every Tuesday with trivia starting at 7:00 p.m. Cheers!
URL:https://downtowndayton.org/event/trivia-tuesday-2025-02-18-2/
LOCATION:OH
ATTACH;FMTTYPE=image/jpeg:https://downtowndayton.org/wp-content/uploads/2025/01/dbc.jpg
END:VEVENT
BEGIN:VEVENT
DTSTART;TZID=America/Detroit:20251216T190000
DTEND;TZID=America/Detroit:20251216T190000
DTSTAMP:20260423T112545
CREATED:20250114T175514Z
LAST-MODIFIED:20250114T175514Z
UID:10051766-1765911600-1765911600@downtowndayton.org
SUMMARY:Trivia Tuesday
DESCRIPTION:Trivia Tuesdays are fun for everyone at The Dayton Beer Company! Get $3.50 DBC Pints every Tuesday with trivia starting at 7:00 p.m. Cheers!
URL:https://downtowndayton.org/event/trivia-tuesday-2025-01-21-3/
LOCATION:OH
ATTACH;FMTTYPE=image/jpeg:https://downtowndayton.org/wp-content/uploads/2025/01/dbc.jpg
END:VEVENT
BEGIN:VEVENT
DTSTART;TZID=America/Detroit:20251216T190000
DTEND;TZID=America/Detroit:20251216T190000
DTSTAMP:20260423T112545
CREATED:20250114T175514Z
LAST-MODIFIED:20250114T175514Z
UID:10050085-1765911600-1765911600@downtowndayton.org
SUMMARY:Trivia Tuesday
DESCRIPTION:Trivia Tuesdays are fun for everyone at The Dayton Beer Company! Get $3.50 DBC Pints every Tuesday with trivia starting at 7:00 p.m. Cheers!
URL:https://downtowndayton.org/event/trivia-tuesday-2025-05-06/
LOCATION:OH
ATTACH;FMTTYPE=image/jpeg:https://downtowndayton.org/wp-content/uploads/2025/01/dbc.jpg
END:VEVENT
END:VCALENDAR