BEGIN:VCALENDAR
VERSION:2.0
PRODID:-//Downtown Dayton Partnership - ECPv6.8.1//NONSGML v1.0//EN
CALSCALE:GREGORIAN
METHOD:PUBLISH
X-WR-CALNAME:Downtown Dayton Partnership
X-ORIGINAL-URL:https://downtowndayton.org
X-WR-CALDESC:Events for Downtown Dayton Partnership
REFRESH-INTERVAL;VALUE=DURATION:PT1H
X-Robots-Tag:noindex
X-PUBLISHED-TTL:PT1H
BEGIN:VTIMEZONE
TZID:America/Detroit
BEGIN:DAYLIGHT
TZOFFSETFROM:-0500
TZOFFSETTO:-0400
TZNAME:EDT
DTSTART:20250309T070000
END:DAYLIGHT
BEGIN:STANDARD
TZOFFSETFROM:-0400
TZOFFSETTO:-0500
TZNAME:EST
DTSTART:20251102T060000
END:STANDARD
TZID:America/New_York
BEGIN:DAYLIGHT
TZOFFSETFROM:-0500
TZOFFSETTO:-0400
TZNAME:EDT
DTSTART:20250309T070000
END:DAYLIGHT
BEGIN:STANDARD
TZOFFSETFROM:-0400
TZOFFSETTO:-0500
TZNAME:EST
DTSTART:20251102T060000
END:STANDARD
END:VTIMEZONE
BEGIN:VEVENT
DTSTART;TZID=America/Detroit:20250805T190000
DTEND;TZID=America/Detroit:20250805T190000
DTSTAMP:20260420T201329
CREATED:20250114T175514Z
LAST-MODIFIED:20250114T175514Z
UID:10051937-1754420400-1754420400@downtowndayton.org
SUMMARY:Trivia Tuesday
DESCRIPTION:Trivia Tuesdays are fun for everyone at The Dayton Beer Company! Get $3.50 DBC Pints every Tuesday with trivia starting at 7:00 p.m. Cheers!
URL:https://downtowndayton.org/event/trivia-tuesday-2025-02-18-3/
LOCATION:OH
ATTACH;FMTTYPE=image/jpeg:https://downtowndayton.org/wp-content/uploads/2025/01/dbc.jpg
END:VEVENT
BEGIN:VEVENT
DTSTART;TZID=America/Detroit:20250805T190000
DTEND;TZID=America/Detroit:20250805T190000
DTSTAMP:20260420T201329
CREATED:20250114T175514Z
LAST-MODIFIED:20250114T175514Z
UID:10052152-1754420400-1754420400@downtowndayton.org
SUMMARY:Trivia Tuesday
DESCRIPTION:Trivia Tuesdays are fun for everyone at The Dayton Beer Company! Get $3.50 DBC Pints every Tuesday with trivia starting at 7:00 p.m. Cheers!
URL:https://downtowndayton.org/event/trivia-tuesday-2025-03-25-3/
LOCATION:OH
ATTACH;FMTTYPE=image/jpeg:https://downtowndayton.org/wp-content/uploads/2025/01/dbc.jpg
END:VEVENT
BEGIN:VEVENT
DTSTART;TZID=America/Detroit:20250805T190000
DTEND;TZID=America/Detroit:20250805T190000
DTSTAMP:20260420T201329
CREATED:20250114T175514Z
LAST-MODIFIED:20250114T175514Z
UID:10049485-1754420400-1754420400@downtowndayton.org
SUMMARY:Trivia Tuesday
DESCRIPTION:Trivia Tuesdays are fun for everyone at The Dayton Beer Company! Get $3.50 DBC Pints every Tuesday with trivia starting at 7:00 p.m. Cheers!
URL:https://downtowndayton.org/event/trivia-tuesday-2025-01-28/
LOCATION:OH
ATTACH;FMTTYPE=image/jpeg:https://downtowndayton.org/wp-content/uploads/2025/01/dbc.jpg
END:VEVENT
BEGIN:VEVENT
DTSTART;TZID=America/Detroit:20250805T190000
DTEND;TZID=America/Detroit:20250805T190000
DTSTAMP:20260420T201329
CREATED:20250114T175514Z
LAST-MODIFIED:20250114T175514Z
UID:10052696-1754420400-1754420400@downtowndayton.org
SUMMARY:Trivia Tuesday
DESCRIPTION:Trivia Tuesdays are fun for everyone at The Dayton Beer Company! Get $3.50 DBC Pints every Tuesday with trivia starting at 7:00 p.m. Cheers!
URL:https://downtowndayton.org/event/trivia-tuesday-2025-07-22-3/
LOCATION:OH
ATTACH;FMTTYPE=image/jpeg:https://downtowndayton.org/wp-content/uploads/2025/01/dbc.jpg
END:VEVENT
BEGIN:VEVENT
DTSTART;TZID=America/Detroit:20250805T190000
DTEND;TZID=America/Detroit:20250805T190000
DTSTAMP:20260420T201329
CREATED:20250114T175514Z
LAST-MODIFIED:20250114T175514Z
UID:10049958-1754420400-1754420400@downtowndayton.org
SUMMARY:Trivia Tuesday
DESCRIPTION:Trivia Tuesdays are fun for everyone at The Dayton Beer Company! Get $3.50 DBC Pints every Tuesday with trivia starting at 7:00 p.m. Cheers!
URL:https://downtowndayton.org/event/trivia-tuesday-2025-04-15/
LOCATION:OH
ATTACH;FMTTYPE=image/jpeg:https://downtowndayton.org/wp-content/uploads/2025/01/dbc.jpg
END:VEVENT
BEGIN:VEVENT
DTSTART;TZID=America/Detroit:20250805T190000
DTEND;TZID=America/Detroit:20250805T190000
DTSTAMP:20260420T201329
CREATED:20250114T175514Z
LAST-MODIFIED:20250114T175514Z
UID:10051070-1754420400-1754420400@downtowndayton.org
SUMMARY:Trivia Tuesday
DESCRIPTION:Trivia Tuesdays are fun for everyone at The Dayton Beer Company! Get $3.50 DBC Pints every Tuesday with trivia starting at 7:00 p.m. Cheers!
URL:https://downtowndayton.org/event/trivia-tuesday-2025-03-11-2/
LOCATION:OH
ATTACH;FMTTYPE=image/jpeg:https://downtowndayton.org/wp-content/uploads/2025/01/dbc.jpg
END:VEVENT
BEGIN:VEVENT
DTSTART;TZID=America/Detroit:20250805T190000
DTEND;TZID=America/Detroit:20250805T190000
DTSTAMP:20260420T201329
CREATED:20250114T175514Z
LAST-MODIFIED:20250114T175514Z
UID:10049533-1754420400-1754420400@downtowndayton.org
SUMMARY:Trivia Tuesday
DESCRIPTION:Trivia Tuesdays are fun for everyone at The Dayton Beer Company! Get $3.50 DBC Pints every Tuesday with trivia starting at 7:00 p.m. Cheers!
URL:https://downtowndayton.org/event/trivia-tuesday-2025-02-04/
LOCATION:OH
ATTACH;FMTTYPE=image/jpeg:https://downtowndayton.org/wp-content/uploads/2025/01/dbc.jpg
END:VEVENT
BEGIN:VEVENT
DTSTART;TZID=America/Detroit:20250805T190000
DTEND;TZID=America/Detroit:20250805T190000
DTSTAMP:20260420T201329
CREATED:20250114T175514Z
LAST-MODIFIED:20250114T175514Z
UID:10051538-1754420400-1754420400@downtowndayton.org
SUMMARY:Trivia Tuesday
DESCRIPTION:Trivia Tuesdays are fun for everyone at The Dayton Beer Company! Get $3.50 DBC Pints every Tuesday with trivia starting at 7:00 p.m. Cheers!
URL:https://downtowndayton.org/event/trivia-tuesday-2025-06-10-2/
LOCATION:OH
ATTACH;FMTTYPE=image/jpeg:https://downtowndayton.org/wp-content/uploads/2025/01/dbc.jpg
END:VEVENT
BEGIN:VEVENT
DTSTART;TZID=America/Detroit:20250805T190000
DTEND;TZID=America/Detroit:20250805T190000
DTSTAMP:20260420T201329
CREATED:20250114T175514Z
LAST-MODIFIED:20250114T175514Z
UID:10052647-1754420400-1754420400@downtowndayton.org
SUMMARY:Trivia Tuesday
DESCRIPTION:Trivia Tuesdays are fun for everyone at The Dayton Beer Company! Get $3.50 DBC Pints every Tuesday with trivia starting at 7:00 p.m. Cheers!
URL:https://downtowndayton.org/event/trivia-tuesday-2025-07-08-3/
LOCATION:OH
ATTACH;FMTTYPE=image/jpeg:https://downtowndayton.org/wp-content/uploads/2025/01/dbc.jpg
END:VEVENT
BEGIN:VEVENT
DTSTART;TZID=America/Detroit:20250805T190000
DTEND;TZID=America/Detroit:20250805T190000
DTSTAMP:20260420T201330
CREATED:20250114T175514Z
LAST-MODIFIED:20250114T175514Z
UID:10049920-1754420400-1754420400@downtowndayton.org
SUMMARY:Trivia Tuesday
DESCRIPTION:Trivia Tuesdays are fun for everyone at The Dayton Beer Company! Get $3.50 DBC Pints every Tuesday with trivia starting at 7:00 p.m. Cheers!
URL:https://downtowndayton.org/event/trivia-tuesday-2025-04-08/
LOCATION:OH
ATTACH;FMTTYPE=image/jpeg:https://downtowndayton.org/wp-content/uploads/2025/01/dbc.jpg
END:VEVENT
BEGIN:VEVENT
DTSTART;TZID=America/Detroit:20250805T190000
DTEND;TZID=America/Detroit:20250805T190000
DTSTAMP:20260420T201330
CREATED:20250114T175514Z
LAST-MODIFIED:20250114T175514Z
UID:10052269-1754420400-1754420400@downtowndayton.org
SUMMARY:Trivia Tuesday
DESCRIPTION:Trivia Tuesdays are fun for everyone at The Dayton Beer Company! Get $3.50 DBC Pints every Tuesday with trivia starting at 7:00 p.m. Cheers!
URL:https://downtowndayton.org/event/trivia-tuesday-2025-04-15-3/
LOCATION:OH
ATTACH;FMTTYPE=image/jpeg:https://downtowndayton.org/wp-content/uploads/2025/01/dbc.jpg
END:VEVENT
BEGIN:VEVENT
DTSTART;TZID=America/Detroit:20250805T190000
DTEND;TZID=America/Detroit:20250805T190000
DTSTAMP:20260420T201330
CREATED:20250114T175514Z
LAST-MODIFIED:20250114T175514Z
UID:10049715-1754420400-1754420400@downtowndayton.org
SUMMARY:Trivia Tuesday
DESCRIPTION:Trivia Tuesdays are fun for everyone at The Dayton Beer Company! Get $3.50 DBC Pints every Tuesday with trivia starting at 7:00 p.m. Cheers!
URL:https://downtowndayton.org/event/trivia-tuesday-2025-03-04/
LOCATION:OH
ATTACH;FMTTYPE=image/jpeg:https://downtowndayton.org/wp-content/uploads/2025/01/dbc.jpg
END:VEVENT
BEGIN:VEVENT
DTSTART;TZID=America/Detroit:20250805T190000
DTEND;TZID=America/Detroit:20250805T190000
DTSTAMP:20260420T201330
CREATED:20250114T175514Z
LAST-MODIFIED:20250114T175514Z
UID:10049758-1754420400-1754420400@downtowndayton.org
SUMMARY:Trivia Tuesday
DESCRIPTION:Trivia Tuesdays are fun for everyone at The Dayton Beer Company! Get $3.50 DBC Pints every Tuesday with trivia starting at 7:00 p.m. Cheers!
URL:https://downtowndayton.org/event/trivia-tuesday-2025-03-11/
LOCATION:OH
ATTACH;FMTTYPE=image/jpeg:https://downtowndayton.org/wp-content/uploads/2025/01/dbc.jpg
END:VEVENT
BEGIN:VEVENT
DTSTART;TZID=America/Detroit:20250805T190000
DTEND;TZID=America/Detroit:20250805T190000
DTSTAMP:20260420T201330
CREATED:20250114T175514Z
LAST-MODIFIED:20250114T175514Z
UID:10051796-1754420400-1754420400@downtowndayton.org
SUMMARY:Trivia Tuesday
DESCRIPTION:Trivia Tuesdays are fun for everyone at The Dayton Beer Company! Get $3.50 DBC Pints every Tuesday with trivia starting at 7:00 p.m. Cheers!
URL:https://downtowndayton.org/event/trivia-tuesday-2025-01-28-3/
LOCATION:OH
ATTACH;FMTTYPE=image/jpeg:https://downtowndayton.org/wp-content/uploads/2025/01/dbc.jpg
END:VEVENT
BEGIN:VEVENT
DTSTART;TZID=America/Detroit:20250805T190000
DTEND;TZID=America/Detroit:20250805T190000
DTSTAMP:20260420T201330
CREATED:20250114T175514Z
LAST-MODIFIED:20250114T175514Z
UID:10052231-1754420400-1754420400@downtowndayton.org
SUMMARY:Trivia Tuesday
DESCRIPTION:Trivia Tuesdays are fun for everyone at The Dayton Beer Company! Get $3.50 DBC Pints every Tuesday with trivia starting at 7:00 p.m. Cheers!
URL:https://downtowndayton.org/event/trivia-tuesday-2025-04-08-3/
LOCATION:OH
ATTACH;FMTTYPE=image/jpeg:https://downtowndayton.org/wp-content/uploads/2025/01/dbc.jpg
END:VEVENT
BEGIN:VEVENT
DTSTART;TZID=America/Detroit:20250805T190000
DTEND;TZID=America/Detroit:20250805T190000
DTSTAMP:20260420T201330
CREATED:20250114T175514Z
LAST-MODIFIED:20250114T175514Z
UID:10051844-1754420400-1754420400@downtowndayton.org
SUMMARY:Trivia Tuesday
DESCRIPTION:Trivia Tuesdays are fun for everyone at The Dayton Beer Company! Get $3.50 DBC Pints every Tuesday with trivia starting at 7:00 p.m. Cheers!
URL:https://downtowndayton.org/event/trivia-tuesday-2025-02-04-3/
LOCATION:OH
ATTACH;FMTTYPE=image/jpeg:https://downtowndayton.org/wp-content/uploads/2025/01/dbc.jpg
END:VEVENT
BEGIN:VEVENT
DTSTART;TZID=America/Detroit:20250805T190000
DTEND;TZID=America/Detroit:20250805T190000
DTSTAMP:20260420T201330
CREATED:20250114T175514Z
LAST-MODIFIED:20250114T175514Z
UID:10050226-1754420400-1754420400@downtowndayton.org
SUMMARY:Trivia Tuesday
DESCRIPTION:Trivia Tuesdays are fun for everyone at The Dayton Beer Company! Get $3.50 DBC Pints every Tuesday with trivia starting at 7:00 p.m. Cheers!
URL:https://downtowndayton.org/event/trivia-tuesday-2025-06-10/
LOCATION:OH
ATTACH;FMTTYPE=image/jpeg:https://downtowndayton.org/wp-content/uploads/2025/01/dbc.jpg
END:VEVENT
BEGIN:VEVENT
DTSTART;TZID=America/Detroit:20250805T190000
DTEND;TZID=America/Detroit:20250805T190000
DTSTAMP:20260420T201330
CREATED:20250114T175514Z
LAST-MODIFIED:20250114T175514Z
UID:10051477-1754420400-1754420400@downtowndayton.org
SUMMARY:Trivia Tuesday
DESCRIPTION:Trivia Tuesdays are fun for everyone at The Dayton Beer Company! Get $3.50 DBC Pints every Tuesday with trivia starting at 7:00 p.m. Cheers!
URL:https://downtowndayton.org/event/trivia-tuesday-2025-05-27-2/
LOCATION:OH
ATTACH;FMTTYPE=image/jpeg:https://downtowndayton.org/wp-content/uploads/2025/01/dbc.jpg
END:VEVENT
BEGIN:VEVENT
DTSTART;TZID=America/Detroit:20250805T190000
DTEND;TZID=America/Detroit:20250805T190000
DTSTAMP:20260420T201330
CREATED:20250114T175514Z
LAST-MODIFIED:20250114T175514Z
UID:10052026-1754420400-1754420400@downtowndayton.org
SUMMARY:Trivia Tuesday
DESCRIPTION:Trivia Tuesdays are fun for everyone at The Dayton Beer Company! Get $3.50 DBC Pints every Tuesday with trivia starting at 7:00 p.m. Cheers!
URL:https://downtowndayton.org/event/trivia-tuesday-2025-03-04-3/
LOCATION:OH
ATTACH;FMTTYPE=image/jpeg:https://downtowndayton.org/wp-content/uploads/2025/01/dbc.jpg
END:VEVENT
BEGIN:VEVENT
DTSTART;TZID=America/Detroit:20250805T190000
DTEND;TZID=America/Detroit:20250805T190000
DTSTAMP:20260420T201330
CREATED:20250114T175514Z
LAST-MODIFIED:20250114T175514Z
UID:10052069-1754420400-1754420400@downtowndayton.org
SUMMARY:Trivia Tuesday
DESCRIPTION:Trivia Tuesdays are fun for everyone at The Dayton Beer Company! Get $3.50 DBC Pints every Tuesday with trivia starting at 7:00 p.m. Cheers!
URL:https://downtowndayton.org/event/trivia-tuesday-2025-03-11-3/
LOCATION:OH
ATTACH;FMTTYPE=image/jpeg:https://downtowndayton.org/wp-content/uploads/2025/01/dbc.jpg
END:VEVENT
BEGIN:VEVENT
DTSTART;TZID=America/Detroit:20250805T190000
DTEND;TZID=America/Detroit:20250805T190000
DTSTAMP:20260420T201330
CREATED:20250114T175514Z
LAST-MODIFIED:20250114T175514Z
UID:10052537-1754420400-1754420400@downtowndayton.org
SUMMARY:Trivia Tuesday
DESCRIPTION:Trivia Tuesdays are fun for everyone at The Dayton Beer Company! Get $3.50 DBC Pints every Tuesday with trivia starting at 7:00 p.m. Cheers!
URL:https://downtowndayton.org/event/trivia-tuesday-2025-06-10-3/
LOCATION:OH
ATTACH;FMTTYPE=image/jpeg:https://downtowndayton.org/wp-content/uploads/2025/01/dbc.jpg
END:VEVENT
BEGIN:VEVENT
DTSTART;TZID=America/Detroit:20250805T190000
DTEND;TZID=America/Detroit:20250805T190000
DTSTAMP:20260420T201330
CREATED:20250114T175514Z
LAST-MODIFIED:20250114T175514Z
UID:10050431-1754420400-1754420400@downtowndayton.org
SUMMARY:Trivia Tuesday
DESCRIPTION:Trivia Tuesdays are fun for everyone at The Dayton Beer Company! Get $3.50 DBC Pints every Tuesday with trivia starting at 7:00 p.m. Cheers!
URL:https://downtowndayton.org/event/trivia-tuesday-2025-08-05/
LOCATION:OH
ATTACH;FMTTYPE=image/jpeg:https://downtowndayton.org/wp-content/uploads/2025/01/dbc.jpg
END:VEVENT
BEGIN:VEVENT
DTSTART;TZID=America/Detroit:20250805T190000
DTEND;TZID=America/Detroit:20250805T190000
DTSTAMP:20260420T201330
CREATED:20250114T175514Z
LAST-MODIFIED:20250114T175514Z
UID:10051595-1754420400-1754420400@downtowndayton.org
SUMMARY:Trivia Tuesday
DESCRIPTION:Trivia Tuesdays are fun for everyone at The Dayton Beer Company! Get $3.50 DBC Pints every Tuesday with trivia starting at 7:00 p.m. Cheers!
URL:https://downtowndayton.org/event/trivia-tuesday-2025-06-24-2/
LOCATION:OH
ATTACH;FMTTYPE=image/jpeg:https://downtowndayton.org/wp-content/uploads/2025/01/dbc.jpg
END:VEVENT
BEGIN:VEVENT
DTSTART;TZID=America/Detroit:20250805T190000
DTEND;TZID=America/Detroit:20250805T190000
DTSTAMP:20260420T201330
CREATED:20250114T175514Z
LAST-MODIFIED:20250114T175514Z
UID:10050165-1754420400-1754420400@downtowndayton.org
SUMMARY:Trivia Tuesday
DESCRIPTION:Trivia Tuesdays are fun for everyone at The Dayton Beer Company! Get $3.50 DBC Pints every Tuesday with trivia starting at 7:00 p.m. Cheers!
URL:https://downtowndayton.org/event/trivia-tuesday-2025-05-27/
LOCATION:OH
ATTACH;FMTTYPE=image/jpeg:https://downtowndayton.org/wp-content/uploads/2025/01/dbc.jpg
END:VEVENT
BEGIN:VEVENT
DTSTART;TZID=America/Detroit:20250805T190000
DTEND;TZID=America/Detroit:20250805T190000
DTSTAMP:20260420T201330
CREATED:20250114T175514Z
LAST-MODIFIED:20250114T175514Z
UID:10051508-1754420400-1754420400@downtowndayton.org
SUMMARY:Trivia Tuesday
DESCRIPTION:Trivia Tuesdays are fun for everyone at The Dayton Beer Company! Get $3.50 DBC Pints every Tuesday with trivia starting at 7:00 p.m. Cheers!
URL:https://downtowndayton.org/event/trivia-tuesday-2025-06-03-2/
LOCATION:OH
ATTACH;FMTTYPE=image/jpeg:https://downtowndayton.org/wp-content/uploads/2025/01/dbc.jpg
END:VEVENT
BEGIN:VEVENT
DTSTART;TZID=America/Detroit:20250805T190000
DTEND;TZID=America/Detroit:20250805T190000
DTSTAMP:20260420T201330
CREATED:20250114T175514Z
LAST-MODIFIED:20250114T175514Z
UID:10050748-1754420400-1754420400@downtowndayton.org
SUMMARY:Trivia Tuesday
DESCRIPTION:Trivia Tuesdays are fun for everyone at The Dayton Beer Company! Get $3.50 DBC Pints every Tuesday with trivia starting at 7:00 p.m. Cheers!
URL:https://downtowndayton.org/event/trivia-tuesday-2025-01-21-2/
LOCATION:OH
ATTACH;FMTTYPE=image/jpeg:https://downtowndayton.org/wp-content/uploads/2025/01/dbc.jpg
END:VEVENT
BEGIN:VEVENT
DTSTART;TZID=America/New_York:20250805T183000
DTEND;TZID=America/New_York:20250805T200000
DTSTAMP:20260420T201330
CREATED:20250723T182130Z
LAST-MODIFIED:20250723T182130Z
UID:10038947-1754418600-1754424000@downtowndayton.org
SUMMARY:American Teenager: A Conversation on Supporting Trans Youth with Author Nico Lang
DESCRIPTION:Dayton Metro Library will explore trans and LGBTQIA+ advocacy and more with two key programs featuring authors with powerful voices. \nAmerican Teenager: A Conversation on Supporting Trans Youth with Author Nico Lang will be held Tuesday\, August 5\, 6:30-8 pm\, at the Greater Dayton LGBT Center. All ages are invited to this important conversation with Lang\, author of American Teenager: How Trans Kids are Surviving Hate and Finding Joy in Turbulent Times\, which was recently named a Stonewall Honor Book in Non-Fiction by the American Library Association. \n\nThis program is in partnership with PFLAG Dayton\, Closet Transformation\, the Greater Dayton LGBT Center\, and the Gatlyn Dame Group. The Greater Dayton LGBT Center is located at 136 North St. Clair Street\, Dayton\, 45402. Registration is not required for this event.
URL:https://downtowndayton.org/event/american-teenager-a-conversation-on-supporting-trans-youth-with-author-nico-lang/
LOCATION:Greater Dayton LGBT Center\, 136 N. St. Clair St.\, Dayton\, OH\, 45402\, United States
ATTACH;FMTTYPE=image/jpeg:https://downtowndayton.org/wp-content/uploads/2023/08/dml.jpg
END:VEVENT
BEGIN:VEVENT
DTSTART;TZID=America/New_York:20250805T180000
DTEND;TZID=America/New_York:20250805T190000
DTSTAMP:20260420T201330
CREATED:20250729T150141Z
LAST-MODIFIED:20250729T150141Z
UID:10039023-1754416800-1754420400@downtowndayton.org
SUMMARY:Tai Chi & Qigong at the River
DESCRIPTION:Part of RiverScape Community Fitness series \nTai Chi & Qigong at the River\n6:00pm – 7:00pm \nAGE: All ages | FREE\n\nOffered by Immortal Tree Qigong. Each hour-long Tai Chi & Qigong session will start with breathing exercises\, warm up\, and gentle stretching. You will then be guided through flowing movements mixed with short standing meditations. We will end with a slightly longer guided standing (or sitting) meditation. This should leave a few minutes to answer questions or discuss any insights. Qigong doesn’t require any special skills (other than breathing) or equipment (other than your body). Find “Immortal Tree Qigong” on Facebook or Instagram for more information! Weather Dependent. \nFocus on wellness while spending time in nature. Enjoy a variety of free and effective workouts at RiverScape MetroPark.
URL:https://downtowndayton.org/event/tai-chi-qigong-at-the-river-29/
LOCATION:RiverScape MetroPark\, 237 E Monument Ave\, Dayton\, OH\, 45402\, United States
ATTACH;FMTTYPE=image/jpeg:https://downtowndayton.org/wp-content/uploads/2025/07/495851639_1088058326687143_4598719892697313066_n.jpg
END:VEVENT
BEGIN:VEVENT
DTSTART;TZID=America/New_York:20250805T180000
DTEND;TZID=America/New_York:20250805T180000
DTSTAMP:20260420T201330
CREATED:20250723T183514Z
LAST-MODIFIED:20250723T183514Z
UID:10038949-1754416800-1754416800@downtowndayton.org
SUMMARY:80th Anniversary of Hiroshima and Nagasaki Commemorative Evening
DESCRIPTION:
URL:https://downtowndayton.org/event/80th-anniversary-of-hiroshima-and-nagasaki-commemorative-evening/
LOCATION:The International Peace Museum\, 10 N. Ludlow St.\, Dayton\, OH\, 45402
ATTACH;FMTTYPE=image/jpeg:https://downtowndayton.org/wp-content/uploads/2024/05/peacemuseum.jpg
END:VEVENT
BEGIN:VEVENT
DTSTART;TZID=America/New_York:20250805T140000
DTEND;TZID=America/New_York:20250805T180000
DTSTAMP:20260420T201330
CREATED:20250528T193725Z
LAST-MODIFIED:20250528T193755Z
UID:10037373-1754402400-1754416800@downtowndayton.org
SUMMARY:Kayak Rentals at RiverScape with Taiter’s Kayak Solutions
DESCRIPTION:Part of RiverScape Kayak Rentals series \nKayak Rentals at RiverScape with Taiter’s Kayak Solutions\n2:00pm – 6:00pm \nAGE: 10 and up | $15.00\n\nPaddle under the fountains with Taiter’s Kayak Solutions all summer long at RiverScape MetroPark! Kayakers launch from under the Riverside Bridge along the Great Miami Recreational Trail\, and the cost to participate is $15 per person per hour. Taiter’s Kayak Solutions staff will provide participants with brief instructions prior to entering the water – including a safety tutorial – and will help participants get into their vessels. All participants will be required to wear a properly fitted life jacket. Swimming is prohibited in the Great Miami River\, but participants should come prepared to get wet. Participants will also not be permitted to go through the RiverScape River Run whitewater feature. No lifeguards are on duty\, and paddling is at all participants’ own risk. All participants will be required to sign a waiver before entering their vessel\, and all minors must have a parent/guardian present. Regular walk-up rental hours take place Tuesdays from 2-6PM and Thursdays from 4-8PM\, June-October. Visit Facebook.com/TaitersKayak or TaitersKayak.com for more information. Weather Dependent. \nPaddle under the Fountain of Lights with Taiterâ’s Kayak Solutions all Summer Long at RiverScape MetroPark.
URL:https://downtowndayton.org/event/kayak-rentals-at-riverscape-with-taiters-kayak-solutions-49/2025-08-05/
LOCATION:RiverScape MetroPark\, 237 E Monument Ave\, Dayton\, OH\, 45402\, United States
ATTACH;FMTTYPE=image/jpeg:https://downtowndayton.org/wp-content/uploads/2023/11/riverscape.jpg
END:VEVENT
END:VCALENDAR