BEGIN:VCALENDAR
VERSION:2.0
PRODID:-//Downtown Dayton Partnership - ECPv6.8.1//NONSGML v1.0//EN
CALSCALE:GREGORIAN
METHOD:PUBLISH
X-WR-CALNAME:Downtown Dayton Partnership
X-ORIGINAL-URL:https://downtowndayton.org
X-WR-CALDESC:Events for Downtown Dayton Partnership
REFRESH-INTERVAL;VALUE=DURATION:PT1H
X-Robots-Tag:noindex
X-PUBLISHED-TTL:PT1H
BEGIN:VTIMEZONE
TZID:America/New_York
BEGIN:DAYLIGHT
TZOFFSETFROM:-0500
TZOFFSETTO:-0400
TZNAME:EDT
DTSTART:20250309T070000
END:DAYLIGHT
BEGIN:STANDARD
TZOFFSETFROM:-0400
TZOFFSETTO:-0500
TZNAME:EST
DTSTART:20251102T060000
END:STANDARD
TZID:America/Detroit
BEGIN:DAYLIGHT
TZOFFSETFROM:-0500
TZOFFSETTO:-0400
TZNAME:EDT
DTSTART:20250309T070000
END:DAYLIGHT
BEGIN:STANDARD
TZOFFSETFROM:-0400
TZOFFSETTO:-0500
TZNAME:EST
DTSTART:20251102T060000
END:STANDARD
END:VTIMEZONE
BEGIN:VEVENT
DTSTART;TZID=America/New_York:20251206T190000
DTEND;TZID=America/New_York:20251206T190000
DTSTAMP:20260424T172339
CREATED:20251113T184120Z
LAST-MODIFIED:20251113T184120Z
UID:10049314-1765047600-1765047600@downtowndayton.org
SUMMARY:LUNG with Nick Kizirnis\, Nervous Verbs\, and Wujeria
DESCRIPTION:LUNG RETURNS TO DAYTON OHIO SATURDAY DECEMBER 6 AT YELLOW CAB TAVERN with special guests NICK KIZIRNIS\, WUJERIA and NERVOUS VERBS Since their inception in Cincinnati in 2016\, Lung has gained a cult-like following with their impeccable\, candy-coated\, melodies atop a whirring\, chainsaw\, thunderclap of cello and drums. Lung consists of Kate Wakefield\, a classically trained opera singer and cellist\, and former Foxy Shazam bassist Daisy Caplan on drums. Fierce\, ethereal\, and heavy as hell\, Lung plays with the intensity of early grunge layered with sinister undertones. Described as “loud\, dissonant\, innovative\, and fearless” (Fair Shakes and Just Dessert)\, Wakefield runs her cello through distortion pedals and big amps\, while Caplan pounds out earthquaking beats on epic horn-shaped vintage drums. A relentless touring machine since 2016\, Lung has played over 900 shows across North America and Europe\, sharing bills with The Jesus Lizard\, Dead Bob (ex NoMeansNo)\, Brainiac\, Sleepytime Gorilla Museum\, Guided By Voices\, Screaming Females\, Big Business\, Chat Pile and so many more. The band’s fifth studio album\, The Swankeeper\, sees them continue to develop and expand their genre defying sound.
URL:https://downtowndayton.org/event/lung-with-nick-kizirnis-nervous-verbs-and-wujeria/
LOCATION:Yellow Cab Tavern\, 700 E 4th St\, Dayton\, OH\, 45402\, United States
ATTACH;FMTTYPE=image/jpeg:https://downtowndayton.org/wp-content/uploads/2025/11/FB_IMG_1757567114146.jpg
END:VEVENT
BEGIN:VEVENT
DTSTART;TZID=America/New_York:20251207T120000
DTEND;TZID=America/New_York:20251207T170000
DTSTAMP:20260424T172339
CREATED:20250730T200547Z
LAST-MODIFIED:20250730T200547Z
UID:10039079-1765108800-1765126800@downtowndayton.org
SUMMARY:Art For All Day – FREE ADMISSION
DESCRIPTION:During “Art For All” Days\, the Dayton Art Institute will offer free admission to all museum guests\, including special and focus collections. Thank you to our Art For All Sponsors! Patron Sponsors: Ramona & Todd Vikan Supporting Sponsors: Eric and Karen Spina.
URL:https://downtowndayton.org/event/art-for-all-day-free-admission/2025-12-07/
LOCATION:The Dayton Art Institute\, 456 Belmonte Park N\, Dayton\, OH\, 45405\, United States
ATTACH;FMTTYPE=image/jpeg:https://downtowndayton.org/wp-content/uploads/2025/07/afad.jpg
END:VEVENT
BEGIN:VEVENT
DTSTART;TZID=America/New_York:20251207T120000
DTEND;TZID=America/New_York:20251207T170000
DTSTAMP:20260424T172339
CREATED:20251113T182237Z
LAST-MODIFIED:20251113T182237Z
UID:10049305-1765108800-1765126800@downtowndayton.org
SUMMARY:Creepy Christmas: A Bizarre for the Strange & Unusual
DESCRIPTION:Creepy Christmas: A Bizarre for the Strange & Unusual Sunday\, December 7th | 12 PM – 5 PM Free Admission!  As winter’s chill creeps in and the veil between merry and macabre grows thin\, join us for a hauntingly festive gathering of artists\, makers\, and vintage curators who celebrate the darker side of the holiday season. Shop from over 35 artisans and vintage vendors offering handcrafted curiosities\, mystical wares\, gothic décor\, and eerie treasures—perfect for those who find beauty in the shadows. Sip\, shop\, and soak in the strange holiday spirit beneath the glow of twinkling lights and dark delights. Embrace the magic!  Celebrate a Creepy Christmas at The Brightside. Vendor applications for the event are now closed. However\, this is an annual event. Feel free to message us to be added to our mailing list for future events
URL:https://downtowndayton.org/event/creepy-christmas-a-bizarre-for-the-strange-unusual/
LOCATION:The Brightside\, 905 E. Third St.\, Dayton\, OH\, 45402
ATTACH;FMTTYPE=image/png:https://downtowndayton.org/wp-content/uploads/2025/11/Creepy-Christmas.png
END:VEVENT
BEGIN:VEVENT
DTSTART;TZID=America/Detroit:20251209T190000
DTEND;TZID=America/Detroit:20251209T190000
DTSTAMP:20260424T172339
CREATED:20250114T175514Z
LAST-MODIFIED:20250114T175514Z
UID:10050301-1765306800-1765306800@downtowndayton.org
SUMMARY:Trivia Tuesday
DESCRIPTION:Trivia Tuesdays are fun for everyone at The Dayton Beer Company! Get $3.50 DBC Pints every Tuesday with trivia starting at 7:00 p.m. Cheers!
URL:https://downtowndayton.org/event/trivia-tuesday-2025-06-24/
LOCATION:OH
ATTACH;FMTTYPE=image/jpeg:https://downtowndayton.org/wp-content/uploads/2025/01/dbc.jpg
END:VEVENT
BEGIN:VEVENT
DTSTART;TZID=America/Detroit:20251209T190000
DTEND;TZID=America/Detroit:20251209T190000
DTSTAMP:20260424T172339
CREATED:20250114T175514Z
LAST-MODIFIED:20250114T175514Z
UID:10050354-1765306800-1765306800@downtowndayton.org
SUMMARY:Trivia Tuesday
DESCRIPTION:Trivia Tuesdays are fun for everyone at The Dayton Beer Company! Get $3.50 DBC Pints every Tuesday with trivia starting at 7:00 p.m. Cheers!
URL:https://downtowndayton.org/event/trivia-tuesday-2025-07-08/
LOCATION:OH
ATTACH;FMTTYPE=image/jpeg:https://downtowndayton.org/wp-content/uploads/2025/01/dbc.jpg
END:VEVENT
BEGIN:VEVENT
DTSTART;TZID=America/Detroit:20251209T190000
DTEND;TZID=America/Detroit:20251209T190000
DTSTAMP:20260424T172339
CREATED:20250114T175514Z
LAST-MODIFIED:20250114T175514Z
UID:10050403-1765306800-1765306800@downtowndayton.org
SUMMARY:Trivia Tuesday
DESCRIPTION:Trivia Tuesdays are fun for everyone at The Dayton Beer Company! Get $3.50 DBC Pints every Tuesday with trivia starting at 7:00 p.m. Cheers!
URL:https://downtowndayton.org/event/trivia-tuesday-2025-07-22/
LOCATION:OH
ATTACH;FMTTYPE=image/jpeg:https://downtowndayton.org/wp-content/uploads/2025/01/dbc.jpg
END:VEVENT
BEGIN:VEVENT
DTSTART;TZID=America/Detroit:20251209T190000
DTEND;TZID=America/Detroit:20251209T190000
DTSTAMP:20260424T172339
CREATED:20250114T175514Z
LAST-MODIFIED:20250114T175514Z
UID:10050244-1765306800-1765306800@downtowndayton.org
SUMMARY:Trivia Tuesday
DESCRIPTION:Trivia Tuesdays are fun for everyone at The Dayton Beer Company! Get $3.50 DBC Pints every Tuesday with trivia starting at 7:00 p.m. Cheers!
URL:https://downtowndayton.org/event/trivia-tuesday-2025-06-10/
LOCATION:OH
ATTACH;FMTTYPE=image/jpeg:https://downtowndayton.org/wp-content/uploads/2025/01/dbc.jpg
END:VEVENT
BEGIN:VEVENT
DTSTART;TZID=America/Detroit:20251209T190000
DTEND;TZID=America/Detroit:20251209T190000
DTSTAMP:20260424T172339
CREATED:20250114T175514Z
LAST-MODIFIED:20250114T175514Z
UID:10050665-1765306800-1765306800@downtowndayton.org
SUMMARY:Trivia Tuesday
DESCRIPTION:Trivia Tuesdays are fun for everyone at The Dayton Beer Company! Get $3.50 DBC Pints every Tuesday with trivia starting at 7:00 p.m. Cheers!
URL:https://downtowndayton.org/event/trivia-tuesday-2025-11-25/
LOCATION:OH
ATTACH;FMTTYPE=image/jpeg:https://downtowndayton.org/wp-content/uploads/2025/01/dbc.jpg
END:VEVENT
BEGIN:VEVENT
DTSTART;TZID=America/Detroit:20251209T190000
DTEND;TZID=America/Detroit:20251209T190000
DTSTAMP:20260424T172339
CREATED:20250114T175514Z
LAST-MODIFIED:20250114T175514Z
UID:10051463-1765306800-1765306800@downtowndayton.org
SUMMARY:Trivia Tuesday
DESCRIPTION:Trivia Tuesdays are fun for everyone at The Dayton Beer Company! Get $3.50 DBC Pints every Tuesday with trivia starting at 7:00 p.m. Cheers!
URL:https://downtowndayton.org/event/trivia-tuesday-2025-05-20-2/
LOCATION:OH
ATTACH;FMTTYPE=image/jpeg:https://downtowndayton.org/wp-content/uploads/2025/01/dbc.jpg
END:VEVENT
BEGIN:VEVENT
DTSTART;TZID=America/Detroit:20251209T190000
DTEND;TZID=America/Detroit:20251209T190000
DTSTAMP:20260424T172339
CREATED:20250114T175514Z
LAST-MODIFIED:20250114T175514Z
UID:10051526-1765306800-1765306800@downtowndayton.org
SUMMARY:Trivia Tuesday
DESCRIPTION:Trivia Tuesdays are fun for everyone at The Dayton Beer Company! Get $3.50 DBC Pints every Tuesday with trivia starting at 7:00 p.m. Cheers!
URL:https://downtowndayton.org/event/trivia-tuesday-2025-06-03-2/
LOCATION:OH
ATTACH;FMTTYPE=image/jpeg:https://downtowndayton.org/wp-content/uploads/2025/01/dbc.jpg
END:VEVENT
BEGIN:VEVENT
DTSTART;TZID=America/Detroit:20251209T190000
DTEND;TZID=America/Detroit:20251209T190000
DTSTAMP:20260424T172339
CREATED:20250114T175514Z
LAST-MODIFIED:20250114T175514Z
UID:10051585-1765306800-1765306800@downtowndayton.org
SUMMARY:Trivia Tuesday
DESCRIPTION:Trivia Tuesdays are fun for everyone at The Dayton Beer Company! Get $3.50 DBC Pints every Tuesday with trivia starting at 7:00 p.m. Cheers!
URL:https://downtowndayton.org/event/trivia-tuesday-2025-06-17-2/
LOCATION:OH
ATTACH;FMTTYPE=image/jpeg:https://downtowndayton.org/wp-content/uploads/2025/01/dbc.jpg
END:VEVENT
BEGIN:VEVENT
DTSTART;TZID=America/Detroit:20251209T190000
DTEND;TZID=America/Detroit:20251209T190000
DTSTAMP:20260424T172339
CREATED:20250114T175514Z
LAST-MODIFIED:20250114T175514Z
UID:10051640-1765306800-1765306800@downtowndayton.org
SUMMARY:Trivia Tuesday
DESCRIPTION:Trivia Tuesdays are fun for everyone at The Dayton Beer Company! Get $3.50 DBC Pints every Tuesday with trivia starting at 7:00 p.m. Cheers!
URL:https://downtowndayton.org/event/trivia-tuesday-2025-07-01-2/
LOCATION:OH
ATTACH;FMTTYPE=image/jpeg:https://downtowndayton.org/wp-content/uploads/2025/01/dbc.jpg
END:VEVENT
BEGIN:VEVENT
DTSTART;TZID=America/Detroit:20251209T190000
DTEND;TZID=America/Detroit:20251209T190000
DTSTAMP:20260424T172339
CREATED:20250114T175514Z
LAST-MODIFIED:20250114T175514Z
UID:10051691-1765306800-1765306800@downtowndayton.org
SUMMARY:Trivia Tuesday
DESCRIPTION:Trivia Tuesdays are fun for everyone at The Dayton Beer Company! Get $3.50 DBC Pints every Tuesday with trivia starting at 7:00 p.m. Cheers!
URL:https://downtowndayton.org/event/trivia-tuesday-2025-07-15-2/
LOCATION:OH
ATTACH;FMTTYPE=image/jpeg:https://downtowndayton.org/wp-content/uploads/2025/01/dbc.jpg
END:VEVENT
BEGIN:VEVENT
DTSTART;TZID=America/Detroit:20251209T190000
DTEND;TZID=America/Detroit:20251209T190000
DTSTAMP:20260424T172339
CREATED:20250114T175514Z
LAST-MODIFIED:20250114T175514Z
UID:10051765-1765306800-1765306800@downtowndayton.org
SUMMARY:Trivia Tuesday
DESCRIPTION:Trivia Tuesdays are fun for everyone at The Dayton Beer Company! Get $3.50 DBC Pints every Tuesday with trivia starting at 7:00 p.m. Cheers!
URL:https://downtowndayton.org/event/trivia-tuesday-2025-01-21-3/
LOCATION:OH
ATTACH;FMTTYPE=image/jpeg:https://downtowndayton.org/wp-content/uploads/2025/01/dbc.jpg
END:VEVENT
BEGIN:VEVENT
DTSTART;TZID=America/Detroit:20251209T190000
DTEND;TZID=America/Detroit:20251209T190000
DTSTAMP:20260424T172339
CREATED:20250114T175514Z
LAST-MODIFIED:20250114T175514Z
UID:10051862-1765306800-1765306800@downtowndayton.org
SUMMARY:Trivia Tuesday
DESCRIPTION:Trivia Tuesdays are fun for everyone at The Dayton Beer Company! Get $3.50 DBC Pints every Tuesday with trivia starting at 7:00 p.m. Cheers!
URL:https://downtowndayton.org/event/trivia-tuesday-2025-02-04-3/
LOCATION:OH
ATTACH;FMTTYPE=image/jpeg:https://downtowndayton.org/wp-content/uploads/2025/01/dbc.jpg
END:VEVENT
BEGIN:VEVENT
DTSTART;TZID=America/Detroit:20251209T190000
DTEND;TZID=America/Detroit:20251209T190000
DTSTAMP:20260424T172339
CREATED:20250114T175514Z
LAST-MODIFIED:20250114T175514Z
UID:10051955-1765306800-1765306800@downtowndayton.org
SUMMARY:Trivia Tuesday
DESCRIPTION:Trivia Tuesdays are fun for everyone at The Dayton Beer Company! Get $3.50 DBC Pints every Tuesday with trivia starting at 7:00 p.m. Cheers!
URL:https://downtowndayton.org/event/trivia-tuesday-2025-02-18-3/
LOCATION:OH
ATTACH;FMTTYPE=image/jpeg:https://downtowndayton.org/wp-content/uploads/2025/01/dbc.jpg
END:VEVENT
BEGIN:VEVENT
DTSTART;TZID=America/Detroit:20251209T190000
DTEND;TZID=America/Detroit:20251209T190000
DTSTAMP:20260424T172339
CREATED:20250114T175514Z
LAST-MODIFIED:20250114T175514Z
UID:10052044-1765306800-1765306800@downtowndayton.org
SUMMARY:Trivia Tuesday
DESCRIPTION:Trivia Tuesdays are fun for everyone at The Dayton Beer Company! Get $3.50 DBC Pints every Tuesday with trivia starting at 7:00 p.m. Cheers!
URL:https://downtowndayton.org/event/trivia-tuesday-2025-03-04-3/
LOCATION:OH
ATTACH;FMTTYPE=image/jpeg:https://downtowndayton.org/wp-content/uploads/2025/01/dbc.jpg
END:VEVENT
BEGIN:VEVENT
DTSTART;TZID=America/Detroit:20251209T190000
DTEND;TZID=America/Detroit:20251209T190000
DTSTAMP:20260424T172339
CREATED:20250114T175514Z
LAST-MODIFIED:20250114T175514Z
UID:10052129-1765306800-1765306800@downtowndayton.org
SUMMARY:Trivia Tuesday
DESCRIPTION:Trivia Tuesdays are fun for everyone at The Dayton Beer Company! Get $3.50 DBC Pints every Tuesday with trivia starting at 7:00 p.m. Cheers!
URL:https://downtowndayton.org/event/trivia-tuesday-2025-03-18-3/
LOCATION:OH
ATTACH;FMTTYPE=image/jpeg:https://downtowndayton.org/wp-content/uploads/2025/01/dbc.jpg
END:VEVENT
BEGIN:VEVENT
DTSTART;TZID=America/Detroit:20251209T190000
DTEND;TZID=America/Detroit:20251209T190000
DTSTAMP:20260424T172339
CREATED:20250114T175514Z
LAST-MODIFIED:20250114T175514Z
UID:10050670-1765306800-1765306800@downtowndayton.org
SUMMARY:Trivia Tuesday
DESCRIPTION:Trivia Tuesdays are fun for everyone at The Dayton Beer Company! Get $3.50 DBC Pints every Tuesday with trivia starting at 7:00 p.m. Cheers!
URL:https://downtowndayton.org/event/trivia-tuesday-2025-12-02/
LOCATION:OH
ATTACH;FMTTYPE=image/jpeg:https://downtowndayton.org/wp-content/uploads/2025/01/dbc.jpg
END:VEVENT
BEGIN:VEVENT
DTSTART;TZID=America/Detroit:20251209T190000
DTEND;TZID=America/Detroit:20251209T190000
DTSTAMP:20260424T172339
CREATED:20250114T175514Z
LAST-MODIFIED:20250114T175514Z
UID:10052210-1765306800-1765306800@downtowndayton.org
SUMMARY:Trivia Tuesday
DESCRIPTION:Trivia Tuesdays are fun for everyone at The Dayton Beer Company! Get $3.50 DBC Pints every Tuesday with trivia starting at 7:00 p.m. Cheers!
URL:https://downtowndayton.org/event/trivia-tuesday-2025-04-01-3/
LOCATION:OH
ATTACH;FMTTYPE=image/jpeg:https://downtowndayton.org/wp-content/uploads/2025/01/dbc.jpg
END:VEVENT
BEGIN:VEVENT
DTSTART;TZID=America/Detroit:20251209T190000
DTEND;TZID=America/Detroit:20251209T190000
DTSTAMP:20260424T172339
CREATED:20250114T175514Z
LAST-MODIFIED:20250114T175514Z
UID:10052287-1765306800-1765306800@downtowndayton.org
SUMMARY:Trivia Tuesday
DESCRIPTION:Trivia Tuesdays are fun for everyone at The Dayton Beer Company! Get $3.50 DBC Pints every Tuesday with trivia starting at 7:00 p.m. Cheers!
URL:https://downtowndayton.org/event/trivia-tuesday-2025-04-15-3/
LOCATION:OH
ATTACH;FMTTYPE=image/jpeg:https://downtowndayton.org/wp-content/uploads/2025/01/dbc.jpg
END:VEVENT
BEGIN:VEVENT
DTSTART;TZID=America/Detroit:20251209T190000
DTEND;TZID=America/Detroit:20251209T190000
DTSTAMP:20260424T172339
CREATED:20250114T175514Z
LAST-MODIFIED:20250114T175514Z
UID:10050815-1765306800-1765306800@downtowndayton.org
SUMMARY:Trivia Tuesday
DESCRIPTION:Trivia Tuesdays are fun for everyone at The Dayton Beer Company! Get $3.50 DBC Pints every Tuesday with trivia starting at 7:00 p.m. Cheers!
URL:https://downtowndayton.org/event/trivia-tuesday-2025-01-28-2/
LOCATION:OH
ATTACH;FMTTYPE=image/jpeg:https://downtowndayton.org/wp-content/uploads/2025/01/dbc.jpg
END:VEVENT
BEGIN:VEVENT
DTSTART;TZID=America/Detroit:20251209T190000
DTEND;TZID=America/Detroit:20251209T190000
DTSTAMP:20260424T172339
CREATED:20250114T175514Z
LAST-MODIFIED:20250114T175514Z
UID:10052360-1765306800-1765306800@downtowndayton.org
SUMMARY:Trivia Tuesday
DESCRIPTION:Trivia Tuesdays are fun for everyone at The Dayton Beer Company! Get $3.50 DBC Pints every Tuesday with trivia starting at 7:00 p.m. Cheers!
URL:https://downtowndayton.org/event/trivia-tuesday-2025-04-29-3/
LOCATION:OH
ATTACH;FMTTYPE=image/jpeg:https://downtowndayton.org/wp-content/uploads/2025/01/dbc.jpg
END:VEVENT
BEGIN:VEVENT
DTSTART;TZID=America/Detroit:20251209T190000
DTEND;TZID=America/Detroit:20251209T190000
DTSTAMP:20260424T172339
CREATED:20250114T175514Z
LAST-MODIFIED:20250114T175514Z
UID:10050910-1765306800-1765306800@downtowndayton.org
SUMMARY:Trivia Tuesday
DESCRIPTION:Trivia Tuesdays are fun for everyone at The Dayton Beer Company! Get $3.50 DBC Pints every Tuesday with trivia starting at 7:00 p.m. Cheers!
URL:https://downtowndayton.org/event/trivia-tuesday-2025-02-11-2/
LOCATION:OH
ATTACH;FMTTYPE=image/jpeg:https://downtowndayton.org/wp-content/uploads/2025/01/dbc.jpg
END:VEVENT
BEGIN:VEVENT
DTSTART;TZID=America/Detroit:20251209T190000
DTEND;TZID=America/Detroit:20251209T190000
DTSTAMP:20260424T172339
CREATED:20250114T175514Z
LAST-MODIFIED:20250114T175514Z
UID:10052429-1765306800-1765306800@downtowndayton.org
SUMMARY:Trivia Tuesday
DESCRIPTION:Trivia Tuesdays are fun for everyone at The Dayton Beer Company! Get $3.50 DBC Pints every Tuesday with trivia starting at 7:00 p.m. Cheers!
URL:https://downtowndayton.org/event/trivia-tuesday-2025-05-13-3/
LOCATION:OH
ATTACH;FMTTYPE=image/jpeg:https://downtowndayton.org/wp-content/uploads/2025/01/dbc.jpg
END:VEVENT
BEGIN:VEVENT
DTSTART;TZID=America/Detroit:20251209T190000
DTEND;TZID=America/Detroit:20251209T190000
DTSTAMP:20260424T172339
CREATED:20250114T175514Z
LAST-MODIFIED:20250114T175514Z
UID:10051001-1765306800-1765306800@downtowndayton.org
SUMMARY:Trivia Tuesday
DESCRIPTION:Trivia Tuesdays are fun for everyone at The Dayton Beer Company! Get $3.50 DBC Pints every Tuesday with trivia starting at 7:00 p.m. Cheers!
URL:https://downtowndayton.org/event/trivia-tuesday-2025-02-25-2/
LOCATION:OH
ATTACH;FMTTYPE=image/jpeg:https://downtowndayton.org/wp-content/uploads/2025/01/dbc.jpg
END:VEVENT
BEGIN:VEVENT
DTSTART;TZID=America/Detroit:20251209T190000
DTEND;TZID=America/Detroit:20251209T190000
DTSTAMP:20260424T172339
CREATED:20250114T175514Z
LAST-MODIFIED:20250114T175514Z
UID:10052494-1765306800-1765306800@downtowndayton.org
SUMMARY:Trivia Tuesday
DESCRIPTION:Trivia Tuesdays are fun for everyone at The Dayton Beer Company! Get $3.50 DBC Pints every Tuesday with trivia starting at 7:00 p.m. Cheers!
URL:https://downtowndayton.org/event/trivia-tuesday-2025-05-27-3/
LOCATION:OH
ATTACH;FMTTYPE=image/jpeg:https://downtowndayton.org/wp-content/uploads/2025/01/dbc.jpg
END:VEVENT
BEGIN:VEVENT
DTSTART;TZID=America/Detroit:20251209T190000
DTEND;TZID=America/Detroit:20251209T190000
DTSTAMP:20260424T172339
CREATED:20250114T175514Z
LAST-MODIFIED:20250114T175514Z
UID:10051088-1765306800-1765306800@downtowndayton.org
SUMMARY:Trivia Tuesday
DESCRIPTION:Trivia Tuesdays are fun for everyone at The Dayton Beer Company! Get $3.50 DBC Pints every Tuesday with trivia starting at 7:00 p.m. Cheers!
URL:https://downtowndayton.org/event/trivia-tuesday-2025-03-11-2/
LOCATION:OH
ATTACH;FMTTYPE=image/jpeg:https://downtowndayton.org/wp-content/uploads/2025/01/dbc.jpg
END:VEVENT
BEGIN:VEVENT
DTSTART;TZID=America/Detroit:20251209T190000
DTEND;TZID=America/Detroit:20251209T190000
DTSTAMP:20260424T172339
CREATED:20250114T175514Z
LAST-MODIFIED:20250114T175514Z
UID:10052555-1765306800-1765306800@downtowndayton.org
SUMMARY:Trivia Tuesday
DESCRIPTION:Trivia Tuesdays are fun for everyone at The Dayton Beer Company! Get $3.50 DBC Pints every Tuesday with trivia starting at 7:00 p.m. Cheers!
URL:https://downtowndayton.org/event/trivia-tuesday-2025-06-10-3/
LOCATION:OH
ATTACH;FMTTYPE=image/jpeg:https://downtowndayton.org/wp-content/uploads/2025/01/dbc.jpg
END:VEVENT
BEGIN:VEVENT
DTSTART;TZID=America/Detroit:20251209T190000
DTEND;TZID=America/Detroit:20251209T190000
DTSTAMP:20260424T172339
CREATED:20250114T175514Z
LAST-MODIFIED:20250114T175514Z
UID:10051171-1765306800-1765306800@downtowndayton.org
SUMMARY:Trivia Tuesday
DESCRIPTION:Trivia Tuesdays are fun for everyone at The Dayton Beer Company! Get $3.50 DBC Pints every Tuesday with trivia starting at 7:00 p.m. Cheers!
URL:https://downtowndayton.org/event/trivia-tuesday-2025-03-25-2/
LOCATION:OH
ATTACH;FMTTYPE=image/jpeg:https://downtowndayton.org/wp-content/uploads/2025/01/dbc.jpg
END:VEVENT
END:VCALENDAR