BEGIN:VCALENDAR
VERSION:2.0
PRODID:-//Downtown Dayton Partnership - ECPv6.8.1//NONSGML v1.0//EN
CALSCALE:GREGORIAN
METHOD:PUBLISH
X-WR-CALNAME:Downtown Dayton Partnership
X-ORIGINAL-URL:https://downtowndayton.org
X-WR-CALDESC:Events for Downtown Dayton Partnership
REFRESH-INTERVAL;VALUE=DURATION:PT1H
X-Robots-Tag:noindex
X-PUBLISHED-TTL:PT1H
BEGIN:VTIMEZONE
TZID:America/New_York
BEGIN:DAYLIGHT
TZOFFSETFROM:-0500
TZOFFSETTO:-0400
TZNAME:EDT
DTSTART:20250309T070000
END:DAYLIGHT
BEGIN:STANDARD
TZOFFSETFROM:-0400
TZOFFSETTO:-0500
TZNAME:EST
DTSTART:20251102T060000
END:STANDARD
TZID:America/Detroit
BEGIN:DAYLIGHT
TZOFFSETFROM:-0500
TZOFFSETTO:-0400
TZNAME:EDT
DTSTART:20250309T070000
END:DAYLIGHT
BEGIN:STANDARD
TZOFFSETFROM:-0400
TZOFFSETTO:-0500
TZNAME:EST
DTSTART:20251102T060000
END:STANDARD
END:VTIMEZONE
BEGIN:VEVENT
DTSTART;TZID=America/New_York:20250707T173000
DTEND;TZID=America/New_York:20250707T183000
DTSTAMP:20260419T112449
CREATED:20250630T124110Z
LAST-MODIFIED:20250630T124110Z
UID:10038880-1751909400-1751913000@downtowndayton.org
SUMMARY:Hometown Heroes Family Storytime
DESCRIPTION:Hometown Heroes Family Storytime\, Monday\, July 7\, 5:30-6:30 pm\, Main Library\, Children’s Creativity Space: Enjoy a fun-filled session of books\, songs\, and activities for kids of all ages with DML’s special guest reader\, Rodney Veal (a Dayton area independent choreographer\, interdisciplinary artist\, educator\, and producer). (Families)
URL:https://downtowndayton.org/event/hometown-heroes-family-storytime-3/
LOCATION:Dayton Metro Library – Main Library\, 215 E. Third Street\, Dayton\, OH\, 45402
ATTACH;FMTTYPE=image/jpeg:https://downtowndayton.org/wp-content/uploads/2023/08/dml.jpg
END:VEVENT
BEGIN:VEVENT
DTSTART;TZID=America/Detroit:20250708T190000
DTEND;TZID=America/Detroit:20250708T190000
DTSTAMP:20260419T112449
CREATED:20250114T175514Z
LAST-MODIFIED:20250114T175514Z
UID:10049877-1752001200-1752001200@downtowndayton.org
SUMMARY:Trivia Tuesday
DESCRIPTION:Trivia Tuesdays are fun for everyone at The Dayton Beer Company! Get $3.50 DBC Pints every Tuesday with trivia starting at 7:00 p.m. Cheers!
URL:https://downtowndayton.org/event/trivia-tuesday-2025-04-01/
LOCATION:OH
ATTACH;FMTTYPE=image/jpeg:https://downtowndayton.org/wp-content/uploads/2025/01/dbc.jpg
END:VEVENT
BEGIN:VEVENT
DTSTART;TZID=America/Detroit:20250708T190000
DTEND;TZID=America/Detroit:20250708T190000
DTSTAMP:20260419T112449
CREATED:20250114T175514Z
LAST-MODIFIED:20250114T175514Z
UID:10051978-1752001200-1752001200@downtowndayton.org
SUMMARY:Trivia Tuesday
DESCRIPTION:Trivia Tuesdays are fun for everyone at The Dayton Beer Company! Get $3.50 DBC Pints every Tuesday with trivia starting at 7:00 p.m. Cheers!
URL:https://downtowndayton.org/event/trivia-tuesday-2025-02-25-3/
LOCATION:OH
ATTACH;FMTTYPE=image/jpeg:https://downtowndayton.org/wp-content/uploads/2025/01/dbc.jpg
END:VEVENT
BEGIN:VEVENT
DTSTART;TZID=America/Detroit:20250708T190000
DTEND;TZID=America/Detroit:20250708T190000
DTSTAMP:20260419T112449
CREATED:20250114T175514Z
LAST-MODIFIED:20250114T175514Z
UID:10050979-1752001200-1752001200@downtowndayton.org
SUMMARY:Trivia Tuesday
DESCRIPTION:Trivia Tuesdays are fun for everyone at The Dayton Beer Company! Get $3.50 DBC Pints every Tuesday with trivia starting at 7:00 p.m. Cheers!
URL:https://downtowndayton.org/event/trivia-tuesday-2025-02-25-2/
LOCATION:OH
ATTACH;FMTTYPE=image/jpeg:https://downtowndayton.org/wp-content/uploads/2025/01/dbc.jpg
END:VEVENT
BEGIN:VEVENT
DTSTART;TZID=America/Detroit:20250708T190000
DTEND;TZID=America/Detroit:20250708T190000
DTSTAMP:20260419T112449
CREATED:20250114T175514Z
LAST-MODIFIED:20250114T175514Z
UID:10051887-1752001200-1752001200@downtowndayton.org
SUMMARY:Trivia Tuesday
DESCRIPTION:Trivia Tuesdays are fun for everyone at The Dayton Beer Company! Get $3.50 DBC Pints every Tuesday with trivia starting at 7:00 p.m. Cheers!
URL:https://downtowndayton.org/event/trivia-tuesday-2025-02-11-3/
LOCATION:OH
ATTACH;FMTTYPE=image/jpeg:https://downtowndayton.org/wp-content/uploads/2025/01/dbc.jpg
END:VEVENT
BEGIN:VEVENT
DTSTART;TZID=America/Detroit:20250708T190000
DTEND;TZID=America/Detroit:20250708T190000
DTSTAMP:20260419T112449
CREATED:20250114T175514Z
LAST-MODIFIED:20250114T175514Z
UID:10050888-1752001200-1752001200@downtowndayton.org
SUMMARY:Trivia Tuesday
DESCRIPTION:Trivia Tuesdays are fun for everyone at The Dayton Beer Company! Get $3.50 DBC Pints every Tuesday with trivia starting at 7:00 p.m. Cheers!
URL:https://downtowndayton.org/event/trivia-tuesday-2025-02-11-2/
LOCATION:OH
ATTACH;FMTTYPE=image/jpeg:https://downtowndayton.org/wp-content/uploads/2025/01/dbc.jpg
END:VEVENT
BEGIN:VEVENT
DTSTART;TZID=America/Detroit:20250708T190000
DTEND;TZID=America/Detroit:20250708T190000
DTSTAMP:20260419T112449
CREATED:20250114T175514Z
LAST-MODIFIED:20250114T175514Z
UID:10049754-1752001200-1752001200@downtowndayton.org
SUMMARY:Trivia Tuesday
DESCRIPTION:Trivia Tuesdays are fun for everyone at The Dayton Beer Company! Get $3.50 DBC Pints every Tuesday with trivia starting at 7:00 p.m. Cheers!
URL:https://downtowndayton.org/event/trivia-tuesday-2025-03-11/
LOCATION:OH
ATTACH;FMTTYPE=image/jpeg:https://downtowndayton.org/wp-content/uploads/2025/01/dbc.jpg
END:VEVENT
BEGIN:VEVENT
DTSTART;TZID=America/Detroit:20250708T190000
DTEND;TZID=America/Detroit:20250708T190000
DTSTAMP:20260419T112449
CREATED:20250114T175514Z
LAST-MODIFIED:20250114T175514Z
UID:10051149-1752001200-1752001200@downtowndayton.org
SUMMARY:Trivia Tuesday
DESCRIPTION:Trivia Tuesdays are fun for everyone at The Dayton Beer Company! Get $3.50 DBC Pints every Tuesday with trivia starting at 7:00 p.m. Cheers!
URL:https://downtowndayton.org/event/trivia-tuesday-2025-03-25-2/
LOCATION:OH
ATTACH;FMTTYPE=image/jpeg:https://downtowndayton.org/wp-content/uploads/2025/01/dbc.jpg
END:VEVENT
BEGIN:VEVENT
DTSTART;TZID=America/Detroit:20250708T190000
DTEND;TZID=America/Detroit:20250708T190000
DTSTAMP:20260419T112449
CREATED:20250114T175514Z
LAST-MODIFIED:20250114T175514Z
UID:10052148-1752001200-1752001200@downtowndayton.org
SUMMARY:Trivia Tuesday
DESCRIPTION:Trivia Tuesdays are fun for everyone at The Dayton Beer Company! Get $3.50 DBC Pints every Tuesday with trivia starting at 7:00 p.m. Cheers!
URL:https://downtowndayton.org/event/trivia-tuesday-2025-03-25-3/
LOCATION:OH
ATTACH;FMTTYPE=image/jpeg:https://downtowndayton.org/wp-content/uploads/2025/01/dbc.jpg
END:VEVENT
BEGIN:VEVENT
DTSTART;TZID=America/Detroit:20250708T190000
DTEND;TZID=America/Detroit:20250708T190000
DTSTAMP:20260419T112449
CREATED:20250114T175514Z
LAST-MODIFIED:20250114T175514Z
UID:10049796-1752001200-1752001200@downtowndayton.org
SUMMARY:Trivia Tuesday
DESCRIPTION:Trivia Tuesdays are fun for everyone at The Dayton Beer Company! Get $3.50 DBC Pints every Tuesday with trivia starting at 7:00 p.m. Cheers!
URL:https://downtowndayton.org/event/trivia-tuesday-2025-03-18/
LOCATION:OH
ATTACH;FMTTYPE=image/jpeg:https://downtowndayton.org/wp-content/uploads/2025/01/dbc.jpg
END:VEVENT
BEGIN:VEVENT
DTSTART;TZID=America/Detroit:20250708T190000
DTEND;TZID=America/Detroit:20250708T190000
DTSTAMP:20260419T112449
CREATED:20250114T175514Z
LAST-MODIFIED:20250114T175514Z
UID:10049481-1752001200-1752001200@downtowndayton.org
SUMMARY:Trivia Tuesday
DESCRIPTION:Trivia Tuesdays are fun for everyone at The Dayton Beer Company! Get $3.50 DBC Pints every Tuesday with trivia starting at 7:00 p.m. Cheers!
URL:https://downtowndayton.org/event/trivia-tuesday-2025-01-28/
LOCATION:OH
ATTACH;FMTTYPE=image/jpeg:https://downtowndayton.org/wp-content/uploads/2025/01/dbc.jpg
END:VEVENT
BEGIN:VEVENT
DTSTART;TZID=America/Detroit:20250708T190000
DTEND;TZID=America/Detroit:20250708T190000
DTSTAMP:20260419T112449
CREATED:20250114T175514Z
LAST-MODIFIED:20250114T175514Z
UID:10051228-1752001200-1752001200@downtowndayton.org
SUMMARY:Trivia Tuesday
DESCRIPTION:Trivia Tuesdays are fun for everyone at The Dayton Beer Company! Get $3.50 DBC Pints every Tuesday with trivia starting at 7:00 p.m. Cheers!
URL:https://downtowndayton.org/event/trivia-tuesday-2025-04-08-2/
LOCATION:OH
ATTACH;FMTTYPE=image/jpeg:https://downtowndayton.org/wp-content/uploads/2025/01/dbc.jpg
END:VEVENT
BEGIN:VEVENT
DTSTART;TZID=America/Detroit:20250708T190000
DTEND;TZID=America/Detroit:20250708T190000
DTSTAMP:20260419T112449
CREATED:20250114T175514Z
LAST-MODIFIED:20250114T175514Z
UID:10050062-1752001200-1752001200@downtowndayton.org
SUMMARY:Trivia Tuesday
DESCRIPTION:Trivia Tuesdays are fun for everyone at The Dayton Beer Company! Get $3.50 DBC Pints every Tuesday with trivia starting at 7:00 p.m. Cheers!
URL:https://downtowndayton.org/event/trivia-tuesday-2025-05-06/
LOCATION:OH
ATTACH;FMTTYPE=image/jpeg:https://downtowndayton.org/wp-content/uploads/2025/01/dbc.jpg
END:VEVENT
BEGIN:VEVENT
DTSTART;TZID=America/Detroit:20250708T190000
DTEND;TZID=America/Detroit:20250708T190000
DTSTAMP:20260419T112449
CREATED:20250114T175514Z
LAST-MODIFIED:20250114T175514Z
UID:10052643-1752001200-1752001200@downtowndayton.org
SUMMARY:Trivia Tuesday
DESCRIPTION:Trivia Tuesdays are fun for everyone at The Dayton Beer Company! Get $3.50 DBC Pints every Tuesday with trivia starting at 7:00 p.m. Cheers!
URL:https://downtowndayton.org/event/trivia-tuesday-2025-07-08-3/
LOCATION:OH
ATTACH;FMTTYPE=image/jpeg:https://downtowndayton.org/wp-content/uploads/2025/01/dbc.jpg
END:VEVENT
BEGIN:VEVENT
DTSTART;TZID=America/Detroit:20250708T190000
DTEND;TZID=America/Detroit:20250708T190000
DTSTAMP:20260419T112449
CREATED:20250114T175514Z
LAST-MODIFIED:20250114T175514Z
UID:10050222-1752001200-1752001200@downtowndayton.org
SUMMARY:Trivia Tuesday
DESCRIPTION:Trivia Tuesdays are fun for everyone at The Dayton Beer Company! Get $3.50 DBC Pints every Tuesday with trivia starting at 7:00 p.m. Cheers!
URL:https://downtowndayton.org/event/trivia-tuesday-2025-06-10/
LOCATION:OH
ATTACH;FMTTYPE=image/jpeg:https://downtowndayton.org/wp-content/uploads/2025/01/dbc.jpg
END:VEVENT
BEGIN:VEVENT
DTSTART;TZID=America/Detroit:20250708T190000
DTEND;TZID=America/Detroit:20250708T190000
DTSTAMP:20260419T112449
CREATED:20250114T175514Z
LAST-MODIFIED:20250114T175514Z
UID:10052227-1752001200-1752001200@downtowndayton.org
SUMMARY:Trivia Tuesday
DESCRIPTION:Trivia Tuesdays are fun for everyone at The Dayton Beer Company! Get $3.50 DBC Pints every Tuesday with trivia starting at 7:00 p.m. Cheers!
URL:https://downtowndayton.org/event/trivia-tuesday-2025-04-08-3/
LOCATION:OH
ATTACH;FMTTYPE=image/jpeg:https://downtowndayton.org/wp-content/uploads/2025/01/dbc.jpg
END:VEVENT
BEGIN:VEVENT
DTSTART;TZID=America/Detroit:20250708T190000
DTEND;TZID=America/Detroit:20250708T190000
DTSTAMP:20260419T112449
CREATED:20250114T175514Z
LAST-MODIFIED:20250114T175514Z
UID:10049432-1752001200-1752001200@downtowndayton.org
SUMMARY:Trivia Tuesday
DESCRIPTION:Trivia Tuesdays are fun for everyone at The Dayton Beer Company! Get $3.50 DBC Pints every Tuesday with trivia starting at 7:00 p.m. Cheers!
URL:https://downtowndayton.org/event/trivia-tuesday-2025-01-21/
LOCATION:OH
ATTACH;FMTTYPE=image/jpeg:https://downtowndayton.org/wp-content/uploads/2025/01/dbc.jpg
END:VEVENT
BEGIN:VEVENT
DTSTART;TZID=America/Detroit:20250708T190000
DTEND;TZID=America/Detroit:20250708T190000
DTSTAMP:20260419T112450
CREATED:20250114T175514Z
LAST-MODIFIED:20250114T175514Z
UID:10052562-1752001200-1752001200@downtowndayton.org
SUMMARY:Trivia Tuesday
DESCRIPTION:Trivia Tuesdays are fun for everyone at The Dayton Beer Company! Get $3.50 DBC Pints every Tuesday with trivia starting at 7:00 p.m. Cheers!
URL:https://downtowndayton.org/event/trivia-tuesday-2025-06-17-3/
LOCATION:OH
ATTACH;FMTTYPE=image/jpeg:https://downtowndayton.org/wp-content/uploads/2025/01/dbc.jpg
END:VEVENT
BEGIN:VEVENT
DTSTART;TZID=America/Detroit:20250708T190000
DTEND;TZID=America/Detroit:20250708T190000
DTSTAMP:20260419T112450
CREATED:20250114T175514Z
LAST-MODIFIED:20250114T175514Z
UID:10051339-1752001200-1752001200@downtowndayton.org
SUMMARY:Trivia Tuesday
DESCRIPTION:Trivia Tuesdays are fun for everyone at The Dayton Beer Company! Get $3.50 DBC Pints every Tuesday with trivia starting at 7:00 p.m. Cheers!
URL:https://downtowndayton.org/event/trivia-tuesday-2025-04-29-2/
LOCATION:OH
ATTACH;FMTTYPE=image/jpeg:https://downtowndayton.org/wp-content/uploads/2025/01/dbc.jpg
END:VEVENT
BEGIN:VEVENT
DTSTART;TZID=America/Detroit:20250708T190000
DTEND;TZID=America/Detroit:20250708T190000
DTSTAMP:20260419T112450
CREATED:20250114T175514Z
LAST-MODIFIED:20250114T175514Z
UID:10051563-1752001200-1752001200@downtowndayton.org
SUMMARY:Trivia Tuesday
DESCRIPTION:Trivia Tuesdays are fun for everyone at The Dayton Beer Company! Get $3.50 DBC Pints every Tuesday with trivia starting at 7:00 p.m. Cheers!
URL:https://downtowndayton.org/event/trivia-tuesday-2025-06-17-2/
LOCATION:OH
ATTACH;FMTTYPE=image/jpeg:https://downtowndayton.org/wp-content/uploads/2025/01/dbc.jpg
END:VEVENT
BEGIN:VEVENT
DTSTART;TZID=America/Detroit:20250708T190000
DTEND;TZID=America/Detroit:20250708T190000
DTSTAMP:20260419T112450
CREATED:20250114T175514Z
LAST-MODIFIED:20250114T175514Z
UID:10052338-1752001200-1752001200@downtowndayton.org
SUMMARY:Trivia Tuesday
DESCRIPTION:Trivia Tuesdays are fun for everyone at The Dayton Beer Company! Get $3.50 DBC Pints every Tuesday with trivia starting at 7:00 p.m. Cheers!
URL:https://downtowndayton.org/event/trivia-tuesday-2025-04-29-3/
LOCATION:OH
ATTACH;FMTTYPE=image/jpeg:https://downtowndayton.org/wp-content/uploads/2025/01/dbc.jpg
END:VEVENT
BEGIN:VEVENT
DTSTART;TZID=America/Detroit:20250708T190000
DTEND;TZID=America/Detroit:20250708T190000
DTSTAMP:20260419T112450
CREATED:20250114T175514Z
LAST-MODIFIED:20250114T175514Z
UID:10052407-1752001200-1752001200@downtowndayton.org
SUMMARY:Trivia Tuesday
DESCRIPTION:Trivia Tuesdays are fun for everyone at The Dayton Beer Company! Get $3.50 DBC Pints every Tuesday with trivia starting at 7:00 p.m. Cheers!
URL:https://downtowndayton.org/event/trivia-tuesday-2025-05-13-3/
LOCATION:OH
ATTACH;FMTTYPE=image/jpeg:https://downtowndayton.org/wp-content/uploads/2025/01/dbc.jpg
END:VEVENT
BEGIN:VEVENT
DTSTART;TZID=America/Detroit:20250708T190000
DTEND;TZID=America/Detroit:20250708T190000
DTSTAMP:20260419T112450
CREATED:20250114T175514Z
LAST-MODIFIED:20250114T175514Z
UID:10049954-1752001200-1752001200@downtowndayton.org
SUMMARY:Trivia Tuesday
DESCRIPTION:Trivia Tuesdays are fun for everyone at The Dayton Beer Company! Get $3.50 DBC Pints every Tuesday with trivia starting at 7:00 p.m. Cheers!
URL:https://downtowndayton.org/event/trivia-tuesday-2025-04-15/
LOCATION:OH
ATTACH;FMTTYPE=image/jpeg:https://downtowndayton.org/wp-content/uploads/2025/01/dbc.jpg
END:VEVENT
BEGIN:VEVENT
DTSTART;TZID=America/Detroit:20250708T190000
DTEND;TZID=America/Detroit:20250708T190000
DTSTAMP:20260419T112450
CREATED:20250114T175514Z
LAST-MODIFIED:20250114T175514Z
UID:10052503-1752001200-1752001200@downtowndayton.org
SUMMARY:Trivia Tuesday
DESCRIPTION:Trivia Tuesdays are fun for everyone at The Dayton Beer Company! Get $3.50 DBC Pints every Tuesday with trivia starting at 7:00 p.m. Cheers!
URL:https://downtowndayton.org/event/trivia-tuesday-2025-06-03-3/
LOCATION:OH
ATTACH;FMTTYPE=image/jpeg:https://downtowndayton.org/wp-content/uploads/2025/01/dbc.jpg
END:VEVENT
BEGIN:VEVENT
DTSTART;TZID=America/Detroit:20250708T190000
DTEND;TZID=America/Detroit:20250708T190000
DTSTAMP:20260419T112450
CREATED:20250114T175514Z
LAST-MODIFIED:20250114T175514Z
UID:10051408-1752001200-1752001200@downtowndayton.org
SUMMARY:Trivia Tuesday
DESCRIPTION:Trivia Tuesdays are fun for everyone at The Dayton Beer Company! Get $3.50 DBC Pints every Tuesday with trivia starting at 7:00 p.m. Cheers!
URL:https://downtowndayton.org/event/trivia-tuesday-2025-05-13-2/
LOCATION:OH
ATTACH;FMTTYPE=image/jpeg:https://downtowndayton.org/wp-content/uploads/2025/01/dbc.jpg
END:VEVENT
BEGIN:VEVENT
DTSTART;TZID=America/Detroit:20250708T190000
DTEND;TZID=America/Detroit:20250708T190000
DTSTAMP:20260419T112450
CREATED:20250114T175514Z
LAST-MODIFIED:20250114T175514Z
UID:10051504-1752001200-1752001200@downtowndayton.org
SUMMARY:Trivia Tuesday
DESCRIPTION:Trivia Tuesdays are fun for everyone at The Dayton Beer Company! Get $3.50 DBC Pints every Tuesday with trivia starting at 7:00 p.m. Cheers!
URL:https://downtowndayton.org/event/trivia-tuesday-2025-06-03-2/
LOCATION:OH
ATTACH;FMTTYPE=image/jpeg:https://downtowndayton.org/wp-content/uploads/2025/01/dbc.jpg
END:VEVENT
BEGIN:VEVENT
DTSTART;TZID=America/Detroit:20250708T190000
DTEND;TZID=America/Detroit:20250708T190000
DTSTAMP:20260419T112450
CREATED:20250114T175514Z
LAST-MODIFIED:20250114T175514Z
UID:10050306-1752001200-1752001200@downtowndayton.org
SUMMARY:Trivia Tuesday
DESCRIPTION:Trivia Tuesdays are fun for everyone at The Dayton Beer Company! Get $3.50 DBC Pints every Tuesday with trivia starting at 7:00 p.m. Cheers!
URL:https://downtowndayton.org/event/trivia-tuesday-2025-07-01/
LOCATION:OH
ATTACH;FMTTYPE=image/jpeg:https://downtowndayton.org/wp-content/uploads/2025/01/dbc.jpg
END:VEVENT
BEGIN:VEVENT
DTSTART;TZID=America/Detroit:20250708T190000
DTEND;TZID=America/Detroit:20250708T190000
DTSTAMP:20260419T112450
CREATED:20250114T175514Z
LAST-MODIFIED:20250114T175514Z
UID:10051189-1752001200-1752001200@downtowndayton.org
SUMMARY:Trivia Tuesday
DESCRIPTION:Trivia Tuesdays are fun for everyone at The Dayton Beer Company! Get $3.50 DBC Pints every Tuesday with trivia starting at 7:00 p.m. Cheers!
URL:https://downtowndayton.org/event/trivia-tuesday-2025-04-01-2/
LOCATION:OH
ATTACH;FMTTYPE=image/jpeg:https://downtowndayton.org/wp-content/uploads/2025/01/dbc.jpg
END:VEVENT
BEGIN:VEVENT
DTSTART;TZID=America/Detroit:20250708T190000
DTEND;TZID=America/Detroit:20250708T190000
DTSTAMP:20260419T112450
CREATED:20250114T175514Z
LAST-MODIFIED:20250114T175514Z
UID:10049991-1752001200-1752001200@downtowndayton.org
SUMMARY:Trivia Tuesday
DESCRIPTION:Trivia Tuesdays are fun for everyone at The Dayton Beer Company! Get $3.50 DBC Pints every Tuesday with trivia starting at 7:00 p.m. Cheers!
URL:https://downtowndayton.org/event/trivia-tuesday-2025-04-22/
LOCATION:OH
ATTACH;FMTTYPE=image/jpeg:https://downtowndayton.org/wp-content/uploads/2025/01/dbc.jpg
END:VEVENT
BEGIN:VEVENT
DTSTART;TZID=America/Detroit:20250708T190000
DTEND;TZID=America/Detroit:20250708T190000
DTSTAMP:20260419T112450
CREATED:20250114T175514Z
LAST-MODIFIED:20250114T175514Z
UID:10050279-1752001200-1752001200@downtowndayton.org
SUMMARY:Trivia Tuesday
DESCRIPTION:Trivia Tuesdays are fun for everyone at The Dayton Beer Company! Get $3.50 DBC Pints every Tuesday with trivia starting at 7:00 p.m. Cheers!
URL:https://downtowndayton.org/event/trivia-tuesday-2025-06-24/
LOCATION:OH
ATTACH;FMTTYPE=image/jpeg:https://downtowndayton.org/wp-content/uploads/2025/01/dbc.jpg
END:VEVENT
END:VCALENDAR