BEGIN:VCALENDAR
VERSION:2.0
PRODID:-//Downtown Dayton Partnership - ECPv6.8.1//NONSGML v1.0//EN
CALSCALE:GREGORIAN
METHOD:PUBLISH
X-WR-CALNAME:Downtown Dayton Partnership
X-ORIGINAL-URL:https://downtowndayton.org
X-WR-CALDESC:Events for Downtown Dayton Partnership
REFRESH-INTERVAL;VALUE=DURATION:PT1H
X-Robots-Tag:noindex
X-PUBLISHED-TTL:PT1H
BEGIN:VTIMEZONE
TZID:America/Detroit
BEGIN:DAYLIGHT
TZOFFSETFROM:-0500
TZOFFSETTO:-0400
TZNAME:EDT
DTSTART:20250309T070000
END:DAYLIGHT
BEGIN:STANDARD
TZOFFSETFROM:-0400
TZOFFSETTO:-0500
TZNAME:EST
DTSTART:20251102T060000
END:STANDARD
TZID:America/New_York
BEGIN:DAYLIGHT
TZOFFSETFROM:-0500
TZOFFSETTO:-0400
TZNAME:EDT
DTSTART:20250309T070000
END:DAYLIGHT
BEGIN:STANDARD
TZOFFSETFROM:-0400
TZOFFSETTO:-0500
TZNAME:EST
DTSTART:20251102T060000
END:STANDARD
END:VTIMEZONE
BEGIN:VEVENT
DTSTART;TZID=America/Detroit:20251106T183000
DTEND;TZID=America/Detroit:20251106T213000
DTSTAMP:20260421T132657
CREATED:20250114T175650Z
LAST-MODIFIED:20250114T175650Z
UID:10046392-1762453800-1762464600@downtowndayton.org
SUMMARY:Karaoke
DESCRIPTION:Join us for Karaoke Thursdays at The Dayton Beer Company\, hosted by Limelight Entertainment from 6:30 p.m.-9:30p.m. Cheers!
URL:https://downtowndayton.org/event/karaoke-2025-08-07/
LOCATION:OH
ATTACH;FMTTYPE=image/jpeg:https://downtowndayton.org/wp-content/uploads/2025/01/dbc.jpg
END:VEVENT
BEGIN:VEVENT
DTSTART;TZID=America/Detroit:20251106T183000
DTEND;TZID=America/Detroit:20251106T213000
DTSTAMP:20260421T132657
CREATED:20250114T175650Z
LAST-MODIFIED:20250114T175650Z
UID:10049237-1762453800-1762464600@downtowndayton.org
SUMMARY:Karaoke
DESCRIPTION:Join us for Karaoke Thursdays at The Dayton Beer Company\, hosted by Limelight Entertainment from 6:30 p.m.-9:30p.m. Cheers!
URL:https://downtowndayton.org/event/karaoke-2025-05-22-4/
LOCATION:OH
ATTACH;FMTTYPE=image/jpeg:https://downtowndayton.org/wp-content/uploads/2025/01/dbc.jpg
END:VEVENT
BEGIN:VEVENT
DTSTART;TZID=America/Detroit:20251106T183000
DTEND;TZID=America/Detroit:20251106T213000
DTSTAMP:20260421T132657
CREATED:20250114T175650Z
LAST-MODIFIED:20250114T175650Z
UID:10045501-1762453800-1762464600@downtowndayton.org
SUMMARY:Karaoke
DESCRIPTION:Join us for Karaoke Thursdays at The Dayton Beer Company\, hosted by Limelight Entertainment from 6:30 p.m.-9:30p.m. Cheers!
URL:https://downtowndayton.org/event/karaoke-2025-01-30/
LOCATION:OH
ATTACH;FMTTYPE=image/jpeg:https://downtowndayton.org/wp-content/uploads/2025/01/dbc.jpg
END:VEVENT
BEGIN:VEVENT
DTSTART;TZID=America/Detroit:20251106T183000
DTEND;TZID=America/Detroit:20251106T213000
DTSTAMP:20260421T132657
CREATED:20250114T175650Z
LAST-MODIFIED:20250114T175650Z
UID:10046429-1762453800-1762464600@downtowndayton.org
SUMMARY:Karaoke
DESCRIPTION:Join us for Karaoke Thursdays at The Dayton Beer Company\, hosted by Limelight Entertainment from 6:30 p.m.-9:30p.m. Cheers!
URL:https://downtowndayton.org/event/karaoke-2025-08-21/
LOCATION:OH
ATTACH;FMTTYPE=image/jpeg:https://downtowndayton.org/wp-content/uploads/2025/01/dbc.jpg
END:VEVENT
BEGIN:VEVENT
DTSTART;TZID=America/Detroit:20251106T183000
DTEND;TZID=America/Detroit:20251106T213000
DTSTAMP:20260421T132657
CREATED:20250114T175650Z
LAST-MODIFIED:20250114T175650Z
UID:10046589-1762453800-1762464600@downtowndayton.org
SUMMARY:Karaoke
DESCRIPTION:Join us for Karaoke Thursdays at The Dayton Beer Company\, hosted by Limelight Entertainment from 6:30 p.m.-9:30p.m. Cheers!
URL:https://downtowndayton.org/event/karaoke-2025-11-06-2/
LOCATION:OH
ATTACH;FMTTYPE=image/jpeg:https://downtowndayton.org/wp-content/uploads/2025/01/dbc.jpg
END:VEVENT
BEGIN:VEVENT
DTSTART;TZID=America/Detroit:20251106T183000
DTEND;TZID=America/Detroit:20251106T213000
DTSTAMP:20260421T132657
CREATED:20250114T175650Z
LAST-MODIFIED:20250114T175650Z
UID:10047947-1762453800-1762464600@downtowndayton.org
SUMMARY:Karaoke
DESCRIPTION:Join us for Karaoke Thursdays at The Dayton Beer Company\, hosted by Limelight Entertainment from 6:30 p.m.-9:30p.m. Cheers!
URL:https://downtowndayton.org/event/karaoke-2025-02-27-3/
LOCATION:OH
ATTACH;FMTTYPE=image/jpeg:https://downtowndayton.org/wp-content/uploads/2025/01/dbc.jpg
END:VEVENT
BEGIN:VEVENT
DTSTART;TZID=America/Detroit:20251106T183000
DTEND;TZID=America/Detroit:20251106T213000
DTSTAMP:20260421T132657
CREATED:20250114T175650Z
LAST-MODIFIED:20250114T175650Z
UID:10046306-1762453800-1762464600@downtowndayton.org
SUMMARY:Karaoke
DESCRIPTION:Join us for Karaoke Thursdays at The Dayton Beer Company\, hosted by Limelight Entertainment from 6:30 p.m.-9:30p.m. Cheers!
URL:https://downtowndayton.org/event/karaoke-2025-07-10/
LOCATION:OH
ATTACH;FMTTYPE=image/jpeg:https://downtowndayton.org/wp-content/uploads/2025/01/dbc.jpg
END:VEVENT
BEGIN:VEVENT
DTSTART;TZID=America/Detroit:20251106T183000
DTEND;TZID=America/Detroit:20251106T213000
DTSTAMP:20260421T132657
CREATED:20250114T175650Z
LAST-MODIFIED:20250114T175650Z
UID:10045762-1762453800-1762464600@downtowndayton.org
SUMMARY:Karaoke
DESCRIPTION:Join us for Karaoke Thursdays at The Dayton Beer Company\, hosted by Limelight Entertainment from 6:30 p.m.-9:30p.m. Cheers!
URL:https://downtowndayton.org/event/karaoke-2025-03-13/
LOCATION:OH
ATTACH;FMTTYPE=image/jpeg:https://downtowndayton.org/wp-content/uploads/2025/01/dbc.jpg
END:VEVENT
BEGIN:VEVENT
DTSTART;TZID=America/Detroit:20251106T183000
DTEND;TZID=America/Detroit:20251106T213000
DTSTAMP:20260421T132657
CREATED:20250114T175650Z
LAST-MODIFIED:20250114T175650Z
UID:10049107-1762453800-1762464600@downtowndayton.org
SUMMARY:Karaoke
DESCRIPTION:Join us for Karaoke Thursdays at The Dayton Beer Company\, hosted by Limelight Entertainment from 6:30 p.m.-9:30p.m. Cheers!
URL:https://downtowndayton.org/event/karaoke-2025-04-24-4/
LOCATION:OH
ATTACH;FMTTYPE=image/jpeg:https://downtowndayton.org/wp-content/uploads/2025/01/dbc.jpg
END:VEVENT
BEGIN:VEVENT
DTSTART;TZID=America/Detroit:20251106T183000
DTEND;TZID=America/Detroit:20251106T213000
DTSTAMP:20260421T132657
CREATED:20250114T175650Z
LAST-MODIFIED:20250114T175650Z
UID:10047989-1762453800-1762464600@downtowndayton.org
SUMMARY:Karaoke
DESCRIPTION:Join us for Karaoke Thursdays at The Dayton Beer Company\, hosted by Limelight Entertainment from 6:30 p.m.-9:30p.m. Cheers!
URL:https://downtowndayton.org/event/karaoke-2025-03-06-3/
LOCATION:OH
ATTACH;FMTTYPE=image/jpeg:https://downtowndayton.org/wp-content/uploads/2025/01/dbc.jpg
END:VEVENT
BEGIN:VEVENT
DTSTART;TZID=America/Detroit:20251106T183000
DTEND;TZID=America/Detroit:20251106T213000
DTSTAMP:20260421T132657
CREATED:20250114T175650Z
LAST-MODIFIED:20250114T175650Z
UID:10047406-1762453800-1762464600@downtowndayton.org
SUMMARY:Karaoke
DESCRIPTION:Join us for Karaoke Thursdays at The Dayton Beer Company\, hosted by Limelight Entertainment from 6:30 p.m.-9:30p.m. Cheers!
URL:https://downtowndayton.org/event/karaoke-2025-04-03-2/
LOCATION:OH
ATTACH;FMTTYPE=image/jpeg:https://downtowndayton.org/wp-content/uploads/2025/01/dbc.jpg
END:VEVENT
BEGIN:VEVENT
DTSTART;TZID=America/Detroit:20251106T183000
DTEND;TZID=America/Detroit:20251106T213000
DTSTAMP:20260421T132657
CREATED:20250114T175650Z
LAST-MODIFIED:20250114T175650Z
UID:10047443-1762453800-1762464600@downtowndayton.org
SUMMARY:Karaoke
DESCRIPTION:Join us for Karaoke Thursdays at The Dayton Beer Company\, hosted by Limelight Entertainment from 6:30 p.m.-9:30p.m. Cheers!
URL:https://downtowndayton.org/event/karaoke-2025-04-10-2/
LOCATION:OH
ATTACH;FMTTYPE=image/jpeg:https://downtowndayton.org/wp-content/uploads/2025/01/dbc.jpg
END:VEVENT
BEGIN:VEVENT
DTSTART;TZID=America/Detroit:20251106T183000
DTEND;TZID=America/Detroit:20251106T213000
DTSTAMP:20260421T132657
CREATED:20250114T175650Z
LAST-MODIFIED:20250114T175650Z
UID:10046257-1762453800-1762464600@downtowndayton.org
SUMMARY:Karaoke
DESCRIPTION:Join us for Karaoke Thursdays at The Dayton Beer Company\, hosted by Limelight Entertainment from 6:30 p.m.-9:30p.m. Cheers!
URL:https://downtowndayton.org/event/karaoke-2025-06-26/
LOCATION:OH
ATTACH;FMTTYPE=image/jpeg:https://downtowndayton.org/wp-content/uploads/2025/01/dbc.jpg
END:VEVENT
BEGIN:VEVENT
DTSTART;TZID=America/Detroit:20251106T183000
DTEND;TZID=America/Detroit:20251106T213000
DTSTAMP:20260421T132657
CREATED:20250114T175650Z
LAST-MODIFIED:20250114T175650Z
UID:10048255-1762453800-1762464600@downtowndayton.org
SUMMARY:Karaoke
DESCRIPTION:Join us for Karaoke Thursdays at The Dayton Beer Company\, hosted by Limelight Entertainment from 6:30 p.m.-9:30p.m. Cheers!
URL:https://downtowndayton.org/event/karaoke-2025-04-24-3/
LOCATION:OH
ATTACH;FMTTYPE=image/jpeg:https://downtowndayton.org/wp-content/uploads/2025/01/dbc.jpg
END:VEVENT
BEGIN:VEVENT
DTSTART;TZID=America/Detroit:20251106T183000
DTEND;TZID=America/Detroit:20251106T213000
DTSTAMP:20260421T132657
CREATED:20250114T175650Z
LAST-MODIFIED:20250114T175650Z
UID:10045841-1762453800-1762464600@downtowndayton.org
SUMMARY:Karaoke
DESCRIPTION:Join us for Karaoke Thursdays at The Dayton Beer Company\, hosted by Limelight Entertainment from 6:30 p.m.-9:30p.m. Cheers!
URL:https://downtowndayton.org/event/karaoke-2025-03-27/
LOCATION:OH
ATTACH;FMTTYPE=image/jpeg:https://downtowndayton.org/wp-content/uploads/2025/01/dbc.jpg
END:VEVENT
BEGIN:VEVENT
DTSTART;TZID=America/Detroit:20251106T183000
DTEND;TZID=America/Detroit:20251106T213000
DTSTAMP:20260421T132657
CREATED:20250114T175650Z
LAST-MODIFIED:20250114T175650Z
UID:10048415-1762453800-1762464600@downtowndayton.org
SUMMARY:Karaoke
DESCRIPTION:Join us for Karaoke Thursdays at The Dayton Beer Company\, hosted by Limelight Entertainment from 6:30 p.m.-9:30p.m. Cheers!
URL:https://downtowndayton.org/event/karaoke-2025-05-29-3/
LOCATION:OH
ATTACH;FMTTYPE=image/jpeg:https://downtowndayton.org/wp-content/uploads/2025/01/dbc.jpg
END:VEVENT
BEGIN:VEVENT
DTSTART;TZID=America/Detroit:20251106T183000
DTEND;TZID=America/Detroit:20251106T213000
DTSTAMP:20260421T132657
CREATED:20250114T175650Z
LAST-MODIFIED:20250114T175650Z
UID:10047581-1762453800-1762464600@downtowndayton.org
SUMMARY:Karaoke
DESCRIPTION:Join us for Karaoke Thursdays at The Dayton Beer Company\, hosted by Limelight Entertainment from 6:30 p.m.-9:30p.m. Cheers!
URL:https://downtowndayton.org/event/karaoke-2025-05-08-2/
LOCATION:OH
ATTACH;FMTTYPE=image/jpeg:https://downtowndayton.org/wp-content/uploads/2025/01/dbc.jpg
END:VEVENT
BEGIN:VEVENT
DTSTART;TZID=America/Detroit:20251106T183000
DTEND;TZID=America/Detroit:20251106T213000
DTSTAMP:20260421T132657
CREATED:20250114T175650Z
LAST-MODIFIED:20250114T175650Z
UID:10047613-1762453800-1762464600@downtowndayton.org
SUMMARY:Karaoke
DESCRIPTION:Join us for Karaoke Thursdays at The Dayton Beer Company\, hosted by Limelight Entertainment from 6:30 p.m.-9:30p.m. Cheers!
URL:https://downtowndayton.org/event/karaoke-2025-05-15-2/
LOCATION:OH
ATTACH;FMTTYPE=image/jpeg:https://downtowndayton.org/wp-content/uploads/2025/01/dbc.jpg
END:VEVENT
BEGIN:VEVENT
DTSTART;TZID=America/Detroit:20251106T183000
DTEND;TZID=America/Detroit:20251106T213000
DTSTAMP:20260421T132657
CREATED:20250114T175650Z
LAST-MODIFIED:20250114T175650Z
UID:10048999-1762453800-1762464600@downtowndayton.org
SUMMARY:Karaoke
DESCRIPTION:Join us for Karaoke Thursdays at The Dayton Beer Company\, hosted by Limelight Entertainment from 6:30 p.m.-9:30p.m. Cheers!
URL:https://downtowndayton.org/event/karaoke-2025-04-03-4/
LOCATION:OH
ATTACH;FMTTYPE=image/jpeg:https://downtowndayton.org/wp-content/uploads/2025/01/dbc.jpg
END:VEVENT
BEGIN:VEVENT
DTSTART;TZID=America/Detroit:20251106T183000
DTEND;TZID=America/Detroit:20251106T213000
DTSTAMP:20260421T132657
CREATED:20250114T175650Z
LAST-MODIFIED:20250114T175650Z
UID:10049267-1762453800-1762464600@downtowndayton.org
SUMMARY:Karaoke
DESCRIPTION:Join us for Karaoke Thursdays at The Dayton Beer Company\, hosted by Limelight Entertainment from 6:30 p.m.-9:30p.m. Cheers!
URL:https://downtowndayton.org/event/karaoke-2025-05-29-4/
LOCATION:OH
ATTACH;FMTTYPE=image/jpeg:https://downtowndayton.org/wp-content/uploads/2025/01/dbc.jpg
END:VEVENT
BEGIN:VEVENT
DTSTART;TZID=America/Detroit:20251106T183000
DTEND;TZID=America/Detroit:20251106T213000
DTSTAMP:20260421T132657
CREATED:20250114T175650Z
LAST-MODIFIED:20250114T175650Z
UID:10047074-1762453800-1762464600@downtowndayton.org
SUMMARY:Karaoke
DESCRIPTION:Join us for Karaoke Thursdays at The Dayton Beer Company\, hosted by Limelight Entertainment from 6:30 p.m.-9:30p.m. Cheers!
URL:https://downtowndayton.org/event/karaoke-2025-02-06-2/
LOCATION:OH
ATTACH;FMTTYPE=image/jpeg:https://downtowndayton.org/wp-content/uploads/2025/01/dbc.jpg
END:VEVENT
BEGIN:VEVENT
DTSTART;TZID=America/Detroit:20251106T183000
DTEND;TZID=America/Detroit:20251106T213000
DTSTAMP:20260421T132657
CREATED:20250114T175650Z
LAST-MODIFIED:20250114T175650Z
UID:10046491-1762453800-1762464600@downtowndayton.org
SUMMARY:Karaoke
DESCRIPTION:Join us for Karaoke Thursdays at The Dayton Beer Company\, hosted by Limelight Entertainment from 6:30 p.m.-9:30p.m. Cheers!
URL:https://downtowndayton.org/event/karaoke-2025-09-18/
LOCATION:OH
ATTACH;FMTTYPE=image/jpeg:https://downtowndayton.org/wp-content/uploads/2025/01/dbc.jpg
END:VEVENT
BEGIN:VEVENT
DTSTART;TZID=America/Detroit:20251106T183000
DTEND;TZID=America/Detroit:20251106T213000
DTSTAMP:20260421T132657
CREATED:20250114T175650Z
LAST-MODIFIED:20250114T175650Z
UID:10049036-1762453800-1762464600@downtowndayton.org
SUMMARY:Karaoke
DESCRIPTION:Join us for Karaoke Thursdays at The Dayton Beer Company\, hosted by Limelight Entertainment from 6:30 p.m.-9:30p.m. Cheers!
URL:https://downtowndayton.org/event/karaoke-2025-04-10-4/
LOCATION:OH
ATTACH;FMTTYPE=image/jpeg:https://downtowndayton.org/wp-content/uploads/2025/01/dbc.jpg
END:VEVENT
BEGIN:VEVENT
DTSTART;TZID=America/Detroit:20251106T183000
DTEND;TZID=America/Detroit:20251106T213000
DTSTAMP:20260421T132657
CREATED:20250114T175650Z
LAST-MODIFIED:20250114T175650Z
UID:10046176-1762453800-1762464600@downtowndayton.org
SUMMARY:Karaoke
DESCRIPTION:Join us for Karaoke Thursdays at The Dayton Beer Company\, hosted by Limelight Entertainment from 6:30 p.m.-9:30p.m. Cheers!
URL:https://downtowndayton.org/event/karaoke-2025-06-05/
LOCATION:OH
ATTACH;FMTTYPE=image/jpeg:https://downtowndayton.org/wp-content/uploads/2025/01/dbc.jpg
END:VEVENT
BEGIN:VEVENT
DTSTART;TZID=America/Detroit:20251106T183000
DTEND;TZID=America/Detroit:20251106T213000
DTSTAMP:20260421T132657
CREATED:20250114T175650Z
LAST-MODIFIED:20250114T175650Z
UID:10047815-1762453800-1762464600@downtowndayton.org
SUMMARY:Karaoke
DESCRIPTION:Join us for Karaoke Thursdays at The Dayton Beer Company\, hosted by Limelight Entertainment from 6:30 p.m.-9:30p.m. Cheers!
URL:https://downtowndayton.org/event/karaoke-2025-02-06-3/
LOCATION:OH
ATTACH;FMTTYPE=image/jpeg:https://downtowndayton.org/wp-content/uploads/2025/01/dbc.jpg
END:VEVENT
BEGIN:VEVENT
DTSTART;TZID=America/Detroit:20251106T183000
DTEND;TZID=America/Detroit:20251106T213000
DTSTAMP:20260421T132657
CREATED:20250114T175650Z
LAST-MODIFIED:20250114T175650Z
UID:10045952-1762453800-1762464600@downtowndayton.org
SUMMARY:Karaoke
DESCRIPTION:Join us for Karaoke Thursdays at The Dayton Beer Company\, hosted by Limelight Entertainment from 6:30 p.m.-9:30p.m. Cheers!
URL:https://downtowndayton.org/event/karaoke-2025-04-17/
LOCATION:OH
ATTACH;FMTTYPE=image/jpeg:https://downtowndayton.org/wp-content/uploads/2025/01/dbc.jpg
END:VEVENT
BEGIN:VEVENT
DTSTART;TZID=America/Detroit:20251106T183000
DTEND;TZID=America/Detroit:20251106T213000
DTSTAMP:20260421T132657
CREATED:20250114T175650Z
LAST-MODIFIED:20250114T175650Z
UID:10046117-1762453800-1762464600@downtowndayton.org
SUMMARY:Karaoke
DESCRIPTION:Join us for Karaoke Thursdays at The Dayton Beer Company\, hosted by Limelight Entertainment from 6:30 p.m.-9:30p.m. Cheers!
URL:https://downtowndayton.org/event/karaoke-2025-05-22/
LOCATION:OH
ATTACH;FMTTYPE=image/jpeg:https://downtowndayton.org/wp-content/uploads/2025/01/dbc.jpg
END:VEVENT
BEGIN:VEVENT
DTSTART;TZID=America/Detroit:20251106T183000
DTEND;TZID=America/Detroit:20251106T213000
DTSTAMP:20260421T132657
CREATED:20250114T175650Z
LAST-MODIFIED:20250114T175650Z
UID:10048147-1762453800-1762464600@downtowndayton.org
SUMMARY:Karaoke
DESCRIPTION:Join us for Karaoke Thursdays at The Dayton Beer Company\, hosted by Limelight Entertainment from 6:30 p.m.-9:30p.m. Cheers!
URL:https://downtowndayton.org/event/karaoke-2025-04-03-3/
LOCATION:OH
ATTACH;FMTTYPE=image/jpeg:https://downtowndayton.org/wp-content/uploads/2025/01/dbc.jpg
END:VEVENT
BEGIN:VEVENT
DTSTART;TZID=America/Detroit:20251106T183000
DTEND;TZID=America/Detroit:20251106T213000
DTSTAMP:20260421T132657
CREATED:20250114T175650Z
LAST-MODIFIED:20250114T175650Z
UID:10046021-1762453800-1762464600@downtowndayton.org
SUMMARY:Karaoke
DESCRIPTION:Join us for Karaoke Thursdays at The Dayton Beer Company\, hosted by Limelight Entertainment from 6:30 p.m.-9:30p.m. Cheers!
URL:https://downtowndayton.org/event/karaoke-2025-05-01/
LOCATION:OH
ATTACH;FMTTYPE=image/jpeg:https://downtowndayton.org/wp-content/uploads/2025/01/dbc.jpg
END:VEVENT
BEGIN:VEVENT
DTSTART;TZID=America/New_York:20251106T180000
DTEND;TZID=America/New_York:20251106T193000
DTSTAMP:20260421T132657
CREATED:20251021T114347Z
LAST-MODIFIED:20251021T114347Z
UID:10045060-1762452000-1762457400@downtowndayton.org
SUMMARY:Black Women Taught Us: An Intimate History of Black Feminism
DESCRIPTION:In Black Women Taught Us: An Intimate History of Black Feminism\,  Jackson explores the legacy of Black women. As a queer\, androgynous Black woman and assistant professor at Syracuse University\, Jackson’s research focuses on Black politics\, including Black feminist movements\, racial threat\, gender and sexuality\, policing\, and political behavior. \n  \nTheir forthcoming academic book\, Policing Blackness\, investigates how racial threat influences Black Americans’ political behavior. A book signing will follow this event\, which is intended for an adult audience. Registration is not required. \n  \nAdditional information about Jackson is available at DaytonMetroLibrary.org/SocialJustice.
URL:https://downtowndayton.org/event/black-women-taught-us-an-intimate-history-of-black-feminism/
LOCATION:Dayton Metro Library – Main Library\, 215 E. Third Street\, Dayton\, OH\, 45402
ATTACH;FMTTYPE=image/jpeg:https://downtowndayton.org/wp-content/uploads/2023/08/dml.jpg
END:VEVENT
END:VCALENDAR