BEGIN:VCALENDAR
VERSION:2.0
PRODID:-//Downtown Dayton Partnership - ECPv6.8.1//NONSGML v1.0//EN
CALSCALE:GREGORIAN
METHOD:PUBLISH
X-WR-CALNAME:Downtown Dayton Partnership
X-ORIGINAL-URL:https://downtowndayton.org
X-WR-CALDESC:Events for Downtown Dayton Partnership
REFRESH-INTERVAL;VALUE=DURATION:PT1H
X-Robots-Tag:noindex
X-PUBLISHED-TTL:PT1H
BEGIN:VTIMEZONE
TZID:America/Detroit
BEGIN:DAYLIGHT
TZOFFSETFROM:-0500
TZOFFSETTO:-0400
TZNAME:EDT
DTSTART:20250309T070000
END:DAYLIGHT
BEGIN:STANDARD
TZOFFSETFROM:-0400
TZOFFSETTO:-0500
TZNAME:EST
DTSTART:20251102T060000
END:STANDARD
TZID:America/New_York
BEGIN:DAYLIGHT
TZOFFSETFROM:-0500
TZOFFSETTO:-0400
TZNAME:EDT
DTSTART:20250309T070000
END:DAYLIGHT
BEGIN:STANDARD
TZOFFSETFROM:-0400
TZOFFSETTO:-0500
TZNAME:EST
DTSTART:20251102T060000
END:STANDARD
END:VTIMEZONE
BEGIN:VEVENT
DTSTART;TZID=America/Detroit:20250911T183000
DTEND;TZID=America/Detroit:20250911T213000
DTSTAMP:20260421T212944
CREATED:20250114T175650Z
LAST-MODIFIED:20250114T175650Z
UID:10046168-1757615400-1757626200@downtowndayton.org
SUMMARY:Karaoke
DESCRIPTION:Join us for Karaoke Thursdays at The Dayton Beer Company\, hosted by Limelight Entertainment from 6:30 p.m.-9:30p.m. Cheers!
URL:https://downtowndayton.org/event/karaoke-2025-06-05/
ATTACH;FMTTYPE=image/jpeg:https://downtowndayton.org/wp-content/uploads/2025/01/dbc.jpg
END:VEVENT
BEGIN:VEVENT
DTSTART;TZID=America/Detroit:20250911T183000
DTEND;TZID=America/Detroit:20250911T213000
DTSTAMP:20260421T212944
CREATED:20250114T175650Z
LAST-MODIFIED:20250114T175650Z
UID:10046109-1757615400-1757626200@downtowndayton.org
SUMMARY:Karaoke
DESCRIPTION:Join us for Karaoke Thursdays at The Dayton Beer Company\, hosted by Limelight Entertainment from 6:30 p.m.-9:30p.m. Cheers!
URL:https://downtowndayton.org/event/karaoke-2025-05-22/
ATTACH;FMTTYPE=image/jpeg:https://downtowndayton.org/wp-content/uploads/2025/01/dbc.jpg
END:VEVENT
BEGIN:VEVENT
DTSTART;TZID=America/Detroit:20250911T183000
DTEND;TZID=America/Detroit:20250911T213000
DTSTAMP:20260421T212944
CREATED:20250114T175650Z
LAST-MODIFIED:20250114T175650Z
UID:10048377-1757615400-1757626200@downtowndayton.org
SUMMARY:Karaoke
DESCRIPTION:Join us for Karaoke Thursdays at The Dayton Beer Company\, hosted by Limelight Entertainment from 6:30 p.m.-9:30p.m. Cheers!
URL:https://downtowndayton.org/event/karaoke-2025-05-22-3/
ATTACH;FMTTYPE=image/jpeg:https://downtowndayton.org/wp-content/uploads/2025/01/dbc.jpg
END:VEVENT
BEGIN:VEVENT
DTSTART;TZID=America/Detroit:20250911T183000
DTEND;TZID=America/Detroit:20250911T213000
DTSTAMP:20260421T212944
CREATED:20250114T175650Z
LAST-MODIFIED:20250114T175650Z
UID:10046274-1757615400-1757626200@downtowndayton.org
SUMMARY:Karaoke
DESCRIPTION:Join us for Karaoke Thursdays at The Dayton Beer Company\, hosted by Limelight Entertainment from 6:30 p.m.-9:30p.m. Cheers!
URL:https://downtowndayton.org/event/karaoke-2025-07-03/
ATTACH;FMTTYPE=image/jpeg:https://downtowndayton.org/wp-content/uploads/2025/01/dbc.jpg
END:VEVENT
BEGIN:VEVENT
DTSTART;TZID=America/Detroit:20250911T183000
DTEND;TZID=America/Detroit:20250911T213000
DTSTAMP:20260421T212944
CREATED:20250114T175650Z
LAST-MODIFIED:20250114T175650Z
UID:10046343-1757615400-1757626200@downtowndayton.org
SUMMARY:Karaoke
DESCRIPTION:Join us for Karaoke Thursdays at The Dayton Beer Company\, hosted by Limelight Entertainment from 6:30 p.m.-9:30p.m. Cheers!
URL:https://downtowndayton.org/event/karaoke-2025-07-24/
ATTACH;FMTTYPE=image/jpeg:https://downtowndayton.org/wp-content/uploads/2025/01/dbc.jpg
END:VEVENT
BEGIN:VEVENT
DTSTART;TZID=America/Detroit:20250911T183000
DTEND;TZID=America/Detroit:20250911T213000
DTSTAMP:20260421T212944
CREATED:20250114T175650Z
LAST-MODIFIED:20250114T175650Z
UID:10048566-1757615400-1757626200@downtowndayton.org
SUMMARY:Karaoke
DESCRIPTION:Join us for Karaoke Thursdays at The Dayton Beer Company\, hosted by Limelight Entertainment from 6:30 p.m.-9:30p.m. Cheers!
URL:https://downtowndayton.org/event/karaoke-2025-01-23-4/
ATTACH;FMTTYPE=image/jpeg:https://downtowndayton.org/wp-content/uploads/2025/01/dbc.jpg
END:VEVENT
BEGIN:VEVENT
DTSTART;TZID=America/Detroit:20250911T183000
DTEND;TZID=America/Detroit:20250911T213000
DTSTAMP:20260421T212944
CREATED:20250114T175650Z
LAST-MODIFIED:20250114T175650Z
UID:10048613-1757615400-1757626200@downtowndayton.org
SUMMARY:Karaoke
DESCRIPTION:Join us for Karaoke Thursdays at The Dayton Beer Company\, hosted by Limelight Entertainment from 6:30 p.m.-9:30p.m. Cheers!
URL:https://downtowndayton.org/event/karaoke-2025-01-30-4/
ATTACH;FMTTYPE=image/jpeg:https://downtowndayton.org/wp-content/uploads/2025/01/dbc.jpg
END:VEVENT
BEGIN:VEVENT
DTSTART;TZID=America/Detroit:20250911T183000
DTEND;TZID=America/Detroit:20250911T213000
DTSTAMP:20260421T212944
CREATED:20250114T175650Z
LAST-MODIFIED:20250114T175650Z
UID:10048659-1757615400-1757626200@downtowndayton.org
SUMMARY:Karaoke
DESCRIPTION:Join us for Karaoke Thursdays at The Dayton Beer Company\, hosted by Limelight Entertainment from 6:30 p.m.-9:30p.m. Cheers!
URL:https://downtowndayton.org/event/karaoke-2025-02-06-4/
ATTACH;FMTTYPE=image/jpeg:https://downtowndayton.org/wp-content/uploads/2025/01/dbc.jpg
END:VEVENT
BEGIN:VEVENT
DTSTART;TZID=America/Detroit:20250911T183000
DTEND;TZID=America/Detroit:20250911T213000
DTSTAMP:20260421T212944
CREATED:20250114T175650Z
LAST-MODIFIED:20250114T175650Z
UID:10048704-1757615400-1757626200@downtowndayton.org
SUMMARY:Karaoke
DESCRIPTION:Join us for Karaoke Thursdays at The Dayton Beer Company\, hosted by Limelight Entertainment from 6:30 p.m.-9:30p.m. Cheers!
URL:https://downtowndayton.org/event/karaoke-2025-02-13-4/
ATTACH;FMTTYPE=image/jpeg:https://downtowndayton.org/wp-content/uploads/2025/01/dbc.jpg
END:VEVENT
BEGIN:VEVENT
DTSTART;TZID=America/Detroit:20250911T183000
DTEND;TZID=America/Detroit:20250911T213000
DTSTAMP:20260421T212944
CREATED:20250114T175650Z
LAST-MODIFIED:20250114T175650Z
UID:10046321-1757615400-1757626200@downtowndayton.org
SUMMARY:Karaoke
DESCRIPTION:Join us for Karaoke Thursdays at The Dayton Beer Company\, hosted by Limelight Entertainment from 6:30 p.m.-9:30p.m. Cheers!
URL:https://downtowndayton.org/event/karaoke-2025-07-17/
ATTACH;FMTTYPE=image/jpeg:https://downtowndayton.org/wp-content/uploads/2025/01/dbc.jpg
END:VEVENT
BEGIN:VEVENT
DTSTART;TZID=America/Detroit:20250911T183000
DTEND;TZID=America/Detroit:20250911T213000
DTSTAMP:20260421T212944
CREATED:20250114T175650Z
LAST-MODIFIED:20250114T175650Z
UID:10046454-1757615400-1757626200@downtowndayton.org
SUMMARY:Karaoke
DESCRIPTION:Join us for Karaoke Thursdays at The Dayton Beer Company\, hosted by Limelight Entertainment from 6:30 p.m.-9:30p.m. Cheers!
URL:https://downtowndayton.org/event/karaoke-2025-09-04/
ATTACH;FMTTYPE=image/jpeg:https://downtowndayton.org/wp-content/uploads/2025/01/dbc.jpg
END:VEVENT
BEGIN:VEVENT
DTSTART;TZID=America/Detroit:20250911T183000
DTEND;TZID=America/Detroit:20250911T213000
DTSTAMP:20260421T212944
CREATED:20250114T175650Z
LAST-MODIFIED:20250114T175650Z
UID:10046139-1757615400-1757626200@downtowndayton.org
SUMMARY:Karaoke
DESCRIPTION:Join us for Karaoke Thursdays at The Dayton Beer Company\, hosted by Limelight Entertainment from 6:30 p.m.-9:30p.m. Cheers!
URL:https://downtowndayton.org/event/karaoke-2025-05-29/
ATTACH;FMTTYPE=image/jpeg:https://downtowndayton.org/wp-content/uploads/2025/01/dbc.jpg
END:VEVENT
BEGIN:VEVENT
DTSTART;TZID=America/Detroit:20250911T183000
DTEND;TZID=America/Detroit:20250911T213000
DTSTAMP:20260421T212944
CREATED:20250114T175650Z
LAST-MODIFIED:20250114T175650Z
UID:10048407-1757615400-1757626200@downtowndayton.org
SUMMARY:Karaoke
DESCRIPTION:Join us for Karaoke Thursdays at The Dayton Beer Company\, hosted by Limelight Entertainment from 6:30 p.m.-9:30p.m. Cheers!
URL:https://downtowndayton.org/event/karaoke-2025-05-29-3/
ATTACH;FMTTYPE=image/jpeg:https://downtowndayton.org/wp-content/uploads/2025/01/dbc.jpg
END:VEVENT
BEGIN:VEVENT
DTSTART;TZID=America/Detroit:20250911T183000
DTEND;TZID=America/Detroit:20250911T213000
DTSTAMP:20260421T212944
CREATED:20250114T175650Z
LAST-MODIFIED:20250114T175650Z
UID:10045446-1757615400-1757626200@downtowndayton.org
SUMMARY:Karaoke
DESCRIPTION:Join us for Karaoke Thursdays at The Dayton Beer Company\, hosted by Limelight Entertainment from 6:30 p.m.-9:30p.m. Cheers!
URL:https://downtowndayton.org/event/karaoke-2025-01-23/
ATTACH;FMTTYPE=image/jpeg:https://downtowndayton.org/wp-content/uploads/2025/01/dbc.jpg
END:VEVENT
BEGIN:VEVENT
DTSTART;TZID=America/Detroit:20250911T183000
DTEND;TZID=America/Detroit:20250911T213000
DTSTAMP:20260421T212944
CREATED:20250114T175650Z
LAST-MODIFIED:20250114T175650Z
UID:10045493-1757615400-1757626200@downtowndayton.org
SUMMARY:Karaoke
DESCRIPTION:Join us for Karaoke Thursdays at The Dayton Beer Company\, hosted by Limelight Entertainment from 6:30 p.m.-9:30p.m. Cheers!
URL:https://downtowndayton.org/event/karaoke-2025-01-30/
ATTACH;FMTTYPE=image/jpeg:https://downtowndayton.org/wp-content/uploads/2025/01/dbc.jpg
END:VEVENT
BEGIN:VEVENT
DTSTART;TZID=America/Detroit:20250911T183000
DTEND;TZID=America/Detroit:20250911T213000
DTSTAMP:20260421T212944
CREATED:20250114T175650Z
LAST-MODIFIED:20250114T175650Z
UID:10047636-1757615400-1757626200@downtowndayton.org
SUMMARY:Karaoke
DESCRIPTION:Join us for Karaoke Thursdays at The Dayton Beer Company\, hosted by Limelight Entertainment from 6:30 p.m.-9:30p.m. Cheers!
URL:https://downtowndayton.org/event/karaoke-2025-05-22-2/
ATTACH;FMTTYPE=image/jpeg:https://downtowndayton.org/wp-content/uploads/2025/01/dbc.jpg
END:VEVENT
BEGIN:VEVENT
DTSTART;TZID=America/Detroit:20250911T183000
DTEND;TZID=America/Detroit:20250911T213000
DTSTAMP:20260421T212944
CREATED:20250114T175650Z
LAST-MODIFIED:20250114T175650Z
UID:10045539-1757615400-1757626200@downtowndayton.org
SUMMARY:Karaoke
DESCRIPTION:Join us for Karaoke Thursdays at The Dayton Beer Company\, hosted by Limelight Entertainment from 6:30 p.m.-9:30p.m. Cheers!
URL:https://downtowndayton.org/event/karaoke-2025-02-06/
ATTACH;FMTTYPE=image/jpeg:https://downtowndayton.org/wp-content/uploads/2025/01/dbc.jpg
END:VEVENT
BEGIN:VEVENT
DTSTART;TZID=America/Detroit:20250911T183000
DTEND;TZID=America/Detroit:20250911T213000
DTSTAMP:20260421T212944
CREATED:20250114T175650Z
LAST-MODIFIED:20250114T175650Z
UID:10045584-1757615400-1757626200@downtowndayton.org
SUMMARY:Karaoke
DESCRIPTION:Join us for Karaoke Thursdays at The Dayton Beer Company\, hosted by Limelight Entertainment from 6:30 p.m.-9:30p.m. Cheers!
URL:https://downtowndayton.org/event/karaoke-2025-02-13/
ATTACH;FMTTYPE=image/jpeg:https://downtowndayton.org/wp-content/uploads/2025/01/dbc.jpg
END:VEVENT
BEGIN:VEVENT
DTSTART;TZID=America/Detroit:20250911T183000
DTEND;TZID=America/Detroit:20250911T213000
DTSTAMP:20260421T212944
CREATED:20250114T175650Z
LAST-MODIFIED:20250114T175650Z
UID:10045628-1757615400-1757626200@downtowndayton.org
SUMMARY:Karaoke
DESCRIPTION:Join us for Karaoke Thursdays at The Dayton Beer Company\, hosted by Limelight Entertainment from 6:30 p.m.-9:30p.m. Cheers!
URL:https://downtowndayton.org/event/karaoke-2025-02-20/
ATTACH;FMTTYPE=image/jpeg:https://downtowndayton.org/wp-content/uploads/2025/01/dbc.jpg
END:VEVENT
BEGIN:VEVENT
DTSTART;TZID=America/Detroit:20250911T183000
DTEND;TZID=America/Detroit:20250911T213000
DTSTAMP:20260421T212944
CREATED:20250114T175650Z
LAST-MODIFIED:20250114T175650Z
UID:10045671-1757615400-1757626200@downtowndayton.org
SUMMARY:Karaoke
DESCRIPTION:Join us for Karaoke Thursdays at The Dayton Beer Company\, hosted by Limelight Entertainment from 6:30 p.m.-9:30p.m. Cheers!
URL:https://downtowndayton.org/event/karaoke-2025-02-27/
ATTACH;FMTTYPE=image/jpeg:https://downtowndayton.org/wp-content/uploads/2025/01/dbc.jpg
END:VEVENT
BEGIN:VEVENT
DTSTART;TZID=America/Detroit:20250911T183000
DTEND;TZID=America/Detroit:20250911T213000
DTSTAMP:20260421T212944
CREATED:20250114T175650Z
LAST-MODIFIED:20250114T175650Z
UID:10045713-1757615400-1757626200@downtowndayton.org
SUMMARY:Karaoke
DESCRIPTION:Join us for Karaoke Thursdays at The Dayton Beer Company\, hosted by Limelight Entertainment from 6:30 p.m.-9:30p.m. Cheers!
URL:https://downtowndayton.org/event/karaoke-2025-03-06/
ATTACH;FMTTYPE=image/jpeg:https://downtowndayton.org/wp-content/uploads/2025/01/dbc.jpg
END:VEVENT
BEGIN:VEVENT
DTSTART;TZID=America/Detroit:20250911T183000
DTEND;TZID=America/Detroit:20250911T213000
DTSTAMP:20260421T212944
CREATED:20250114T175650Z
LAST-MODIFIED:20250114T175650Z
UID:10045754-1757615400-1757626200@downtowndayton.org
SUMMARY:Karaoke
DESCRIPTION:Join us for Karaoke Thursdays at The Dayton Beer Company\, hosted by Limelight Entertainment from 6:30 p.m.-9:30p.m. Cheers!
URL:https://downtowndayton.org/event/karaoke-2025-03-13/
ATTACH;FMTTYPE=image/jpeg:https://downtowndayton.org/wp-content/uploads/2025/01/dbc.jpg
END:VEVENT
BEGIN:VEVENT
DTSTART;TZID=America/Detroit:20250911T183000
DTEND;TZID=America/Detroit:20250911T213000
DTSTAMP:20260421T212944
CREATED:20250114T175650Z
LAST-MODIFIED:20250114T175650Z
UID:10045794-1757615400-1757626200@downtowndayton.org
SUMMARY:Karaoke
DESCRIPTION:Join us for Karaoke Thursdays at The Dayton Beer Company\, hosted by Limelight Entertainment from 6:30 p.m.-9:30p.m. Cheers!
URL:https://downtowndayton.org/event/karaoke-2025-03-20/
ATTACH;FMTTYPE=image/jpeg:https://downtowndayton.org/wp-content/uploads/2025/01/dbc.jpg
END:VEVENT
BEGIN:VEVENT
DTSTART;TZID=America/Detroit:20250911T183000
DTEND;TZID=America/Detroit:20250911T213000
DTSTAMP:20260421T212944
CREATED:20250114T175650Z
LAST-MODIFIED:20250114T175650Z
UID:10046469-1757615400-1757626200@downtowndayton.org
SUMMARY:Karaoke
DESCRIPTION:Join us for Karaoke Thursdays at The Dayton Beer Company\, hosted by Limelight Entertainment from 6:30 p.m.-9:30p.m. Cheers!
URL:https://downtowndayton.org/event/karaoke-2025-09-11/
ATTACH;FMTTYPE=image/jpeg:https://downtowndayton.org/wp-content/uploads/2025/01/dbc.jpg
END:VEVENT
BEGIN:VEVENT
DTSTART;TZID=America/Detroit:20250911T183000
DTEND;TZID=America/Detroit:20250911T213000
DTSTAMP:20260421T212944
CREATED:20250114T175650Z
LAST-MODIFIED:20250114T175650Z
UID:10045833-1757615400-1757626200@downtowndayton.org
SUMMARY:Karaoke
DESCRIPTION:Join us for Karaoke Thursdays at The Dayton Beer Company\, hosted by Limelight Entertainment from 6:30 p.m.-9:30p.m. Cheers!
URL:https://downtowndayton.org/event/karaoke-2025-03-27/
ATTACH;FMTTYPE=image/jpeg:https://downtowndayton.org/wp-content/uploads/2025/01/dbc.jpg
END:VEVENT
BEGIN:VEVENT
DTSTART;TZID=America/Detroit:20250911T183000
DTEND;TZID=America/Detroit:20250911T213000
DTSTAMP:20260421T212944
CREATED:20250114T175650Z
LAST-MODIFIED:20250114T175650Z
UID:10045871-1757615400-1757626200@downtowndayton.org
SUMMARY:Karaoke
DESCRIPTION:Join us for Karaoke Thursdays at The Dayton Beer Company\, hosted by Limelight Entertainment from 6:30 p.m.-9:30p.m. Cheers!
URL:https://downtowndayton.org/event/karaoke-2025-04-03/
ATTACH;FMTTYPE=image/jpeg:https://downtowndayton.org/wp-content/uploads/2025/01/dbc.jpg
END:VEVENT
BEGIN:VEVENT
DTSTART;TZID=America/Detroit:20250911T183000
DTEND;TZID=America/Detroit:20250911T213000
DTSTAMP:20260421T212944
CREATED:20250114T175650Z
LAST-MODIFIED:20250114T175650Z
UID:10045908-1757615400-1757626200@downtowndayton.org
SUMMARY:Karaoke
DESCRIPTION:Join us for Karaoke Thursdays at The Dayton Beer Company\, hosted by Limelight Entertainment from 6:30 p.m.-9:30p.m. Cheers!
URL:https://downtowndayton.org/event/karaoke-2025-04-10/
ATTACH;FMTTYPE=image/jpeg:https://downtowndayton.org/wp-content/uploads/2025/01/dbc.jpg
END:VEVENT
BEGIN:VEVENT
DTSTART;TZID=America/New_York:20250911T193000
DTEND;TZID=America/New_York:20250911T193000
DTSTAMP:20260421T212944
CREATED:20250828T122806Z
LAST-MODIFIED:20250828T122806Z
UID:10039624-1757619000-1757619000@downtowndayton.org
SUMMARY:Dad’s Place – A Farce
DESCRIPTION:SEPTEMBER 3 – 14\, 2025\nDad’s Place – A Farce\nPlaywright: Jake Lockwood\nDirector: Joe Deer\nPaul briefly steps away from a lucrative writing career in LA to help his father\, Karl\, go through an apartment that’s overrun with “stuff”. Paul seeks to use this time away from corporate clients to write something more meaningful\, but the distractions of Karl’s life prove to be more than Paul’s creative inspiration can overcome. In the end\, Paul finds he has just as much “stuff” to work through. \nThis new work by Jake Lockwood is a two-actor farce that dives into the complex relationships between fathers and sons\, the menace of imposter syndrome\, and wraps them into love letter to the artistic process. \nRecommended in you liked… The 39 Steps\, Deadline\, Shipwrecked!
URL:https://downtowndayton.org/event/dads-place-a-farce/2025-09-11/
LOCATION:The Human Race Theatre Company\, 126 N. Main St.\, Dayton\, OH\, 45402
ATTACH;FMTTYPE=image/jpeg:https://downtowndayton.org/wp-content/uploads/2025/08/dadsplace.jpg
END:VEVENT
BEGIN:VEVENT
DTSTART;TZID=America/New_York:20250911T193000
DTEND;TZID=America/New_York:20250911T223000
DTSTAMP:20260421T212944
CREATED:20250528T121150Z
LAST-MODIFIED:20250528T121150Z
UID:10036842-1757619000-1757629800@downtowndayton.org
SUMMARY:Open Mic Night
DESCRIPTION:Open Mic Night – sign up online\, then show up and show out.
URL:https://downtowndayton.org/event/open-mic-night/2025-09-11/
LOCATION:The Barrel House\, 417 E. Third St.\, Dayton\, OH\, 45402\, United States
ATTACH;FMTTYPE=image/jpeg:https://downtowndayton.org/wp-content/uploads/2025/05/bhom.jpg
END:VEVENT
BEGIN:VEVENT
DTSTART;TZID=America/New_York:20250911T200000
DTEND;TZID=America/New_York:20250911T200000
DTSTAMP:20260421T212944
CREATED:20250318T142048Z
LAST-MODIFIED:20250318T142048Z
UID:10031834-1757620800-1757620800@downtowndayton.org
SUMMARY:Music Bingo Thursdays
DESCRIPTION:We have music bingo every Thursday! It’s free to play\, lots of fun\, hosted by KG\, and there are prizes galore. Come check it out!
URL:https://downtowndayton.org/event/music-bingo-thursdays/2025-09-11/
LOCATION:The Trolley Stop\, 530 E. Fifth St.\, Dayton\, OH\, 45402\, USA
ATTACH;FMTTYPE=image/jpeg:https://downtowndayton.org/wp-content/uploads/2025/03/trolley.jpg
END:VEVENT
END:VCALENDAR