BEGIN:VCALENDAR
VERSION:2.0
PRODID:-//Downtown Dayton Partnership - ECPv6.8.1//NONSGML v1.0//EN
CALSCALE:GREGORIAN
METHOD:PUBLISH
X-WR-CALNAME:Downtown Dayton Partnership
X-ORIGINAL-URL:https://downtowndayton.org
X-WR-CALDESC:Events for Downtown Dayton Partnership
REFRESH-INTERVAL;VALUE=DURATION:PT1H
X-Robots-Tag:noindex
X-PUBLISHED-TTL:PT1H
BEGIN:VTIMEZONE
TZID:America/Detroit
BEGIN:DAYLIGHT
TZOFFSETFROM:-0500
TZOFFSETTO:-0400
TZNAME:EDT
DTSTART:20250309T070000
END:DAYLIGHT
BEGIN:STANDARD
TZOFFSETFROM:-0400
TZOFFSETTO:-0500
TZNAME:EST
DTSTART:20251102T060000
END:STANDARD
TZID:America/New_York
BEGIN:DAYLIGHT
TZOFFSETFROM:-0500
TZOFFSETTO:-0400
TZNAME:EDT
DTSTART:20250309T070000
END:DAYLIGHT
BEGIN:STANDARD
TZOFFSETFROM:-0400
TZOFFSETTO:-0500
TZNAME:EST
DTSTART:20251102T060000
END:STANDARD
END:VTIMEZONE
BEGIN:VEVENT
DTSTART;TZID=America/Detroit:20251104T190000
DTEND;TZID=America/Detroit:20251104T190000
DTSTAMP:20260423T120732
CREATED:20250114T175514Z
LAST-MODIFIED:20250114T175514Z
UID:10049449-1762282800-1762282800@downtowndayton.org
SUMMARY:Trivia Tuesday
DESCRIPTION:Trivia Tuesdays are fun for everyone at The Dayton Beer Company! Get $3.50 DBC Pints every Tuesday with trivia starting at 7:00 p.m. Cheers!
URL:https://downtowndayton.org/event/trivia-tuesday-2025-01-21/
LOCATION:OH
ATTACH;FMTTYPE=image/jpeg:https://downtowndayton.org/wp-content/uploads/2025/01/dbc.jpg
END:VEVENT
BEGIN:VEVENT
DTSTART;TZID=America/Detroit:20251104T190000
DTEND;TZID=America/Detroit:20251104T190000
DTSTAMP:20260423T120732
CREATED:20250114T175514Z
LAST-MODIFIED:20250114T175514Z
UID:10052124-1762282800-1762282800@downtowndayton.org
SUMMARY:Trivia Tuesday
DESCRIPTION:Trivia Tuesdays are fun for everyone at The Dayton Beer Company! Get $3.50 DBC Pints every Tuesday with trivia starting at 7:00 p.m. Cheers!
URL:https://downtowndayton.org/event/trivia-tuesday-2025-03-18-3/
LOCATION:OH
ATTACH;FMTTYPE=image/jpeg:https://downtowndayton.org/wp-content/uploads/2025/01/dbc.jpg
END:VEVENT
BEGIN:VEVENT
DTSTART;TZID=America/Detroit:20251104T190000
DTEND;TZID=America/Detroit:20251104T190000
DTSTAMP:20260423T120732
CREATED:20250114T175514Z
LAST-MODIFIED:20250114T175514Z
UID:10051580-1762282800-1762282800@downtowndayton.org
SUMMARY:Trivia Tuesday
DESCRIPTION:Trivia Tuesdays are fun for everyone at The Dayton Beer Company! Get $3.50 DBC Pints every Tuesday with trivia starting at 7:00 p.m. Cheers!
URL:https://downtowndayton.org/event/trivia-tuesday-2025-06-17-2/
LOCATION:OH
ATTACH;FMTTYPE=image/jpeg:https://downtowndayton.org/wp-content/uploads/2025/01/dbc.jpg
END:VEVENT
BEGIN:VEVENT
DTSTART;TZID=America/Detroit:20251104T190000
DTEND;TZID=America/Detroit:20251104T190000
DTSTAMP:20260423T120732
CREATED:20250114T175514Z
LAST-MODIFIED:20250114T175514Z
UID:10050485-1762282800-1762282800@downtowndayton.org
SUMMARY:Trivia Tuesday
DESCRIPTION:Trivia Tuesdays are fun for everyone at The Dayton Beer Company! Get $3.50 DBC Pints every Tuesday with trivia starting at 7:00 p.m. Cheers!
URL:https://downtowndayton.org/event/trivia-tuesday-2025-08-19/
LOCATION:OH
ATTACH;FMTTYPE=image/jpeg:https://downtowndayton.org/wp-content/uploads/2025/01/dbc.jpg
END:VEVENT
BEGIN:VEVENT
DTSTART;TZID=America/Detroit:20251104T190000
DTEND;TZID=America/Detroit:20251104T190000
DTSTAMP:20260423T120732
CREATED:20250114T175514Z
LAST-MODIFIED:20250114T175514Z
UID:10051125-1762282800-1762282800@downtowndayton.org
SUMMARY:Trivia Tuesday
DESCRIPTION:Trivia Tuesdays are fun for everyone at The Dayton Beer Company! Get $3.50 DBC Pints every Tuesday with trivia starting at 7:00 p.m. Cheers!
URL:https://downtowndayton.org/event/trivia-tuesday-2025-03-18-2/
LOCATION:OH
ATTACH;FMTTYPE=image/jpeg:https://downtowndayton.org/wp-content/uploads/2025/01/dbc.jpg
END:VEVENT
BEGIN:VEVENT
DTSTART;TZID=America/Detroit:20251104T190000
DTEND;TZID=America/Detroit:20251104T190000
DTSTAMP:20260423T120732
CREATED:20250114T175514Z
LAST-MODIFIED:20250114T175514Z
UID:10050810-1762282800-1762282800@downtowndayton.org
SUMMARY:Trivia Tuesday
DESCRIPTION:Trivia Tuesdays are fun for everyone at The Dayton Beer Company! Get $3.50 DBC Pints every Tuesday with trivia starting at 7:00 p.m. Cheers!
URL:https://downtowndayton.org/event/trivia-tuesday-2025-01-28-2/
LOCATION:OH
ATTACH;FMTTYPE=image/jpeg:https://downtowndayton.org/wp-content/uploads/2025/01/dbc.jpg
END:VEVENT
BEGIN:VEVENT
DTSTART;TZID=America/Detroit:20251104T190000
DTEND;TZID=America/Detroit:20251104T190000
DTSTAMP:20260423T120732
CREATED:20250114T175514Z
LAST-MODIFIED:20250114T175514Z
UID:10051521-1762282800-1762282800@downtowndayton.org
SUMMARY:Trivia Tuesday
DESCRIPTION:Trivia Tuesdays are fun for everyone at The Dayton Beer Company! Get $3.50 DBC Pints every Tuesday with trivia starting at 7:00 p.m. Cheers!
URL:https://downtowndayton.org/event/trivia-tuesday-2025-06-03-2/
LOCATION:OH
ATTACH;FMTTYPE=image/jpeg:https://downtowndayton.org/wp-content/uploads/2025/01/dbc.jpg
END:VEVENT
BEGIN:VEVENT
DTSTART;TZID=America/Detroit:20251104T190000
DTEND;TZID=America/Detroit:20251104T190000
DTSTAMP:20260423T120732
CREATED:20250114T175514Z
LAST-MODIFIED:20250114T175514Z
UID:10050522-1762282800-1762282800@downtowndayton.org
SUMMARY:Trivia Tuesday
DESCRIPTION:Trivia Tuesdays are fun for everyone at The Dayton Beer Company! Get $3.50 DBC Pints every Tuesday with trivia starting at 7:00 p.m. Cheers!
URL:https://downtowndayton.org/event/trivia-tuesday-2025-09-02/
LOCATION:OH
ATTACH;FMTTYPE=image/jpeg:https://downtowndayton.org/wp-content/uploads/2025/01/dbc.jpg
END:VEVENT
BEGIN:VEVENT
DTSTART;TZID=America/Detroit:20251104T190000
DTEND;TZID=America/Detroit:20251104T190000
DTSTAMP:20260423T120732
CREATED:20250114T175514Z
LAST-MODIFIED:20250114T175514Z
UID:10051809-1762282800-1762282800@downtowndayton.org
SUMMARY:Trivia Tuesday
DESCRIPTION:Trivia Tuesdays are fun for everyone at The Dayton Beer Company! Get $3.50 DBC Pints every Tuesday with trivia starting at 7:00 p.m. Cheers!
URL:https://downtowndayton.org/event/trivia-tuesday-2025-01-28-3/
LOCATION:OH
ATTACH;FMTTYPE=image/jpeg:https://downtowndayton.org/wp-content/uploads/2025/01/dbc.jpg
END:VEVENT
BEGIN:VEVENT
DTSTART;TZID=America/Detroit:20251104T190000
DTEND;TZID=America/Detroit:20251104T190000
DTSTAMP:20260423T120732
CREATED:20250114T175514Z
LAST-MODIFIED:20250114T175514Z
UID:10049971-1762282800-1762282800@downtowndayton.org
SUMMARY:Trivia Tuesday
DESCRIPTION:Trivia Tuesdays are fun for everyone at The Dayton Beer Company! Get $3.50 DBC Pints every Tuesday with trivia starting at 7:00 p.m. Cheers!
URL:https://downtowndayton.org/event/trivia-tuesday-2025-04-15/
LOCATION:OH
ATTACH;FMTTYPE=image/jpeg:https://downtowndayton.org/wp-content/uploads/2025/01/dbc.jpg
END:VEVENT
BEGIN:VEVENT
DTSTART;TZID=America/Detroit:20251104T190000
DTEND;TZID=America/Detroit:20251104T190000
DTSTAMP:20260423T120732
CREATED:20250114T175514Z
LAST-MODIFIED:20250114T175514Z
UID:10050008-1762282800-1762282800@downtowndayton.org
SUMMARY:Trivia Tuesday
DESCRIPTION:Trivia Tuesdays are fun for everyone at The Dayton Beer Company! Get $3.50 DBC Pints every Tuesday with trivia starting at 7:00 p.m. Cheers!
URL:https://downtowndayton.org/event/trivia-tuesday-2025-04-22/
LOCATION:OH
ATTACH;FMTTYPE=image/jpeg:https://downtowndayton.org/wp-content/uploads/2025/01/dbc.jpg
END:VEVENT
BEGIN:VEVENT
DTSTART;TZID=America/Detroit:20251104T190000
DTEND;TZID=America/Detroit:20251104T190000
DTSTAMP:20260423T120732
CREATED:20250114T175514Z
LAST-MODIFIED:20250114T175514Z
UID:10052550-1762282800-1762282800@downtowndayton.org
SUMMARY:Trivia Tuesday
DESCRIPTION:Trivia Tuesdays are fun for everyone at The Dayton Beer Company! Get $3.50 DBC Pints every Tuesday with trivia starting at 7:00 p.m. Cheers!
URL:https://downtowndayton.org/event/trivia-tuesday-2025-06-10-3/
LOCATION:OH
ATTACH;FMTTYPE=image/jpeg:https://downtowndayton.org/wp-content/uploads/2025/01/dbc.jpg
END:VEVENT
BEGIN:VEVENT
DTSTART;TZID=America/Detroit:20251104T190000
DTEND;TZID=America/Detroit:20251104T190000
DTSTAMP:20260423T120732
CREATED:20250114T175514Z
LAST-MODIFIED:20250114T175514Z
UID:10051391-1762282800-1762282800@downtowndayton.org
SUMMARY:Trivia Tuesday
DESCRIPTION:Trivia Tuesdays are fun for everyone at The Dayton Beer Company! Get $3.50 DBC Pints every Tuesday with trivia starting at 7:00 p.m. Cheers!
URL:https://downtowndayton.org/event/trivia-tuesday-2025-05-06-2/
LOCATION:OH
ATTACH;FMTTYPE=image/jpeg:https://downtowndayton.org/wp-content/uploads/2025/01/dbc.jpg
END:VEVENT
BEGIN:VEVENT
DTSTART;TZID=America/Detroit:20251104T190000
DTEND;TZID=America/Detroit:20251104T190000
DTSTAMP:20260423T120732
CREATED:20250114T175514Z
LAST-MODIFIED:20250114T175514Z
UID:10051686-1762282800-1762282800@downtowndayton.org
SUMMARY:Trivia Tuesday
DESCRIPTION:Trivia Tuesdays are fun for everyone at The Dayton Beer Company! Get $3.50 DBC Pints every Tuesday with trivia starting at 7:00 p.m. Cheers!
URL:https://downtowndayton.org/event/trivia-tuesday-2025-07-15-2/
LOCATION:OH
ATTACH;FMTTYPE=image/jpeg:https://downtowndayton.org/wp-content/uploads/2025/01/dbc.jpg
END:VEVENT
BEGIN:VEVENT
DTSTART;TZID=America/Detroit:20251104T190000
DTEND;TZID=America/Detroit:20251104T190000
DTSTAMP:20260423T120732
CREATED:20250114T175514Z
LAST-MODIFIED:20250114T175514Z
UID:10052390-1762282800-1762282800@downtowndayton.org
SUMMARY:Trivia Tuesday
DESCRIPTION:Trivia Tuesdays are fun for everyone at The Dayton Beer Company! Get $3.50 DBC Pints every Tuesday with trivia starting at 7:00 p.m. Cheers!
URL:https://downtowndayton.org/event/trivia-tuesday-2025-05-06-3/
LOCATION:OH
ATTACH;FMTTYPE=image/jpeg:https://downtowndayton.org/wp-content/uploads/2025/01/dbc.jpg
END:VEVENT
BEGIN:VEVENT
DTSTART;TZID=America/Detroit:20251104T190000
DTEND;TZID=America/Detroit:20251104T190000
DTSTAMP:20260423T120732
CREATED:20250114T175514Z
LAST-MODIFIED:20250114T175514Z
UID:10050761-1762282800-1762282800@downtowndayton.org
SUMMARY:Trivia Tuesday
DESCRIPTION:Trivia Tuesdays are fun for everyone at The Dayton Beer Company! Get $3.50 DBC Pints every Tuesday with trivia starting at 7:00 p.m. Cheers!
URL:https://downtowndayton.org/event/trivia-tuesday-2025-01-21-2/
LOCATION:OH
ATTACH;FMTTYPE=image/jpeg:https://downtowndayton.org/wp-content/uploads/2025/01/dbc.jpg
END:VEVENT
BEGIN:VEVENT
DTSTART;TZID=America/Detroit:20251104T190000
DTEND;TZID=America/Detroit:20251104T190000
DTSTAMP:20260423T120732
CREATED:20250114T175514Z
LAST-MODIFIED:20250114T175514Z
UID:10050146-1762282800-1762282800@downtowndayton.org
SUMMARY:Trivia Tuesday
DESCRIPTION:Trivia Tuesdays are fun for everyone at The Dayton Beer Company! Get $3.50 DBC Pints every Tuesday with trivia starting at 7:00 p.m. Cheers!
URL:https://downtowndayton.org/event/trivia-tuesday-2025-05-20/
LOCATION:OH
ATTACH;FMTTYPE=image/jpeg:https://downtowndayton.org/wp-content/uploads/2025/01/dbc.jpg
END:VEVENT
BEGIN:VEVENT
DTSTART;TZID=America/Detroit:20251104T190000
DTEND;TZID=America/Detroit:20251104T190000
DTSTAMP:20260423T120732
CREATED:20250114T175514Z
LAST-MODIFIED:20250114T175514Z
UID:10050178-1762282800-1762282800@downtowndayton.org
SUMMARY:Trivia Tuesday
DESCRIPTION:Trivia Tuesdays are fun for everyone at The Dayton Beer Company! Get $3.50 DBC Pints every Tuesday with trivia starting at 7:00 p.m. Cheers!
URL:https://downtowndayton.org/event/trivia-tuesday-2025-05-27/
LOCATION:OH
ATTACH;FMTTYPE=image/jpeg:https://downtowndayton.org/wp-content/uploads/2025/01/dbc.jpg
END:VEVENT
BEGIN:VEVENT
DTSTART;TZID=America/Detroit:20251104T190000
DTEND;TZID=America/Detroit:20251104T190000
DTSTAMP:20260423T120732
CREATED:20250114T175514Z
LAST-MODIFIED:20250114T175514Z
UID:10051760-1762282800-1762282800@downtowndayton.org
SUMMARY:Trivia Tuesday
DESCRIPTION:Trivia Tuesdays are fun for everyone at The Dayton Beer Company! Get $3.50 DBC Pints every Tuesday with trivia starting at 7:00 p.m. Cheers!
URL:https://downtowndayton.org/event/trivia-tuesday-2025-01-21-3/
LOCATION:OH
ATTACH;FMTTYPE=image/jpeg:https://downtowndayton.org/wp-content/uploads/2025/01/dbc.jpg
END:VEVENT
BEGIN:VEVENT
DTSTART;TZID=America/Detroit:20251104T190000
DTEND;TZID=America/Detroit:20251104T190000
DTSTAMP:20260423T120732
CREATED:20250114T175514Z
LAST-MODIFIED:20250114T175514Z
UID:10049639-1762282800-1762282800@downtowndayton.org
SUMMARY:Trivia Tuesday
DESCRIPTION:Trivia Tuesdays are fun for everyone at The Dayton Beer Company! Get $3.50 DBC Pints every Tuesday with trivia starting at 7:00 p.m. Cheers!
URL:https://downtowndayton.org/event/trivia-tuesday-2025-02-18/
LOCATION:OH
ATTACH;FMTTYPE=image/jpeg:https://downtowndayton.org/wp-content/uploads/2025/01/dbc.jpg
END:VEVENT
BEGIN:VEVENT
DTSTART;TZID=America/Detroit:20251104T190000
DTEND;TZID=America/Detroit:20251104T190000
DTSTAMP:20260423T120732
CREATED:20250114T175514Z
LAST-MODIFIED:20250114T175514Z
UID:10051283-1762282800-1762282800@downtowndayton.org
SUMMARY:Trivia Tuesday
DESCRIPTION:Trivia Tuesdays are fun for everyone at The Dayton Beer Company! Get $3.50 DBC Pints every Tuesday with trivia starting at 7:00 p.m. Cheers!
URL:https://downtowndayton.org/event/trivia-tuesday-2025-04-15-2/
LOCATION:OH
ATTACH;FMTTYPE=image/jpeg:https://downtowndayton.org/wp-content/uploads/2025/01/dbc.jpg
END:VEVENT
BEGIN:VEVENT
DTSTART;TZID=America/Detroit:20251104T190000
DTEND;TZID=America/Detroit:20251104T190000
DTSTAMP:20260423T120732
CREATED:20250114T175514Z
LAST-MODIFIED:20250114T175514Z
UID:10052634-1762282800-1762282800@downtowndayton.org
SUMMARY:Trivia Tuesday
DESCRIPTION:Trivia Tuesdays are fun for everyone at The Dayton Beer Company! Get $3.50 DBC Pints every Tuesday with trivia starting at 7:00 p.m. Cheers!
URL:https://downtowndayton.org/event/trivia-tuesday-2025-07-01-3/
LOCATION:OH
ATTACH;FMTTYPE=image/jpeg:https://downtowndayton.org/wp-content/uploads/2025/01/dbc.jpg
END:VEVENT
BEGIN:VEVENT
DTSTART;TZID=America/Detroit:20251104T190000
DTEND;TZID=America/Detroit:20251104T190000
DTSTAMP:20260423T120732
CREATED:20250114T175514Z
LAST-MODIFIED:20250114T175514Z
UID:10050323-1762282800-1762282800@downtowndayton.org
SUMMARY:Trivia Tuesday
DESCRIPTION:Trivia Tuesdays are fun for everyone at The Dayton Beer Company! Get $3.50 DBC Pints every Tuesday with trivia starting at 7:00 p.m. Cheers!
URL:https://downtowndayton.org/event/trivia-tuesday-2025-07-01/
LOCATION:OH
ATTACH;FMTTYPE=image/jpeg:https://downtowndayton.org/wp-content/uploads/2025/01/dbc.jpg
END:VEVENT
BEGIN:VEVENT
DTSTART;TZID=America/Detroit:20251104T190000
DTEND;TZID=America/Detroit:20251104T190000
DTSTAMP:20260423T120732
CREATED:20250114T175514Z
LAST-MODIFIED:20250114T175514Z
UID:10052282-1762282800-1762282800@downtowndayton.org
SUMMARY:Trivia Tuesday
DESCRIPTION:Trivia Tuesdays are fun for everyone at The Dayton Beer Company! Get $3.50 DBC Pints every Tuesday with trivia starting at 7:00 p.m. Cheers!
URL:https://downtowndayton.org/event/trivia-tuesday-2025-04-15-3/
LOCATION:OH
ATTACH;FMTTYPE=image/jpeg:https://downtowndayton.org/wp-content/uploads/2025/01/dbc.jpg
END:VEVENT
BEGIN:VEVENT
DTSTART;TZID=America/New_York:20251104T153000
DTEND;TZID=America/New_York:20251104T173000
DTSTAMP:20260423T120732
CREATED:20250924T114821Z
LAST-MODIFIED:20250924T114821Z
UID:10039898-1762270200-1762277400@downtowndayton.org
SUMMARY:Adult Weekday Classes
DESCRIPTION:Tuesday and Wednesday weekday classes: Tuesdays (September-May) Stained Glass Classes: 1:00pm-3:00pm Ceramics/Clay Classes: 3:00pm-5:00pm Glassblowing Classes: 3:30pm-5:30pm Wednesdays (September-May) Still Life Oil Painting Classes: 1:00pm-3:00pm Glassblowing Classes: 2:00pm-4:00pm or 6:00pm-8:00pm. Call for Costs.
URL:https://downtowndayton.org/event/adult-weekday-classes-3/2025-11-04/
LOCATION:K12 Gallery & TEJAS\, 341 S. Jefferson St.\, Dayton\, OH\, 45402
ATTACH;FMTTYPE=image/jpeg:https://downtowndayton.org/wp-content/uploads/2023/12/k12tejas-scaled.jpg
END:VEVENT
BEGIN:VEVENT
DTSTART;TZID=America/New_York:20251104T150000
DTEND;TZID=America/New_York:20251104T180000
DTSTAMP:20260423T120732
CREATED:20250924T115502Z
LAST-MODIFIED:20250924T115502Z
UID:10040089-1762268400-1762279200@downtowndayton.org
SUMMARY:Artist in Training (AIT) Program
DESCRIPTION:After school Artist in Training program geared for grades 3rd-12th grades. Classes are Monday-Wednesdays from 3:00pm-6:00pm. Open Studio time to explore different types of mediums such as Drawing\, Painting\, Clay\, Digital Art.  20.00 per session for Members/40.00 per session for Non-Members.
URL:https://downtowndayton.org/event/artist-in-training-ait-program/2025-11-04/
LOCATION:K12 Gallery & TEJAS\, 341 S. Jefferson St.\, Dayton\, OH\, 45402
ATTACH;FMTTYPE=image/jpeg:https://downtowndayton.org/wp-content/uploads/2023/12/k12tejas-scaled.jpg
END:VEVENT
BEGIN:VEVENT
DTSTART;TZID=America/New_York:20251104T150000
DTEND;TZID=America/New_York:20251104T170000
DTSTAMP:20260423T120732
CREATED:20250924T114552Z
LAST-MODIFIED:20250924T114552Z
UID:10039862-1762268400-1762275600@downtowndayton.org
SUMMARY:Adult Weekday Classes
DESCRIPTION:Tuesday and Wednesday weekday classes: Tuesdays (September-May) Stained Glass Classes: 1:00pm-3:00pm Ceramics/Clay Classes: 3:00pm-5:00pm Glassblowing Classes: 3:30pm-5:30pm Wednesdays (September-May) Still Life Oil Painting Classes: 1:00pm-3:00pm Glassblowing Classes: 2:00pm-4:00pm or 6:00pm-8:00pm. Call for Costs.
URL:https://downtowndayton.org/event/adult-weekday-classes-2/2025-11-04/
LOCATION:K12 Gallery & TEJAS\, 341 S. Jefferson St.\, Dayton\, OH\, 45402
ATTACH;FMTTYPE=image/jpeg:https://downtowndayton.org/wp-content/uploads/2023/12/k12tejas-scaled.jpg
END:VEVENT
BEGIN:VEVENT
DTSTART;TZID=America/New_York:20251104T130000
DTEND;TZID=America/New_York:20251104T150000
DTSTAMP:20260423T120732
CREATED:20250924T114502Z
LAST-MODIFIED:20250924T114502Z
UID:10039827-1762261200-1762268400@downtowndayton.org
SUMMARY:Adult Weekday Classes
DESCRIPTION:Tuesday and Wednesday weekday classes: Tuesdays (September-May) Stained Glass Classes: 1:00pm-3:00pm Ceramics/Clay Classes: 3:00pm-5:00pm Glassblowing Classes: 3:30pm-5:30pm Wednesdays (September-May) Still Life Oil Painting Classes: 1:00pm-3:00pm Glassblowing Classes: 2:00pm-4:00pm or 6:00pm-8:00pm. Call for Costs.
URL:https://downtowndayton.org/event/adult-weekday-classes/2025-11-04/
LOCATION:K12 Gallery & TEJAS\, 341 S. Jefferson St.\, Dayton\, OH\, 45402
ATTACH;FMTTYPE=image/jpeg:https://downtowndayton.org/wp-content/uploads/2023/12/k12tejas-scaled.jpg
END:VEVENT
BEGIN:VEVENT
DTSTART;VALUE=DATE:20251104
DTEND;VALUE=DATE:20251105
DTSTAMP:20260423T120732
CREATED:20251002T125306Z
LAST-MODIFIED:20251002T125306Z
UID:10040948-1762214400-1762300799@downtowndayton.org
SUMMARY:Water Street District Pint Path
DESCRIPTION:Sip your way through local brews\, grab a bite at buzzworthy spots and discover why Water Street District is where Dayton comes to play. Pick up a free Water Street District Pint Path passport from any participating business. Once a passport has been picked up\, purchase a menu item of choice at each stop to receive a stamp on the passport. Once you’ve sipped and stamped at all 14 locations\, turn in your passport to Water Street District’s leasing office (115 Madison Street) to claim your prize. Pint Path Passport stops can be completed at the leisure of each participant. Cheers! Please remember to drink responsibly. Find a list of participating businesses and more details here: https://www.waterstreetdayton.com/wsdpintpath
URL:https://downtowndayton.org/event/water-street-district-pint-path/2025-11-04/
LOCATION:Water Street District
ATTACH;FMTTYPE=image/jpeg:https://downtowndayton.org/wp-content/uploads/2025/10/wsdpintpath.jpg
END:VEVENT
BEGIN:VEVENT
DTSTART;TZID=America/New_York:20251103T173000
DTEND;TZID=America/New_York:20251103T183000
DTSTAMP:20260423T120732
CREATED:20251020T125016Z
LAST-MODIFIED:20251020T125016Z
UID:10044085-1762191000-1762194600@downtowndayton.org
SUMMARY:Hometown Heroes Family Storytime
DESCRIPTION:Hometown Heroes Family Storytime \n\nMonday\, November 3\, 5:30–6:30 pm\, Main Library\, Children’s Creativity Space\n\nAs part of DML’s Reading Railroad Initiative\, this session features guest reader Darius Beckham\, Senior Policy Aide to Dayton Mayor Jeffrey J. Mims.
URL:https://downtowndayton.org/event/hometown-heroes-family-storytime-4/
LOCATION:Dayton Metro Library – Main Library\, 215 E. Third Street\, Dayton\, OH\, 45402
ATTACH;FMTTYPE=image/jpeg:https://downtowndayton.org/wp-content/uploads/2023/08/dml.jpg
END:VEVENT
END:VCALENDAR