BEGIN:VCALENDAR
VERSION:2.0
PRODID:-//Downtown Dayton Partnership - ECPv6.8.1//NONSGML v1.0//EN
CALSCALE:GREGORIAN
METHOD:PUBLISH
X-WR-CALNAME:Downtown Dayton Partnership
X-ORIGINAL-URL:https://downtowndayton.org
X-WR-CALDESC:Events for Downtown Dayton Partnership
REFRESH-INTERVAL;VALUE=DURATION:PT1H
X-Robots-Tag:noindex
X-PUBLISHED-TTL:PT1H
BEGIN:VTIMEZONE
TZID:America/New_York
BEGIN:DAYLIGHT
TZOFFSETFROM:-0500
TZOFFSETTO:-0400
TZNAME:EDT
DTSTART:20250309T070000
END:DAYLIGHT
BEGIN:STANDARD
TZOFFSETFROM:-0400
TZOFFSETTO:-0500
TZNAME:EST
DTSTART:20251102T060000
END:STANDARD
TZID:America/Detroit
BEGIN:DAYLIGHT
TZOFFSETFROM:-0500
TZOFFSETTO:-0400
TZNAME:EDT
DTSTART:20250309T070000
END:DAYLIGHT
BEGIN:STANDARD
TZOFFSETFROM:-0400
TZOFFSETTO:-0500
TZNAME:EST
DTSTART:20251102T060000
END:STANDARD
END:VTIMEZONE
BEGIN:VEVENT
DTSTART;TZID=America/New_York:20251113T193000
DTEND;TZID=America/New_York:20251113T193000
DTSTAMP:20260421T085618
CREATED:20251106T132153Z
LAST-MODIFIED:20251106T132153Z
UID:10046692-1763062200-1763062200@downtowndayton.org
SUMMARY:The Wiz
DESCRIPTION:Nov. 11-16 \nThe Tony® Award-winning Best Musical that took the world by storm is back. THE WIZ returns “home” to stages across America in an all-new tour\, direct from Broadway. \nThe Baltimore Sun raves “Powerhouse performances. Stunning choreography. Visionary sets” and the Chicago Sun-Times proclaims THE WIZ is “An eye-popping and high-intensity revival!” \nThis groundbreaking twist on The Wizard Of Oz changed the face of Broadway – from its iconic score packed with soul\, gospel\, rock\, and ’70s funk to its stirring tale of Dorothy’s journey to find her place in a contemporary world. \nWith direction by Schele Williams (The Notebook\, revival of Disney’s Aida)\, choreography by JaQuel Knight (Beyoncé’s “Single Ladies\,” Black Is King)\, and additional material by Tony®-nominated and Emmy-nominated writer and TV host Amber Ruffin (“The Amber Ruffin Show\,” “Late Night With Seth Meyers”)\, this dynamite infusion of ballet\, jazz\, and modern pop brings a whole new groove to easing on down the road. Everybody rejoice!
URL:https://downtowndayton.org/event/the-wiz/2025-11-13/
LOCATION:The Benjamin & Marian Schuster Performing Arts Center\, 1 West Second Street\, Dayton\, OH\, 45402
ATTACH;FMTTYPE=image/jpeg:https://downtowndayton.org/wp-content/uploads/2025/11/wiz.jpg
END:VEVENT
BEGIN:VEVENT
DTSTART;TZID=America/Detroit:20251113T183000
DTEND;TZID=America/Detroit:20251113T213000
DTSTAMP:20260421T085618
CREATED:20250114T175650Z
LAST-MODIFIED:20250114T175650Z
UID:10047120-1763058600-1763069400@downtowndayton.org
SUMMARY:Karaoke
DESCRIPTION:Join us for Karaoke Thursdays at The Dayton Beer Company\, hosted by Limelight Entertainment from 6:30 p.m.-9:30p.m. Cheers!
URL:https://downtowndayton.org/event/karaoke-2025-02-13-2/
LOCATION:OH
ATTACH;FMTTYPE=image/jpeg:https://downtowndayton.org/wp-content/uploads/2025/01/dbc.jpg
END:VEVENT
BEGIN:VEVENT
DTSTART;TZID=America/Detroit:20251113T183000
DTEND;TZID=America/Detroit:20251113T213000
DTSTAMP:20260421T085618
CREATED:20250114T175650Z
LAST-MODIFIED:20250114T175650Z
UID:10046505-1763058600-1763069400@downtowndayton.org
SUMMARY:Karaoke
DESCRIPTION:Join us for Karaoke Thursdays at The Dayton Beer Company\, hosted by Limelight Entertainment from 6:30 p.m.-9:30p.m. Cheers!
URL:https://downtowndayton.org/event/karaoke-2025-09-25/
LOCATION:OH
ATTACH;FMTTYPE=image/jpeg:https://downtowndayton.org/wp-content/uploads/2025/01/dbc.jpg
END:VEVENT
BEGIN:VEVENT
DTSTART;TZID=America/Detroit:20251113T183000
DTEND;TZID=America/Detroit:20251113T213000
DTSTAMP:20260421T085618
CREATED:20250114T175650Z
LAST-MODIFIED:20250114T175650Z
UID:10047029-1763058600-1763069400@downtowndayton.org
SUMMARY:Karaoke
DESCRIPTION:Join us for Karaoke Thursdays at The Dayton Beer Company\, hosted by Limelight Entertainment from 6:30 p.m.-9:30p.m. Cheers!
URL:https://downtowndayton.org/event/karaoke-2025-01-30-2/
LOCATION:OH
ATTACH;FMTTYPE=image/jpeg:https://downtowndayton.org/wp-content/uploads/2025/01/dbc.jpg
END:VEVENT
BEGIN:VEVENT
DTSTART;TZID=America/Detroit:20251113T183000
DTEND;TZID=America/Detroit:20251113T213000
DTSTAMP:20260421T085618
CREATED:20250114T175650Z
LAST-MODIFIED:20250114T175650Z
UID:10046478-1763058600-1763069400@downtowndayton.org
SUMMARY:Karaoke
DESCRIPTION:Join us for Karaoke Thursdays at The Dayton Beer Company\, hosted by Limelight Entertainment from 6:30 p.m.-9:30p.m. Cheers!
URL:https://downtowndayton.org/event/karaoke-2025-09-11/
LOCATION:OH
ATTACH;FMTTYPE=image/jpeg:https://downtowndayton.org/wp-content/uploads/2025/01/dbc.jpg
END:VEVENT
BEGIN:VEVENT
DTSTART;TZID=America/Detroit:20251113T183000
DTEND;TZID=America/Detroit:20251113T213000
DTSTAMP:20260421T085618
CREATED:20250114T175650Z
LAST-MODIFIED:20250114T175650Z
UID:10047861-1763058600-1763069400@downtowndayton.org
SUMMARY:Karaoke
DESCRIPTION:Join us for Karaoke Thursdays at The Dayton Beer Company\, hosted by Limelight Entertainment from 6:30 p.m.-9:30p.m. Cheers!
URL:https://downtowndayton.org/event/karaoke-2025-02-13-3/
LOCATION:OH
ATTACH;FMTTYPE=image/jpeg:https://downtowndayton.org/wp-content/uploads/2025/01/dbc.jpg
END:VEVENT
BEGIN:VEVENT
DTSTART;TZID=America/Detroit:20251113T183000
DTEND;TZID=America/Detroit:20251113T213000
DTSTAMP:20260421T085618
CREATED:20250114T175650Z
LAST-MODIFIED:20250114T175650Z
UID:10048575-1763058600-1763069400@downtowndayton.org
SUMMARY:Karaoke
DESCRIPTION:Join us for Karaoke Thursdays at The Dayton Beer Company\, hosted by Limelight Entertainment from 6:30 p.m.-9:30p.m. Cheers!
URL:https://downtowndayton.org/event/karaoke-2025-01-23-4/
LOCATION:OH
ATTACH;FMTTYPE=image/jpeg:https://downtowndayton.org/wp-content/uploads/2025/01/dbc.jpg
END:VEVENT
BEGIN:VEVENT
DTSTART;TZID=America/Detroit:20251113T183000
DTEND;TZID=America/Detroit:20251113T213000
DTSTAMP:20260421T085618
CREATED:20250114T175650Z
LAST-MODIFIED:20250114T175650Z
UID:10045548-1763058600-1763069400@downtowndayton.org
SUMMARY:Karaoke
DESCRIPTION:Join us for Karaoke Thursdays at The Dayton Beer Company\, hosted by Limelight Entertainment from 6:30 p.m.-9:30p.m. Cheers!
URL:https://downtowndayton.org/event/karaoke-2025-02-06/
LOCATION:OH
ATTACH;FMTTYPE=image/jpeg:https://downtowndayton.org/wp-content/uploads/2025/01/dbc.jpg
END:VEVENT
BEGIN:VEVENT
DTSTART;TZID=America/Detroit:20251113T183000
DTEND;TZID=America/Detroit:20251113T213000
DTSTAMP:20260421T085618
CREATED:20250114T175650Z
LAST-MODIFIED:20250114T175650Z
UID:10047770-1763058600-1763069400@downtowndayton.org
SUMMARY:Karaoke
DESCRIPTION:Join us for Karaoke Thursdays at The Dayton Beer Company\, hosted by Limelight Entertainment from 6:30 p.m.-9:30p.m. Cheers!
URL:https://downtowndayton.org/event/karaoke-2025-01-30-3/
LOCATION:OH
ATTACH;FMTTYPE=image/jpeg:https://downtowndayton.org/wp-content/uploads/2025/01/dbc.jpg
END:VEVENT
BEGIN:VEVENT
DTSTART;TZID=America/Detroit:20251113T183000
DTEND;TZID=America/Detroit:20251113T213000
DTSTAMP:20260421T085618
CREATED:20250114T175650Z
LAST-MODIFIED:20250114T175650Z
UID:10046547-1763058600-1763069400@downtowndayton.org
SUMMARY:Karaoke
DESCRIPTION:Join us for Karaoke Thursdays at The Dayton Beer Company\, hosted by Limelight Entertainment from 6:30 p.m.-9:30p.m. Cheers!
URL:https://downtowndayton.org/event/karaoke-2025-10-23/
LOCATION:OH
ATTACH;FMTTYPE=image/jpeg:https://downtowndayton.org/wp-content/uploads/2025/01/dbc.jpg
END:VEVENT
BEGIN:VEVENT
DTSTART;TZID=America/Detroit:20251113T183000
DTEND;TZID=America/Detroit:20251113T213000
DTSTAMP:20260421T085618
CREATED:20250114T175650Z
LAST-MODIFIED:20250114T175650Z
UID:10047290-1763058600-1763069400@downtowndayton.org
SUMMARY:Karaoke
DESCRIPTION:Join us for Karaoke Thursdays at The Dayton Beer Company\, hosted by Limelight Entertainment from 6:30 p.m.-9:30p.m. Cheers!
URL:https://downtowndayton.org/event/karaoke-2025-03-13-2/
LOCATION:OH
ATTACH;FMTTYPE=image/jpeg:https://downtowndayton.org/wp-content/uploads/2025/01/dbc.jpg
END:VEVENT
BEGIN:VEVENT
DTSTART;TZID=America/Detroit:20251113T183000
DTEND;TZID=America/Detroit:20251113T213000
DTSTAMP:20260421T085618
CREATED:20250114T175650Z
LAST-MODIFIED:20250114T175650Z
UID:10048713-1763058600-1763069400@downtowndayton.org
SUMMARY:Karaoke
DESCRIPTION:Join us for Karaoke Thursdays at The Dayton Beer Company\, hosted by Limelight Entertainment from 6:30 p.m.-9:30p.m. Cheers!
URL:https://downtowndayton.org/event/karaoke-2025-02-13-4/
LOCATION:OH
ATTACH;FMTTYPE=image/jpeg:https://downtowndayton.org/wp-content/uploads/2025/01/dbc.jpg
END:VEVENT
BEGIN:VEVENT
DTSTART;TZID=America/Detroit:20251113T183000
DTEND;TZID=America/Detroit:20251113T213000
DTSTAMP:20260421T085618
CREATED:20250114T175650Z
LAST-MODIFIED:20250114T175650Z
UID:10046232-1763058600-1763069400@downtowndayton.org
SUMMARY:Karaoke
DESCRIPTION:Join us for Karaoke Thursdays at The Dayton Beer Company\, hosted by Limelight Entertainment from 6:30 p.m.-9:30p.m. Cheers!
URL:https://downtowndayton.org/event/karaoke-2025-06-19/
LOCATION:OH
ATTACH;FMTTYPE=image/jpeg:https://downtowndayton.org/wp-content/uploads/2025/01/dbc.jpg
END:VEVENT
BEGIN:VEVENT
DTSTART;TZID=America/Detroit:20251113T183000
DTEND;TZID=America/Detroit:20251113T213000
DTSTAMP:20260421T085618
CREATED:20250114T175650Z
LAST-MODIFIED:20250114T175650Z
UID:10045880-1763058600-1763069400@downtowndayton.org
SUMMARY:Karaoke
DESCRIPTION:Join us for Karaoke Thursdays at The Dayton Beer Company\, hosted by Limelight Entertainment from 6:30 p.m.-9:30p.m. Cheers!
URL:https://downtowndayton.org/event/karaoke-2025-04-03/
LOCATION:OH
ATTACH;FMTTYPE=image/jpeg:https://downtowndayton.org/wp-content/uploads/2025/01/dbc.jpg
END:VEVENT
BEGIN:VEVENT
DTSTART;TZID=America/Detroit:20251113T183000
DTEND;TZID=America/Detroit:20251113T213000
DTSTAMP:20260421T085618
CREATED:20250114T175650Z
LAST-MODIFIED:20250114T175650Z
UID:10048031-1763058600-1763069400@downtowndayton.org
SUMMARY:Karaoke
DESCRIPTION:Join us for Karaoke Thursdays at The Dayton Beer Company\, hosted by Limelight Entertainment from 6:30 p.m.-9:30p.m. Cheers!
URL:https://downtowndayton.org/event/karaoke-2025-03-13-3/
LOCATION:OH
ATTACH;FMTTYPE=image/jpeg:https://downtowndayton.org/wp-content/uploads/2025/01/dbc.jpg
END:VEVENT
BEGIN:VEVENT
DTSTART;TZID=America/Detroit:20251113T183000
DTEND;TZID=America/Detroit:20251113T213000
DTSTAMP:20260421T085618
CREATED:20250114T175650Z
LAST-MODIFIED:20250114T175650Z
UID:10046205-1763058600-1763069400@downtowndayton.org
SUMMARY:Karaoke
DESCRIPTION:Join us for Karaoke Thursdays at The Dayton Beer Company\, hosted by Limelight Entertainment from 6:30 p.m.-9:30p.m. Cheers!
URL:https://downtowndayton.org/event/karaoke-2025-06-12/
LOCATION:OH
ATTACH;FMTTYPE=image/jpeg:https://downtowndayton.org/wp-content/uploads/2025/01/dbc.jpg
END:VEVENT
BEGIN:VEVENT
DTSTART;TZID=America/Detroit:20251113T183000
DTEND;TZID=America/Detroit:20251113T213000
DTSTAMP:20260421T085618
CREATED:20250114T175650Z
LAST-MODIFIED:20250114T175650Z
UID:10045917-1763058600-1763069400@downtowndayton.org
SUMMARY:Karaoke
DESCRIPTION:Join us for Karaoke Thursdays at The Dayton Beer Company\, hosted by Limelight Entertainment from 6:30 p.m.-9:30p.m. Cheers!
URL:https://downtowndayton.org/event/karaoke-2025-04-10/
LOCATION:OH
ATTACH;FMTTYPE=image/jpeg:https://downtowndayton.org/wp-content/uploads/2025/01/dbc.jpg
END:VEVENT
BEGIN:VEVENT
DTSTART;TZID=America/Detroit:20251113T183000
DTEND;TZID=America/Detroit:20251113T213000
DTSTAMP:20260421T085618
CREATED:20250114T175650Z
LAST-MODIFIED:20250114T175650Z
UID:10048622-1763058600-1763069400@downtowndayton.org
SUMMARY:Karaoke
DESCRIPTION:Join us for Karaoke Thursdays at The Dayton Beer Company\, hosted by Limelight Entertainment from 6:30 p.m.-9:30p.m. Cheers!
URL:https://downtowndayton.org/event/karaoke-2025-01-30-4/
LOCATION:OH
ATTACH;FMTTYPE=image/jpeg:https://downtowndayton.org/wp-content/uploads/2025/01/dbc.jpg
END:VEVENT
BEGIN:VEVENT
DTSTART;TZID=America/Detroit:20251113T183000
DTEND;TZID=America/Detroit:20251113T213000
DTSTAMP:20260421T085618
CREATED:20250114T175650Z
LAST-MODIFIED:20250114T175650Z
UID:10048883-1763058600-1763069400@downtowndayton.org
SUMMARY:Karaoke
DESCRIPTION:Join us for Karaoke Thursdays at The Dayton Beer Company\, hosted by Limelight Entertainment from 6:30 p.m.-9:30p.m. Cheers!
URL:https://downtowndayton.org/event/karaoke-2025-03-13-4/
LOCATION:OH
ATTACH;FMTTYPE=image/jpeg:https://downtowndayton.org/wp-content/uploads/2025/01/dbc.jpg
END:VEVENT
BEGIN:VEVENT
DTSTART;TZID=America/Detroit:20251113T183000
DTEND;TZID=America/Detroit:20251113T213000
DTSTAMP:20260421T085618
CREATED:20250114T175650Z
LAST-MODIFIED:20250114T175650Z
UID:10046562-1763058600-1763069400@downtowndayton.org
SUMMARY:Karaoke
DESCRIPTION:Join us for Karaoke Thursdays at The Dayton Beer Company\, hosted by Limelight Entertainment from 6:30 p.m.-9:30p.m. Cheers!
URL:https://downtowndayton.org/event/karaoke-2025-11-06/
LOCATION:OH
ATTACH;FMTTYPE=image/jpeg:https://downtowndayton.org/wp-content/uploads/2025/01/dbc.jpg
END:VEVENT
BEGIN:VEVENT
DTSTART;TZID=America/Detroit:20251113T183000
DTEND;TZID=America/Detroit:20251113T213000
DTSTAMP:20260421T085618
CREATED:20250114T175650Z
LAST-MODIFIED:20250114T175650Z
UID:10047369-1763058600-1763069400@downtowndayton.org
SUMMARY:Karaoke
DESCRIPTION:Join us for Karaoke Thursdays at The Dayton Beer Company\, hosted by Limelight Entertainment from 6:30 p.m.-9:30p.m. Cheers!
URL:https://downtowndayton.org/event/karaoke-2025-03-27-2/
LOCATION:OH
ATTACH;FMTTYPE=image/jpeg:https://downtowndayton.org/wp-content/uploads/2025/01/dbc.jpg
END:VEVENT
BEGIN:VEVENT
DTSTART;TZID=America/Detroit:20251113T183000
DTEND;TZID=America/Detroit:20251113T213000
DTSTAMP:20260421T085618
CREATED:20250114T175650Z
LAST-MODIFIED:20250114T175650Z
UID:10048110-1763058600-1763069400@downtowndayton.org
SUMMARY:Karaoke
DESCRIPTION:Join us for Karaoke Thursdays at The Dayton Beer Company\, hosted by Limelight Entertainment from 6:30 p.m.-9:30p.m. Cheers!
URL:https://downtowndayton.org/event/karaoke-2025-03-27-3/
LOCATION:OH
ATTACH;FMTTYPE=image/jpeg:https://downtowndayton.org/wp-content/uploads/2025/01/dbc.jpg
END:VEVENT
BEGIN:VEVENT
DTSTART;TZID=America/Detroit:20251113T183000
DTEND;TZID=America/Detroit:20251113T213000
DTSTAMP:20260421T085618
CREATED:20250114T175650Z
LAST-MODIFIED:20250114T175650Z
UID:10046055-1763058600-1763069400@downtowndayton.org
SUMMARY:Karaoke
DESCRIPTION:Join us for Karaoke Thursdays at The Dayton Beer Company\, hosted by Limelight Entertainment from 6:30 p.m.-9:30p.m. Cheers!
URL:https://downtowndayton.org/event/karaoke-2025-05-08/
LOCATION:OH
ATTACH;FMTTYPE=image/jpeg:https://downtowndayton.org/wp-content/uploads/2025/01/dbc.jpg
END:VEVENT
BEGIN:VEVENT
DTSTART;TZID=America/Detroit:20251113T183000
DTEND;TZID=America/Detroit:20251113T213000
DTSTAMP:20260421T085618
CREATED:20250114T175650Z
LAST-MODIFIED:20250114T175650Z
UID:10046087-1763058600-1763069400@downtowndayton.org
SUMMARY:Karaoke
DESCRIPTION:Join us for Karaoke Thursdays at The Dayton Beer Company\, hosted by Limelight Entertainment from 6:30 p.m.-9:30p.m. Cheers!
URL:https://downtowndayton.org/event/karaoke-2025-05-15/
LOCATION:OH
ATTACH;FMTTYPE=image/jpeg:https://downtowndayton.org/wp-content/uploads/2025/01/dbc.jpg
END:VEVENT
BEGIN:VEVENT
DTSTART;TZID=America/Detroit:20251113T183000
DTEND;TZID=America/Detroit:20251113T213000
DTSTAMP:20260421T085618
CREATED:20250114T175650Z
LAST-MODIFIED:20250114T175650Z
UID:10045637-1763058600-1763069400@downtowndayton.org
SUMMARY:Karaoke
DESCRIPTION:Join us for Karaoke Thursdays at The Dayton Beer Company\, hosted by Limelight Entertainment from 6:30 p.m.-9:30p.m. Cheers!
URL:https://downtowndayton.org/event/karaoke-2025-02-20/
LOCATION:OH
ATTACH;FMTTYPE=image/jpeg:https://downtowndayton.org/wp-content/uploads/2025/01/dbc.jpg
END:VEVENT
BEGIN:VEVENT
DTSTART;TZID=America/Detroit:20251113T183000
DTEND;TZID=America/Detroit:20251113T213000
DTSTAMP:20260421T085619
CREATED:20250114T175650Z
LAST-MODIFIED:20250114T175650Z
UID:10046412-1763058600-1763069400@downtowndayton.org
SUMMARY:Karaoke
DESCRIPTION:Join us for Karaoke Thursdays at The Dayton Beer Company\, hosted by Limelight Entertainment from 6:30 p.m.-9:30p.m. Cheers!
URL:https://downtowndayton.org/event/karaoke-2025-08-14/
LOCATION:OH
ATTACH;FMTTYPE=image/jpeg:https://downtowndayton.org/wp-content/uploads/2025/01/dbc.jpg
END:VEVENT
BEGIN:VEVENT
DTSTART;TZID=America/Detroit:20251113T183000
DTEND;TZID=America/Detroit:20251113T213000
DTSTAMP:20260421T085619
CREATED:20250114T175650Z
LAST-MODIFIED:20250114T175650Z
UID:10047480-1763058600-1763069400@downtowndayton.org
SUMMARY:Karaoke
DESCRIPTION:Join us for Karaoke Thursdays at The Dayton Beer Company\, hosted by Limelight Entertainment from 6:30 p.m.-9:30p.m. Cheers!
URL:https://downtowndayton.org/event/karaoke-2025-04-17-2/
LOCATION:OH
ATTACH;FMTTYPE=image/jpeg:https://downtowndayton.org/wp-content/uploads/2025/01/dbc.jpg
END:VEVENT
BEGIN:VEVENT
DTSTART;TZID=America/Detroit:20251113T183000
DTEND;TZID=America/Detroit:20251113T213000
DTSTAMP:20260421T085619
CREATED:20250114T175650Z
LAST-MODIFIED:20250114T175650Z
UID:10048962-1763058600-1763069400@downtowndayton.org
SUMMARY:Karaoke
DESCRIPTION:Join us for Karaoke Thursdays at The Dayton Beer Company\, hosted by Limelight Entertainment from 6:30 p.m.-9:30p.m. Cheers!
URL:https://downtowndayton.org/event/karaoke-2025-03-27-4/
LOCATION:OH
ATTACH;FMTTYPE=image/jpeg:https://downtowndayton.org/wp-content/uploads/2025/01/dbc.jpg
END:VEVENT
BEGIN:VEVENT
DTSTART;TZID=America/Detroit:20251113T183000
DTEND;TZID=America/Detroit:20251113T213000
DTSTAMP:20260421T085619
CREATED:20250114T175650Z
LAST-MODIFIED:20250114T175650Z
UID:10047549-1763058600-1763069400@downtowndayton.org
SUMMARY:Karaoke
DESCRIPTION:Join us for Karaoke Thursdays at The Dayton Beer Company\, hosted by Limelight Entertainment from 6:30 p.m.-9:30p.m. Cheers!
URL:https://downtowndayton.org/event/karaoke-2025-05-01-2/
LOCATION:OH
ATTACH;FMTTYPE=image/jpeg:https://downtowndayton.org/wp-content/uploads/2025/01/dbc.jpg
END:VEVENT
BEGIN:VEVENT
DTSTART;TZID=America/Detroit:20251113T183000
DTEND;TZID=America/Detroit:20251113T213000
DTSTAMP:20260421T085619
CREATED:20250114T175650Z
LAST-MODIFIED:20250114T175650Z
UID:10048221-1763058600-1763069400@downtowndayton.org
SUMMARY:Karaoke
DESCRIPTION:Join us for Karaoke Thursdays at The Dayton Beer Company\, hosted by Limelight Entertainment from 6:30 p.m.-9:30p.m. Cheers!
URL:https://downtowndayton.org/event/karaoke-2025-04-17-3/
LOCATION:OH
ATTACH;FMTTYPE=image/jpeg:https://downtowndayton.org/wp-content/uploads/2025/01/dbc.jpg
END:VEVENT
END:VCALENDAR