BEGIN:VCALENDAR
VERSION:2.0
PRODID:-//Downtown Dayton Partnership - ECPv6.8.1//NONSGML v1.0//EN
CALSCALE:GREGORIAN
METHOD:PUBLISH
X-ORIGINAL-URL:https://downtowndayton.org
X-WR-CALDESC:Events for Downtown Dayton Partnership
REFRESH-INTERVAL;VALUE=DURATION:PT1H
X-Robots-Tag:noindex
X-PUBLISHED-TTL:PT1H
BEGIN:VTIMEZONE
TZID:America/Detroit
BEGIN:DAYLIGHT
TZOFFSETFROM:-0500
TZOFFSETTO:-0400
TZNAME:EDT
DTSTART:20250309T070000
END:DAYLIGHT
BEGIN:STANDARD
TZOFFSETFROM:-0400
TZOFFSETTO:-0500
TZNAME:EST
DTSTART:20251102T060000
END:STANDARD
TZID:America/New_York
BEGIN:DAYLIGHT
TZOFFSETFROM:-0500
TZOFFSETTO:-0400
TZNAME:EDT
DTSTART:20250309T070000
END:DAYLIGHT
BEGIN:STANDARD
TZOFFSETFROM:-0400
TZOFFSETTO:-0500
TZNAME:EST
DTSTART:20251102T060000
END:STANDARD
END:VTIMEZONE
BEGIN:VEVENT
DTSTART;TZID=America/Detroit:20250924T190000
DTEND;TZID=America/Detroit:20250924T210000
DTSTAMP:20260419T222026
CREATED:20250114T175815Z
LAST-MODIFIED:20250114T175815Z
UID:10044654-1758740400-1758747600@downtowndayton.org
SUMMARY:Puzzle Feud
DESCRIPTION:Calling all puzzle fans! Join us for Puzzle Feud every Wednesday from 7:00 p.m.-9:00 p.m. (or until the first puzzle is completed). Complete a 500-piece puzzle of your choice with teams of up to 4 with a 2-hour limit. All teams must sign up at the bar on the day of and teams must go to the bar once their puzzle is completed. The winning team receives a prize. Cheers!
URL:https://downtowndayton.org/event/puzzle-feud-2025-04-23-4/
ATTACH;FMTTYPE=image/jpeg:https://downtowndayton.org/wp-content/uploads/2025/01/dbc.jpg
END:VEVENT
BEGIN:VEVENT
DTSTART;TZID=America/Detroit:20250924T190000
DTEND;TZID=America/Detroit:20250924T210000
DTSTAMP:20260419T222026
CREATED:20250114T175815Z
LAST-MODIFIED:20250114T175815Z
UID:10042021-1758740400-1758747600@downtowndayton.org
SUMMARY:Puzzle Feud
DESCRIPTION:Calling all puzzle fans! Join us for Puzzle Feud every Wednesday from 7:00 p.m.-9:00 p.m. (or until the first puzzle is completed). Complete a 500-piece puzzle of your choice with teams of up to 4 with a 2-hour limit. All teams must sign up at the bar on the day of and teams must go to the bar once their puzzle is completed. The winning team receives a prize. Cheers!
URL:https://downtowndayton.org/event/puzzle-feud-2025-07-09/
ATTACH;FMTTYPE=image/jpeg:https://downtowndayton.org/wp-content/uploads/2025/01/dbc.jpg
END:VEVENT
BEGIN:VEVENT
DTSTART;TZID=America/Detroit:20250924T190000
DTEND;TZID=America/Detroit:20250924T210000
DTSTAMP:20260419T222026
CREATED:20250114T175815Z
LAST-MODIFIED:20250114T175815Z
UID:10043844-1758740400-1758747600@downtowndayton.org
SUMMARY:Puzzle Feud
DESCRIPTION:Calling all puzzle fans! Join us for Puzzle Feud every Wednesday from 7:00 p.m.-9:00 p.m. (or until the first puzzle is completed). Complete a 500-piece puzzle of your choice with teams of up to 4 with a 2-hour limit. All teams must sign up at the bar on the day of and teams must go to the bar once their puzzle is completed. The winning team receives a prize. Cheers!
URL:https://downtowndayton.org/event/puzzle-feud-2025-06-04-3/
ATTACH;FMTTYPE=image/jpeg:https://downtowndayton.org/wp-content/uploads/2025/01/dbc.jpg
END:VEVENT
BEGIN:VEVENT
DTSTART;TZID=America/Detroit:20250924T190000
DTEND;TZID=America/Detroit:20250924T210000
DTSTAMP:20260419T222026
CREATED:20250114T175815Z
LAST-MODIFIED:20250114T175815Z
UID:10042780-1758740400-1758747600@downtowndayton.org
SUMMARY:Puzzle Feud
DESCRIPTION:Calling all puzzle fans! Join us for Puzzle Feud every Wednesday from 7:00 p.m.-9:00 p.m. (or until the first puzzle is completed). Complete a 500-piece puzzle of your choice with teams of up to 4 with a 2-hour limit. All teams must sign up at the bar on the day of and teams must go to the bar once their puzzle is completed. The winning team receives a prize. Cheers!
URL:https://downtowndayton.org/event/puzzle-feud-2025-05-21-2/
ATTACH;FMTTYPE=image/jpeg:https://downtowndayton.org/wp-content/uploads/2025/01/dbc.jpg
END:VEVENT
BEGIN:VEVENT
DTSTART;TZID=America/Detroit:20250924T190000
DTEND;TZID=America/Detroit:20250924T210000
DTSTAMP:20260419T222026
CREATED:20250114T175815Z
LAST-MODIFIED:20250114T175815Z
UID:10044388-1758740400-1758747600@downtowndayton.org
SUMMARY:Puzzle Feud
DESCRIPTION:Calling all puzzle fans! Join us for Puzzle Feud every Wednesday from 7:00 p.m.-9:00 p.m. (or until the first puzzle is completed). Complete a 500-piece puzzle of your choice with teams of up to 4 with a 2-hour limit. All teams must sign up at the bar on the day of and teams must go to the bar once their puzzle is completed. The winning team receives a prize. Cheers!
URL:https://downtowndayton.org/event/puzzle-feud-2025-03-05-4/
ATTACH;FMTTYPE=image/jpeg:https://downtowndayton.org/wp-content/uploads/2025/01/dbc.jpg
END:VEVENT
BEGIN:VEVENT
DTSTART;TZID=America/Detroit:20250924T190000
DTEND;TZID=America/Detroit:20250924T210000
DTSTAMP:20260419T222026
CREATED:20250114T175815Z
LAST-MODIFIED:20250114T175815Z
UID:10043620-1758740400-1758747600@downtowndayton.org
SUMMARY:Puzzle Feud
DESCRIPTION:Calling all puzzle fans! Join us for Puzzle Feud every Wednesday from 7:00 p.m.-9:00 p.m. (or until the first puzzle is completed). Complete a 500-piece puzzle of your choice with teams of up to 4 with a 2-hour limit. All teams must sign up at the bar on the day of and teams must go to the bar once their puzzle is completed. The winning team receives a prize. Cheers!
URL:https://downtowndayton.org/event/puzzle-feud-2025-04-16-3/
ATTACH;FMTTYPE=image/jpeg:https://downtowndayton.org/wp-content/uploads/2025/01/dbc.jpg
END:VEVENT
BEGIN:VEVENT
DTSTART;TZID=America/Detroit:20250924T190000
DTEND;TZID=America/Detroit:20250924T210000
DTSTAMP:20260419T222026
CREATED:20250114T175815Z
LAST-MODIFIED:20250114T175815Z
UID:10042542-1758740400-1758747600@downtowndayton.org
SUMMARY:Puzzle Feud
DESCRIPTION:Calling all puzzle fans! Join us for Puzzle Feud every Wednesday from 7:00 p.m.-9:00 p.m. (or until the first puzzle is completed). Complete a 500-piece puzzle of your choice with teams of up to 4 with a 2-hour limit. All teams must sign up at the bar on the day of and teams must go to the bar once their puzzle is completed. The winning team receives a prize. Cheers!
URL:https://downtowndayton.org/event/puzzle-feud-2025-04-02-2/
ATTACH;FMTTYPE=image/jpeg:https://downtowndayton.org/wp-content/uploads/2025/01/dbc.jpg
END:VEVENT
BEGIN:VEVENT
DTSTART;TZID=America/Detroit:20250924T190000
DTEND;TZID=America/Detroit:20250924T210000
DTSTAMP:20260419T222026
CREATED:20250114T175815Z
LAST-MODIFIED:20250114T175815Z
UID:10041832-1758740400-1758747600@downtowndayton.org
SUMMARY:Puzzle Feud
DESCRIPTION:Calling all puzzle fans! Join us for Puzzle Feud every Wednesday from 7:00 p.m.-9:00 p.m. (or until the first puzzle is completed). Complete a 500-piece puzzle of your choice with teams of up to 4 with a 2-hour limit. All teams must sign up at the bar on the day of and teams must go to the bar once their puzzle is completed. The winning team receives a prize. Cheers!
URL:https://downtowndayton.org/event/puzzle-feud-2025-05-21/
ATTACH;FMTTYPE=image/jpeg:https://downtowndayton.org/wp-content/uploads/2025/01/dbc.jpg
END:VEVENT
BEGIN:VEVENT
DTSTART;TZID=America/Detroit:20250924T190000
DTEND;TZID=America/Detroit:20250924T210000
DTSTAMP:20260419T222026
CREATED:20250114T175815Z
LAST-MODIFIED:20250114T175815Z
UID:10042117-1758740400-1758747600@downtowndayton.org
SUMMARY:Puzzle Feud
DESCRIPTION:Calling all puzzle fans! Join us for Puzzle Feud every Wednesday from 7:00 p.m.-9:00 p.m. (or until the first puzzle is completed). Complete a 500-piece puzzle of your choice with teams of up to 4 with a 2-hour limit. All teams must sign up at the bar on the day of and teams must go to the bar once their puzzle is completed. The winning team receives a prize. Cheers!
URL:https://downtowndayton.org/event/puzzle-feud-2025-01-22-2/
ATTACH;FMTTYPE=image/jpeg:https://downtowndayton.org/wp-content/uploads/2025/01/dbc.jpg
END:VEVENT
BEGIN:VEVENT
DTSTART;TZID=America/Detroit:20250924T190000
DTEND;TZID=America/Detroit:20250924T210000
DTSTAMP:20260419T222026
CREATED:20250114T175815Z
LAST-MODIFIED:20250114T175815Z
UID:10042255-1758740400-1758747600@downtowndayton.org
SUMMARY:Puzzle Feud
DESCRIPTION:Calling all puzzle fans! Join us for Puzzle Feud every Wednesday from 7:00 p.m.-9:00 p.m. (or until the first puzzle is completed). Complete a 500-piece puzzle of your choice with teams of up to 4 with a 2-hour limit. All teams must sign up at the bar on the day of and teams must go to the bar once their puzzle is completed. The winning team receives a prize. Cheers!
URL:https://downtowndayton.org/event/puzzle-feud-2025-02-12-2/
ATTACH;FMTTYPE=image/jpeg:https://downtowndayton.org/wp-content/uploads/2025/01/dbc.jpg
END:VEVENT
BEGIN:VEVENT
DTSTART;TZID=America/Detroit:20250924T190000
DTEND;TZID=America/Detroit:20250924T210000
DTSTAMP:20260419T222026
CREATED:20250114T175815Z
LAST-MODIFIED:20250114T175815Z
UID:10041594-1758740400-1758747600@downtowndayton.org
SUMMARY:Puzzle Feud
DESCRIPTION:Calling all puzzle fans! Join us for Puzzle Feud every Wednesday from 7:00 p.m.-9:00 p.m. (or until the first puzzle is completed). Complete a 500-piece puzzle of your choice with teams of up to 4 with a 2-hour limit. All teams must sign up at the bar on the day of and teams must go to the bar once their puzzle is completed. The winning team receives a prize. Cheers!
URL:https://downtowndayton.org/event/puzzle-feud-2025-04-02/
ATTACH;FMTTYPE=image/jpeg:https://downtowndayton.org/wp-content/uploads/2025/01/dbc.jpg
END:VEVENT
BEGIN:VEVENT
DTSTART;TZID=America/Detroit:20250924T190000
DTEND;TZID=America/Detroit:20250924T210000
DTSTAMP:20260419T222026
CREATED:20250114T175815Z
LAST-MODIFIED:20250114T175815Z
UID:10043347-1758740400-1758747600@downtowndayton.org
SUMMARY:Puzzle Feud
DESCRIPTION:Calling all puzzle fans! Join us for Puzzle Feud every Wednesday from 7:00 p.m.-9:00 p.m. (or until the first puzzle is completed). Complete a 500-piece puzzle of your choice with teams of up to 4 with a 2-hour limit. All teams must sign up at the bar on the day of and teams must go to the bar once their puzzle is completed. The winning team receives a prize. Cheers!
URL:https://downtowndayton.org/event/puzzle-feud-2025-02-26-3/
ATTACH;FMTTYPE=image/jpeg:https://downtowndayton.org/wp-content/uploads/2025/01/dbc.jpg
END:VEVENT
BEGIN:VEVENT
DTSTART;TZID=America/Detroit:20250924T190000
DTEND;TZID=America/Detroit:20250924T210000
DTSTAMP:20260419T222026
CREATED:20250114T175815Z
LAST-MODIFIED:20250114T175815Z
UID:10044973-1758740400-1758747600@downtowndayton.org
SUMMARY:Puzzle Feud
DESCRIPTION:Calling all puzzle fans! Join us for Puzzle Feud every Wednesday from 7:00 p.m.-9:00 p.m. (or until the first puzzle is completed). Complete a 500-piece puzzle of your choice with teams of up to 4 with a 2-hour limit. All teams must sign up at the bar on the day of and teams must go to the bar once their puzzle is completed. The winning team receives a prize. Cheers!
URL:https://downtowndayton.org/event/puzzle-feud-2025-07-09-4/
ATTACH;FMTTYPE=image/jpeg:https://downtowndayton.org/wp-content/uploads/2025/01/dbc.jpg
END:VEVENT
BEGIN:VEVENT
DTSTART;TZID=America/Detroit:20250924T190000
DTEND;TZID=America/Detroit:20250924T210000
DTSTAMP:20260419T222026
CREATED:20250114T175815Z
LAST-MODIFIED:20250114T175815Z
UID:10041307-1758740400-1758747600@downtowndayton.org
SUMMARY:Puzzle Feud
DESCRIPTION:Calling all puzzle fans! Join us for Puzzle Feud every Wednesday from 7:00 p.m.-9:00 p.m. (or until the first puzzle is completed). Complete a 500-piece puzzle of your choice with teams of up to 4 with a 2-hour limit. All teams must sign up at the bar on the day of and teams must go to the bar once their puzzle is completed. The winning team receives a prize. Cheers!
URL:https://downtowndayton.org/event/puzzle-feud-2025-02-12/
ATTACH;FMTTYPE=image/jpeg:https://downtowndayton.org/wp-content/uploads/2025/01/dbc.jpg
END:VEVENT
BEGIN:VEVENT
DTSTART;TZID=America/Detroit:20250924T190000
DTEND;TZID=America/Detroit:20250924T210000
DTSTAMP:20260419T222026
CREATED:20250114T175815Z
LAST-MODIFIED:20250114T175815Z
UID:10043055-1758740400-1758747600@downtowndayton.org
SUMMARY:Puzzle Feud
DESCRIPTION:Calling all puzzle fans! Join us for Puzzle Feud every Wednesday from 7:00 p.m.-9:00 p.m. (or until the first puzzle is completed). Complete a 500-piece puzzle of your choice with teams of up to 4 with a 2-hour limit. All teams must sign up at the bar on the day of and teams must go to the bar once their puzzle is completed. The winning team receives a prize. Cheers!
URL:https://downtowndayton.org/event/puzzle-feud-2025-08-06/
ATTACH;FMTTYPE=image/jpeg:https://downtowndayton.org/wp-content/uploads/2025/01/dbc.jpg
END:VEVENT
BEGIN:VEVENT
DTSTART;TZID=America/Detroit:20250924T190000
DTEND;TZID=America/Detroit:20250924T210000
DTSTAMP:20260419T222026
CREATED:20250114T175815Z
LAST-MODIFIED:20250114T175815Z
UID:10044784-1758740400-1758747600@downtowndayton.org
SUMMARY:Puzzle Feud
DESCRIPTION:Calling all puzzle fans! Join us for Puzzle Feud every Wednesday from 7:00 p.m.-9:00 p.m. (or until the first puzzle is completed). Complete a 500-piece puzzle of your choice with teams of up to 4 with a 2-hour limit. All teams must sign up at the bar on the day of and teams must go to the bar once their puzzle is completed. The winning team receives a prize. Cheers!
URL:https://downtowndayton.org/event/puzzle-feud-2025-05-21-4/
ATTACH;FMTTYPE=image/jpeg:https://downtowndayton.org/wp-content/uploads/2025/01/dbc.jpg
END:VEVENT
BEGIN:VEVENT
DTSTART;TZID=America/Detroit:20250924T190000
DTEND;TZID=America/Detroit:20250924T210000
DTSTAMP:20260419T222026
CREATED:20250114T175815Z
LAST-MODIFIED:20250114T175815Z
UID:10043950-1758740400-1758747600@downtowndayton.org
SUMMARY:Puzzle Feud
DESCRIPTION:Calling all puzzle fans! Join us for Puzzle Feud every Wednesday from 7:00 p.m.-9:00 p.m. (or until the first puzzle is completed). Complete a 500-piece puzzle of your choice with teams of up to 4 with a 2-hour limit. All teams must sign up at the bar on the day of and teams must go to the bar once their puzzle is completed. The winning team receives a prize. Cheers!
URL:https://downtowndayton.org/event/puzzle-feud-2025-07-02-3/
ATTACH;FMTTYPE=image/jpeg:https://downtowndayton.org/wp-content/uploads/2025/01/dbc.jpg
END:VEVENT
BEGIN:VEVENT
DTSTART;TZID=America/Detroit:20250924T190000
DTEND;TZID=America/Detroit:20250924T210000
DTSTAMP:20260419T222026
CREATED:20250114T175815Z
LAST-MODIFIED:20250114T175815Z
UID:10042894-1758740400-1758747600@downtowndayton.org
SUMMARY:Puzzle Feud
DESCRIPTION:Calling all puzzle fans! Join us for Puzzle Feud every Wednesday from 7:00 p.m.-9:00 p.m. (or until the first puzzle is completed). Complete a 500-piece puzzle of your choice with teams of up to 4 with a 2-hour limit. All teams must sign up at the bar on the day of and teams must go to the bar once their puzzle is completed. The winning team receives a prize. Cheers!
URL:https://downtowndayton.org/event/puzzle-feud-2025-06-18-2/
ATTACH;FMTTYPE=image/jpeg:https://downtowndayton.org/wp-content/uploads/2025/01/dbc.jpg
END:VEVENT
BEGIN:VEVENT
DTSTART;TZID=America/Detroit:20250924T190000
DTEND;TZID=America/Detroit:20250924T210000
DTSTAMP:20260419T222026
CREATED:20250114T175815Z
LAST-MODIFIED:20250114T175815Z
UID:10044546-1758740400-1758747600@downtowndayton.org
SUMMARY:Puzzle Feud
DESCRIPTION:Calling all puzzle fans! Join us for Puzzle Feud every Wednesday from 7:00 p.m.-9:00 p.m. (or until the first puzzle is completed). Complete a 500-piece puzzle of your choice with teams of up to 4 with a 2-hour limit. All teams must sign up at the bar on the day of and teams must go to the bar once their puzzle is completed. The winning team receives a prize. Cheers!
URL:https://downtowndayton.org/event/puzzle-feud-2025-04-02-4/
ATTACH;FMTTYPE=image/jpeg:https://downtowndayton.org/wp-content/uploads/2025/01/dbc.jpg
END:VEVENT
BEGIN:VEVENT
DTSTART;TZID=America/Detroit:20250924T190000
DTEND;TZID=America/Detroit:20250924T210000
DTSTAMP:20260419T222026
CREATED:20250114T175815Z
LAST-MODIFIED:20250114T175815Z
UID:10041946-1758740400-1758747600@downtowndayton.org
SUMMARY:Puzzle Feud
DESCRIPTION:Calling all puzzle fans! Join us for Puzzle Feud every Wednesday from 7:00 p.m.-9:00 p.m. (or until the first puzzle is completed). Complete a 500-piece puzzle of your choice with teams of up to 4 with a 2-hour limit. All teams must sign up at the bar on the day of and teams must go to the bar once their puzzle is completed. The winning team receives a prize. Cheers!
URL:https://downtowndayton.org/event/puzzle-feud-2025-06-18/
ATTACH;FMTTYPE=image/jpeg:https://downtowndayton.org/wp-content/uploads/2025/01/dbc.jpg
END:VEVENT
BEGIN:VEVENT
DTSTART;TZID=America/Detroit:20250924T190000
DTEND;TZID=America/Detroit:20250924T210000
DTSTAMP:20260419T222026
CREATED:20250114T175815Z
LAST-MODIFIED:20250114T175815Z
UID:10043754-1758740400-1758747600@downtowndayton.org
SUMMARY:Puzzle Feud
DESCRIPTION:Calling all puzzle fans! Join us for Puzzle Feud every Wednesday from 7:00 p.m.-9:00 p.m. (or until the first puzzle is completed). Complete a 500-piece puzzle of your choice with teams of up to 4 with a 2-hour limit. All teams must sign up at the bar on the day of and teams must go to the bar once their puzzle is completed. The winning team receives a prize. Cheers!
URL:https://downtowndayton.org/event/puzzle-feud-2025-05-14-3/
ATTACH;FMTTYPE=image/jpeg:https://downtowndayton.org/wp-content/uploads/2025/01/dbc.jpg
END:VEVENT
BEGIN:VEVENT
DTSTART;TZID=America/Detroit:20250924T190000
DTEND;TZID=America/Detroit:20250924T210000
DTSTAMP:20260419T222026
CREATED:20250114T175815Z
LAST-MODIFIED:20250114T175815Z
UID:10042684-1758740400-1758747600@downtowndayton.org
SUMMARY:Puzzle Feud
DESCRIPTION:Calling all puzzle fans! Join us for Puzzle Feud every Wednesday from 7:00 p.m.-9:00 p.m. (or until the first puzzle is completed). Complete a 500-piece puzzle of your choice with teams of up to 4 with a 2-hour limit. All teams must sign up at the bar on the day of and teams must go to the bar once their puzzle is completed. The winning team receives a prize. Cheers!
URL:https://downtowndayton.org/event/puzzle-feud-2025-04-30-2/
ATTACH;FMTTYPE=image/jpeg:https://downtowndayton.org/wp-content/uploads/2025/01/dbc.jpg
END:VEVENT
BEGIN:VEVENT
DTSTART;TZID=America/Detroit:20250924T190000
DTEND;TZID=America/Detroit:20250924T210000
DTSTAMP:20260419T222026
CREATED:20250114T175815Z
LAST-MODIFIED:20250114T175815Z
UID:10044259-1758740400-1758747600@downtowndayton.org
SUMMARY:Puzzle Feud
DESCRIPTION:Calling all puzzle fans! Join us for Puzzle Feud every Wednesday from 7:00 p.m.-9:00 p.m. (or until the first puzzle is completed). Complete a 500-piece puzzle of your choice with teams of up to 4 with a 2-hour limit. All teams must sign up at the bar on the day of and teams must go to the bar once their puzzle is completed. The winning team receives a prize. Cheers!
URL:https://downtowndayton.org/event/puzzle-feud-2025-02-12-4/
ATTACH;FMTTYPE=image/jpeg:https://downtowndayton.org/wp-content/uploads/2025/01/dbc.jpg
END:VEVENT
BEGIN:VEVENT
DTSTART;TZID=America/Detroit:20250924T190000
DTEND;TZID=America/Detroit:20250924T210000
DTSTAMP:20260419T222026
CREATED:20250114T175815Z
LAST-MODIFIED:20250114T175815Z
UID:10043509-1758740400-1758747600@downtowndayton.org
SUMMARY:Puzzle Feud
DESCRIPTION:Calling all puzzle fans! Join us for Puzzle Feud every Wednesday from 7:00 p.m.-9:00 p.m. (or until the first puzzle is completed). Complete a 500-piece puzzle of your choice with teams of up to 4 with a 2-hour limit. All teams must sign up at the bar on the day of and teams must go to the bar once their puzzle is completed. The winning team receives a prize. Cheers!
URL:https://downtowndayton.org/event/puzzle-feud-2025-03-26-3/
ATTACH;FMTTYPE=image/jpeg:https://downtowndayton.org/wp-content/uploads/2025/01/dbc.jpg
END:VEVENT
BEGIN:VEVENT
DTSTART;TZID=America/Detroit:20250924T190000
DTEND;TZID=America/Detroit:20250924T210000
DTSTAMP:20260419T222026
CREATED:20250114T175815Z
LAST-MODIFIED:20250114T175815Z
UID:10045047-1758740400-1758747600@downtowndayton.org
SUMMARY:Puzzle Feud
DESCRIPTION:Calling all puzzle fans! Join us for Puzzle Feud every Wednesday from 7:00 p.m.-9:00 p.m. (or until the first puzzle is completed). Complete a 500-piece puzzle of your choice with teams of up to 4 with a 2-hour limit. All teams must sign up at the bar on the day of and teams must go to the bar once their puzzle is completed. The winning team receives a prize. Cheers!
URL:https://downtowndayton.org/event/puzzle-feud-2025-09-17/
ATTACH;FMTTYPE=image/jpeg:https://downtowndayton.org/wp-content/uploads/2025/01/dbc.jpg
END:VEVENT
BEGIN:VEVENT
DTSTART;TZID=America/Detroit:20250924T190000
DTEND;TZID=America/Detroit:20250924T210000
DTSTAMP:20260419T222026
CREATED:20250114T175815Z
LAST-MODIFIED:20250114T175815Z
UID:10042425-1758740400-1758747600@downtowndayton.org
SUMMARY:Puzzle Feud
DESCRIPTION:Calling all puzzle fans! Join us for Puzzle Feud every Wednesday from 7:00 p.m.-9:00 p.m. (or until the first puzzle is completed). Complete a 500-piece puzzle of your choice with teams of up to 4 with a 2-hour limit. All teams must sign up at the bar on the day of and teams must go to the bar once their puzzle is completed. The winning team receives a prize. Cheers!
URL:https://downtowndayton.org/event/puzzle-feud-2025-03-12-2/
ATTACH;FMTTYPE=image/jpeg:https://downtowndayton.org/wp-content/uploads/2025/01/dbc.jpg
END:VEVENT
BEGIN:VEVENT
DTSTART;TZID=America/Detroit:20250924T190000
DTEND;TZID=America/Detroit:20250924T210000
DTSTAMP:20260419T222026
CREATED:20250114T175815Z
LAST-MODIFIED:20250114T175815Z
UID:10041736-1758740400-1758747600@downtowndayton.org
SUMMARY:Puzzle Feud
DESCRIPTION:Calling all puzzle fans! Join us for Puzzle Feud every Wednesday from 7:00 p.m.-9:00 p.m. (or until the first puzzle is completed). Complete a 500-piece puzzle of your choice with teams of up to 4 with a 2-hour limit. All teams must sign up at the bar on the day of and teams must go to the bar once their puzzle is completed. The winning team receives a prize. Cheers!
URL:https://downtowndayton.org/event/puzzle-feud-2025-04-30/
ATTACH;FMTTYPE=image/jpeg:https://downtowndayton.org/wp-content/uploads/2025/01/dbc.jpg
END:VEVENT
BEGIN:VEVENT
DTSTART;TZID=America/New_York:20250924T190000
DTEND;TZID=America/New_York:20250924T230000
DTSTAMP:20260419T222026
CREATED:20250528T120940Z
LAST-MODIFIED:20250925T123704Z
UID:10036583-1758740400-1758754800@downtowndayton.org
SUMMARY:Wu-Tang Wednesdays
DESCRIPTION:Dayton’s legendary Ike B spins old school hip hop and whateva else he wants.
URL:https://downtowndayton.org/event/whateva-wednesdays/2025-09-24/
LOCATION:The Barrel House\, 417 E. Third St.\, Dayton\, OH\, 45402\, United States
ATTACH;FMTTYPE=image/jpeg:https://downtowndayton.org/wp-content/uploads/2025/05/wu.jpg
END:VEVENT
BEGIN:VEVENT
DTSTART;VALUE=DATE:20250925
DTEND;VALUE=DATE:20250926
DTSTAMP:20260419T222026
CREATED:20250729T130830Z
LAST-MODIFIED:20250729T130830Z
UID:10039013-1758758400-1758844799@downtowndayton.org
SUMMARY:We’re Doing It ALL Wrong® – 5th Annual Art Exhibition
DESCRIPTION:This year’s exhibition features over 40 artworks from around the United States. See more at weredoingitallwrong.com. The exhibition was juried by Artist/Activist Devan Horton (Kentucky) and Gallery Owner Ed Dixon.
URL:https://downtowndayton.org/event/were-doing-it-all-wrong-5th-annual-art-exhibition/2025-09-25/
LOCATION:Edward A. Dixon Gallery\, 222 N. St. Clair St.\, Dayton\, OH\, 45402
ATTACH;FMTTYPE=image/jpeg:https://downtowndayton.org/wp-content/uploads/2025/07/wdiaw.jpg
END:VEVENT
BEGIN:VEVENT
DTSTART;TZID=America/New_York:20250925T110000
DTEND;TZID=America/New_York:20250925T180000
DTSTAMP:20260419T222026
CREATED:20250806T182615Z
LAST-MODIFIED:20250806T182615Z
UID:10039093-1758798000-1758823200@downtowndayton.org
SUMMARY:“The Contemporary Dayton 2025” – Juried Members’ Exhibition
DESCRIPTION:The Juried Members’ Exhibition has been a fixture of The Co’s community programming since its founding in 1991. Participation is open to all current Members of The Co and the exhibition celebrates the talent and vision of both accomplished professional artists and emerging voices in our region. Through this inclusive and collaborative experience\, artists inspire\, encourage\, and elevate each other’s creative practice.  SEP 12 – OCT 11\, 2025 Opening Reception / SEP 12 / 5-8p Award Announcements 6:30p Free Family Day / SEP 20 / 11a-4p Artist Demos\, Scavenger Hunt\, Spotlight Tours\, and More! Curator’s Tour with Select Artists / OCT 4 / 2p
URL:https://downtowndayton.org/event/the-contemporary-dayton-2025-juried-members-exhibition/2025-09-25/
LOCATION:The Contemporary Dayton\, 25 W. Fourth St.\, Dayton\, OH\, 45402\, United States
ATTACH;FMTTYPE=image/jpeg:https://downtowndayton.org/wp-content/uploads/2025/08/jms.jpg
END:VEVENT
END:VCALENDAR