BEGIN:VCALENDAR
VERSION:2.0
PRODID:-//Downtown Dayton Partnership - ECPv6.8.1//NONSGML v1.0//EN
CALSCALE:GREGORIAN
METHOD:PUBLISH
X-WR-CALNAME:Downtown Dayton Partnership
X-ORIGINAL-URL:https://downtowndayton.org
X-WR-CALDESC:Events for Downtown Dayton Partnership
REFRESH-INTERVAL;VALUE=DURATION:PT1H
X-Robots-Tag:noindex
X-PUBLISHED-TTL:PT1H
BEGIN:VTIMEZONE
TZID:America/Detroit
BEGIN:DAYLIGHT
TZOFFSETFROM:-0500
TZOFFSETTO:-0400
TZNAME:EDT
DTSTART:20250309T070000
END:DAYLIGHT
BEGIN:STANDARD
TZOFFSETFROM:-0400
TZOFFSETTO:-0500
TZNAME:EST
DTSTART:20251102T060000
END:STANDARD
TZID:America/New_York
BEGIN:DAYLIGHT
TZOFFSETFROM:-0500
TZOFFSETTO:-0400
TZNAME:EDT
DTSTART:20250309T070000
END:DAYLIGHT
BEGIN:STANDARD
TZOFFSETFROM:-0400
TZOFFSETTO:-0500
TZNAME:EST
DTSTART:20251102T060000
END:STANDARD
END:VTIMEZONE
BEGIN:VEVENT
DTSTART;TZID=America/Detroit:20251218T183000
DTEND;TZID=America/Detroit:20251218T213000
DTSTAMP:20260421T151416
CREATED:20250114T175650Z
LAST-MODIFIED:20250114T175650Z
UID:10049273-1766082600-1766093400@downtowndayton.org
SUMMARY:Karaoke
DESCRIPTION:Join us for Karaoke Thursdays at The Dayton Beer Company\, hosted by Limelight Entertainment from 6:30 p.m.-9:30p.m. Cheers!
URL:https://downtowndayton.org/event/karaoke-2025-05-29-4/
LOCATION:OH
ATTACH;FMTTYPE=image/jpeg:https://downtowndayton.org/wp-content/uploads/2025/01/dbc.jpg
END:VEVENT
BEGIN:VEVENT
DTSTART;TZID=America/Detroit:20251218T183000
DTEND;TZID=America/Detroit:20251218T213000
DTSTAMP:20260421T151416
CREATED:20250114T175650Z
LAST-MODIFIED:20250114T175650Z
UID:10046312-1766082600-1766093400@downtowndayton.org
SUMMARY:Karaoke
DESCRIPTION:Join us for Karaoke Thursdays at The Dayton Beer Company\, hosted by Limelight Entertainment from 6:30 p.m.-9:30p.m. Cheers!
URL:https://downtowndayton.org/event/karaoke-2025-07-10/
LOCATION:OH
ATTACH;FMTTYPE=image/jpeg:https://downtowndayton.org/wp-content/uploads/2025/01/dbc.jpg
END:VEVENT
BEGIN:VEVENT
DTSTART;TZID=America/Detroit:20251218T183000
DTEND;TZID=America/Detroit:20251218T213000
DTSTAMP:20260421T151416
CREATED:20250114T175650Z
LAST-MODIFIED:20250114T175650Z
UID:10047080-1766082600-1766093400@downtowndayton.org
SUMMARY:Karaoke
DESCRIPTION:Join us for Karaoke Thursdays at The Dayton Beer Company\, hosted by Limelight Entertainment from 6:30 p.m.-9:30p.m. Cheers!
URL:https://downtowndayton.org/event/karaoke-2025-02-06-2/
LOCATION:OH
ATTACH;FMTTYPE=image/jpeg:https://downtowndayton.org/wp-content/uploads/2025/01/dbc.jpg
END:VEVENT
BEGIN:VEVENT
DTSTART;TZID=America/Detroit:20251218T183000
DTEND;TZID=America/Detroit:20251218T213000
DTSTAMP:20260421T151416
CREATED:20250114T175650Z
LAST-MODIFIED:20250114T175650Z
UID:10048328-1766082600-1766093400@downtowndayton.org
SUMMARY:Karaoke
DESCRIPTION:Join us for Karaoke Thursdays at The Dayton Beer Company\, hosted by Limelight Entertainment from 6:30 p.m.-9:30p.m. Cheers!
URL:https://downtowndayton.org/event/karaoke-2025-05-08-3/
LOCATION:OH
ATTACH;FMTTYPE=image/jpeg:https://downtowndayton.org/wp-content/uploads/2025/01/dbc.jpg
END:VEVENT
BEGIN:VEVENT
DTSTART;TZID=America/Detroit:20251218T183000
DTEND;TZID=America/Detroit:20251218T213000
DTSTAMP:20260421T151416
CREATED:20250114T175650Z
LAST-MODIFIED:20250114T175650Z
UID:10046417-1766082600-1766093400@downtowndayton.org
SUMMARY:Karaoke
DESCRIPTION:Join us for Karaoke Thursdays at The Dayton Beer Company\, hosted by Limelight Entertainment from 6:30 p.m.-9:30p.m. Cheers!
URL:https://downtowndayton.org/event/karaoke-2025-08-14/
LOCATION:OH
ATTACH;FMTTYPE=image/jpeg:https://downtowndayton.org/wp-content/uploads/2025/01/dbc.jpg
END:VEVENT
BEGIN:VEVENT
DTSTART;TZID=America/Detroit:20251218T183000
DTEND;TZID=America/Detroit:20251218T213000
DTSTAMP:20260421T151416
CREATED:20250114T175650Z
LAST-MODIFIED:20250114T175650Z
UID:10047295-1766082600-1766093400@downtowndayton.org
SUMMARY:Karaoke
DESCRIPTION:Join us for Karaoke Thursdays at The Dayton Beer Company\, hosted by Limelight Entertainment from 6:30 p.m.-9:30p.m. Cheers!
URL:https://downtowndayton.org/event/karaoke-2025-03-13-2/
LOCATION:OH
ATTACH;FMTTYPE=image/jpeg:https://downtowndayton.org/wp-content/uploads/2025/01/dbc.jpg
END:VEVENT
BEGIN:VEVENT
DTSTART;TZID=America/Detroit:20251218T183000
DTEND;TZID=America/Detroit:20251218T213000
DTSTAMP:20260421T151416
CREATED:20250114T175650Z
LAST-MODIFIED:20250114T175650Z
UID:10045553-1766082600-1766093400@downtowndayton.org
SUMMARY:Karaoke
DESCRIPTION:Join us for Karaoke Thursdays at The Dayton Beer Company\, hosted by Limelight Entertainment from 6:30 p.m.-9:30p.m. Cheers!
URL:https://downtowndayton.org/event/karaoke-2025-02-06/
LOCATION:OH
ATTACH;FMTTYPE=image/jpeg:https://downtowndayton.org/wp-content/uploads/2025/01/dbc.jpg
END:VEVENT
BEGIN:VEVENT
DTSTART;TZID=America/Detroit:20251218T183000
DTEND;TZID=America/Detroit:20251218T213000
DTSTAMP:20260421T151416
CREATED:20250114T175650Z
LAST-MODIFIED:20250114T175650Z
UID:10046497-1766082600-1766093400@downtowndayton.org
SUMMARY:Karaoke
DESCRIPTION:Join us for Karaoke Thursdays at The Dayton Beer Company\, hosted by Limelight Entertainment from 6:30 p.m.-9:30p.m. Cheers!
URL:https://downtowndayton.org/event/karaoke-2025-09-18/
LOCATION:OH
ATTACH;FMTTYPE=image/jpeg:https://downtowndayton.org/wp-content/uploads/2025/01/dbc.jpg
END:VEVENT
BEGIN:VEVENT
DTSTART;TZID=America/Detroit:20251218T183000
DTEND;TZID=America/Detroit:20251218T213000
DTSTAMP:20260421T151416
CREATED:20250114T175650Z
LAST-MODIFIED:20250114T175650Z
UID:10047485-1766082600-1766093400@downtowndayton.org
SUMMARY:Karaoke
DESCRIPTION:Join us for Karaoke Thursdays at The Dayton Beer Company\, hosted by Limelight Entertainment from 6:30 p.m.-9:30p.m. Cheers!
URL:https://downtowndayton.org/event/karaoke-2025-04-17-2/
LOCATION:OH
ATTACH;FMTTYPE=image/jpeg:https://downtowndayton.org/wp-content/uploads/2025/01/dbc.jpg
END:VEVENT
BEGIN:VEVENT
DTSTART;TZID=America/Detroit:20251218T183000
DTEND;TZID=America/Detroit:20251218T213000
DTSTAMP:20260421T151416
CREATED:20250114T175650Z
LAST-MODIFIED:20250114T175650Z
UID:10048627-1766082600-1766093400@downtowndayton.org
SUMMARY:Karaoke
DESCRIPTION:Join us for Karaoke Thursdays at The Dayton Beer Company\, hosted by Limelight Entertainment from 6:30 p.m.-9:30p.m. Cheers!
URL:https://downtowndayton.org/event/karaoke-2025-01-30-4/
LOCATION:OH
ATTACH;FMTTYPE=image/jpeg:https://downtowndayton.org/wp-content/uploads/2025/01/dbc.jpg
END:VEVENT
BEGIN:VEVENT
DTSTART;TZID=America/Detroit:20251218T183000
DTEND;TZID=America/Detroit:20251218T213000
DTSTAMP:20260421T151417
CREATED:20250114T175650Z
LAST-MODIFIED:20250114T175650Z
UID:10045768-1766082600-1766093400@downtowndayton.org
SUMMARY:Karaoke
DESCRIPTION:Join us for Karaoke Thursdays at The Dayton Beer Company\, hosted by Limelight Entertainment from 6:30 p.m.-9:30p.m. Cheers!
URL:https://downtowndayton.org/event/karaoke-2025-03-13/
LOCATION:OH
ATTACH;FMTTYPE=image/jpeg:https://downtowndayton.org/wp-content/uploads/2025/01/dbc.jpg
END:VEVENT
BEGIN:VEVENT
DTSTART;TZID=America/Detroit:20251218T183000
DTEND;TZID=America/Detroit:20251218T213000
DTSTAMP:20260421T151417
CREATED:20250114T175650Z
LAST-MODIFIED:20250114T175650Z
UID:10046552-1766082600-1766093400@downtowndayton.org
SUMMARY:Karaoke
DESCRIPTION:Join us for Karaoke Thursdays at The Dayton Beer Company\, hosted by Limelight Entertainment from 6:30 p.m.-9:30p.m. Cheers!
URL:https://downtowndayton.org/event/karaoke-2025-10-23/
LOCATION:OH
ATTACH;FMTTYPE=image/jpeg:https://downtowndayton.org/wp-content/uploads/2025/01/dbc.jpg
END:VEVENT
BEGIN:VEVENT
DTSTART;TZID=America/New_York:20251218T193000
DTEND;TZID=America/New_York:20251218T193000
DTSTAMP:20260421T151417
CREATED:20251204T132454Z
LAST-MODIFIED:20251204T132454Z
UID:10053863-1766086200-1766086200@downtowndayton.org
SUMMARY:Seasonal Shorts
DESCRIPTION:DECEMBER 10 – 21\, 2025\nSeasonal Shorts\nPlaywrights: Kelsey Celek\, Chris Leyva\, Marley Masterson\, Aleah Vassell\, Torie Wiggins\, Robb Willoughby\nDirector: Heather Wilson-Bowlby\nSix short plays celebrating seasonal memories\, moments and silliness—for adults only! Featuring all the ups and downs of winter\, our local playwrights’ original plays will have your sides splitting and leaving the theatre in a festive mood. \nRecommended if you liked… Who’s Holiday\, Reindeer Sessions\, A Frosty Night
URL:https://downtowndayton.org/event/seasonal-shorts/2025-12-18/
LOCATION:The Human Race Theatre Company\, 126 N. Main St.\, Dayton\, OH\, 45402
ATTACH;FMTTYPE=image/jpeg:https://downtowndayton.org/wp-content/uploads/2025/12/shorts.jpg
END:VEVENT
BEGIN:VEVENT
DTSTART;TZID=America/New_York:20251218T193000
DTEND;TZID=America/New_York:20251218T223000
DTSTAMP:20260421T151417
CREATED:20250528T121150Z
LAST-MODIFIED:20250528T121150Z
UID:10036856-1766086200-1766097000@downtowndayton.org
SUMMARY:Open Mic Night
DESCRIPTION:Open Mic Night – sign up online\, then show up and show out.
URL:https://downtowndayton.org/event/open-mic-night/2025-12-18/
LOCATION:The Barrel House\, 417 E. Third St.\, Dayton\, OH\, 45402\, United States
ATTACH;FMTTYPE=image/jpeg:https://downtowndayton.org/wp-content/uploads/2025/05/bhom.jpg
END:VEVENT
BEGIN:VEVENT
DTSTART;TZID=America/New_York:20251218T200000
DTEND;TZID=America/New_York:20251218T200000
DTSTAMP:20260421T151417
CREATED:20250318T142048Z
LAST-MODIFIED:20250318T142048Z
UID:10031848-1766088000-1766088000@downtowndayton.org
SUMMARY:Music Bingo Thursdays
DESCRIPTION:We have music bingo every Thursday! It’s free to play\, lots of fun\, hosted by KG\, and there are prizes galore. Come check it out!
URL:https://downtowndayton.org/event/music-bingo-thursdays/2025-12-18/
LOCATION:The Trolley Stop\, 530 E. Fifth St.\, Dayton\, OH\, 45402\, USA
ATTACH;FMTTYPE=image/jpeg:https://downtowndayton.org/wp-content/uploads/2025/03/trolley.jpg
END:VEVENT
BEGIN:VEVENT
DTSTART;TZID=America/New_York:20251218T200000
DTEND;TZID=America/New_York:20251218T223000
DTSTAMP:20260421T151417
CREATED:20251113T182045Z
LAST-MODIFIED:20251113T182045Z
UID:10049303-1766088000-1766097000@downtowndayton.org
SUMMARY:A Very Crabby Christmas
DESCRIPTION:Join us for the first-ever “A Very Crabby Christmas” featuring two amazing Ohio bands: crabswithoutlegs and Dairy Family! These jazz-fusion\, funk inspired original bands are putting together a special holiday show that you won’t want to miss! HOW TO GO? Thursday\, December 18th at The Brightside (905 E 3rd St\, Dayton) Doors 7pm / Show 8pm All ages welcome! Tickets $20+ (all seated) Special reserved table options are available too! Get your ticket here: https://tickets.venuepilot.com/e/a-very-crabby-christmas-2025-12-18-the-brightside-music-event-venue-dayton-798052
URL:https://downtowndayton.org/event/a-very-crabby-christmas/
LOCATION:The Brightside\, 905 E. Third St.\, Dayton\, OH\, 45402
ATTACH;FMTTYPE=image/jpeg:https://downtowndayton.org/wp-content/uploads/2025/11/121400.jpeg
END:VEVENT
BEGIN:VEVENT
DTSTART;TZID=America/New_York:20251219T120000
DTEND;TZID=America/New_York:20251219T120000
DTSTAMP:20260421T151417
CREATED:20251126T140052Z
LAST-MODIFIED:20251126T140052Z
UID:10053593-1766145600-1766145600@downtowndayton.org
SUMMARY:Noonday Carol Sing
DESCRIPTION:December 19\, 12:00 noon – handbell music\, 12:10 pm carol singing by all and choral music by the Vocal Ensemble of Xenia High School – Lunch follows at a nominal cost. Westminster Presbyterian Church\, 125 N. Wilkinson St.\, Downtown Dayton
URL:https://downtowndayton.org/event/noonday-carol-sing-2/
LOCATION:Westminster Presbyterian Church\, 125 N. Wilkinson St.\, Dayton\, OH\, 45402
ATTACH;FMTTYPE=image/jpeg:https://downtowndayton.org/wp-content/uploads/2024/10/westminster.jpg
END:VEVENT
BEGIN:VEVENT
DTSTART;TZID=America/New_York:20251219T120000
DTEND;TZID=America/New_York:20251219T130000
DTSTAMP:20260421T151417
CREATED:20251113T193109Z
LAST-MODIFIED:20251113T193109Z
UID:10049380-1766145600-1766149200@downtowndayton.org
SUMMARY:Yoga at the Market
DESCRIPTION:Part of Community Fitness series \nYoga at the Market\n12:00pm – 1:00pm \nAGE: All ages | FREE\n\nYoga with Aleasha will lead you in an all-levels yoga flow. If you’re a beginner\, she will guide you through modifications to ensure you are comfortable to help you to become more familiar with poses. If you’re experienced\, she will help grow your current practice. This class is truly for everyone! \nFocus on wellness while spending time at the Market. Enjoy a variety of free and effective workouts at the Market\, stay for lunch and shopping.
URL:https://downtowndayton.org/event/yoga-at-the-market-5/2025-12-19/
LOCATION:2nd Street Market\, 600 E. Second St.\, Dayton\, OH\, 45402\, USA
ATTACH;FMTTYPE=image/jpeg:https://downtowndayton.org/wp-content/uploads/2023/08/2ndstmkt.jpg
END:VEVENT
BEGIN:VEVENT
DTSTART;TZID=America/New_York:20251219T120000
DTEND;TZID=America/New_York:20251219T130000
DTSTAMP:20260421T151417
CREATED:20251117T183734Z
LAST-MODIFIED:20251117T183734Z
UID:10050707-1766145600-1766149200@downtowndayton.org
SUMMARY:Noonday Carol Sing
DESCRIPTION:12:00 noon – handbell music\, \n12:10 pm carol singing by all and choral music by the Vocal Ensemble of Xenia High School – Lunch follows at a nominal cost. \nWestminster Presbyterian Church\, 125 N. Wilkinson St.\, Downtown Dayton
URL:https://downtowndayton.org/event/noonday-carol-sing/
LOCATION:Westminster Presbyterian Church\, 125 N. Wilkinson St.\, Dayton\, OH\, 45402
CATEGORIES:Arts & Theater,Christmas,Free Events,Holiday,Holidays,Kids / Family,Live Music,Music
ATTACH;FMTTYPE=image/jpeg:https://downtowndayton.org/wp-content/uploads/2024/10/westminster.jpg
END:VEVENT
BEGIN:VEVENT
DTSTART;TZID=America/New_York:20251219T120000
DTEND;TZID=America/New_York:20251219T170000
DTSTAMP:20260421T151417
CREATED:20251215T135123Z
LAST-MODIFIED:20251215T135123Z
UID:10053940-1766145600-1766163600@downtowndayton.org
SUMMARY:Colleen Kelsey: Light & Shadows
DESCRIPTION:Colleen Kelsey \nLight & Shadows\n\n\n\n\n\n\n\n\n\n\n\n\n\n\n\n\n\n\nDecember 19 – January 17 \nArtist Opening: Friday\, December 19\, 6-9 PM \nArtist Talk: Friday\, January 9th\, 6:30 PM\n\n\n\n\n\n\n\n\n\n\n\n\n\n\n\n\n\n\nDayton Society of Artists \n48 High St\, Dayton\, OH 45403
URL:https://downtowndayton.org/event/colleen-kelsey-light-shadows/2025-12-19/
LOCATION:Dayton Society of Artists\, 48 High Street\, Dayton\, OH\, 45402\, United States
ATTACH;FMTTYPE=image/jpeg:https://downtowndayton.org/wp-content/uploads/2025/12/colkel.jpg
END:VEVENT
BEGIN:VEVENT
DTSTART;TZID=America/New_York:20251219T150000
DTEND;TZID=America/New_York:20251219T200000
DTSTAMP:20260421T151417
CREATED:20251215T135826Z
LAST-MODIFIED:20251215T135826Z
UID:10053962-1766156400-1766174400@downtowndayton.org
SUMMARY:Last Minute Holiday Artwork Sale
DESCRIPTION:Finish your Holiday shopping with the gift of Art. Dozens of local artists will have artwork\, jewelry and more available for you to complete your gift giving for the season. There will also be a unique artist vendor table each day along with a raffle: Friday – Erin Smith-Glenn Saturday – Mikee Huber Sunday – Sarah Wrona. Small works\, wall reliefs\, abstract & portraiture paintings and more will be on display and available for this 3-Day Event. FRIDAY 3PM – 8PM SATURDAY & SUNDAY 12PM – 5PM 222 N. St. Clair Street
URL:https://downtowndayton.org/event/last-minute-holiday-artwork-sale/2025-12-19/
LOCATION:Edward A. Dixon Gallery\, 222 N. St. Clair St.\, Dayton\, OH\, 45402
ATTACH;FMTTYPE=image/jpeg:https://downtowndayton.org/wp-content/uploads/2025/12/eadhs.jpg
END:VEVENT
BEGIN:VEVENT
DTSTART;TZID=America/New_York:20251219T180000
DTEND;TZID=America/New_York:20251219T220000
DTSTAMP:20260421T151417
CREATED:20251217T141308Z
LAST-MODIFIED:20251217T141308Z
UID:10053994-1766167200-1766181600@downtowndayton.org
SUMMARY:Santa is Coming Skate
DESCRIPTION:Part of MetroParks Ice Rink Theme Nights series \nSanta is Coming Skate\n6:00pm – 10:00pm \nAGE: All ages | $10.00 | Financial Assistance\n\nLace up your skates and channel your inner Elf! at our upcoming theme night! Dress up as Buddy or don your favorite holiday sweater for a fun evening on the ice with music and decorations straight out of the movie. Weather Dependent. \nSkaters are welcome to relax in one of several warming areas\, including a heated comfort tent containing games and seating. The RiverScape Cafe will also be open\, offering a variety of food and drinks (including our delicious hot cocoa!) for purchase. For those 21 and over\, a variety of alcoholic beverages will be available for purchase as part of the Downtown Dayton DORA. Admission is $7\, Skate Rental is $3\, and there are a limited number of skate helpers available for free. Visitors receive a 75% discount – $1.75 admission and $0.75 skate rental – on admission and skate rental by presenting either a SNAP/EBT or Access to Nature card at the Rental Office. This discount is made possible by Five Rivers MetroParks’ Access to Nature financial assistance program\, supported by the Five Rivers MetroParks Foundation.
URL:https://downtowndayton.org/event/santa-is-coming-skate/
LOCATION:RiverScape MetroPark\, 237 E Monument Ave\, Dayton\, OH\, 45402\, United States
ATTACH;FMTTYPE=image/jpeg:https://downtowndayton.org/wp-content/uploads/2023/11/riverscape.jpg
END:VEVENT
BEGIN:VEVENT
DTSTART;TZID=America/New_York:20251219T190000
DTEND;TZID=America/New_York:20251219T190000
DTSTAMP:20260421T151417
CREATED:20251217T140724Z
LAST-MODIFIED:20251217T140724Z
UID:10053991-1766170800-1766170800@downtowndayton.org
SUMMARY:Circle of Liars “The Impermanence of Stars” Listening Party
DESCRIPTION:Circle Of Liars is Gus’ instrumental sci-fi prog project. Synth driven music laced with deep grooves\, ADHD melodies\, and a penchant for theatrics.\n“The Impermanence Of Stars” is the first release on Dayton Loves Records – a community focused label with the intention of helping local musicians acquire physical media to sell without having the burden of overhead costs.\nThe album will be played at 7pm\, CDs available for purchase\, and DJ Ladi Bounce kicks off Fenom Friday at 8pm!
URL:https://downtowndayton.org/event/circle-of-liars-the-impermanence-of-stars-listening-party/
LOCATION:The Barrel House\, 417 E. Third St.\, Dayton\, OH\, 45402\, United States
ATTACH;FMTTYPE=image/jpeg:https://downtowndayton.org/wp-content/uploads/2025/12/590306835_1265005162323978_321388907798882334_n.jpg
END:VEVENT
BEGIN:VEVENT
DTSTART;TZID=America/New_York:20251219T190000
DTEND;TZID=America/New_York:20251219T190000
DTSTAMP:20260421T151417
CREATED:20251217T142203Z
LAST-MODIFIED:20251217T142203Z
UID:10054010-1766170800-1766170800@downtowndayton.org
SUMMARY:DLCA Performance: The Best Christmas Pageant Ever – The Musical
DESCRIPTION:A Dayton Live Creative Academy production! \nThe Herdmans are the worst kids in the history of the world – so when they crash Sunday school and demand parts in the Christmas pageant\, the whole town panics. There’s not supposed to be biting or cigar-smoking in Bethlehem\, and while these kids have never even heard the Christmas story\, they definitely have rewrites! Soon\, everyone is calling for reluctant director Grace Bradley to cancel the whole thing. It’s up to the Bradleys and the Reverend to help their community see the Christmas story and the Herdman kids through new eyes in this buoyant musical adaptation of the funny and touching holiday classic. \nThere are three performances of this show: Friday evening\, Saturday afternoon\, and Saturday evening.
URL:https://downtowndayton.org/event/dlca-performance-the-best-christmas-pageant-ever-the-musical/2025-12-19/
LOCATION:PNC Arts Annex\, 46 N. Ludlow St.\, Dayton\, OH\, 45402
ATTACH;FMTTYPE=image/jpeg:https://downtowndayton.org/wp-content/uploads/2025/12/bcpe.jpg
END:VEVENT
BEGIN:VEVENT
DTSTART;TZID=America/New_York:20251219T193000
DTEND;TZID=America/New_York:20251219T193000
DTSTAMP:20260421T151417
CREATED:20251211T172919Z
LAST-MODIFIED:20251211T172919Z
UID:10053928-1766172600-1766172600@downtowndayton.org
SUMMARY:The Nutcracker
DESCRIPTION:After a record-breaking run in 2024\, Brandon Ragland’s THE NUTCRACKER returns\, bringing holiday magic back to Dayton! Set in our very own city\, this beloved tale follows Clara on a breathtaking\, time-traveling adventure filled with dazzling choreography\, enchanting sets\, and Tchaikovsky’s iconic score. A heartwarming tradition for all ages\, THE NUTCRACKER is the perfect way to celebrate the season with family and loved ones.
URL:https://downtowndayton.org/event/the-nutcracker-2/2025-12-19/
LOCATION:The Benjamin & Marian Schuster Performing Arts Center\, 1 West Second Street\, Dayton\, OH\, 45402
ATTACH;FMTTYPE=image/jpeg:https://downtowndayton.org/wp-content/uploads/2025/12/nutcracker.jpg
END:VEVENT
BEGIN:VEVENT
DTSTART;TZID=America/New_York:20251219T200000
DTEND;TZID=America/New_York:20251219T200000
DTSTAMP:20260421T151417
CREATED:20251217T143054Z
LAST-MODIFIED:20251217T143054Z
UID:10054015-1766174400-1766174400@downtowndayton.org
SUMMARY:Annual Holiday Show
DESCRIPTION:IT’S THE MOST IMPROVISED TIME OF THE YEAR… \nYou’ve waited all year\, and it’s finally time! We’re gearing up for the Annual Black Box Holiday Show! Two nights of holiday cheer and laughs on Friday\, December 19th\, and Saturday\, December 20th! This year’s Holiday Show includes a very special Black Box ladies’ number\,  “Greatest Hits\,” and as always\, the Improvised Musical! Doors open at 6:30 p.m. with shows beginning at 8:00 p.m.
URL:https://downtowndayton.org/event/annual-holiday-show/2025-12-19/
LOCATION:The Black Box Improv Theater\, 518 E. Third St.\, Dayton\, OH\, 45402\, United States
ATTACH;FMTTYPE=image/jpeg:https://downtowndayton.org/wp-content/uploads/2025/12/ahs.jpg
END:VEVENT
BEGIN:VEVENT
DTSTART;TZID=America/New_York:20251219T210000
DTEND;TZID=America/New_York:20251219T210000
DTSTAMP:20260421T151417
CREATED:20250909T171140Z
LAST-MODIFIED:20250909T171140Z
UID:10039776-1766178000-1766178000@downtowndayton.org
SUMMARY:The Taylor Party
DESCRIPTION:Hey\, Lovers! Are you ready for it? You’re invited to THE TAYLOR PARTY\, the Taylor Swift Inspired Dance Party   Come shake it off at our enchanting evening of Swifties\, singing and dancing through all TS iconic Eras. Pick your Eras outfit\, bring your besties\, and come party in style.  Long live the magic we’ll make!  HOW TO GO? Friday\, December 19\, 2025 Doors 8pm / Show 9pm – 12am The Brightside Music & Event Venue\, 905 E 3rd St\, Dayton Tickets $20 advance / $25 day of show Ages 18+ Get tickets here: https://tickets.venuepilot.com/e/the-taylor-party-taylor-swift-night-18-2025-12-19-the-brightside-music-event-venue-dayton-90e567
URL:https://downtowndayton.org/event/the-taylor-party-2/
LOCATION:The Brightside\, 905 E. Third St.\, Dayton\, OH\, 45402
ATTACH;FMTTYPE=image/jpeg:https://downtowndayton.org/wp-content/uploads/2025/09/The-Taylor-Party.jpeg
END:VEVENT
BEGIN:VEVENT
DTSTART;TZID=America/New_York:20251220T110000
DTEND;TZID=America/New_York:20251220T110000
DTSTAMP:20260421T151417
CREATED:20251112T195201Z
LAST-MODIFIED:20251112T195201Z
UID:10048522-1766228400-1766228400@downtowndayton.org
SUMMARY:Family Movie Series
DESCRIPTION:December 6\, 13\, & 20; 11 a.m.\nTHE NEON\, 130 E. Fifth St. \nBring the family to THE NEON for fun\, festive films. Free admission for kids 12 and under\, $2 for adults.\nSponsored by Dayton Children’s and THE NEON \nScheduled Films: \nDecember 6 – The Polar Express (with a pajama party!)\nDecember 13 – Jingle All the Way\nDecember 20 – A Year without Santa Claus\n \nTitles subject to change – call theater for confirmation.
URL:https://downtowndayton.org/event/family-movie-series/2025-12-20/
LOCATION:THE NEON\, United States
ATTACH;FMTTYPE=image/jpeg:https://downtowndayton.org/wp-content/uploads/2025/11/fammovies.jpg
END:VEVENT
BEGIN:VEVENT
DTSTART;TZID=America/New_York:20251220T110000
DTEND;TZID=America/New_York:20251220T130000
DTSTAMP:20260421T151417
CREATED:20250924T115316Z
LAST-MODIFIED:20250924T115316Z
UID:10040048-1766228400-1766235600@downtowndayton.org
SUMMARY:Saturday Art Workshops
DESCRIPTION:Saturday Art Workshops for Kindergarten-12th Grade and Adults. Each month explore a different art medium (Clay\, Painting\, Printmaking\, Sculpture\, Mosaics\, Drawing\, Photography\, in a different theme/artistic style (K-12th grade). For Adults classes in Mosaics\, Stained Glass\, and Glassblowing. Saturday Classes run from September 2025-May 2026.  11:00am-1:00pm. Call for Costs.
URL:https://downtowndayton.org/event/saturday-art-workshops/2025-12-20/
LOCATION:K12 Gallery & TEJAS\, 341 S. Jefferson St.\, Dayton\, OH\, 45402
ATTACH;FMTTYPE=image/jpeg:https://downtowndayton.org/wp-content/uploads/2023/12/k12tejas-scaled.jpg
END:VEVENT
BEGIN:VEVENT
DTSTART;TZID=America/New_York:20251220T113000
DTEND;TZID=America/New_York:20251220T123000
DTSTAMP:20260421T151417
CREATED:20250903T165451Z
LAST-MODIFIED:20250903T165451Z
UID:10039697-1766230200-1766233800@downtowndayton.org
SUMMARY:Saturday Community Tours
DESCRIPTION:Explore the museum and learn more with a guided tour! Come to the DAI for weekly tour themes like: Dayton History\, Art and Architecture\, Global Celebrations\, and Art Basics for Everyone. Free with museum admission! Sponsored by AES Ohio Foundation. Register here: https://dai.ticketapp.org/portal/product/115/events
URL:https://downtowndayton.org/event/saturday-community-tours/2025-12-20/
LOCATION:The Dayton Art Institute\, 456 Belmonte Park N\, Dayton\, OH\, 45405\, United States
ATTACH;FMTTYPE=image/jpeg:https://downtowndayton.org/wp-content/uploads/2025/09/commtours.jpg
END:VEVENT
END:VCALENDAR