BEGIN:VCALENDAR
VERSION:2.0
PRODID:-//Downtown Dayton Partnership - ECPv6.8.1//NONSGML v1.0//EN
CALSCALE:GREGORIAN
METHOD:PUBLISH
X-WR-CALNAME:Downtown Dayton Partnership
X-ORIGINAL-URL:https://downtowndayton.org
X-WR-CALDESC:Events for Downtown Dayton Partnership
REFRESH-INTERVAL;VALUE=DURATION:PT1H
X-Robots-Tag:noindex
X-PUBLISHED-TTL:PT1H
BEGIN:VTIMEZONE
TZID:America/Detroit
BEGIN:DAYLIGHT
TZOFFSETFROM:-0500
TZOFFSETTO:-0400
TZNAME:EDT
DTSTART:20250309T070000
END:DAYLIGHT
BEGIN:STANDARD
TZOFFSETFROM:-0400
TZOFFSETTO:-0500
TZNAME:EST
DTSTART:20251102T060000
END:STANDARD
TZID:America/New_York
BEGIN:DAYLIGHT
TZOFFSETFROM:-0500
TZOFFSETTO:-0400
TZNAME:EDT
DTSTART:20250309T070000
END:DAYLIGHT
BEGIN:STANDARD
TZOFFSETFROM:-0400
TZOFFSETTO:-0500
TZNAME:EST
DTSTART:20251102T060000
END:STANDARD
END:VTIMEZONE
BEGIN:VEVENT
DTSTART;TZID=America/Detroit:20251014T190000
DTEND;TZID=America/Detroit:20251014T190000
DTSTAMP:20260425T103908
CREATED:20250114T175514Z
LAST-MODIFIED:20250114T175514Z
UID:10052279-1760468400-1760468400@downtowndayton.org
SUMMARY:Trivia Tuesday
DESCRIPTION:Trivia Tuesdays are fun for everyone at The Dayton Beer Company! Get $3.50 DBC Pints every Tuesday with trivia starting at 7:00 p.m. Cheers!
URL:https://downtowndayton.org/event/trivia-tuesday-2025-04-15-3/
LOCATION:OH
ATTACH;FMTTYPE=image/jpeg:https://downtowndayton.org/wp-content/uploads/2025/01/dbc.jpg
END:VEVENT
BEGIN:VEVENT
DTSTART;TZID=America/Detroit:20251014T190000
DTEND;TZID=America/Detroit:20251014T190000
DTSTAMP:20260425T103908
CREATED:20250114T175514Z
LAST-MODIFIED:20250114T175514Z
UID:10050482-1760468400-1760468400@downtowndayton.org
SUMMARY:Trivia Tuesday
DESCRIPTION:Trivia Tuesdays are fun for everyone at The Dayton Beer Company! Get $3.50 DBC Pints every Tuesday with trivia starting at 7:00 p.m. Cheers!
URL:https://downtowndayton.org/event/trivia-tuesday-2025-08-19/
LOCATION:OH
ATTACH;FMTTYPE=image/jpeg:https://downtowndayton.org/wp-content/uploads/2025/01/dbc.jpg
END:VEVENT
BEGIN:VEVENT
DTSTART;TZID=America/Detroit:20251014T190000
DTEND;TZID=America/Detroit:20251014T190000
DTSTAMP:20260425T103908
CREATED:20250114T175514Z
LAST-MODIFIED:20250114T175514Z
UID:10050606-1760468400-1760468400@downtowndayton.org
SUMMARY:Trivia Tuesday
DESCRIPTION:Trivia Tuesdays are fun for everyone at The Dayton Beer Company! Get $3.50 DBC Pints every Tuesday with trivia starting at 7:00 p.m. Cheers!
URL:https://downtowndayton.org/event/trivia-tuesday-2025-10-14/
LOCATION:OH
ATTACH;FMTTYPE=image/jpeg:https://downtowndayton.org/wp-content/uploads/2025/01/dbc.jpg
END:VEVENT
BEGIN:VEVENT
DTSTART;TZID=America/Detroit:20251014T190000
DTEND;TZID=America/Detroit:20251014T190000
DTSTAMP:20260425T103908
CREATED:20250114T175514Z
LAST-MODIFIED:20250114T175514Z
UID:10049495-1760468400-1760468400@downtowndayton.org
SUMMARY:Trivia Tuesday
DESCRIPTION:Trivia Tuesdays are fun for everyone at The Dayton Beer Company! Get $3.50 DBC Pints every Tuesday with trivia starting at 7:00 p.m. Cheers!
URL:https://downtowndayton.org/event/trivia-tuesday-2025-01-28/
LOCATION:OH
ATTACH;FMTTYPE=image/jpeg:https://downtowndayton.org/wp-content/uploads/2025/01/dbc.jpg
END:VEVENT
BEGIN:VEVENT
DTSTART;TZID=America/Detroit:20251014T190000
DTEND;TZID=America/Detroit:20251014T190000
DTSTAMP:20260425T103908
CREATED:20250114T175514Z
LAST-MODIFIED:20250114T175514Z
UID:10049851-1760468400-1760468400@downtowndayton.org
SUMMARY:Trivia Tuesday
DESCRIPTION:Trivia Tuesdays are fun for everyone at The Dayton Beer Company! Get $3.50 DBC Pints every Tuesday with trivia starting at 7:00 p.m. Cheers!
URL:https://downtowndayton.org/event/trivia-tuesday-2025-03-25/
LOCATION:OH
ATTACH;FMTTYPE=image/jpeg:https://downtowndayton.org/wp-content/uploads/2025/01/dbc.jpg
END:VEVENT
BEGIN:VEVENT
DTSTART;TZID=America/Detroit:20251014T190000
DTEND;TZID=America/Detroit:20251014T190000
DTSTAMP:20260425T103908
CREATED:20250114T175514Z
LAST-MODIFIED:20250114T175514Z
UID:10051037-1760468400-1760468400@downtowndayton.org
SUMMARY:Trivia Tuesday
DESCRIPTION:Trivia Tuesdays are fun for everyone at The Dayton Beer Company! Get $3.50 DBC Pints every Tuesday with trivia starting at 7:00 p.m. Cheers!
URL:https://downtowndayton.org/event/trivia-tuesday-2025-03-04-2/
LOCATION:OH
ATTACH;FMTTYPE=image/jpeg:https://downtowndayton.org/wp-content/uploads/2025/01/dbc.jpg
END:VEVENT
BEGIN:VEVENT
DTSTART;TZID=America/Detroit:20251014T190000
DTEND;TZID=America/Detroit:20251014T190000
DTSTAMP:20260425T103908
CREATED:20250114T175514Z
LAST-MODIFIED:20250114T175514Z
UID:10051353-1760468400-1760468400@downtowndayton.org
SUMMARY:Trivia Tuesday
DESCRIPTION:Trivia Tuesdays are fun for everyone at The Dayton Beer Company! Get $3.50 DBC Pints every Tuesday with trivia starting at 7:00 p.m. Cheers!
URL:https://downtowndayton.org/event/trivia-tuesday-2025-04-29-2/
LOCATION:OH
ATTACH;FMTTYPE=image/jpeg:https://downtowndayton.org/wp-content/uploads/2025/01/dbc.jpg
END:VEVENT
BEGIN:VEVENT
DTSTART;TZID=America/Detroit:20251014T190000
DTEND;TZID=America/Detroit:20251014T190000
DTSTAMP:20260425T103908
CREATED:20250114T175514Z
LAST-MODIFIED:20250114T175514Z
UID:10051605-1760468400-1760468400@downtowndayton.org
SUMMARY:Trivia Tuesday
DESCRIPTION:Trivia Tuesdays are fun for everyone at The Dayton Beer Company! Get $3.50 DBC Pints every Tuesday with trivia starting at 7:00 p.m. Cheers!
URL:https://downtowndayton.org/event/trivia-tuesday-2025-06-24-2/
LOCATION:OH
ATTACH;FMTTYPE=image/jpeg:https://downtowndayton.org/wp-content/uploads/2025/01/dbc.jpg
END:VEVENT
BEGIN:VEVENT
DTSTART;TZID=America/Detroit:20251014T190000
DTEND;TZID=America/Detroit:20251014T190000
DTSTAMP:20260425T103908
CREATED:20250114T175514Z
LAST-MODIFIED:20250114T175514Z
UID:10050175-1760468400-1760468400@downtowndayton.org
SUMMARY:Trivia Tuesday
DESCRIPTION:Trivia Tuesdays are fun for everyone at The Dayton Beer Company! Get $3.50 DBC Pints every Tuesday with trivia starting at 7:00 p.m. Cheers!
URL:https://downtowndayton.org/event/trivia-tuesday-2025-05-27/
LOCATION:OH
ATTACH;FMTTYPE=image/jpeg:https://downtowndayton.org/wp-content/uploads/2025/01/dbc.jpg
END:VEVENT
BEGIN:VEVENT
DTSTART;TZID=America/Detroit:20251014T190000
DTEND;TZID=America/Detroit:20251014T190000
DTSTAMP:20260425T103908
CREATED:20250114T175514Z
LAST-MODIFIED:20250114T175514Z
UID:10051901-1760468400-1760468400@downtowndayton.org
SUMMARY:Trivia Tuesday
DESCRIPTION:Trivia Tuesdays are fun for everyone at The Dayton Beer Company! Get $3.50 DBC Pints every Tuesday with trivia starting at 7:00 p.m. Cheers!
URL:https://downtowndayton.org/event/trivia-tuesday-2025-02-11-3/
LOCATION:OH
ATTACH;FMTTYPE=image/jpeg:https://downtowndayton.org/wp-content/uploads/2025/01/dbc.jpg
END:VEVENT
BEGIN:VEVENT
DTSTART;TZID=America/Detroit:20251014T190000
DTEND;TZID=America/Detroit:20251014T190000
DTSTAMP:20260425T103908
CREATED:20250114T175514Z
LAST-MODIFIED:20250114T175514Z
UID:10050395-1760468400-1760468400@downtowndayton.org
SUMMARY:Trivia Tuesday
DESCRIPTION:Trivia Tuesdays are fun for everyone at The Dayton Beer Company! Get $3.50 DBC Pints every Tuesday with trivia starting at 7:00 p.m. Cheers!
URL:https://downtowndayton.org/event/trivia-tuesday-2025-07-22/
LOCATION:OH
ATTACH;FMTTYPE=image/jpeg:https://downtowndayton.org/wp-content/uploads/2025/01/dbc.jpg
END:VEVENT
BEGIN:VEVENT
DTSTART;TZID=America/Detroit:20251014T190000
DTEND;TZID=America/Detroit:20251014T190000
DTSTAMP:20260425T103908
CREATED:20250114T175514Z
LAST-MODIFIED:20250114T175514Z
UID:10052241-1760468400-1760468400@downtowndayton.org
SUMMARY:Trivia Tuesday
DESCRIPTION:Trivia Tuesdays are fun for everyone at The Dayton Beer Company! Get $3.50 DBC Pints every Tuesday with trivia starting at 7:00 p.m. Cheers!
URL:https://downtowndayton.org/event/trivia-tuesday-2025-04-08-3/
LOCATION:OH
ATTACH;FMTTYPE=image/jpeg:https://downtowndayton.org/wp-content/uploads/2025/01/dbc.jpg
END:VEVENT
BEGIN:VEVENT
DTSTART;TZID=America/Detroit:20251014T190000
DTEND;TZID=America/Detroit:20251014T190000
DTSTAMP:20260425T103908
CREATED:20250114T175514Z
LAST-MODIFIED:20250114T175514Z
UID:10052517-1760468400-1760468400@downtowndayton.org
SUMMARY:Trivia Tuesday
DESCRIPTION:Trivia Tuesdays are fun for everyone at The Dayton Beer Company! Get $3.50 DBC Pints every Tuesday with trivia starting at 7:00 p.m. Cheers!
URL:https://downtowndayton.org/event/trivia-tuesday-2025-06-03-3/
LOCATION:OH
ATTACH;FMTTYPE=image/jpeg:https://downtowndayton.org/wp-content/uploads/2025/01/dbc.jpg
END:VEVENT
BEGIN:VEVENT
DTSTART;TZID=America/Detroit:20251014T190000
DTEND;TZID=America/Detroit:20251014T190000
DTSTAMP:20260425T103908
CREATED:20250114T175514Z
LAST-MODIFIED:20250114T175514Z
UID:10050462-1760468400-1760468400@downtowndayton.org
SUMMARY:Trivia Tuesday
DESCRIPTION:Trivia Tuesdays are fun for everyone at The Dayton Beer Company! Get $3.50 DBC Pints every Tuesday with trivia starting at 7:00 p.m. Cheers!
URL:https://downtowndayton.org/event/trivia-tuesday-2025-08-12/
LOCATION:OH
ATTACH;FMTTYPE=image/jpeg:https://downtowndayton.org/wp-content/uploads/2025/01/dbc.jpg
END:VEVENT
BEGIN:VEVENT
DTSTART;TZID=America/Detroit:20251014T190000
DTEND;TZID=America/Detroit:20251014T190000
DTSTAMP:20260425T103908
CREATED:20250114T175514Z
LAST-MODIFIED:20250114T175514Z
UID:10050594-1760468400-1760468400@downtowndayton.org
SUMMARY:Trivia Tuesday
DESCRIPTION:Trivia Tuesdays are fun for everyone at The Dayton Beer Company! Get $3.50 DBC Pints every Tuesday with trivia starting at 7:00 p.m. Cheers!
URL:https://downtowndayton.org/event/trivia-tuesday-2025-10-07/
LOCATION:OH
ATTACH;FMTTYPE=image/jpeg:https://downtowndayton.org/wp-content/uploads/2025/01/dbc.jpg
END:VEVENT
BEGIN:VEVENT
DTSTART;TZID=America/Detroit:20251014T190000
DTEND;TZID=America/Detroit:20251014T190000
DTSTAMP:20260425T103908
CREATED:20250114T175514Z
LAST-MODIFIED:20250114T175514Z
UID:10049446-1760468400-1760468400@downtowndayton.org
SUMMARY:Trivia Tuesday
DESCRIPTION:Trivia Tuesdays are fun for everyone at The Dayton Beer Company! Get $3.50 DBC Pints every Tuesday with trivia starting at 7:00 p.m. Cheers!
URL:https://downtowndayton.org/event/trivia-tuesday-2025-01-21/
LOCATION:OH
ATTACH;FMTTYPE=image/jpeg:https://downtowndayton.org/wp-content/uploads/2025/01/dbc.jpg
END:VEVENT
BEGIN:VEVENT
DTSTART;TZID=America/Detroit:20251014T190000
DTEND;TZID=America/Detroit:20251014T190000
DTSTAMP:20260425T103908
CREATED:20250114T175514Z
LAST-MODIFIED:20250114T175514Z
UID:10049810-1760468400-1760468400@downtowndayton.org
SUMMARY:Trivia Tuesday
DESCRIPTION:Trivia Tuesdays are fun for everyone at The Dayton Beer Company! Get $3.50 DBC Pints every Tuesday with trivia starting at 7:00 p.m. Cheers!
URL:https://downtowndayton.org/event/trivia-tuesday-2025-03-18/
LOCATION:OH
ATTACH;FMTTYPE=image/jpeg:https://downtowndayton.org/wp-content/uploads/2025/01/dbc.jpg
END:VEVENT
BEGIN:VEVENT
DTSTART;TZID=America/Detroit:20251014T190000
DTEND;TZID=America/Detroit:20251014T190000
DTSTAMP:20260425T103908
CREATED:20250114T175514Z
LAST-MODIFIED:20250114T175514Z
UID:10052706-1760468400-1760468400@downtowndayton.org
SUMMARY:Trivia Tuesday
DESCRIPTION:Trivia Tuesdays are fun for everyone at The Dayton Beer Company! Get $3.50 DBC Pints every Tuesday with trivia starting at 7:00 p.m. Cheers!
URL:https://downtowndayton.org/event/trivia-tuesday-2025-07-22-3/
LOCATION:OH
ATTACH;FMTTYPE=image/jpeg:https://downtowndayton.org/wp-content/uploads/2025/01/dbc.jpg
END:VEVENT
BEGIN:VEVENT
DTSTART;TZID=America/Detroit:20251014T190000
DTEND;TZID=America/Detroit:20251014T190000
DTSTAMP:20260425T103908
CREATED:20250114T175514Z
LAST-MODIFIED:20250114T175514Z
UID:10050993-1760468400-1760468400@downtowndayton.org
SUMMARY:Trivia Tuesday
DESCRIPTION:Trivia Tuesdays are fun for everyone at The Dayton Beer Company! Get $3.50 DBC Pints every Tuesday with trivia starting at 7:00 p.m. Cheers!
URL:https://downtowndayton.org/event/trivia-tuesday-2025-02-25-2/
LOCATION:OH
ATTACH;FMTTYPE=image/jpeg:https://downtowndayton.org/wp-content/uploads/2025/01/dbc.jpg
END:VEVENT
BEGIN:VEVENT
DTSTART;TZID=America/Detroit:20251014T190000
DTEND;TZID=America/Detroit:20251014T190000
DTSTAMP:20260425T103908
CREATED:20250114T175514Z
LAST-MODIFIED:20250114T175514Z
UID:10051317-1760468400-1760468400@downtowndayton.org
SUMMARY:Trivia Tuesday
DESCRIPTION:Trivia Tuesdays are fun for everyone at The Dayton Beer Company! Get $3.50 DBC Pints every Tuesday with trivia starting at 7:00 p.m. Cheers!
URL:https://downtowndayton.org/event/trivia-tuesday-2025-04-22-2/
LOCATION:OH
ATTACH;FMTTYPE=image/jpeg:https://downtowndayton.org/wp-content/uploads/2025/01/dbc.jpg
END:VEVENT
BEGIN:VEVENT
DTSTART;TZID=America/Detroit:20251014T190000
DTEND;TZID=America/Detroit:20251014T190000
DTSTAMP:20260425T103908
CREATED:20250114T175514Z
LAST-MODIFIED:20250114T175514Z
UID:10051577-1760468400-1760468400@downtowndayton.org
SUMMARY:Trivia Tuesday
DESCRIPTION:Trivia Tuesdays are fun for everyone at The Dayton Beer Company! Get $3.50 DBC Pints every Tuesday with trivia starting at 7:00 p.m. Cheers!
URL:https://downtowndayton.org/event/trivia-tuesday-2025-06-17-2/
LOCATION:OH
ATTACH;FMTTYPE=image/jpeg:https://downtowndayton.org/wp-content/uploads/2025/01/dbc.jpg
END:VEVENT
BEGIN:VEVENT
DTSTART;TZID=America/Detroit:20251014T190000
DTEND;TZID=America/Detroit:20251014T190000
DTSTAMP:20260425T103908
CREATED:20250114T175514Z
LAST-MODIFIED:20250114T175514Z
UID:10050143-1760468400-1760468400@downtowndayton.org
SUMMARY:Trivia Tuesday
DESCRIPTION:Trivia Tuesdays are fun for everyone at The Dayton Beer Company! Get $3.50 DBC Pints every Tuesday with trivia starting at 7:00 p.m. Cheers!
URL:https://downtowndayton.org/event/trivia-tuesday-2025-05-20/
LOCATION:OH
ATTACH;FMTTYPE=image/jpeg:https://downtowndayton.org/wp-content/uploads/2025/01/dbc.jpg
END:VEVENT
BEGIN:VEVENT
DTSTART;TZID=America/Detroit:20251014T190000
DTEND;TZID=America/Detroit:20251014T190000
DTSTAMP:20260425T103908
CREATED:20250114T175514Z
LAST-MODIFIED:20250114T175514Z
UID:10051854-1760468400-1760468400@downtowndayton.org
SUMMARY:Trivia Tuesday
DESCRIPTION:Trivia Tuesdays are fun for everyone at The Dayton Beer Company! Get $3.50 DBC Pints every Tuesday with trivia starting at 7:00 p.m. Cheers!
URL:https://downtowndayton.org/event/trivia-tuesday-2025-02-04-3/
LOCATION:OH
ATTACH;FMTTYPE=image/jpeg:https://downtowndayton.org/wp-content/uploads/2025/01/dbc.jpg
END:VEVENT
BEGIN:VEVENT
DTSTART;TZID=America/Detroit:20251014T190000
DTEND;TZID=America/Detroit:20251014T190000
DTSTAMP:20260425T103908
CREATED:20250114T175514Z
LAST-MODIFIED:20250114T175514Z
UID:10050371-1760468400-1760468400@downtowndayton.org
SUMMARY:Trivia Tuesday
DESCRIPTION:Trivia Tuesdays are fun for everyone at The Dayton Beer Company! Get $3.50 DBC Pints every Tuesday with trivia starting at 7:00 p.m. Cheers!
URL:https://downtowndayton.org/event/trivia-tuesday-2025-07-15/
LOCATION:OH
ATTACH;FMTTYPE=image/jpeg:https://downtowndayton.org/wp-content/uploads/2025/01/dbc.jpg
END:VEVENT
BEGIN:VEVENT
DTSTART;TZID=America/Detroit:20251014T190000
DTEND;TZID=America/Detroit:20251014T190000
DTSTAMP:20260425T103908
CREATED:20250114T175514Z
LAST-MODIFIED:20250114T175514Z
UID:10052202-1760468400-1760468400@downtowndayton.org
SUMMARY:Trivia Tuesday
DESCRIPTION:Trivia Tuesdays are fun for everyone at The Dayton Beer Company! Get $3.50 DBC Pints every Tuesday with trivia starting at 7:00 p.m. Cheers!
URL:https://downtowndayton.org/event/trivia-tuesday-2025-04-01-3/
LOCATION:OH
ATTACH;FMTTYPE=image/jpeg:https://downtowndayton.org/wp-content/uploads/2025/01/dbc.jpg
END:VEVENT
BEGIN:VEVENT
DTSTART;TZID=America/Detroit:20251014T190000
DTEND;TZID=America/Detroit:20251014T190000
DTSTAMP:20260425T103908
CREATED:20250114T175514Z
LAST-MODIFIED:20250114T175514Z
UID:10052486-1760468400-1760468400@downtowndayton.org
SUMMARY:Trivia Tuesday
DESCRIPTION:Trivia Tuesdays are fun for everyone at The Dayton Beer Company! Get $3.50 DBC Pints every Tuesday with trivia starting at 7:00 p.m. Cheers!
URL:https://downtowndayton.org/event/trivia-tuesday-2025-05-27-3/
LOCATION:OH
ATTACH;FMTTYPE=image/jpeg:https://downtowndayton.org/wp-content/uploads/2025/01/dbc.jpg
END:VEVENT
BEGIN:VEVENT
DTSTART;TZID=America/Detroit:20251014T190000
DTEND;TZID=America/Detroit:20251014T190000
DTSTAMP:20260425T103908
CREATED:20250114T175514Z
LAST-MODIFIED:20250114T175514Z
UID:10050441-1760468400-1760468400@downtowndayton.org
SUMMARY:Trivia Tuesday
DESCRIPTION:Trivia Tuesdays are fun for everyone at The Dayton Beer Company! Get $3.50 DBC Pints every Tuesday with trivia starting at 7:00 p.m. Cheers!
URL:https://downtowndayton.org/event/trivia-tuesday-2025-08-05/
LOCATION:OH
ATTACH;FMTTYPE=image/jpeg:https://downtowndayton.org/wp-content/uploads/2025/01/dbc.jpg
END:VEVENT
BEGIN:VEVENT
DTSTART;TZID=America/Detroit:20251014T190000
DTEND;TZID=America/Detroit:20251014T190000
DTSTAMP:20260425T103908
CREATED:20250114T175514Z
LAST-MODIFIED:20250114T175514Z
UID:10050581-1760468400-1760468400@downtowndayton.org
SUMMARY:Trivia Tuesday
DESCRIPTION:Trivia Tuesdays are fun for everyone at The Dayton Beer Company! Get $3.50 DBC Pints every Tuesday with trivia starting at 7:00 p.m. Cheers!
URL:https://downtowndayton.org/event/trivia-tuesday-2025-09-30/
LOCATION:OH
ATTACH;FMTTYPE=image/jpeg:https://downtowndayton.org/wp-content/uploads/2025/01/dbc.jpg
END:VEVENT
BEGIN:VEVENT
DTSTART;TZID=America/New_York:20251014T190000
DTEND;TZID=America/New_York:20251014T190000
DTSTAMP:20260425T103908
CREATED:20250828T120134Z
LAST-MODIFIED:20250828T120134Z
UID:10039595-1760468400-1760468400@downtowndayton.org
SUMMARY:Sinclair Theatre presents anthropology
DESCRIPTION:Sinclair Theatre is proud to present anthropology\, Lauren Gunderson’s contemporary thriller\, live on stage from October 10-18 in Sinclair’s Black Box Theatre\, Building 2\, on Sinclair’s downtown Dayton campus. Tickets are $15 and can be purchased online at www.sinclair.edu/tickets. Groups of 20 or more ordering online save all ticketing fees. When Merril creates an AI version of her sister\, she finds herself questioning the difference between reality and fiction. As her creation begins to develop motives of its own\, Merril’s life is thrown into chaos as her family gets pulled into the power of a well-programmed machine. A story that intertwines the love of family with AI technology\, anthropology will take you on a journey that will have you questioning what is real and what is not. “While anthropology is a roller coaster of the contrasting tensions between technology and its creators\,” says Gunderson\, “this play is truly a very human story of family\, grief\, resilience\, love and sisterhood… all new technology – like all art – is first and foremost a method of expressing and coming to understand ourselves.” The cast consists of Tiffany Higgins\, Adalia Gaynier\, Rosi Green\, Kimberly Borst\, and Ryan Ford. Where: Sinclair Community College\, Black Box Theatre (Building 2)\, 444 W. Third St.\, Dayton Ticket Information: $15 plus $2 service fee. No at-the-door ticket sales. All tickets must be purchased online at: www.sinclair.edu/tickets
URL:https://downtowndayton.org/event/sinclair-theatre-presents-anthropology/2025-10-14/
LOCATION:Sinclair Black Box Theatre\, 401 W. Fourth St.\, Dayton\, OH\, 45402
ATTACH;FMTTYPE=image/jpeg:https://downtowndayton.org/wp-content/uploads/2025/08/anthro.jpg
END:VEVENT
BEGIN:VEVENT
DTSTART;TZID=America/New_York:20251014T190000
DTEND;TZID=America/New_York:20251014T230000
DTSTAMP:20260425T103908
CREATED:20250528T120726Z
LAST-MODIFIED:20250528T120726Z
UID:10036325-1760468400-1760482800@downtowndayton.org
SUMMARY:Karaoke
DESCRIPTION:Tuesdays – Karaoke with @raineyday.entertainment – $5 off full draft flights until 9 p.m.
URL:https://downtowndayton.org/event/karaoke-2/2025-10-14/
LOCATION:The Barrel House\, 417 E. Third St.\, Dayton\, OH\, 45402\, United States
ATTACH;FMTTYPE=image/jpeg:https://downtowndayton.org/wp-content/uploads/2025/05/bhk.jpg
END:VEVENT
END:VCALENDAR