BEGIN:VCALENDAR
VERSION:2.0
PRODID:-//Downtown Dayton Partnership - ECPv6.8.1//NONSGML v1.0//EN
CALSCALE:GREGORIAN
METHOD:PUBLISH
X-WR-CALNAME:Downtown Dayton Partnership
X-ORIGINAL-URL:https://downtowndayton.org
X-WR-CALDESC:Events for Downtown Dayton Partnership
REFRESH-INTERVAL;VALUE=DURATION:PT1H
X-Robots-Tag:noindex
X-PUBLISHED-TTL:PT1H
BEGIN:VTIMEZONE
TZID:America/Detroit
BEGIN:DAYLIGHT
TZOFFSETFROM:-0500
TZOFFSETTO:-0400
TZNAME:EDT
DTSTART:20250309T070000
END:DAYLIGHT
BEGIN:STANDARD
TZOFFSETFROM:-0400
TZOFFSETTO:-0500
TZNAME:EST
DTSTART:20251102T060000
END:STANDARD
TZID:America/New_York
BEGIN:DAYLIGHT
TZOFFSETFROM:-0500
TZOFFSETTO:-0400
TZNAME:EDT
DTSTART:20250309T070000
END:DAYLIGHT
BEGIN:STANDARD
TZOFFSETFROM:-0400
TZOFFSETTO:-0500
TZNAME:EST
DTSTART:20251102T060000
END:STANDARD
END:VTIMEZONE
BEGIN:VEVENT
DTSTART;TZID=America/Detroit:20250806T190000
DTEND;TZID=America/Detroit:20250806T210000
DTSTAMP:20260424T112931
CREATED:20250114T175815Z
LAST-MODIFIED:20250114T175815Z
UID:10042913-1754506800-1754514000@downtowndayton.org
SUMMARY:Puzzle Feud
DESCRIPTION:Calling all puzzle fans! Join us for Puzzle Feud every Wednesday from 7:00 p.m.-9:00 p.m. (or until the first puzzle is completed). Complete a 500-piece puzzle of your choice with teams of up to 4 with a 2-hour limit. All teams must sign up at the bar on the day of and teams must go to the bar once their puzzle is completed. The winning team receives a prize. Cheers!
URL:https://downtowndayton.org/event/puzzle-feud-2025-06-25-2/
LOCATION:OH
ATTACH;FMTTYPE=image/jpeg:https://downtowndayton.org/wp-content/uploads/2025/01/dbc.jpg
END:VEVENT
BEGIN:VEVENT
DTSTART;TZID=America/Detroit:20250806T190000
DTEND;TZID=America/Detroit:20250806T210000
DTSTAMP:20260424T112931
CREATED:20250114T175815Z
LAST-MODIFIED:20250114T175815Z
UID:10042037-1754506800-1754514000@downtowndayton.org
SUMMARY:Puzzle Feud
DESCRIPTION:Calling all puzzle fans! Join us for Puzzle Feud every Wednesday from 7:00 p.m.-9:00 p.m. (or until the first puzzle is completed). Complete a 500-piece puzzle of your choice with teams of up to 4 with a 2-hour limit. All teams must sign up at the bar on the day of and teams must go to the bar once their puzzle is completed. The winning team receives a prize. Cheers!
URL:https://downtowndayton.org/event/puzzle-feud-2025-07-16/
LOCATION:OH
ATTACH;FMTTYPE=image/jpeg:https://downtowndayton.org/wp-content/uploads/2025/01/dbc.jpg
END:VEVENT
BEGIN:VEVENT
DTSTART;TZID=America/Detroit:20250806T190000
DTEND;TZID=America/Detroit:20250806T210000
DTSTAMP:20260424T112931
CREATED:20250114T175815Z
LAST-MODIFIED:20250114T175815Z
UID:10044891-1754506800-1754514000@downtowndayton.org
SUMMARY:Puzzle Feud
DESCRIPTION:Calling all puzzle fans! Join us for Puzzle Feud every Wednesday from 7:00 p.m.-9:00 p.m. (or until the first puzzle is completed). Complete a 500-piece puzzle of your choice with teams of up to 4 with a 2-hour limit. All teams must sign up at the bar on the day of and teams must go to the bar once their puzzle is completed. The winning team receives a prize. Cheers!
URL:https://downtowndayton.org/event/puzzle-feud-2025-06-18-4/
LOCATION:OH
ATTACH;FMTTYPE=image/jpeg:https://downtowndayton.org/wp-content/uploads/2025/01/dbc.jpg
END:VEVENT
BEGIN:VEVENT
DTSTART;TZID=America/Detroit:20250806T190000
DTEND;TZID=America/Detroit:20250806T210000
DTSTAMP:20260424T112931
CREATED:20250114T175815Z
LAST-MODIFIED:20250114T175815Z
UID:10043943-1754506800-1754514000@downtowndayton.org
SUMMARY:Puzzle Feud
DESCRIPTION:Calling all puzzle fans! Join us for Puzzle Feud every Wednesday from 7:00 p.m.-9:00 p.m. (or until the first puzzle is completed). Complete a 500-piece puzzle of your choice with teams of up to 4 with a 2-hour limit. All teams must sign up at the bar on the day of and teams must go to the bar once their puzzle is completed. The winning team receives a prize. Cheers!
URL:https://downtowndayton.org/event/puzzle-feud-2025-07-02-3/
LOCATION:OH
ATTACH;FMTTYPE=image/jpeg:https://downtowndayton.org/wp-content/uploads/2025/01/dbc.jpg
END:VEVENT
BEGIN:VEVENT
DTSTART;TZID=America/Detroit:20250806T190000
DTEND;TZID=America/Detroit:20250806T210000
DTSTAMP:20260424T112931
CREATED:20250114T175815Z
LAST-MODIFIED:20250114T175815Z
UID:10044161-1754506800-1754514000@downtowndayton.org
SUMMARY:Puzzle Feud
DESCRIPTION:Calling all puzzle fans! Join us for Puzzle Feud every Wednesday from 7:00 p.m.-9:00 p.m. (or until the first puzzle is completed). Complete a 500-piece puzzle of your choice with teams of up to 4 with a 2-hour limit. All teams must sign up at the bar on the day of and teams must go to the bar once their puzzle is completed. The winning team receives a prize. Cheers!
URL:https://downtowndayton.org/event/puzzle-feud-2025-01-29-4/
LOCATION:OH
ATTACH;FMTTYPE=image/jpeg:https://downtowndayton.org/wp-content/uploads/2025/01/dbc.jpg
END:VEVENT
BEGIN:VEVENT
DTSTART;TZID=America/Detroit:20250806T190000
DTEND;TZID=America/Detroit:20250806T210000
DTSTAMP:20260424T112931
CREATED:20250114T175815Z
LAST-MODIFIED:20250114T175815Z
UID:10043253-1754506800-1754514000@downtowndayton.org
SUMMARY:Puzzle Feud
DESCRIPTION:Calling all puzzle fans! Join us for Puzzle Feud every Wednesday from 7:00 p.m.-9:00 p.m. (or until the first puzzle is completed). Complete a 500-piece puzzle of your choice with teams of up to 4 with a 2-hour limit. All teams must sign up at the bar on the day of and teams must go to the bar once their puzzle is completed. The winning team receives a prize. Cheers!
URL:https://downtowndayton.org/event/puzzle-feud-2025-02-12-3/
LOCATION:OH
ATTACH;FMTTYPE=image/jpeg:https://downtowndayton.org/wp-content/uploads/2025/01/dbc.jpg
END:VEVENT
BEGIN:VEVENT
DTSTART;TZID=America/Detroit:20250806T190000
DTEND;TZID=America/Detroit:20250806T210000
DTSTAMP:20260424T112931
CREATED:20250114T175815Z
LAST-MODIFIED:20250114T175815Z
UID:10044339-1754506800-1754514000@downtowndayton.org
SUMMARY:Puzzle Feud
DESCRIPTION:Calling all puzzle fans! Join us for Puzzle Feud every Wednesday from 7:00 p.m.-9:00 p.m. (or until the first puzzle is completed). Complete a 500-piece puzzle of your choice with teams of up to 4 with a 2-hour limit. All teams must sign up at the bar on the day of and teams must go to the bar once their puzzle is completed. The winning team receives a prize. Cheers!
URL:https://downtowndayton.org/event/puzzle-feud-2025-02-26-4/
LOCATION:OH
ATTACH;FMTTYPE=image/jpeg:https://downtowndayton.org/wp-content/uploads/2025/01/dbc.jpg
END:VEVENT
BEGIN:VEVENT
DTSTART;TZID=America/Detroit:20250806T190000
DTEND;TZID=America/Detroit:20250806T210000
DTSTAMP:20260424T112931
CREATED:20250114T175815Z
LAST-MODIFIED:20250114T175815Z
UID:10043423-1754506800-1754514000@downtowndayton.org
SUMMARY:Puzzle Feud
DESCRIPTION:Calling all puzzle fans! Join us for Puzzle Feud every Wednesday from 7:00 p.m.-9:00 p.m. (or until the first puzzle is completed). Complete a 500-piece puzzle of your choice with teams of up to 4 with a 2-hour limit. All teams must sign up at the bar on the day of and teams must go to the bar once their puzzle is completed. The winning team receives a prize. Cheers!
URL:https://downtowndayton.org/event/puzzle-feud-2025-03-12-3/
LOCATION:OH
ATTACH;FMTTYPE=image/jpeg:https://downtowndayton.org/wp-content/uploads/2025/01/dbc.jpg
END:VEVENT
BEGIN:VEVENT
DTSTART;TZID=America/Detroit:20250806T190000
DTEND;TZID=America/Detroit:20250806T210000
DTSTAMP:20260424T112931
CREATED:20250114T175815Z
LAST-MODIFIED:20250114T175815Z
UID:10044501-1754506800-1754514000@downtowndayton.org
SUMMARY:Puzzle Feud
DESCRIPTION:Calling all puzzle fans! Join us for Puzzle Feud every Wednesday from 7:00 p.m.-9:00 p.m. (or until the first puzzle is completed). Complete a 500-piece puzzle of your choice with teams of up to 4 with a 2-hour limit. All teams must sign up at the bar on the day of and teams must go to the bar once their puzzle is completed. The winning team receives a prize. Cheers!
URL:https://downtowndayton.org/event/puzzle-feud-2025-03-26-4/
LOCATION:OH
ATTACH;FMTTYPE=image/jpeg:https://downtowndayton.org/wp-content/uploads/2025/01/dbc.jpg
END:VEVENT
BEGIN:VEVENT
DTSTART;TZID=America/Detroit:20250806T190000
DTEND;TZID=America/Detroit:20250806T210000
DTSTAMP:20260424T112931
CREATED:20250114T175815Z
LAST-MODIFIED:20250114T175815Z
UID:10043577-1754506800-1754514000@downtowndayton.org
SUMMARY:Puzzle Feud
DESCRIPTION:Calling all puzzle fans! Join us for Puzzle Feud every Wednesday from 7:00 p.m.-9:00 p.m. (or until the first puzzle is completed). Complete a 500-piece puzzle of your choice with teams of up to 4 with a 2-hour limit. All teams must sign up at the bar on the day of and teams must go to the bar once their puzzle is completed. The winning team receives a prize. Cheers!
URL:https://downtowndayton.org/event/puzzle-feud-2025-04-09-3/
LOCATION:OH
ATTACH;FMTTYPE=image/jpeg:https://downtowndayton.org/wp-content/uploads/2025/01/dbc.jpg
END:VEVENT
BEGIN:VEVENT
DTSTART;TZID=America/Detroit:20250806T190000
DTEND;TZID=America/Detroit:20250806T210000
DTSTAMP:20260424T112931
CREATED:20250114T175815Z
LAST-MODIFIED:20250114T175815Z
UID:10044647-1754506800-1754514000@downtowndayton.org
SUMMARY:Puzzle Feud
DESCRIPTION:Calling all puzzle fans! Join us for Puzzle Feud every Wednesday from 7:00 p.m.-9:00 p.m. (or until the first puzzle is completed). Complete a 500-piece puzzle of your choice with teams of up to 4 with a 2-hour limit. All teams must sign up at the bar on the day of and teams must go to the bar once their puzzle is completed. The winning team receives a prize. Cheers!
URL:https://downtowndayton.org/event/puzzle-feud-2025-04-23-4/
LOCATION:OH
ATTACH;FMTTYPE=image/jpeg:https://downtowndayton.org/wp-content/uploads/2025/01/dbc.jpg
END:VEVENT
BEGIN:VEVENT
DTSTART;TZID=America/Detroit:20250806T190000
DTEND;TZID=America/Detroit:20250806T210000
DTSTAMP:20260424T112931
CREATED:20250114T175815Z
LAST-MODIFIED:20250114T175815Z
UID:10043715-1754506800-1754514000@downtowndayton.org
SUMMARY:Puzzle Feud
DESCRIPTION:Calling all puzzle fans! Join us for Puzzle Feud every Wednesday from 7:00 p.m.-9:00 p.m. (or until the first puzzle is completed). Complete a 500-piece puzzle of your choice with teams of up to 4 with a 2-hour limit. All teams must sign up at the bar on the day of and teams must go to the bar once their puzzle is completed. The winning team receives a prize. Cheers!
URL:https://downtowndayton.org/event/puzzle-feud-2025-05-07-3/
LOCATION:OH
ATTACH;FMTTYPE=image/jpeg:https://downtowndayton.org/wp-content/uploads/2025/01/dbc.jpg
END:VEVENT
BEGIN:VEVENT
DTSTART;TZID=America/Detroit:20250806T190000
DTEND;TZID=America/Detroit:20250806T210000
DTSTAMP:20260424T112931
CREATED:20250114T175815Z
LAST-MODIFIED:20250114T175815Z
UID:10044777-1754506800-1754514000@downtowndayton.org
SUMMARY:Puzzle Feud
DESCRIPTION:Calling all puzzle fans! Join us for Puzzle Feud every Wednesday from 7:00 p.m.-9:00 p.m. (or until the first puzzle is completed). Complete a 500-piece puzzle of your choice with teams of up to 4 with a 2-hour limit. All teams must sign up at the bar on the day of and teams must go to the bar once their puzzle is completed. The winning team receives a prize. Cheers!
URL:https://downtowndayton.org/event/puzzle-feud-2025-05-21-4/
LOCATION:OH
ATTACH;FMTTYPE=image/jpeg:https://downtowndayton.org/wp-content/uploads/2025/01/dbc.jpg
END:VEVENT
BEGIN:VEVENT
DTSTART;TZID=America/Detroit:20250806T190000
DTEND;TZID=America/Detroit:20250806T210000
DTSTAMP:20260424T112931
CREATED:20250114T175815Z
LAST-MODIFIED:20250114T175815Z
UID:10043837-1754506800-1754514000@downtowndayton.org
SUMMARY:Puzzle Feud
DESCRIPTION:Calling all puzzle fans! Join us for Puzzle Feud every Wednesday from 7:00 p.m.-9:00 p.m. (or until the first puzzle is completed). Complete a 500-piece puzzle of your choice with teams of up to 4 with a 2-hour limit. All teams must sign up at the bar on the day of and teams must go to the bar once their puzzle is completed. The winning team receives a prize. Cheers!
URL:https://downtowndayton.org/event/puzzle-feud-2025-06-04-3/
LOCATION:OH
ATTACH;FMTTYPE=image/jpeg:https://downtowndayton.org/wp-content/uploads/2025/01/dbc.jpg
END:VEVENT
BEGIN:VEVENT
DTSTART;TZID=America/Detroit:20250806T190000
DTEND;TZID=America/Detroit:20250806T210000
DTSTAMP:20260424T112931
CREATED:20250114T175815Z
LAST-MODIFIED:20250114T175815Z
UID:10044012-1754506800-1754514000@downtowndayton.org
SUMMARY:Puzzle Feud
DESCRIPTION:Calling all puzzle fans! Join us for Puzzle Feud every Wednesday from 7:00 p.m.-9:00 p.m. (or until the first puzzle is completed). Complete a 500-piece puzzle of your choice with teams of up to 4 with a 2-hour limit. All teams must sign up at the bar on the day of and teams must go to the bar once their puzzle is completed. The winning team receives a prize. Cheers!
URL:https://downtowndayton.org/event/puzzle-feud-2025-07-23-3/
LOCATION:OH
ATTACH;FMTTYPE=image/jpeg:https://downtowndayton.org/wp-content/uploads/2025/01/dbc.jpg
END:VEVENT
BEGIN:VEVENT
DTSTART;TZID=America/Detroit:20250806T190000
DTEND;TZID=America/Detroit:20250806T210000
DTSTAMP:20260424T112931
CREATED:20250114T175815Z
LAST-MODIFIED:20250114T175815Z
UID:10041255-1754506800-1754514000@downtowndayton.org
SUMMARY:Puzzle Feud
DESCRIPTION:Calling all puzzle fans! Join us for Puzzle Feud every Wednesday from 7:00 p.m.-9:00 p.m. (or until the first puzzle is completed). Complete a 500-piece puzzle of your choice with teams of up to 4 with a 2-hour limit. All teams must sign up at the bar on the day of and teams must go to the bar once their puzzle is completed. The winning team receives a prize. Cheers!
URL:https://downtowndayton.org/event/puzzle-feud-2025-02-05/
LOCATION:OH
ATTACH;FMTTYPE=image/jpeg:https://downtowndayton.org/wp-content/uploads/2025/01/dbc.jpg
END:VEVENT
BEGIN:VEVENT
DTSTART;TZID=America/Detroit:20250806T190000
DTEND;TZID=America/Detroit:20250806T210000
DTSTAMP:20260424T112931
CREATED:20250114T175815Z
LAST-MODIFIED:20250114T175815Z
UID:10042248-1754506800-1754514000@downtowndayton.org
SUMMARY:Puzzle Feud
DESCRIPTION:Calling all puzzle fans! Join us for Puzzle Feud every Wednesday from 7:00 p.m.-9:00 p.m. (or until the first puzzle is completed). Complete a 500-piece puzzle of your choice with teams of up to 4 with a 2-hour limit. All teams must sign up at the bar on the day of and teams must go to the bar once their puzzle is completed. The winning team receives a prize. Cheers!
URL:https://downtowndayton.org/event/puzzle-feud-2025-02-12-2/
LOCATION:OH
ATTACH;FMTTYPE=image/jpeg:https://downtowndayton.org/wp-content/uploads/2025/01/dbc.jpg
END:VEVENT
BEGIN:VEVENT
DTSTART;TZID=America/Detroit:20250806T190000
DTEND;TZID=America/Detroit:20250806T210000
DTSTAMP:20260424T112931
CREATED:20250114T175815Z
LAST-MODIFIED:20250114T175815Z
UID:10041429-1754506800-1754514000@downtowndayton.org
SUMMARY:Puzzle Feud
DESCRIPTION:Calling all puzzle fans! Join us for Puzzle Feud every Wednesday from 7:00 p.m.-9:00 p.m. (or until the first puzzle is completed). Complete a 500-piece puzzle of your choice with teams of up to 4 with a 2-hour limit. All teams must sign up at the bar on the day of and teams must go to the bar once their puzzle is completed. The winning team receives a prize. Cheers!
URL:https://downtowndayton.org/event/puzzle-feud-2025-03-05/
LOCATION:OH
ATTACH;FMTTYPE=image/jpeg:https://downtowndayton.org/wp-content/uploads/2025/01/dbc.jpg
END:VEVENT
BEGIN:VEVENT
DTSTART;TZID=America/Detroit:20250806T190000
DTEND;TZID=America/Detroit:20250806T210000
DTSTAMP:20260424T112931
CREATED:20250114T175815Z
LAST-MODIFIED:20250114T175815Z
UID:10042418-1754506800-1754514000@downtowndayton.org
SUMMARY:Puzzle Feud
DESCRIPTION:Calling all puzzle fans! Join us for Puzzle Feud every Wednesday from 7:00 p.m.-9:00 p.m. (or until the first puzzle is completed). Complete a 500-piece puzzle of your choice with teams of up to 4 with a 2-hour limit. All teams must sign up at the bar on the day of and teams must go to the bar once their puzzle is completed. The winning team receives a prize. Cheers!
URL:https://downtowndayton.org/event/puzzle-feud-2025-03-12-2/
LOCATION:OH
ATTACH;FMTTYPE=image/jpeg:https://downtowndayton.org/wp-content/uploads/2025/01/dbc.jpg
END:VEVENT
BEGIN:VEVENT
DTSTART;TZID=America/Detroit:20250806T190000
DTEND;TZID=America/Detroit:20250806T210000
DTSTAMP:20260424T112931
CREATED:20250114T175815Z
LAST-MODIFIED:20250114T175815Z
UID:10041587-1754506800-1754514000@downtowndayton.org
SUMMARY:Puzzle Feud
DESCRIPTION:Calling all puzzle fans! Join us for Puzzle Feud every Wednesday from 7:00 p.m.-9:00 p.m. (or until the first puzzle is completed). Complete a 500-piece puzzle of your choice with teams of up to 4 with a 2-hour limit. All teams must sign up at the bar on the day of and teams must go to the bar once their puzzle is completed. The winning team receives a prize. Cheers!
URL:https://downtowndayton.org/event/puzzle-feud-2025-04-02/
LOCATION:OH
ATTACH;FMTTYPE=image/jpeg:https://downtowndayton.org/wp-content/uploads/2025/01/dbc.jpg
END:VEVENT
BEGIN:VEVENT
DTSTART;TZID=America/Detroit:20250806T190000
DTEND;TZID=America/Detroit:20250806T210000
DTSTAMP:20260424T112931
CREATED:20250114T175815Z
LAST-MODIFIED:20250114T175815Z
UID:10041729-1754506800-1754514000@downtowndayton.org
SUMMARY:Puzzle Feud
DESCRIPTION:Calling all puzzle fans! Join us for Puzzle Feud every Wednesday from 7:00 p.m.-9:00 p.m. (or until the first puzzle is completed). Complete a 500-piece puzzle of your choice with teams of up to 4 with a 2-hour limit. All teams must sign up at the bar on the day of and teams must go to the bar once their puzzle is completed. The winning team receives a prize. Cheers!
URL:https://downtowndayton.org/event/puzzle-feud-2025-04-30/
LOCATION:OH
ATTACH;FMTTYPE=image/jpeg:https://downtowndayton.org/wp-content/uploads/2025/01/dbc.jpg
END:VEVENT
BEGIN:VEVENT
DTSTART;TZID=America/Detroit:20250806T190000
DTEND;TZID=America/Detroit:20250806T210000
DTSTAMP:20260424T112931
CREATED:20250114T175815Z
LAST-MODIFIED:20250114T175815Z
UID:10041855-1754506800-1754514000@downtowndayton.org
SUMMARY:Puzzle Feud
DESCRIPTION:Calling all puzzle fans! Join us for Puzzle Feud every Wednesday from 7:00 p.m.-9:00 p.m. (or until the first puzzle is completed). Complete a 500-piece puzzle of your choice with teams of up to 4 with a 2-hour limit. All teams must sign up at the bar on the day of and teams must go to the bar once their puzzle is completed. The winning team receives a prize. Cheers!
URL:https://downtowndayton.org/event/puzzle-feud-2025-05-28/
LOCATION:OH
ATTACH;FMTTYPE=image/jpeg:https://downtowndayton.org/wp-content/uploads/2025/01/dbc.jpg
END:VEVENT
BEGIN:VEVENT
DTSTART;TZID=America/Detroit:20250806T190000
DTEND;TZID=America/Detroit:20250806T210000
DTSTAMP:20260424T112931
CREATED:20250114T175815Z
LAST-MODIFIED:20250114T175815Z
UID:10041965-1754506800-1754514000@downtowndayton.org
SUMMARY:Puzzle Feud
DESCRIPTION:Calling all puzzle fans! Join us for Puzzle Feud every Wednesday from 7:00 p.m.-9:00 p.m. (or until the first puzzle is completed). Complete a 500-piece puzzle of your choice with teams of up to 4 with a 2-hour limit. All teams must sign up at the bar on the day of and teams must go to the bar once their puzzle is completed. The winning team receives a prize. Cheers!
URL:https://downtowndayton.org/event/puzzle-feud-2025-06-25/
LOCATION:OH
ATTACH;FMTTYPE=image/jpeg:https://downtowndayton.org/wp-content/uploads/2025/01/dbc.jpg
END:VEVENT
BEGIN:VEVENT
DTSTART;TZID=America/Detroit:20250806T190000
DTEND;TZID=America/Detroit:20250806T210000
DTSTAMP:20260424T112931
CREATED:20250114T175815Z
LAST-MODIFIED:20250114T175815Z
UID:10043990-1754506800-1754514000@downtowndayton.org
SUMMARY:Puzzle Feud
DESCRIPTION:Calling all puzzle fans! Join us for Puzzle Feud every Wednesday from 7:00 p.m.-9:00 p.m. (or until the first puzzle is completed). Complete a 500-piece puzzle of your choice with teams of up to 4 with a 2-hour limit. All teams must sign up at the bar on the day of and teams must go to the bar once their puzzle is completed. The winning team receives a prize. Cheers!
URL:https://downtowndayton.org/event/puzzle-feud-2025-07-16-3/
LOCATION:OH
ATTACH;FMTTYPE=image/jpeg:https://downtowndayton.org/wp-content/uploads/2025/01/dbc.jpg
END:VEVENT
BEGIN:VEVENT
DTSTART;TZID=America/Detroit:20250806T190000
DTEND;TZID=America/Detroit:20250806T210000
DTSTAMP:20260424T112931
CREATED:20250114T175815Z
LAST-MODIFIED:20250114T175815Z
UID:10042497-1754506800-1754514000@downtowndayton.org
SUMMARY:Puzzle Feud
DESCRIPTION:Calling all puzzle fans! Join us for Puzzle Feud every Wednesday from 7:00 p.m.-9:00 p.m. (or until the first puzzle is completed). Complete a 500-piece puzzle of your choice with teams of up to 4 with a 2-hour limit. All teams must sign up at the bar on the day of and teams must go to the bar once their puzzle is completed. The winning team receives a prize. Cheers!
URL:https://downtowndayton.org/event/puzzle-feud-2025-03-26-2/
LOCATION:OH
ATTACH;FMTTYPE=image/jpeg:https://downtowndayton.org/wp-content/uploads/2025/01/dbc.jpg
END:VEVENT
BEGIN:VEVENT
DTSTART;TZID=America/Detroit:20250806T190000
DTEND;TZID=America/Detroit:20250806T210000
DTSTAMP:20260424T112931
CREATED:20250114T175815Z
LAST-MODIFIED:20250114T175815Z
UID:10042643-1754506800-1754514000@downtowndayton.org
SUMMARY:Puzzle Feud
DESCRIPTION:Calling all puzzle fans! Join us for Puzzle Feud every Wednesday from 7:00 p.m.-9:00 p.m. (or until the first puzzle is completed). Complete a 500-piece puzzle of your choice with teams of up to 4 with a 2-hour limit. All teams must sign up at the bar on the day of and teams must go to the bar once their puzzle is completed. The winning team receives a prize. Cheers!
URL:https://downtowndayton.org/event/puzzle-feud-2025-04-23-2/
LOCATION:OH
ATTACH;FMTTYPE=image/jpeg:https://downtowndayton.org/wp-content/uploads/2025/01/dbc.jpg
END:VEVENT
BEGIN:VEVENT
DTSTART;TZID=America/Detroit:20250806T190000
DTEND;TZID=America/Detroit:20250806T210000
DTSTAMP:20260424T112931
CREATED:20250114T175815Z
LAST-MODIFIED:20250114T175815Z
UID:10042773-1754506800-1754514000@downtowndayton.org
SUMMARY:Puzzle Feud
DESCRIPTION:Calling all puzzle fans! Join us for Puzzle Feud every Wednesday from 7:00 p.m.-9:00 p.m. (or until the first puzzle is completed). Complete a 500-piece puzzle of your choice with teams of up to 4 with a 2-hour limit. All teams must sign up at the bar on the day of and teams must go to the bar once their puzzle is completed. The winning team receives a prize. Cheers!
URL:https://downtowndayton.org/event/puzzle-feud-2025-05-21-2/
LOCATION:OH
ATTACH;FMTTYPE=image/jpeg:https://downtowndayton.org/wp-content/uploads/2025/01/dbc.jpg
END:VEVENT
BEGIN:VEVENT
DTSTART;TZID=America/Detroit:20250806T190000
DTEND;TZID=America/Detroit:20250806T210000
DTSTAMP:20260424T112931
CREATED:20250114T175815Z
LAST-MODIFIED:20250114T175815Z
UID:10042887-1754506800-1754514000@downtowndayton.org
SUMMARY:Puzzle Feud
DESCRIPTION:Calling all puzzle fans! Join us for Puzzle Feud every Wednesday from 7:00 p.m.-9:00 p.m. (or until the first puzzle is completed). Complete a 500-piece puzzle of your choice with teams of up to 4 with a 2-hour limit. All teams must sign up at the bar on the day of and teams must go to the bar once their puzzle is completed. The winning team receives a prize. Cheers!
URL:https://downtowndayton.org/event/puzzle-feud-2025-06-18-2/
LOCATION:OH
ATTACH;FMTTYPE=image/jpeg:https://downtowndayton.org/wp-content/uploads/2025/01/dbc.jpg
END:VEVENT
BEGIN:VEVENT
DTSTART;TZID=America/Detroit:20250806T190000
DTEND;TZID=America/Detroit:20250806T210000
DTSTAMP:20260424T112931
CREATED:20250114T175815Z
LAST-MODIFIED:20250114T175815Z
UID:10043028-1754506800-1754514000@downtowndayton.org
SUMMARY:Puzzle Feud
DESCRIPTION:Calling all puzzle fans! Join us for Puzzle Feud every Wednesday from 7:00 p.m.-9:00 p.m. (or until the first puzzle is completed). Complete a 500-piece puzzle of your choice with teams of up to 4 with a 2-hour limit. All teams must sign up at the bar on the day of and teams must go to the bar once their puzzle is completed. The winning team receives a prize. Cheers!
URL:https://downtowndayton.org/event/puzzle-feud-2025-07-30/
LOCATION:OH
ATTACH;FMTTYPE=image/jpeg:https://downtowndayton.org/wp-content/uploads/2025/01/dbc.jpg
END:VEVENT
BEGIN:VEVENT
DTSTART;VALUE=DATE:20250807
DTEND;VALUE=DATE:20250808
DTSTAMP:20260424T112931
CREATED:20250807T123955Z
LAST-MODIFIED:20250828T115801Z
UID:10039118-1754524800-1754611199@downtowndayton.org
SUMMARY:Harmonies Music Boxes
DESCRIPTION:The Downtown Dayton Partnership and Le Monde Studios are excited to present Harmonies\, a multi-location public art installation on view for the entire month of August 2025. These larger-than-life\, interactive art installations will celebrate Dayton’s creative spirit and stop people in their tracks. Four musical instruments\, powered by green technology\, come alive with local music and lights at the turn of a hand crank. See a banjo on Courthouse Square\, a guitar at Levitt Pavilion\, a harp at the Convention Center\, and a treble clef in the Oregon District at the Seed of Life Plaza. This is more than a photo-op; it’s a moment of magic in the middle of an ordinary day. Presenting sponsor: PNC. Supporting sponsors: Bob Ross Auto Group and Grunder Landscaping Co.
URL:https://downtowndayton.org/event/harmonies-music-boxes/2025-08-07/
LOCATION:Downtown Dayton
ATTACH;FMTTYPE=image/png:https://downtowndayton.org/wp-content/uploads/2025/08/unnamed.png
END:VEVENT
END:VCALENDAR