BEGIN:VCALENDAR
VERSION:2.0
PRODID:-//Downtown Dayton Partnership - ECPv6.8.1//NONSGML v1.0//EN
CALSCALE:GREGORIAN
METHOD:PUBLISH
X-WR-CALNAME:Downtown Dayton Partnership
X-ORIGINAL-URL:https://downtowndayton.org
X-WR-CALDESC:Events for Downtown Dayton Partnership
REFRESH-INTERVAL;VALUE=DURATION:PT1H
X-Robots-Tag:noindex
X-PUBLISHED-TTL:PT1H
BEGIN:VTIMEZONE
TZID:America/Detroit
BEGIN:DAYLIGHT
TZOFFSETFROM:-0500
TZOFFSETTO:-0400
TZNAME:EDT
DTSTART:20250309T070000
END:DAYLIGHT
BEGIN:STANDARD
TZOFFSETFROM:-0400
TZOFFSETTO:-0500
TZNAME:EST
DTSTART:20251102T060000
END:STANDARD
END:VTIMEZONE
BEGIN:VEVENT
DTSTART;TZID=America/Detroit:20251029T190000
DTEND;TZID=America/Detroit:20251029T210000
DTSTAMP:20260424T040243
CREATED:20250114T175815Z
LAST-MODIFIED:20250114T175815Z
UID:10042925-1761764400-1761771600@downtowndayton.org
SUMMARY:Puzzle Feud
DESCRIPTION:Calling all puzzle fans! Join us for Puzzle Feud every Wednesday from 7:00 p.m.-9:00 p.m. (or until the first puzzle is completed). Complete a 500-piece puzzle of your choice with teams of up to 4 with a 2-hour limit. All teams must sign up at the bar on the day of and teams must go to the bar once their puzzle is completed. The winning team receives a prize. Cheers!
URL:https://downtowndayton.org/event/puzzle-feud-2025-06-25-2/
LOCATION:OH
ATTACH;FMTTYPE=image/jpeg:https://downtowndayton.org/wp-content/uploads/2025/01/dbc.jpg
END:VEVENT
BEGIN:VEVENT
DTSTART;TZID=America/Detroit:20251029T190000
DTEND;TZID=America/Detroit:20251029T210000
DTSTAMP:20260424T040243
CREATED:20250114T175815Z
LAST-MODIFIED:20250114T175815Z
UID:10044393-1761764400-1761771600@downtowndayton.org
SUMMARY:Puzzle Feud
DESCRIPTION:Calling all puzzle fans! Join us for Puzzle Feud every Wednesday from 7:00 p.m.-9:00 p.m. (or until the first puzzle is completed). Complete a 500-piece puzzle of your choice with teams of up to 4 with a 2-hour limit. All teams must sign up at the bar on the day of and teams must go to the bar once their puzzle is completed. The winning team receives a prize. Cheers!
URL:https://downtowndayton.org/event/puzzle-feud-2025-03-05-4/
LOCATION:OH
ATTACH;FMTTYPE=image/jpeg:https://downtowndayton.org/wp-content/uploads/2025/01/dbc.jpg
END:VEVENT
BEGIN:VEVENT
DTSTART;TZID=America/Detroit:20251029T190000
DTEND;TZID=America/Detroit:20251029T210000
DTSTAMP:20260424T040243
CREATED:20250114T175815Z
LAST-MODIFIED:20250114T175815Z
UID:10044789-1761764400-1761771600@downtowndayton.org
SUMMARY:Puzzle Feud
DESCRIPTION:Calling all puzzle fans! Join us for Puzzle Feud every Wednesday from 7:00 p.m.-9:00 p.m. (or until the first puzzle is completed). Complete a 500-piece puzzle of your choice with teams of up to 4 with a 2-hour limit. All teams must sign up at the bar on the day of and teams must go to the bar once their puzzle is completed. The winning team receives a prize. Cheers!
URL:https://downtowndayton.org/event/puzzle-feud-2025-05-21-4/
LOCATION:OH
ATTACH;FMTTYPE=image/jpeg:https://downtowndayton.org/wp-content/uploads/2025/01/dbc.jpg
END:VEVENT
BEGIN:VEVENT
DTSTART;TZID=America/Detroit:20251029T190000
DTEND;TZID=America/Detroit:20251029T210000
DTSTAMP:20260424T040243
CREATED:20250114T175815Z
LAST-MODIFIED:20250114T175815Z
UID:10042899-1761764400-1761771600@downtowndayton.org
SUMMARY:Puzzle Feud
DESCRIPTION:Calling all puzzle fans! Join us for Puzzle Feud every Wednesday from 7:00 p.m.-9:00 p.m. (or until the first puzzle is completed). Complete a 500-piece puzzle of your choice with teams of up to 4 with a 2-hour limit. All teams must sign up at the bar on the day of and teams must go to the bar once their puzzle is completed. The winning team receives a prize. Cheers!
URL:https://downtowndayton.org/event/puzzle-feud-2025-06-18-2/
LOCATION:OH
ATTACH;FMTTYPE=image/jpeg:https://downtowndayton.org/wp-content/uploads/2025/01/dbc.jpg
END:VEVENT
BEGIN:VEVENT
DTSTART;TZID=America/Detroit:20251029T190000
DTEND;TZID=America/Detroit:20251029T210000
DTSTAMP:20260424T040243
CREATED:20250114T175815Z
LAST-MODIFIED:20250114T175815Z
UID:10044434-1761764400-1761771600@downtowndayton.org
SUMMARY:Puzzle Feud
DESCRIPTION:Calling all puzzle fans! Join us for Puzzle Feud every Wednesday from 7:00 p.m.-9:00 p.m. (or until the first puzzle is completed). Complete a 500-piece puzzle of your choice with teams of up to 4 with a 2-hour limit. All teams must sign up at the bar on the day of and teams must go to the bar once their puzzle is completed. The winning team receives a prize. Cheers!
URL:https://downtowndayton.org/event/puzzle-feud-2025-03-12-4/
LOCATION:OH
ATTACH;FMTTYPE=image/jpeg:https://downtowndayton.org/wp-content/uploads/2025/01/dbc.jpg
END:VEVENT
BEGIN:VEVENT
DTSTART;TZID=America/Detroit:20251029T190000
DTEND;TZID=America/Detroit:20251029T210000
DTSTAMP:20260424T040243
CREATED:20250114T175815Z
LAST-MODIFIED:20250114T175815Z
UID:10043127-1761764400-1761771600@downtowndayton.org
SUMMARY:Puzzle Feud
DESCRIPTION:Calling all puzzle fans! Join us for Puzzle Feud every Wednesday from 7:00 p.m.-9:00 p.m. (or until the first puzzle is completed). Complete a 500-piece puzzle of your choice with teams of up to 4 with a 2-hour limit. All teams must sign up at the bar on the day of and teams must go to the bar once their puzzle is completed. The winning team receives a prize. Cheers!
URL:https://downtowndayton.org/event/puzzle-feud-2025-01-22-3/
LOCATION:OH
ATTACH;FMTTYPE=image/jpeg:https://downtowndayton.org/wp-content/uploads/2025/01/dbc.jpg
END:VEVENT
BEGIN:VEVENT
DTSTART;TZID=America/Detroit:20251029T190000
DTEND;TZID=America/Detroit:20251029T210000
DTSTAMP:20260424T040243
CREATED:20250114T175815Z
LAST-MODIFIED:20250114T175815Z
UID:10043955-1761764400-1761771600@downtowndayton.org
SUMMARY:Puzzle Feud
DESCRIPTION:Calling all puzzle fans! Join us for Puzzle Feud every Wednesday from 7:00 p.m.-9:00 p.m. (or until the first puzzle is completed). Complete a 500-piece puzzle of your choice with teams of up to 4 with a 2-hour limit. All teams must sign up at the bar on the day of and teams must go to the bar once their puzzle is completed. The winning team receives a prize. Cheers!
URL:https://downtowndayton.org/event/puzzle-feud-2025-07-02-3/
LOCATION:OH
ATTACH;FMTTYPE=image/jpeg:https://downtowndayton.org/wp-content/uploads/2025/01/dbc.jpg
END:VEVENT
BEGIN:VEVENT
DTSTART;TZID=America/Detroit:20251029T190000
DTEND;TZID=America/Detroit:20251029T210000
DTSTAMP:20260424T040243
CREATED:20250114T175815Z
LAST-MODIFIED:20250114T175815Z
UID:10044002-1761764400-1761771600@downtowndayton.org
SUMMARY:Puzzle Feud
DESCRIPTION:Calling all puzzle fans! Join us for Puzzle Feud every Wednesday from 7:00 p.m.-9:00 p.m. (or until the first puzzle is completed). Complete a 500-piece puzzle of your choice with teams of up to 4 with a 2-hour limit. All teams must sign up at the bar on the day of and teams must go to the bar once their puzzle is completed. The winning team receives a prize. Cheers!
URL:https://downtowndayton.org/event/puzzle-feud-2025-07-16-3/
LOCATION:OH
ATTACH;FMTTYPE=image/jpeg:https://downtowndayton.org/wp-content/uploads/2025/01/dbc.jpg
END:VEVENT
BEGIN:VEVENT
DTSTART;TZID=America/Detroit:20251029T190000
DTEND;TZID=America/Detroit:20251029T210000
DTSTAMP:20260424T040243
CREATED:20250114T175815Z
LAST-MODIFIED:20250114T175815Z
UID:10044042-1761764400-1761771600@downtowndayton.org
SUMMARY:Puzzle Feud
DESCRIPTION:Calling all puzzle fans! Join us for Puzzle Feud every Wednesday from 7:00 p.m.-9:00 p.m. (or until the first puzzle is completed). Complete a 500-piece puzzle of your choice with teams of up to 4 with a 2-hour limit. All teams must sign up at the bar on the day of and teams must go to the bar once their puzzle is completed. The winning team receives a prize. Cheers!
URL:https://downtowndayton.org/event/puzzle-feud-2025-08-20/
LOCATION:OH
ATTACH;FMTTYPE=image/jpeg:https://downtowndayton.org/wp-content/uploads/2025/01/dbc.jpg
END:VEVENT
BEGIN:VEVENT
DTSTART;TZID=America/Detroit:20251029T190000
DTEND;TZID=America/Detroit:20251029T210000
DTSTAMP:20260424T040243
CREATED:20250114T175815Z
LAST-MODIFIED:20250114T175815Z
UID:10044758-1761764400-1761771600@downtowndayton.org
SUMMARY:Puzzle Feud
DESCRIPTION:Calling all puzzle fans! Join us for Puzzle Feud every Wednesday from 7:00 p.m.-9:00 p.m. (or until the first puzzle is completed). Complete a 500-piece puzzle of your choice with teams of up to 4 with a 2-hour limit. All teams must sign up at the bar on the day of and teams must go to the bar once their puzzle is completed. The winning team receives a prize. Cheers!
URL:https://downtowndayton.org/event/puzzle-feud-2025-05-14-4/
LOCATION:OH
ATTACH;FMTTYPE=image/jpeg:https://downtowndayton.org/wp-content/uploads/2025/01/dbc.jpg
END:VEVENT
BEGIN:VEVENT
DTSTART;TZID=America/Detroit:20251029T190000
DTEND;TZID=America/Detroit:20251029T210000
DTSTAMP:20260424T040243
CREATED:20250114T175815Z
LAST-MODIFIED:20250114T175815Z
UID:10043060-1761764400-1761771600@downtowndayton.org
SUMMARY:Puzzle Feud
DESCRIPTION:Calling all puzzle fans! Join us for Puzzle Feud every Wednesday from 7:00 p.m.-9:00 p.m. (or until the first puzzle is completed). Complete a 500-piece puzzle of your choice with teams of up to 4 with a 2-hour limit. All teams must sign up at the bar on the day of and teams must go to the bar once their puzzle is completed. The winning team receives a prize. Cheers!
URL:https://downtowndayton.org/event/puzzle-feud-2025-08-06/
LOCATION:OH
ATTACH;FMTTYPE=image/jpeg:https://downtowndayton.org/wp-content/uploads/2025/01/dbc.jpg
END:VEVENT
BEGIN:VEVENT
DTSTART;TZID=America/Detroit:20251029T190000
DTEND;TZID=America/Detroit:20251029T210000
DTSTAMP:20260424T040243
CREATED:20250114T175815Z
LAST-MODIFIED:20250114T175815Z
UID:10042389-1761764400-1761771600@downtowndayton.org
SUMMARY:Puzzle Feud
DESCRIPTION:Calling all puzzle fans! Join us for Puzzle Feud every Wednesday from 7:00 p.m.-9:00 p.m. (or until the first puzzle is completed). Complete a 500-piece puzzle of your choice with teams of up to 4 with a 2-hour limit. All teams must sign up at the bar on the day of and teams must go to the bar once their puzzle is completed. The winning team receives a prize. Cheers!
URL:https://downtowndayton.org/event/puzzle-feud-2025-03-05-2/
LOCATION:OH
ATTACH;FMTTYPE=image/jpeg:https://downtowndayton.org/wp-content/uploads/2025/01/dbc.jpg
END:VEVENT
BEGIN:VEVENT
DTSTART;TZID=America/Detroit:20251029T190000
DTEND;TZID=America/Detroit:20251029T210000
DTSTAMP:20260424T040243
CREATED:20250114T175815Z
LAST-MODIFIED:20250114T175815Z
UID:10042430-1761764400-1761771600@downtowndayton.org
SUMMARY:Puzzle Feud
DESCRIPTION:Calling all puzzle fans! Join us for Puzzle Feud every Wednesday from 7:00 p.m.-9:00 p.m. (or until the first puzzle is completed). Complete a 500-piece puzzle of your choice with teams of up to 4 with a 2-hour limit. All teams must sign up at the bar on the day of and teams must go to the bar once their puzzle is completed. The winning team receives a prize. Cheers!
URL:https://downtowndayton.org/event/puzzle-feud-2025-03-12-2/
LOCATION:OH
ATTACH;FMTTYPE=image/jpeg:https://downtowndayton.org/wp-content/uploads/2025/01/dbc.jpg
END:VEVENT
BEGIN:VEVENT
DTSTART;TZID=America/Detroit:20251029T190000
DTEND;TZID=America/Detroit:20251029T210000
DTSTAMP:20260424T040243
CREATED:20250114T175815Z
LAST-MODIFIED:20250114T175815Z
UID:10044588-1761764400-1761771600@downtowndayton.org
SUMMARY:Puzzle Feud
DESCRIPTION:Calling all puzzle fans! Join us for Puzzle Feud every Wednesday from 7:00 p.m.-9:00 p.m. (or until the first puzzle is completed). Complete a 500-piece puzzle of your choice with teams of up to 4 with a 2-hour limit. All teams must sign up at the bar on the day of and teams must go to the bar once their puzzle is completed. The winning team receives a prize. Cheers!
URL:https://downtowndayton.org/event/puzzle-feud-2025-04-09-4/
LOCATION:OH
ATTACH;FMTTYPE=image/jpeg:https://downtowndayton.org/wp-content/uploads/2025/01/dbc.jpg
END:VEVENT
BEGIN:VEVENT
DTSTART;TZID=America/Detroit:20251029T190000
DTEND;TZID=America/Detroit:20251029T210000
DTSTAMP:20260424T040243
CREATED:20250114T175815Z
LAST-MODIFIED:20250114T175815Z
UID:10044624-1761764400-1761771600@downtowndayton.org
SUMMARY:Puzzle Feud
DESCRIPTION:Calling all puzzle fans! Join us for Puzzle Feud every Wednesday from 7:00 p.m.-9:00 p.m. (or until the first puzzle is completed). Complete a 500-piece puzzle of your choice with teams of up to 4 with a 2-hour limit. All teams must sign up at the bar on the day of and teams must go to the bar once their puzzle is completed. The winning team receives a prize. Cheers!
URL:https://downtowndayton.org/event/puzzle-feud-2025-04-16-4/
LOCATION:OH
ATTACH;FMTTYPE=image/jpeg:https://downtowndayton.org/wp-content/uploads/2025/01/dbc.jpg
END:VEVENT
BEGIN:VEVENT
DTSTART;TZID=America/Detroit:20251029T190000
DTEND;TZID=America/Detroit:20251029T210000
DTSTAMP:20260424T040243
CREATED:20250114T175815Z
LAST-MODIFIED:20250114T175815Z
UID:10042689-1761764400-1761771600@downtowndayton.org
SUMMARY:Puzzle Feud
DESCRIPTION:Calling all puzzle fans! Join us for Puzzle Feud every Wednesday from 7:00 p.m.-9:00 p.m. (or until the first puzzle is completed). Complete a 500-piece puzzle of your choice with teams of up to 4 with a 2-hour limit. All teams must sign up at the bar on the day of and teams must go to the bar once their puzzle is completed. The winning team receives a prize. Cheers!
URL:https://downtowndayton.org/event/puzzle-feud-2025-04-30-2/
LOCATION:OH
ATTACH;FMTTYPE=image/jpeg:https://downtowndayton.org/wp-content/uploads/2025/01/dbc.jpg
END:VEVENT
BEGIN:VEVENT
DTSTART;TZID=America/Detroit:20251029T190000
DTEND;TZID=America/Detroit:20251029T210000
DTSTAMP:20260424T040243
CREATED:20250114T175815Z
LAST-MODIFIED:20250114T175815Z
UID:10042002-1761764400-1761771600@downtowndayton.org
SUMMARY:Puzzle Feud
DESCRIPTION:Calling all puzzle fans! Join us for Puzzle Feud every Wednesday from 7:00 p.m.-9:00 p.m. (or until the first puzzle is completed). Complete a 500-piece puzzle of your choice with teams of up to 4 with a 2-hour limit. All teams must sign up at the bar on the day of and teams must go to the bar once their puzzle is completed. The winning team receives a prize. Cheers!
URL:https://downtowndayton.org/event/puzzle-feud-2025-07-02/
LOCATION:OH
ATTACH;FMTTYPE=image/jpeg:https://downtowndayton.org/wp-content/uploads/2025/01/dbc.jpg
END:VEVENT
BEGIN:VEVENT
DTSTART;TZID=America/Detroit:20251029T190000
DTEND;TZID=America/Detroit:20251029T210000
DTSTAMP:20260424T040244
CREATED:20250114T175815Z
LAST-MODIFIED:20250114T175815Z
UID:10045001-1761764400-1761771600@downtowndayton.org
SUMMARY:Puzzle Feud
DESCRIPTION:Calling all puzzle fans! Join us for Puzzle Feud every Wednesday from 7:00 p.m.-9:00 p.m. (or until the first puzzle is completed). Complete a 500-piece puzzle of your choice with teams of up to 4 with a 2-hour limit. All teams must sign up at the bar on the day of and teams must go to the bar once their puzzle is completed. The winning team receives a prize. Cheers!
URL:https://downtowndayton.org/event/puzzle-feud-2025-07-16-4/
LOCATION:OH
ATTACH;FMTTYPE=image/jpeg:https://downtowndayton.org/wp-content/uploads/2025/01/dbc.jpg
END:VEVENT
BEGIN:VEVENT
DTSTART;TZID=America/Detroit:20251029T190000
DTEND;TZID=America/Detroit:20251029T210000
DTSTAMP:20260424T040244
CREATED:20250114T175815Z
LAST-MODIFIED:20250114T175815Z
UID:10041174-1761764400-1761771600@downtowndayton.org
SUMMARY:Puzzle Feud
DESCRIPTION:Calling all puzzle fans! Join us for Puzzle Feud every Wednesday from 7:00 p.m.-9:00 p.m. (or until the first puzzle is completed). Complete a 500-piece puzzle of your choice with teams of up to 4 with a 2-hour limit. All teams must sign up at the bar on the day of and teams must go to the bar once their puzzle is completed. The winning team receives a prize. Cheers!
URL:https://downtowndayton.org/event/puzzle-feud-2025-01-22/
LOCATION:OH
ATTACH;FMTTYPE=image/jpeg:https://downtowndayton.org/wp-content/uploads/2025/01/dbc.jpg
END:VEVENT
BEGIN:VEVENT
DTSTART;TZID=America/Detroit:20251029T190000
DTEND;TZID=America/Detroit:20251029T210000
DTSTAMP:20260424T040244
CREATED:20250114T175815Z
LAST-MODIFIED:20250114T175815Z
UID:10043079-1761764400-1761771600@downtowndayton.org
SUMMARY:Puzzle Feud
DESCRIPTION:Calling all puzzle fans! Join us for Puzzle Feud every Wednesday from 7:00 p.m.-9:00 p.m. (or until the first puzzle is completed). Complete a 500-piece puzzle of your choice with teams of up to 4 with a 2-hour limit. All teams must sign up at the bar on the day of and teams must go to the bar once their puzzle is completed. The winning team receives a prize. Cheers!
URL:https://downtowndayton.org/event/puzzle-feud-2025-08-13/
LOCATION:OH
ATTACH;FMTTYPE=image/jpeg:https://downtowndayton.org/wp-content/uploads/2025/01/dbc.jpg
END:VEVENT
BEGIN:VEVENT
DTSTART;TZID=America/Detroit:20251029T190000
DTEND;TZID=America/Detroit:20251029T210000
DTSTAMP:20260424T040244
CREATED:20250114T175815Z
LAST-MODIFIED:20250114T175815Z
UID:10044075-1761764400-1761771600@downtowndayton.org
SUMMARY:Puzzle Feud
DESCRIPTION:Calling all puzzle fans! Join us for Puzzle Feud every Wednesday from 7:00 p.m.-9:00 p.m. (or until the first puzzle is completed). Complete a 500-piece puzzle of your choice with teams of up to 4 with a 2-hour limit. All teams must sign up at the bar on the day of and teams must go to the bar once their puzzle is completed. The winning team receives a prize. Cheers!
URL:https://downtowndayton.org/event/puzzle-feud-2025-09-03/
LOCATION:OH
ATTACH;FMTTYPE=image/jpeg:https://downtowndayton.org/wp-content/uploads/2025/01/dbc.jpg
END:VEVENT
BEGIN:VEVENT
DTSTART;TZID=America/Detroit:20251029T190000
DTEND;TZID=America/Detroit:20251029T210000
DTSTAMP:20260424T040244
CREATED:20250114T175815Z
LAST-MODIFIED:20250114T175815Z
UID:10043877-1761764400-1761771600@downtowndayton.org
SUMMARY:Puzzle Feud
DESCRIPTION:Calling all puzzle fans! Join us for Puzzle Feud every Wednesday from 7:00 p.m.-9:00 p.m. (or until the first puzzle is completed). Complete a 500-piece puzzle of your choice with teams of up to 4 with a 2-hour limit. All teams must sign up at the bar on the day of and teams must go to the bar once their puzzle is completed. The winning team receives a prize. Cheers!
URL:https://downtowndayton.org/event/puzzle-feud-2025-06-11-3/
LOCATION:OH
ATTACH;FMTTYPE=image/jpeg:https://downtowndayton.org/wp-content/uploads/2025/01/dbc.jpg
END:VEVENT
BEGIN:VEVENT
DTSTART;TZID=America/Detroit:20251029T190000
DTEND;TZID=America/Detroit:20251029T210000
DTSTAMP:20260424T040244
CREATED:20250114T175815Z
LAST-MODIFIED:20250114T175815Z
UID:10043265-1761764400-1761771600@downtowndayton.org
SUMMARY:Puzzle Feud
DESCRIPTION:Calling all puzzle fans! Join us for Puzzle Feud every Wednesday from 7:00 p.m.-9:00 p.m. (or until the first puzzle is completed). Complete a 500-piece puzzle of your choice with teams of up to 4 with a 2-hour limit. All teams must sign up at the bar on the day of and teams must go to the bar once their puzzle is completed. The winning team receives a prize. Cheers!
URL:https://downtowndayton.org/event/puzzle-feud-2025-02-12-3/
LOCATION:OH
ATTACH;FMTTYPE=image/jpeg:https://downtowndayton.org/wp-content/uploads/2025/01/dbc.jpg
END:VEVENT
BEGIN:VEVENT
DTSTART;TZID=America/Detroit:20251029T190000
DTEND;TZID=America/Detroit:20251029T210000
DTSTAMP:20260424T040244
CREATED:20250114T175815Z
LAST-MODIFIED:20250114T175815Z
UID:10042026-1761764400-1761771600@downtowndayton.org
SUMMARY:Puzzle Feud
DESCRIPTION:Calling all puzzle fans! Join us for Puzzle Feud every Wednesday from 7:00 p.m.-9:00 p.m. (or until the first puzzle is completed). Complete a 500-piece puzzle of your choice with teams of up to 4 with a 2-hour limit. All teams must sign up at the bar on the day of and teams must go to the bar once their puzzle is completed. The winning team receives a prize. Cheers!
URL:https://downtowndayton.org/event/puzzle-feud-2025-07-09/
LOCATION:OH
ATTACH;FMTTYPE=image/jpeg:https://downtowndayton.org/wp-content/uploads/2025/01/dbc.jpg
END:VEVENT
BEGIN:VEVENT
DTSTART;TZID=America/Detroit:20251029T190000
DTEND;TZID=America/Detroit:20251029T210000
DTSTAMP:20260424T040244
CREATED:20250114T175815Z
LAST-MODIFIED:20250114T175815Z
UID:10042785-1761764400-1761771600@downtowndayton.org
SUMMARY:Puzzle Feud
DESCRIPTION:Calling all puzzle fans! Join us for Puzzle Feud every Wednesday from 7:00 p.m.-9:00 p.m. (or until the first puzzle is completed). Complete a 500-piece puzzle of your choice with teams of up to 4 with a 2-hour limit. All teams must sign up at the bar on the day of and teams must go to the bar once their puzzle is completed. The winning team receives a prize. Cheers!
URL:https://downtowndayton.org/event/puzzle-feud-2025-05-21-2/
LOCATION:OH
ATTACH;FMTTYPE=image/jpeg:https://downtowndayton.org/wp-content/uploads/2025/01/dbc.jpg
END:VEVENT
BEGIN:VEVENT
DTSTART;TZID=America/Detroit:20251029T190000
DTEND;TZID=America/Detroit:20251029T210000
DTSTAMP:20260424T040244
CREATED:20250114T175815Z
LAST-MODIFIED:20250114T175815Z
UID:10042754-1761764400-1761771600@downtowndayton.org
SUMMARY:Puzzle Feud
DESCRIPTION:Calling all puzzle fans! Join us for Puzzle Feud every Wednesday from 7:00 p.m.-9:00 p.m. (or until the first puzzle is completed). Complete a 500-piece puzzle of your choice with teams of up to 4 with a 2-hour limit. All teams must sign up at the bar on the day of and teams must go to the bar once their puzzle is completed. The winning team receives a prize. Cheers!
URL:https://downtowndayton.org/event/puzzle-feud-2025-05-14-2/
LOCATION:OH
ATTACH;FMTTYPE=image/jpeg:https://downtowndayton.org/wp-content/uploads/2025/01/dbc.jpg
END:VEVENT
BEGIN:VEVENT
DTSTART;TZID=America/Detroit:20251029T190000
DTEND;TZID=America/Detroit:20251029T210000
DTSTAMP:20260424T040244
CREATED:20250114T175815Z
LAST-MODIFIED:20250114T175815Z
UID:10042071-1761764400-1761771600@downtowndayton.org
SUMMARY:Puzzle Feud
DESCRIPTION:Calling all puzzle fans! Join us for Puzzle Feud every Wednesday from 7:00 p.m.-9:00 p.m. (or until the first puzzle is completed). Complete a 500-piece puzzle of your choice with teams of up to 4 with a 2-hour limit. All teams must sign up at the bar on the day of and teams must go to the bar once their puzzle is completed. The winning team receives a prize. Cheers!
URL:https://downtowndayton.org/event/puzzle-feud-2025-07-23/
LOCATION:OH
ATTACH;FMTTYPE=image/jpeg:https://downtowndayton.org/wp-content/uploads/2025/01/dbc.jpg
END:VEVENT
BEGIN:VEVENT
DTSTART;TZID=America/Detroit:20251029T190000
DTEND;TZID=America/Detroit:20251029T210000
DTSTAMP:20260424T040244
CREATED:20250114T175815Z
LAST-MODIFIED:20250114T175815Z
UID:10044954-1761764400-1761771600@downtowndayton.org
SUMMARY:Puzzle Feud
DESCRIPTION:Calling all puzzle fans! Join us for Puzzle Feud every Wednesday from 7:00 p.m.-9:00 p.m. (or until the first puzzle is completed). Complete a 500-piece puzzle of your choice with teams of up to 4 with a 2-hour limit. All teams must sign up at the bar on the day of and teams must go to the bar once their puzzle is completed. The winning team receives a prize. Cheers!
URL:https://downtowndayton.org/event/puzzle-feud-2025-07-02-4/
LOCATION:OH
ATTACH;FMTTYPE=image/jpeg:https://downtowndayton.org/wp-content/uploads/2025/01/dbc.jpg
END:VEVENT
BEGIN:VEVENT
DTSTART;TZID=America/Detroit:20251029T190000
DTEND;TZID=America/Detroit:20251029T210000
DTSTAMP:20260424T040244
CREATED:20250114T175815Z
LAST-MODIFIED:20250114T175815Z
UID:10041924-1761764400-1761771600@downtowndayton.org
SUMMARY:Puzzle Feud
DESCRIPTION:Calling all puzzle fans! Join us for Puzzle Feud every Wednesday from 7:00 p.m.-9:00 p.m. (or until the first puzzle is completed). Complete a 500-piece puzzle of your choice with teams of up to 4 with a 2-hour limit. All teams must sign up at the bar on the day of and teams must go to the bar once their puzzle is completed. The winning team receives a prize. Cheers!
URL:https://downtowndayton.org/event/puzzle-feud-2025-06-11/
LOCATION:OH
ATTACH;FMTTYPE=image/jpeg:https://downtowndayton.org/wp-content/uploads/2025/01/dbc.jpg
END:VEVENT
BEGIN:VEVENT
DTSTART;TZID=America/Detroit:20251029T190000
DTEND;TZID=America/Detroit:20251029T210000
DTSTAMP:20260424T040244
CREATED:20250114T175815Z
LAST-MODIFIED:20250114T175815Z
UID:10044126-1761764400-1761771600@downtowndayton.org
SUMMARY:Puzzle Feud
DESCRIPTION:Calling all puzzle fans! Join us for Puzzle Feud every Wednesday from 7:00 p.m.-9:00 p.m. (or until the first puzzle is completed). Complete a 500-piece puzzle of your choice with teams of up to 4 with a 2-hour limit. All teams must sign up at the bar on the day of and teams must go to the bar once their puzzle is completed. The winning team receives a prize. Cheers!
URL:https://downtowndayton.org/event/puzzle-feud-2025-01-22-4/
LOCATION:OH
ATTACH;FMTTYPE=image/jpeg:https://downtowndayton.org/wp-content/uploads/2025/01/dbc.jpg
END:VEVENT
END:VCALENDAR