BEGIN:VCALENDAR
VERSION:2.0
PRODID:-//Downtown Dayton Partnership - ECPv6.8.1//NONSGML v1.0//EN
CALSCALE:GREGORIAN
METHOD:PUBLISH
X-WR-CALNAME:Downtown Dayton Partnership
X-ORIGINAL-URL:https://downtowndayton.org
X-WR-CALDESC:Events for Downtown Dayton Partnership
REFRESH-INTERVAL;VALUE=DURATION:PT1H
X-Robots-Tag:noindex
X-PUBLISHED-TTL:PT1H
BEGIN:VTIMEZONE
TZID:America/New_York
BEGIN:DAYLIGHT
TZOFFSETFROM:-0500
TZOFFSETTO:-0400
TZNAME:EDT
DTSTART:20260308T070000
END:DAYLIGHT
BEGIN:STANDARD
TZOFFSETFROM:-0400
TZOFFSETTO:-0500
TZNAME:EST
DTSTART:20261101T060000
END:STANDARD
END:VTIMEZONE
BEGIN:VEVENT
DTSTART;TZID=America/New_York:20260501T193000
DTEND;TZID=America/New_York:20260501T193000
DTSTAMP:20260420T183510
CREATED:20260420T185704Z
LAST-MODIFIED:20260420T185704Z
UID:10055925-1777663800-1777663800@downtowndayton.org
SUMMARY:At The Still Point
DESCRIPTION:In this profound program\, pianist Awadagin Pratt performs two concertos written especially for him\, both inspired by T.S. Eliot’s Four Quartets. The evening culminates in Mozart’s “Requiem\,” a choral masterpiece that traverses the depths of human existence. From the haunting “Introit” to the fiery “Dies Irae” and the ethereal “Lacrimosa\,” “Requiem” captures the dance of life and death\, the tension between stillness and motion\, and the journey from mortality to transcendence.
URL:https://downtowndayton.org/event/at-the-still-point/2026-05-01/
LOCATION:The Benjamin & Marian Schuster Performing Arts Center\, 1 West Second Street\, Dayton\, OH\, 45402
ATTACH;FMTTYPE=image/jpeg:https://downtowndayton.org/wp-content/uploads/2026/04/stillpt.jpg
END:VEVENT
BEGIN:VEVENT
DTSTART;TZID=America/New_York:20260502T193000
DTEND;TZID=America/New_York:20260502T193000
DTSTAMP:20260420T183510
CREATED:20260420T185704Z
LAST-MODIFIED:20260420T185704Z
UID:10055926-1777750200-1777750200@downtowndayton.org
SUMMARY:At The Still Point
DESCRIPTION:In this profound program\, pianist Awadagin Pratt performs two concertos written especially for him\, both inspired by T.S. Eliot’s Four Quartets. The evening culminates in Mozart’s “Requiem\,” a choral masterpiece that traverses the depths of human existence. From the haunting “Introit” to the fiery “Dies Irae” and the ethereal “Lacrimosa\,” “Requiem” captures the dance of life and death\, the tension between stillness and motion\, and the journey from mortality to transcendence.
URL:https://downtowndayton.org/event/at-the-still-point/2026-05-02/
LOCATION:The Benjamin & Marian Schuster Performing Arts Center\, 1 West Second Street\, Dayton\, OH\, 45402
ATTACH;FMTTYPE=image/jpeg:https://downtowndayton.org/wp-content/uploads/2026/04/stillpt.jpg
END:VEVENT
END:VCALENDAR