BEGIN:VCALENDAR
VERSION:2.0
PRODID:-//Downtown Dayton Partnership - ECPv6.8.1//NONSGML v1.0//EN
CALSCALE:GREGORIAN
METHOD:PUBLISH
X-WR-CALNAME:Downtown Dayton Partnership
X-ORIGINAL-URL:https://downtowndayton.org
X-WR-CALDESC:Events for Downtown Dayton Partnership
REFRESH-INTERVAL;VALUE=DURATION:PT1H
X-Robots-Tag:noindex
X-PUBLISHED-TTL:PT1H
BEGIN:VTIMEZONE
TZID:America/New_York
BEGIN:DAYLIGHT
TZOFFSETFROM:-0500
TZOFFSETTO:-0400
TZNAME:EDT
DTSTART:20260308T070000
END:DAYLIGHT
BEGIN:STANDARD
TZOFFSETFROM:-0400
TZOFFSETTO:-0500
TZNAME:EST
DTSTART:20261101T060000
END:STANDARD
END:VTIMEZONE
BEGIN:VEVENT
DTSTART;TZID=America/New_York:20260505T193000
DTEND;TZID=America/New_York:20260505T193000
DTSTAMP:20260420T195949
CREATED:20260420T190230Z
LAST-MODIFIED:20260420T190230Z
UID:10055930-1778009400-1778009400@downtowndayton.org
SUMMARY:Mrs. Doubtfire
DESCRIPTION:Everyone’s favorite Scottish nanny is headed to Dayton in this internationally acclaimed hit musical critics call “wonderful\, heart-warming\, and laugh-out-loud funny” (Manchester Evening News) and “a feel-good\, family-friendly comedy that delivers” (The Hollywood Reporter). Based on the beloved film\, MRS. DOUBTFIRE tells the hysterical and heartfelt story of an out-of-work actor who will do anything for his kids. It’s “the lovable\, big-hearted musical comedy we need right now\,” raves the Chicago Tribune – one that proves we’re better together.
URL:https://downtowndayton.org/event/mrs-doubtfire/2026-05-05/
LOCATION:The Benjamin & Marian Schuster Performing Arts Center\, 1 West Second Street\, Dayton\, OH\, 45402
ATTACH;FMTTYPE=image/jpeg:https://downtowndayton.org/wp-content/uploads/2026/04/euphregenia.jpg
END:VEVENT
BEGIN:VEVENT
DTSTART;TZID=America/New_York:20260506T193000
DTEND;TZID=America/New_York:20260506T193000
DTSTAMP:20260420T195949
CREATED:20260420T190230Z
LAST-MODIFIED:20260420T190230Z
UID:10055931-1778095800-1778095800@downtowndayton.org
SUMMARY:Mrs. Doubtfire
DESCRIPTION:Everyone’s favorite Scottish nanny is headed to Dayton in this internationally acclaimed hit musical critics call “wonderful\, heart-warming\, and laugh-out-loud funny” (Manchester Evening News) and “a feel-good\, family-friendly comedy that delivers” (The Hollywood Reporter). Based on the beloved film\, MRS. DOUBTFIRE tells the hysterical and heartfelt story of an out-of-work actor who will do anything for his kids. It’s “the lovable\, big-hearted musical comedy we need right now\,” raves the Chicago Tribune – one that proves we’re better together.
URL:https://downtowndayton.org/event/mrs-doubtfire/2026-05-06/
LOCATION:The Benjamin & Marian Schuster Performing Arts Center\, 1 West Second Street\, Dayton\, OH\, 45402
ATTACH;FMTTYPE=image/jpeg:https://downtowndayton.org/wp-content/uploads/2026/04/euphregenia.jpg
END:VEVENT
BEGIN:VEVENT
DTSTART;TZID=America/New_York:20260507T193000
DTEND;TZID=America/New_York:20260507T193000
DTSTAMP:20260420T195949
CREATED:20260420T190230Z
LAST-MODIFIED:20260420T190230Z
UID:10055932-1778182200-1778182200@downtowndayton.org
SUMMARY:Mrs. Doubtfire
DESCRIPTION:Everyone’s favorite Scottish nanny is headed to Dayton in this internationally acclaimed hit musical critics call “wonderful\, heart-warming\, and laugh-out-loud funny” (Manchester Evening News) and “a feel-good\, family-friendly comedy that delivers” (The Hollywood Reporter). Based on the beloved film\, MRS. DOUBTFIRE tells the hysterical and heartfelt story of an out-of-work actor who will do anything for his kids. It’s “the lovable\, big-hearted musical comedy we need right now\,” raves the Chicago Tribune – one that proves we’re better together.
URL:https://downtowndayton.org/event/mrs-doubtfire/2026-05-07/
LOCATION:The Benjamin & Marian Schuster Performing Arts Center\, 1 West Second Street\, Dayton\, OH\, 45402
ATTACH;FMTTYPE=image/jpeg:https://downtowndayton.org/wp-content/uploads/2026/04/euphregenia.jpg
END:VEVENT
BEGIN:VEVENT
DTSTART;TZID=America/New_York:20260508T200000
DTEND;TZID=America/New_York:20260508T200000
DTSTAMP:20260420T195949
CREATED:20260420T190230Z
LAST-MODIFIED:20260420T190230Z
UID:10055933-1778270400-1778270400@downtowndayton.org
SUMMARY:Mrs. Doubtfire
DESCRIPTION:Everyone’s favorite Scottish nanny is headed to Dayton in this internationally acclaimed hit musical critics call “wonderful\, heart-warming\, and laugh-out-loud funny” (Manchester Evening News) and “a feel-good\, family-friendly comedy that delivers” (The Hollywood Reporter). Based on the beloved film\, MRS. DOUBTFIRE tells the hysterical and heartfelt story of an out-of-work actor who will do anything for his kids. It’s “the lovable\, big-hearted musical comedy we need right now\,” raves the Chicago Tribune – one that proves we’re better together.
URL:https://downtowndayton.org/event/mrs-doubtfire/2026-05-08/
LOCATION:The Benjamin & Marian Schuster Performing Arts Center\, 1 West Second Street\, Dayton\, OH\, 45402
ATTACH;FMTTYPE=image/jpeg:https://downtowndayton.org/wp-content/uploads/2026/04/euphregenia.jpg
END:VEVENT
BEGIN:VEVENT
DTSTART;TZID=America/New_York:20260509T140000
DTEND;TZID=America/New_York:20260509T140000
DTSTAMP:20260420T195949
CREATED:20260420T190230Z
LAST-MODIFIED:20260420T190230Z
UID:10055934-1778335200-1778335200@downtowndayton.org
SUMMARY:Mrs. Doubtfire
DESCRIPTION:Everyone’s favorite Scottish nanny is headed to Dayton in this internationally acclaimed hit musical critics call “wonderful\, heart-warming\, and laugh-out-loud funny” (Manchester Evening News) and “a feel-good\, family-friendly comedy that delivers” (The Hollywood Reporter). Based on the beloved film\, MRS. DOUBTFIRE tells the hysterical and heartfelt story of an out-of-work actor who will do anything for his kids. It’s “the lovable\, big-hearted musical comedy we need right now\,” raves the Chicago Tribune – one that proves we’re better together.
URL:https://downtowndayton.org/event/mrs-doubtfire/2026-05-09/1/
LOCATION:The Benjamin & Marian Schuster Performing Arts Center\, 1 West Second Street\, Dayton\, OH\, 45402
ATTACH;FMTTYPE=image/jpeg:https://downtowndayton.org/wp-content/uploads/2026/04/euphregenia.jpg
END:VEVENT
BEGIN:VEVENT
DTSTART;TZID=America/New_York:20260509T200000
DTEND;TZID=America/New_York:20260509T200000
DTSTAMP:20260420T195949
CREATED:20260420T190230Z
LAST-MODIFIED:20260420T190230Z
UID:10055935-1778356800-1778356800@downtowndayton.org
SUMMARY:Mrs. Doubtfire
DESCRIPTION:Everyone’s favorite Scottish nanny is headed to Dayton in this internationally acclaimed hit musical critics call “wonderful\, heart-warming\, and laugh-out-loud funny” (Manchester Evening News) and “a feel-good\, family-friendly comedy that delivers” (The Hollywood Reporter). Based on the beloved film\, MRS. DOUBTFIRE tells the hysterical and heartfelt story of an out-of-work actor who will do anything for his kids. It’s “the lovable\, big-hearted musical comedy we need right now\,” raves the Chicago Tribune – one that proves we’re better together.
URL:https://downtowndayton.org/event/mrs-doubtfire/2026-05-09/2/
LOCATION:The Benjamin & Marian Schuster Performing Arts Center\, 1 West Second Street\, Dayton\, OH\, 45402
ATTACH;FMTTYPE=image/jpeg:https://downtowndayton.org/wp-content/uploads/2026/04/euphregenia.jpg
END:VEVENT
BEGIN:VEVENT
DTSTART;TZID=America/New_York:20260510T130000
DTEND;TZID=America/New_York:20260510T130000
DTSTAMP:20260420T195949
CREATED:20260420T190230Z
LAST-MODIFIED:20260420T190230Z
UID:10055936-1778418000-1778418000@downtowndayton.org
SUMMARY:Mrs. Doubtfire
DESCRIPTION:Everyone’s favorite Scottish nanny is headed to Dayton in this internationally acclaimed hit musical critics call “wonderful\, heart-warming\, and laugh-out-loud funny” (Manchester Evening News) and “a feel-good\, family-friendly comedy that delivers” (The Hollywood Reporter). Based on the beloved film\, MRS. DOUBTFIRE tells the hysterical and heartfelt story of an out-of-work actor who will do anything for his kids. It’s “the lovable\, big-hearted musical comedy we need right now\,” raves the Chicago Tribune – one that proves we’re better together.
URL:https://downtowndayton.org/event/mrs-doubtfire/2026-05-10/1/
LOCATION:The Benjamin & Marian Schuster Performing Arts Center\, 1 West Second Street\, Dayton\, OH\, 45402
ATTACH;FMTTYPE=image/jpeg:https://downtowndayton.org/wp-content/uploads/2026/04/euphregenia.jpg
END:VEVENT
BEGIN:VEVENT
DTSTART;TZID=America/New_York:20260510T183000
DTEND;TZID=America/New_York:20260510T183000
DTSTAMP:20260420T195949
CREATED:20260420T190230Z
LAST-MODIFIED:20260420T190230Z
UID:10055937-1778437800-1778437800@downtowndayton.org
SUMMARY:Mrs. Doubtfire
DESCRIPTION:Everyone’s favorite Scottish nanny is headed to Dayton in this internationally acclaimed hit musical critics call “wonderful\, heart-warming\, and laugh-out-loud funny” (Manchester Evening News) and “a feel-good\, family-friendly comedy that delivers” (The Hollywood Reporter). Based on the beloved film\, MRS. DOUBTFIRE tells the hysterical and heartfelt story of an out-of-work actor who will do anything for his kids. It’s “the lovable\, big-hearted musical comedy we need right now\,” raves the Chicago Tribune – one that proves we’re better together.
URL:https://downtowndayton.org/event/mrs-doubtfire/2026-05-10/2/
LOCATION:The Benjamin & Marian Schuster Performing Arts Center\, 1 West Second Street\, Dayton\, OH\, 45402
ATTACH;FMTTYPE=image/jpeg:https://downtowndayton.org/wp-content/uploads/2026/04/euphregenia.jpg
END:VEVENT
END:VCALENDAR