BEGIN:VCALENDAR
VERSION:2.0
PRODID:-//Downtown Dayton Partnership - ECPv6.8.1//NONSGML v1.0//EN
CALSCALE:GREGORIAN
METHOD:PUBLISH
X-ORIGINAL-URL:https://downtowndayton.org
X-WR-CALDESC:Events for Downtown Dayton Partnership
REFRESH-INTERVAL;VALUE=DURATION:PT1H
X-Robots-Tag:noindex
X-PUBLISHED-TTL:PT1H
BEGIN:VTIMEZONE
TZID:America/New_York
BEGIN:DAYLIGHT
TZOFFSETFROM:-0500
TZOFFSETTO:-0400
TZNAME:EDT
DTSTART:20260308T070000
END:DAYLIGHT
BEGIN:STANDARD
TZOFFSETFROM:-0400
TZOFFSETTO:-0500
TZNAME:EST
DTSTART:20261101T060000
END:STANDARD
END:VTIMEZONE
BEGIN:VEVENT
DTSTART;TZID=America/New_York:20260504T180000
DTEND;TZID=America/New_York:20260504T193000
DTSTAMP:20260420T170936
CREATED:20260420T182021Z
LAST-MODIFIED:20260420T182418Z
UID:10055697-1777917600-1777923000@downtowndayton.org
SUMMARY:Community Fitness: Bootcamp
DESCRIPTION:Join The Unit for an exciting bootcamp workout that will take you through RiverScape in a whole new way. Whether you’re running the stairs\, doing push ups near the reflecting pools\, or stretching along the levee\, this effective workout will keep you moving. Combined with the uplifting support of the community members that make up The Unit\, this is a workout you will want to make part of your weekly routine. All fitness levels welcome and encouraged!
URL:https://downtowndayton.org/event/community-fitness-bootcamp-2/2026-05-04/
LOCATION:RiverScape MetroPark\, 237 E Monument Ave\, Dayton\, OH\, 45402\, United States
ATTACH;FMTTYPE=image/jpeg:https://downtowndayton.org/wp-content/uploads/2026/04/657515356_1352561133570193_8764161482151399667_n.jpg
END:VEVENT
BEGIN:VEVENT
DTSTART;TZID=America/New_York:20260506T180000
DTEND;TZID=America/New_York:20260506T193000
DTSTAMP:20260420T170936
CREATED:20260420T182021Z
LAST-MODIFIED:20260420T182418Z
UID:10055698-1778090400-1778095800@downtowndayton.org
SUMMARY:Community Fitness: Bootcamp
DESCRIPTION:Join The Unit for an exciting bootcamp workout that will take you through RiverScape in a whole new way. Whether you’re running the stairs\, doing push ups near the reflecting pools\, or stretching along the levee\, this effective workout will keep you moving. Combined with the uplifting support of the community members that make up The Unit\, this is a workout you will want to make part of your weekly routine. All fitness levels welcome and encouraged!
URL:https://downtowndayton.org/event/community-fitness-bootcamp-2/2026-05-06/
LOCATION:RiverScape MetroPark\, 237 E Monument Ave\, Dayton\, OH\, 45402\, United States
ATTACH;FMTTYPE=image/jpeg:https://downtowndayton.org/wp-content/uploads/2026/04/657515356_1352561133570193_8764161482151399667_n.jpg
END:VEVENT
BEGIN:VEVENT
DTSTART;TZID=America/New_York:20260511T180000
DTEND;TZID=America/New_York:20260511T193000
DTSTAMP:20260420T170936
CREATED:20260420T182021Z
LAST-MODIFIED:20260420T182418Z
UID:10055699-1778522400-1778527800@downtowndayton.org
SUMMARY:Community Fitness: Bootcamp
DESCRIPTION:Join The Unit for an exciting bootcamp workout that will take you through RiverScape in a whole new way. Whether you’re running the stairs\, doing push ups near the reflecting pools\, or stretching along the levee\, this effective workout will keep you moving. Combined with the uplifting support of the community members that make up The Unit\, this is a workout you will want to make part of your weekly routine. All fitness levels welcome and encouraged!
URL:https://downtowndayton.org/event/community-fitness-bootcamp-2/2026-05-11/
LOCATION:RiverScape MetroPark\, 237 E Monument Ave\, Dayton\, OH\, 45402\, United States
ATTACH;FMTTYPE=image/jpeg:https://downtowndayton.org/wp-content/uploads/2026/04/657515356_1352561133570193_8764161482151399667_n.jpg
END:VEVENT
BEGIN:VEVENT
DTSTART;TZID=America/New_York:20260513T180000
DTEND;TZID=America/New_York:20260513T193000
DTSTAMP:20260420T170936
CREATED:20260420T182021Z
LAST-MODIFIED:20260420T182418Z
UID:10055700-1778695200-1778700600@downtowndayton.org
SUMMARY:Community Fitness: Bootcamp
DESCRIPTION:Join The Unit for an exciting bootcamp workout that will take you through RiverScape in a whole new way. Whether you’re running the stairs\, doing push ups near the reflecting pools\, or stretching along the levee\, this effective workout will keep you moving. Combined with the uplifting support of the community members that make up The Unit\, this is a workout you will want to make part of your weekly routine. All fitness levels welcome and encouraged!
URL:https://downtowndayton.org/event/community-fitness-bootcamp-2/2026-05-13/
LOCATION:RiverScape MetroPark\, 237 E Monument Ave\, Dayton\, OH\, 45402\, United States
ATTACH;FMTTYPE=image/jpeg:https://downtowndayton.org/wp-content/uploads/2026/04/657515356_1352561133570193_8764161482151399667_n.jpg
END:VEVENT
BEGIN:VEVENT
DTSTART;TZID=America/New_York:20260518T180000
DTEND;TZID=America/New_York:20260518T193000
DTSTAMP:20260420T170936
CREATED:20260420T182021Z
LAST-MODIFIED:20260420T182418Z
UID:10055701-1779127200-1779132600@downtowndayton.org
SUMMARY:Community Fitness: Bootcamp
DESCRIPTION:Join The Unit for an exciting bootcamp workout that will take you through RiverScape in a whole new way. Whether you’re running the stairs\, doing push ups near the reflecting pools\, or stretching along the levee\, this effective workout will keep you moving. Combined with the uplifting support of the community members that make up The Unit\, this is a workout you will want to make part of your weekly routine. All fitness levels welcome and encouraged!
URL:https://downtowndayton.org/event/community-fitness-bootcamp-2/2026-05-18/
LOCATION:RiverScape MetroPark\, 237 E Monument Ave\, Dayton\, OH\, 45402\, United States
ATTACH;FMTTYPE=image/jpeg:https://downtowndayton.org/wp-content/uploads/2026/04/657515356_1352561133570193_8764161482151399667_n.jpg
END:VEVENT
BEGIN:VEVENT
DTSTART;TZID=America/New_York:20260520T180000
DTEND;TZID=America/New_York:20260520T193000
DTSTAMP:20260420T170936
CREATED:20260420T182021Z
LAST-MODIFIED:20260420T182418Z
UID:10055702-1779300000-1779305400@downtowndayton.org
SUMMARY:Community Fitness: Bootcamp
DESCRIPTION:Join The Unit for an exciting bootcamp workout that will take you through RiverScape in a whole new way. Whether you’re running the stairs\, doing push ups near the reflecting pools\, or stretching along the levee\, this effective workout will keep you moving. Combined with the uplifting support of the community members that make up The Unit\, this is a workout you will want to make part of your weekly routine. All fitness levels welcome and encouraged!
URL:https://downtowndayton.org/event/community-fitness-bootcamp-2/2026-05-20/
LOCATION:RiverScape MetroPark\, 237 E Monument Ave\, Dayton\, OH\, 45402\, United States
ATTACH;FMTTYPE=image/jpeg:https://downtowndayton.org/wp-content/uploads/2026/04/657515356_1352561133570193_8764161482151399667_n.jpg
END:VEVENT
BEGIN:VEVENT
DTSTART;TZID=America/New_York:20260527T180000
DTEND;TZID=America/New_York:20260527T193000
DTSTAMP:20260420T170936
CREATED:20260420T182021Z
LAST-MODIFIED:20260420T182418Z
UID:10055703-1779904800-1779910200@downtowndayton.org
SUMMARY:Community Fitness: Bootcamp
DESCRIPTION:Join The Unit for an exciting bootcamp workout that will take you through RiverScape in a whole new way. Whether you’re running the stairs\, doing push ups near the reflecting pools\, or stretching along the levee\, this effective workout will keep you moving. Combined with the uplifting support of the community members that make up The Unit\, this is a workout you will want to make part of your weekly routine. All fitness levels welcome and encouraged!
URL:https://downtowndayton.org/event/community-fitness-bootcamp-2/2026-05-27/
LOCATION:RiverScape MetroPark\, 237 E Monument Ave\, Dayton\, OH\, 45402\, United States
ATTACH;FMTTYPE=image/jpeg:https://downtowndayton.org/wp-content/uploads/2026/04/657515356_1352561133570193_8764161482151399667_n.jpg
END:VEVENT
BEGIN:VEVENT
DTSTART;TZID=America/New_York:20260601T180000
DTEND;TZID=America/New_York:20260601T193000
DTSTAMP:20260420T170936
CREATED:20260420T182021Z
LAST-MODIFIED:20260420T182418Z
UID:10055704-1780336800-1780342200@downtowndayton.org
SUMMARY:Community Fitness: Bootcamp
DESCRIPTION:Join The Unit for an exciting bootcamp workout that will take you through RiverScape in a whole new way. Whether you’re running the stairs\, doing push ups near the reflecting pools\, or stretching along the levee\, this effective workout will keep you moving. Combined with the uplifting support of the community members that make up The Unit\, this is a workout you will want to make part of your weekly routine. All fitness levels welcome and encouraged!
URL:https://downtowndayton.org/event/community-fitness-bootcamp-2/2026-06-01/
LOCATION:RiverScape MetroPark\, 237 E Monument Ave\, Dayton\, OH\, 45402\, United States
ATTACH;FMTTYPE=image/jpeg:https://downtowndayton.org/wp-content/uploads/2026/04/657515356_1352561133570193_8764161482151399667_n.jpg
END:VEVENT
BEGIN:VEVENT
DTSTART;TZID=America/New_York:20260603T180000
DTEND;TZID=America/New_York:20260603T193000
DTSTAMP:20260420T170936
CREATED:20260420T182021Z
LAST-MODIFIED:20260420T182418Z
UID:10055705-1780509600-1780515000@downtowndayton.org
SUMMARY:Community Fitness: Bootcamp
DESCRIPTION:Join The Unit for an exciting bootcamp workout that will take you through RiverScape in a whole new way. Whether you’re running the stairs\, doing push ups near the reflecting pools\, or stretching along the levee\, this effective workout will keep you moving. Combined with the uplifting support of the community members that make up The Unit\, this is a workout you will want to make part of your weekly routine. All fitness levels welcome and encouraged!
URL:https://downtowndayton.org/event/community-fitness-bootcamp-2/2026-06-03/
LOCATION:RiverScape MetroPark\, 237 E Monument Ave\, Dayton\, OH\, 45402\, United States
ATTACH;FMTTYPE=image/jpeg:https://downtowndayton.org/wp-content/uploads/2026/04/657515356_1352561133570193_8764161482151399667_n.jpg
END:VEVENT
BEGIN:VEVENT
DTSTART;TZID=America/New_York:20260608T180000
DTEND;TZID=America/New_York:20260608T193000
DTSTAMP:20260420T170936
CREATED:20260420T182021Z
LAST-MODIFIED:20260420T182418Z
UID:10055706-1780941600-1780947000@downtowndayton.org
SUMMARY:Community Fitness: Bootcamp
DESCRIPTION:Join The Unit for an exciting bootcamp workout that will take you through RiverScape in a whole new way. Whether you’re running the stairs\, doing push ups near the reflecting pools\, or stretching along the levee\, this effective workout will keep you moving. Combined with the uplifting support of the community members that make up The Unit\, this is a workout you will want to make part of your weekly routine. All fitness levels welcome and encouraged!
URL:https://downtowndayton.org/event/community-fitness-bootcamp-2/2026-06-08/
LOCATION:RiverScape MetroPark\, 237 E Monument Ave\, Dayton\, OH\, 45402\, United States
ATTACH;FMTTYPE=image/jpeg:https://downtowndayton.org/wp-content/uploads/2026/04/657515356_1352561133570193_8764161482151399667_n.jpg
END:VEVENT
BEGIN:VEVENT
DTSTART;TZID=America/New_York:20260610T180000
DTEND;TZID=America/New_York:20260610T193000
DTSTAMP:20260420T170936
CREATED:20260420T182021Z
LAST-MODIFIED:20260420T182418Z
UID:10055707-1781114400-1781119800@downtowndayton.org
SUMMARY:Community Fitness: Bootcamp
DESCRIPTION:Join The Unit for an exciting bootcamp workout that will take you through RiverScape in a whole new way. Whether you’re running the stairs\, doing push ups near the reflecting pools\, or stretching along the levee\, this effective workout will keep you moving. Combined with the uplifting support of the community members that make up The Unit\, this is a workout you will want to make part of your weekly routine. All fitness levels welcome and encouraged!
URL:https://downtowndayton.org/event/community-fitness-bootcamp-2/2026-06-10/
LOCATION:RiverScape MetroPark\, 237 E Monument Ave\, Dayton\, OH\, 45402\, United States
ATTACH;FMTTYPE=image/jpeg:https://downtowndayton.org/wp-content/uploads/2026/04/657515356_1352561133570193_8764161482151399667_n.jpg
END:VEVENT
BEGIN:VEVENT
DTSTART;TZID=America/New_York:20260615T180000
DTEND;TZID=America/New_York:20260615T193000
DTSTAMP:20260420T170936
CREATED:20260420T182021Z
LAST-MODIFIED:20260420T182418Z
UID:10055708-1781546400-1781551800@downtowndayton.org
SUMMARY:Community Fitness: Bootcamp
DESCRIPTION:Join The Unit for an exciting bootcamp workout that will take you through RiverScape in a whole new way. Whether you’re running the stairs\, doing push ups near the reflecting pools\, or stretching along the levee\, this effective workout will keep you moving. Combined with the uplifting support of the community members that make up The Unit\, this is a workout you will want to make part of your weekly routine. All fitness levels welcome and encouraged!
URL:https://downtowndayton.org/event/community-fitness-bootcamp-2/2026-06-15/
LOCATION:RiverScape MetroPark\, 237 E Monument Ave\, Dayton\, OH\, 45402\, United States
ATTACH;FMTTYPE=image/jpeg:https://downtowndayton.org/wp-content/uploads/2026/04/657515356_1352561133570193_8764161482151399667_n.jpg
END:VEVENT
BEGIN:VEVENT
DTSTART;TZID=America/New_York:20260617T180000
DTEND;TZID=America/New_York:20260617T193000
DTSTAMP:20260420T170936
CREATED:20260420T182021Z
LAST-MODIFIED:20260420T182418Z
UID:10055709-1781719200-1781724600@downtowndayton.org
SUMMARY:Community Fitness: Bootcamp
DESCRIPTION:Join The Unit for an exciting bootcamp workout that will take you through RiverScape in a whole new way. Whether you’re running the stairs\, doing push ups near the reflecting pools\, or stretching along the levee\, this effective workout will keep you moving. Combined with the uplifting support of the community members that make up The Unit\, this is a workout you will want to make part of your weekly routine. All fitness levels welcome and encouraged!
URL:https://downtowndayton.org/event/community-fitness-bootcamp-2/2026-06-17/
LOCATION:RiverScape MetroPark\, 237 E Monument Ave\, Dayton\, OH\, 45402\, United States
ATTACH;FMTTYPE=image/jpeg:https://downtowndayton.org/wp-content/uploads/2026/04/657515356_1352561133570193_8764161482151399667_n.jpg
END:VEVENT
BEGIN:VEVENT
DTSTART;TZID=America/New_York:20260622T180000
DTEND;TZID=America/New_York:20260622T193000
DTSTAMP:20260420T170936
CREATED:20260420T182021Z
LAST-MODIFIED:20260420T182418Z
UID:10055710-1782151200-1782156600@downtowndayton.org
SUMMARY:Community Fitness: Bootcamp
DESCRIPTION:Join The Unit for an exciting bootcamp workout that will take you through RiverScape in a whole new way. Whether you’re running the stairs\, doing push ups near the reflecting pools\, or stretching along the levee\, this effective workout will keep you moving. Combined with the uplifting support of the community members that make up The Unit\, this is a workout you will want to make part of your weekly routine. All fitness levels welcome and encouraged!
URL:https://downtowndayton.org/event/community-fitness-bootcamp-2/2026-06-22/
LOCATION:RiverScape MetroPark\, 237 E Monument Ave\, Dayton\, OH\, 45402\, United States
ATTACH;FMTTYPE=image/jpeg:https://downtowndayton.org/wp-content/uploads/2026/04/657515356_1352561133570193_8764161482151399667_n.jpg
END:VEVENT
BEGIN:VEVENT
DTSTART;TZID=America/New_York:20260624T180000
DTEND;TZID=America/New_York:20260624T193000
DTSTAMP:20260420T170936
CREATED:20260420T182021Z
LAST-MODIFIED:20260420T182418Z
UID:10055711-1782324000-1782329400@downtowndayton.org
SUMMARY:Community Fitness: Bootcamp
DESCRIPTION:Join The Unit for an exciting bootcamp workout that will take you through RiverScape in a whole new way. Whether you’re running the stairs\, doing push ups near the reflecting pools\, or stretching along the levee\, this effective workout will keep you moving. Combined with the uplifting support of the community members that make up The Unit\, this is a workout you will want to make part of your weekly routine. All fitness levels welcome and encouraged!
URL:https://downtowndayton.org/event/community-fitness-bootcamp-2/2026-06-24/
LOCATION:RiverScape MetroPark\, 237 E Monument Ave\, Dayton\, OH\, 45402\, United States
ATTACH;FMTTYPE=image/jpeg:https://downtowndayton.org/wp-content/uploads/2026/04/657515356_1352561133570193_8764161482151399667_n.jpg
END:VEVENT
BEGIN:VEVENT
DTSTART;TZID=America/New_York:20260629T180000
DTEND;TZID=America/New_York:20260629T193000
DTSTAMP:20260420T170936
CREATED:20260420T182021Z
LAST-MODIFIED:20260420T182418Z
UID:10055712-1782756000-1782761400@downtowndayton.org
SUMMARY:Community Fitness: Bootcamp
DESCRIPTION:Join The Unit for an exciting bootcamp workout that will take you through RiverScape in a whole new way. Whether you’re running the stairs\, doing push ups near the reflecting pools\, or stretching along the levee\, this effective workout will keep you moving. Combined with the uplifting support of the community members that make up The Unit\, this is a workout you will want to make part of your weekly routine. All fitness levels welcome and encouraged!
URL:https://downtowndayton.org/event/community-fitness-bootcamp-2/2026-06-29/
LOCATION:RiverScape MetroPark\, 237 E Monument Ave\, Dayton\, OH\, 45402\, United States
ATTACH;FMTTYPE=image/jpeg:https://downtowndayton.org/wp-content/uploads/2026/04/657515356_1352561133570193_8764161482151399667_n.jpg
END:VEVENT
BEGIN:VEVENT
DTSTART;TZID=America/New_York:20260701T180000
DTEND;TZID=America/New_York:20260701T193000
DTSTAMP:20260420T170936
CREATED:20260420T182021Z
LAST-MODIFIED:20260420T182418Z
UID:10055713-1782928800-1782934200@downtowndayton.org
SUMMARY:Community Fitness: Bootcamp
DESCRIPTION:Join The Unit for an exciting bootcamp workout that will take you through RiverScape in a whole new way. Whether you’re running the stairs\, doing push ups near the reflecting pools\, or stretching along the levee\, this effective workout will keep you moving. Combined with the uplifting support of the community members that make up The Unit\, this is a workout you will want to make part of your weekly routine. All fitness levels welcome and encouraged!
URL:https://downtowndayton.org/event/community-fitness-bootcamp-2/2026-07-01/
LOCATION:RiverScape MetroPark\, 237 E Monument Ave\, Dayton\, OH\, 45402\, United States
ATTACH;FMTTYPE=image/jpeg:https://downtowndayton.org/wp-content/uploads/2026/04/657515356_1352561133570193_8764161482151399667_n.jpg
END:VEVENT
BEGIN:VEVENT
DTSTART;TZID=America/New_York:20260706T180000
DTEND;TZID=America/New_York:20260706T193000
DTSTAMP:20260420T170936
CREATED:20260420T182021Z
LAST-MODIFIED:20260420T182418Z
UID:10055714-1783360800-1783366200@downtowndayton.org
SUMMARY:Community Fitness: Bootcamp
DESCRIPTION:Join The Unit for an exciting bootcamp workout that will take you through RiverScape in a whole new way. Whether you’re running the stairs\, doing push ups near the reflecting pools\, or stretching along the levee\, this effective workout will keep you moving. Combined with the uplifting support of the community members that make up The Unit\, this is a workout you will want to make part of your weekly routine. All fitness levels welcome and encouraged!
URL:https://downtowndayton.org/event/community-fitness-bootcamp-2/2026-07-06/
LOCATION:RiverScape MetroPark\, 237 E Monument Ave\, Dayton\, OH\, 45402\, United States
ATTACH;FMTTYPE=image/jpeg:https://downtowndayton.org/wp-content/uploads/2026/04/657515356_1352561133570193_8764161482151399667_n.jpg
END:VEVENT
BEGIN:VEVENT
DTSTART;TZID=America/New_York:20260708T180000
DTEND;TZID=America/New_York:20260708T193000
DTSTAMP:20260420T170936
CREATED:20260420T182021Z
LAST-MODIFIED:20260420T182418Z
UID:10055715-1783533600-1783539000@downtowndayton.org
SUMMARY:Community Fitness: Bootcamp
DESCRIPTION:Join The Unit for an exciting bootcamp workout that will take you through RiverScape in a whole new way. Whether you’re running the stairs\, doing push ups near the reflecting pools\, or stretching along the levee\, this effective workout will keep you moving. Combined with the uplifting support of the community members that make up The Unit\, this is a workout you will want to make part of your weekly routine. All fitness levels welcome and encouraged!
URL:https://downtowndayton.org/event/community-fitness-bootcamp-2/2026-07-08/
LOCATION:RiverScape MetroPark\, 237 E Monument Ave\, Dayton\, OH\, 45402\, United States
ATTACH;FMTTYPE=image/jpeg:https://downtowndayton.org/wp-content/uploads/2026/04/657515356_1352561133570193_8764161482151399667_n.jpg
END:VEVENT
BEGIN:VEVENT
DTSTART;TZID=America/New_York:20260713T180000
DTEND;TZID=America/New_York:20260713T193000
DTSTAMP:20260420T170936
CREATED:20260420T182021Z
LAST-MODIFIED:20260420T182418Z
UID:10055716-1783965600-1783971000@downtowndayton.org
SUMMARY:Community Fitness: Bootcamp
DESCRIPTION:Join The Unit for an exciting bootcamp workout that will take you through RiverScape in a whole new way. Whether you’re running the stairs\, doing push ups near the reflecting pools\, or stretching along the levee\, this effective workout will keep you moving. Combined with the uplifting support of the community members that make up The Unit\, this is a workout you will want to make part of your weekly routine. All fitness levels welcome and encouraged!
URL:https://downtowndayton.org/event/community-fitness-bootcamp-2/2026-07-13/
LOCATION:RiverScape MetroPark\, 237 E Monument Ave\, Dayton\, OH\, 45402\, United States
ATTACH;FMTTYPE=image/jpeg:https://downtowndayton.org/wp-content/uploads/2026/04/657515356_1352561133570193_8764161482151399667_n.jpg
END:VEVENT
BEGIN:VEVENT
DTSTART;TZID=America/New_York:20260715T180000
DTEND;TZID=America/New_York:20260715T193000
DTSTAMP:20260420T170936
CREATED:20260420T182021Z
LAST-MODIFIED:20260420T182418Z
UID:10055717-1784138400-1784143800@downtowndayton.org
SUMMARY:Community Fitness: Bootcamp
DESCRIPTION:Join The Unit for an exciting bootcamp workout that will take you through RiverScape in a whole new way. Whether you’re running the stairs\, doing push ups near the reflecting pools\, or stretching along the levee\, this effective workout will keep you moving. Combined with the uplifting support of the community members that make up The Unit\, this is a workout you will want to make part of your weekly routine. All fitness levels welcome and encouraged!
URL:https://downtowndayton.org/event/community-fitness-bootcamp-2/2026-07-15/
LOCATION:RiverScape MetroPark\, 237 E Monument Ave\, Dayton\, OH\, 45402\, United States
ATTACH;FMTTYPE=image/jpeg:https://downtowndayton.org/wp-content/uploads/2026/04/657515356_1352561133570193_8764161482151399667_n.jpg
END:VEVENT
BEGIN:VEVENT
DTSTART;TZID=America/New_York:20260720T180000
DTEND;TZID=America/New_York:20260720T193000
DTSTAMP:20260420T170936
CREATED:20260420T182021Z
LAST-MODIFIED:20260420T182418Z
UID:10055718-1784570400-1784575800@downtowndayton.org
SUMMARY:Community Fitness: Bootcamp
DESCRIPTION:Join The Unit for an exciting bootcamp workout that will take you through RiverScape in a whole new way. Whether you’re running the stairs\, doing push ups near the reflecting pools\, or stretching along the levee\, this effective workout will keep you moving. Combined with the uplifting support of the community members that make up The Unit\, this is a workout you will want to make part of your weekly routine. All fitness levels welcome and encouraged!
URL:https://downtowndayton.org/event/community-fitness-bootcamp-2/2026-07-20/
LOCATION:RiverScape MetroPark\, 237 E Monument Ave\, Dayton\, OH\, 45402\, United States
ATTACH;FMTTYPE=image/jpeg:https://downtowndayton.org/wp-content/uploads/2026/04/657515356_1352561133570193_8764161482151399667_n.jpg
END:VEVENT
BEGIN:VEVENT
DTSTART;TZID=America/New_York:20260722T180000
DTEND;TZID=America/New_York:20260722T193000
DTSTAMP:20260420T170936
CREATED:20260420T182021Z
LAST-MODIFIED:20260420T182418Z
UID:10055719-1784743200-1784748600@downtowndayton.org
SUMMARY:Community Fitness: Bootcamp
DESCRIPTION:Join The Unit for an exciting bootcamp workout that will take you through RiverScape in a whole new way. Whether you’re running the stairs\, doing push ups near the reflecting pools\, or stretching along the levee\, this effective workout will keep you moving. Combined with the uplifting support of the community members that make up The Unit\, this is a workout you will want to make part of your weekly routine. All fitness levels welcome and encouraged!
URL:https://downtowndayton.org/event/community-fitness-bootcamp-2/2026-07-22/
LOCATION:RiverScape MetroPark\, 237 E Monument Ave\, Dayton\, OH\, 45402\, United States
ATTACH;FMTTYPE=image/jpeg:https://downtowndayton.org/wp-content/uploads/2026/04/657515356_1352561133570193_8764161482151399667_n.jpg
END:VEVENT
BEGIN:VEVENT
DTSTART;TZID=America/New_York:20260727T180000
DTEND;TZID=America/New_York:20260727T193000
DTSTAMP:20260420T170936
CREATED:20260420T182021Z
LAST-MODIFIED:20260420T182418Z
UID:10055720-1785175200-1785180600@downtowndayton.org
SUMMARY:Community Fitness: Bootcamp
DESCRIPTION:Join The Unit for an exciting bootcamp workout that will take you through RiverScape in a whole new way. Whether you’re running the stairs\, doing push ups near the reflecting pools\, or stretching along the levee\, this effective workout will keep you moving. Combined with the uplifting support of the community members that make up The Unit\, this is a workout you will want to make part of your weekly routine. All fitness levels welcome and encouraged!
URL:https://downtowndayton.org/event/community-fitness-bootcamp-2/2026-07-27/
LOCATION:RiverScape MetroPark\, 237 E Monument Ave\, Dayton\, OH\, 45402\, United States
ATTACH;FMTTYPE=image/jpeg:https://downtowndayton.org/wp-content/uploads/2026/04/657515356_1352561133570193_8764161482151399667_n.jpg
END:VEVENT
BEGIN:VEVENT
DTSTART;TZID=America/New_York:20260729T180000
DTEND;TZID=America/New_York:20260729T193000
DTSTAMP:20260420T170936
CREATED:20260420T182021Z
LAST-MODIFIED:20260420T182418Z
UID:10055721-1785348000-1785353400@downtowndayton.org
SUMMARY:Community Fitness: Bootcamp
DESCRIPTION:Join The Unit for an exciting bootcamp workout that will take you through RiverScape in a whole new way. Whether you’re running the stairs\, doing push ups near the reflecting pools\, or stretching along the levee\, this effective workout will keep you moving. Combined with the uplifting support of the community members that make up The Unit\, this is a workout you will want to make part of your weekly routine. All fitness levels welcome and encouraged!
URL:https://downtowndayton.org/event/community-fitness-bootcamp-2/2026-07-29/
LOCATION:RiverScape MetroPark\, 237 E Monument Ave\, Dayton\, OH\, 45402\, United States
ATTACH;FMTTYPE=image/jpeg:https://downtowndayton.org/wp-content/uploads/2026/04/657515356_1352561133570193_8764161482151399667_n.jpg
END:VEVENT
END:VCALENDAR