BEGIN:VCALENDAR
VERSION:2.0
PRODID:-//Downtown Dayton Partnership - ECPv6.8.1//NONSGML v1.0//EN
CALSCALE:GREGORIAN
METHOD:PUBLISH
X-ORIGINAL-URL:https://downtowndayton.org
X-WR-CALDESC:Events for Downtown Dayton Partnership
REFRESH-INTERVAL;VALUE=DURATION:PT1H
X-Robots-Tag:noindex
X-PUBLISHED-TTL:PT1H
BEGIN:VTIMEZONE
TZID:America/New_York
BEGIN:DAYLIGHT
TZOFFSETFROM:-0500
TZOFFSETTO:-0400
TZNAME:EDT
DTSTART:20260308T070000
END:DAYLIGHT
BEGIN:STANDARD
TZOFFSETFROM:-0400
TZOFFSETTO:-0500
TZNAME:EST
DTSTART:20261101T060000
END:STANDARD
END:VTIMEZONE
BEGIN:VEVENT
DTSTART;TZID=America/New_York:20260504T193000
DTEND;TZID=America/New_York:20260504T203000
DTSTAMP:20260420T170938
CREATED:20260420T182637Z
LAST-MODIFIED:20260420T182637Z
UID:10055838-1777923000-1777926600@downtowndayton.org
SUMMARY:Community Fitness: Trailblazers HIIT & Run
DESCRIPTION:Summer activities that make your body happy and healthy. Led by Fire Flame Fitness\, this HIIT workout class is for everyone\, including beginners and low impact participants. Come as you are! Be prepared to walk/jog after class.
URL:https://downtowndayton.org/event/community-fitness-trailblazers-hiit-run/2026-05-04/
LOCATION:RiverScape MetroPark\, 237 E Monument Ave\, Dayton\, OH\, 45402\, United States
ATTACH;FMTTYPE=image/jpeg:https://downtowndayton.org/wp-content/uploads/2026/04/663107436_1363360669156906_1404641221328762545_n.jpg
END:VEVENT
BEGIN:VEVENT
DTSTART;TZID=America/New_York:20260506T193000
DTEND;TZID=America/New_York:20260506T203000
DTSTAMP:20260420T170938
CREATED:20260420T182637Z
LAST-MODIFIED:20260420T182637Z
UID:10055839-1778095800-1778099400@downtowndayton.org
SUMMARY:Community Fitness: Trailblazers HIIT & Run
DESCRIPTION:Summer activities that make your body happy and healthy. Led by Fire Flame Fitness\, this HIIT workout class is for everyone\, including beginners and low impact participants. Come as you are! Be prepared to walk/jog after class.
URL:https://downtowndayton.org/event/community-fitness-trailblazers-hiit-run/2026-05-06/
LOCATION:RiverScape MetroPark\, 237 E Monument Ave\, Dayton\, OH\, 45402\, United States
ATTACH;FMTTYPE=image/jpeg:https://downtowndayton.org/wp-content/uploads/2026/04/663107436_1363360669156906_1404641221328762545_n.jpg
END:VEVENT
BEGIN:VEVENT
DTSTART;TZID=America/New_York:20260511T193000
DTEND;TZID=America/New_York:20260511T203000
DTSTAMP:20260420T170938
CREATED:20260420T182637Z
LAST-MODIFIED:20260420T182637Z
UID:10055840-1778527800-1778531400@downtowndayton.org
SUMMARY:Community Fitness: Trailblazers HIIT & Run
DESCRIPTION:Summer activities that make your body happy and healthy. Led by Fire Flame Fitness\, this HIIT workout class is for everyone\, including beginners and low impact participants. Come as you are! Be prepared to walk/jog after class.
URL:https://downtowndayton.org/event/community-fitness-trailblazers-hiit-run/2026-05-11/
LOCATION:RiverScape MetroPark\, 237 E Monument Ave\, Dayton\, OH\, 45402\, United States
ATTACH;FMTTYPE=image/jpeg:https://downtowndayton.org/wp-content/uploads/2026/04/663107436_1363360669156906_1404641221328762545_n.jpg
END:VEVENT
BEGIN:VEVENT
DTSTART;TZID=America/New_York:20260513T193000
DTEND;TZID=America/New_York:20260513T203000
DTSTAMP:20260420T170938
CREATED:20260420T182637Z
LAST-MODIFIED:20260420T182637Z
UID:10055841-1778700600-1778704200@downtowndayton.org
SUMMARY:Community Fitness: Trailblazers HIIT & Run
DESCRIPTION:Summer activities that make your body happy and healthy. Led by Fire Flame Fitness\, this HIIT workout class is for everyone\, including beginners and low impact participants. Come as you are! Be prepared to walk/jog after class.
URL:https://downtowndayton.org/event/community-fitness-trailblazers-hiit-run/2026-05-13/
LOCATION:RiverScape MetroPark\, 237 E Monument Ave\, Dayton\, OH\, 45402\, United States
ATTACH;FMTTYPE=image/jpeg:https://downtowndayton.org/wp-content/uploads/2026/04/663107436_1363360669156906_1404641221328762545_n.jpg
END:VEVENT
BEGIN:VEVENT
DTSTART;TZID=America/New_York:20260518T193000
DTEND;TZID=America/New_York:20260518T203000
DTSTAMP:20260420T170938
CREATED:20260420T182637Z
LAST-MODIFIED:20260420T182637Z
UID:10055842-1779132600-1779136200@downtowndayton.org
SUMMARY:Community Fitness: Trailblazers HIIT & Run
DESCRIPTION:Summer activities that make your body happy and healthy. Led by Fire Flame Fitness\, this HIIT workout class is for everyone\, including beginners and low impact participants. Come as you are! Be prepared to walk/jog after class.
URL:https://downtowndayton.org/event/community-fitness-trailblazers-hiit-run/2026-05-18/
LOCATION:RiverScape MetroPark\, 237 E Monument Ave\, Dayton\, OH\, 45402\, United States
ATTACH;FMTTYPE=image/jpeg:https://downtowndayton.org/wp-content/uploads/2026/04/663107436_1363360669156906_1404641221328762545_n.jpg
END:VEVENT
BEGIN:VEVENT
DTSTART;TZID=America/New_York:20260520T193000
DTEND;TZID=America/New_York:20260520T203000
DTSTAMP:20260420T170938
CREATED:20260420T182637Z
LAST-MODIFIED:20260420T182637Z
UID:10055843-1779305400-1779309000@downtowndayton.org
SUMMARY:Community Fitness: Trailblazers HIIT & Run
DESCRIPTION:Summer activities that make your body happy and healthy. Led by Fire Flame Fitness\, this HIIT workout class is for everyone\, including beginners and low impact participants. Come as you are! Be prepared to walk/jog after class.
URL:https://downtowndayton.org/event/community-fitness-trailblazers-hiit-run/2026-05-20/
LOCATION:RiverScape MetroPark\, 237 E Monument Ave\, Dayton\, OH\, 45402\, United States
ATTACH;FMTTYPE=image/jpeg:https://downtowndayton.org/wp-content/uploads/2026/04/663107436_1363360669156906_1404641221328762545_n.jpg
END:VEVENT
BEGIN:VEVENT
DTSTART;TZID=America/New_York:20260527T193000
DTEND;TZID=America/New_York:20260527T203000
DTSTAMP:20260420T170938
CREATED:20260420T182637Z
LAST-MODIFIED:20260420T182637Z
UID:10055844-1779910200-1779913800@downtowndayton.org
SUMMARY:Community Fitness: Trailblazers HIIT & Run
DESCRIPTION:Summer activities that make your body happy and healthy. Led by Fire Flame Fitness\, this HIIT workout class is for everyone\, including beginners and low impact participants. Come as you are! Be prepared to walk/jog after class.
URL:https://downtowndayton.org/event/community-fitness-trailblazers-hiit-run/2026-05-27/
LOCATION:RiverScape MetroPark\, 237 E Monument Ave\, Dayton\, OH\, 45402\, United States
ATTACH;FMTTYPE=image/jpeg:https://downtowndayton.org/wp-content/uploads/2026/04/663107436_1363360669156906_1404641221328762545_n.jpg
END:VEVENT
BEGIN:VEVENT
DTSTART;TZID=America/New_York:20260601T193000
DTEND;TZID=America/New_York:20260601T203000
DTSTAMP:20260420T170939
CREATED:20260420T182637Z
LAST-MODIFIED:20260420T182637Z
UID:10055845-1780342200-1780345800@downtowndayton.org
SUMMARY:Community Fitness: Trailblazers HIIT & Run
DESCRIPTION:Summer activities that make your body happy and healthy. Led by Fire Flame Fitness\, this HIIT workout class is for everyone\, including beginners and low impact participants. Come as you are! Be prepared to walk/jog after class.
URL:https://downtowndayton.org/event/community-fitness-trailblazers-hiit-run/2026-06-01/
LOCATION:RiverScape MetroPark\, 237 E Monument Ave\, Dayton\, OH\, 45402\, United States
ATTACH;FMTTYPE=image/jpeg:https://downtowndayton.org/wp-content/uploads/2026/04/663107436_1363360669156906_1404641221328762545_n.jpg
END:VEVENT
BEGIN:VEVENT
DTSTART;TZID=America/New_York:20260603T193000
DTEND;TZID=America/New_York:20260603T203000
DTSTAMP:20260420T170939
CREATED:20260420T182637Z
LAST-MODIFIED:20260420T182637Z
UID:10055846-1780515000-1780518600@downtowndayton.org
SUMMARY:Community Fitness: Trailblazers HIIT & Run
DESCRIPTION:Summer activities that make your body happy and healthy. Led by Fire Flame Fitness\, this HIIT workout class is for everyone\, including beginners and low impact participants. Come as you are! Be prepared to walk/jog after class.
URL:https://downtowndayton.org/event/community-fitness-trailblazers-hiit-run/2026-06-03/
LOCATION:RiverScape MetroPark\, 237 E Monument Ave\, Dayton\, OH\, 45402\, United States
ATTACH;FMTTYPE=image/jpeg:https://downtowndayton.org/wp-content/uploads/2026/04/663107436_1363360669156906_1404641221328762545_n.jpg
END:VEVENT
BEGIN:VEVENT
DTSTART;TZID=America/New_York:20260608T193000
DTEND;TZID=America/New_York:20260608T203000
DTSTAMP:20260420T170939
CREATED:20260420T182637Z
LAST-MODIFIED:20260420T182637Z
UID:10055847-1780947000-1780950600@downtowndayton.org
SUMMARY:Community Fitness: Trailblazers HIIT & Run
DESCRIPTION:Summer activities that make your body happy and healthy. Led by Fire Flame Fitness\, this HIIT workout class is for everyone\, including beginners and low impact participants. Come as you are! Be prepared to walk/jog after class.
URL:https://downtowndayton.org/event/community-fitness-trailblazers-hiit-run/2026-06-08/
LOCATION:RiverScape MetroPark\, 237 E Monument Ave\, Dayton\, OH\, 45402\, United States
ATTACH;FMTTYPE=image/jpeg:https://downtowndayton.org/wp-content/uploads/2026/04/663107436_1363360669156906_1404641221328762545_n.jpg
END:VEVENT
BEGIN:VEVENT
DTSTART;TZID=America/New_York:20260610T193000
DTEND;TZID=America/New_York:20260610T203000
DTSTAMP:20260420T170939
CREATED:20260420T182637Z
LAST-MODIFIED:20260420T182637Z
UID:10055848-1781119800-1781123400@downtowndayton.org
SUMMARY:Community Fitness: Trailblazers HIIT & Run
DESCRIPTION:Summer activities that make your body happy and healthy. Led by Fire Flame Fitness\, this HIIT workout class is for everyone\, including beginners and low impact participants. Come as you are! Be prepared to walk/jog after class.
URL:https://downtowndayton.org/event/community-fitness-trailblazers-hiit-run/2026-06-10/
LOCATION:RiverScape MetroPark\, 237 E Monument Ave\, Dayton\, OH\, 45402\, United States
ATTACH;FMTTYPE=image/jpeg:https://downtowndayton.org/wp-content/uploads/2026/04/663107436_1363360669156906_1404641221328762545_n.jpg
END:VEVENT
BEGIN:VEVENT
DTSTART;TZID=America/New_York:20260615T193000
DTEND;TZID=America/New_York:20260615T203000
DTSTAMP:20260420T170939
CREATED:20260420T182637Z
LAST-MODIFIED:20260420T182637Z
UID:10055849-1781551800-1781555400@downtowndayton.org
SUMMARY:Community Fitness: Trailblazers HIIT & Run
DESCRIPTION:Summer activities that make your body happy and healthy. Led by Fire Flame Fitness\, this HIIT workout class is for everyone\, including beginners and low impact participants. Come as you are! Be prepared to walk/jog after class.
URL:https://downtowndayton.org/event/community-fitness-trailblazers-hiit-run/2026-06-15/
LOCATION:RiverScape MetroPark\, 237 E Monument Ave\, Dayton\, OH\, 45402\, United States
ATTACH;FMTTYPE=image/jpeg:https://downtowndayton.org/wp-content/uploads/2026/04/663107436_1363360669156906_1404641221328762545_n.jpg
END:VEVENT
BEGIN:VEVENT
DTSTART;TZID=America/New_York:20260617T193000
DTEND;TZID=America/New_York:20260617T203000
DTSTAMP:20260420T170939
CREATED:20260420T182637Z
LAST-MODIFIED:20260420T182637Z
UID:10055850-1781724600-1781728200@downtowndayton.org
SUMMARY:Community Fitness: Trailblazers HIIT & Run
DESCRIPTION:Summer activities that make your body happy and healthy. Led by Fire Flame Fitness\, this HIIT workout class is for everyone\, including beginners and low impact participants. Come as you are! Be prepared to walk/jog after class.
URL:https://downtowndayton.org/event/community-fitness-trailblazers-hiit-run/2026-06-17/
LOCATION:RiverScape MetroPark\, 237 E Monument Ave\, Dayton\, OH\, 45402\, United States
ATTACH;FMTTYPE=image/jpeg:https://downtowndayton.org/wp-content/uploads/2026/04/663107436_1363360669156906_1404641221328762545_n.jpg
END:VEVENT
BEGIN:VEVENT
DTSTART;TZID=America/New_York:20260622T193000
DTEND;TZID=America/New_York:20260622T203000
DTSTAMP:20260420T170939
CREATED:20260420T182637Z
LAST-MODIFIED:20260420T182637Z
UID:10055851-1782156600-1782160200@downtowndayton.org
SUMMARY:Community Fitness: Trailblazers HIIT & Run
DESCRIPTION:Summer activities that make your body happy and healthy. Led by Fire Flame Fitness\, this HIIT workout class is for everyone\, including beginners and low impact participants. Come as you are! Be prepared to walk/jog after class.
URL:https://downtowndayton.org/event/community-fitness-trailblazers-hiit-run/2026-06-22/
LOCATION:RiverScape MetroPark\, 237 E Monument Ave\, Dayton\, OH\, 45402\, United States
ATTACH;FMTTYPE=image/jpeg:https://downtowndayton.org/wp-content/uploads/2026/04/663107436_1363360669156906_1404641221328762545_n.jpg
END:VEVENT
BEGIN:VEVENT
DTSTART;TZID=America/New_York:20260624T193000
DTEND;TZID=America/New_York:20260624T203000
DTSTAMP:20260420T170939
CREATED:20260420T182637Z
LAST-MODIFIED:20260420T182637Z
UID:10055852-1782329400-1782333000@downtowndayton.org
SUMMARY:Community Fitness: Trailblazers HIIT & Run
DESCRIPTION:Summer activities that make your body happy and healthy. Led by Fire Flame Fitness\, this HIIT workout class is for everyone\, including beginners and low impact participants. Come as you are! Be prepared to walk/jog after class.
URL:https://downtowndayton.org/event/community-fitness-trailblazers-hiit-run/2026-06-24/
LOCATION:RiverScape MetroPark\, 237 E Monument Ave\, Dayton\, OH\, 45402\, United States
ATTACH;FMTTYPE=image/jpeg:https://downtowndayton.org/wp-content/uploads/2026/04/663107436_1363360669156906_1404641221328762545_n.jpg
END:VEVENT
BEGIN:VEVENT
DTSTART;TZID=America/New_York:20260629T193000
DTEND;TZID=America/New_York:20260629T203000
DTSTAMP:20260420T170939
CREATED:20260420T182637Z
LAST-MODIFIED:20260420T182637Z
UID:10055853-1782761400-1782765000@downtowndayton.org
SUMMARY:Community Fitness: Trailblazers HIIT & Run
DESCRIPTION:Summer activities that make your body happy and healthy. Led by Fire Flame Fitness\, this HIIT workout class is for everyone\, including beginners and low impact participants. Come as you are! Be prepared to walk/jog after class.
URL:https://downtowndayton.org/event/community-fitness-trailblazers-hiit-run/2026-06-29/
LOCATION:RiverScape MetroPark\, 237 E Monument Ave\, Dayton\, OH\, 45402\, United States
ATTACH;FMTTYPE=image/jpeg:https://downtowndayton.org/wp-content/uploads/2026/04/663107436_1363360669156906_1404641221328762545_n.jpg
END:VEVENT
BEGIN:VEVENT
DTSTART;TZID=America/New_York:20260701T193000
DTEND;TZID=America/New_York:20260701T203000
DTSTAMP:20260420T170939
CREATED:20260420T182637Z
LAST-MODIFIED:20260420T182637Z
UID:10055854-1782934200-1782937800@downtowndayton.org
SUMMARY:Community Fitness: Trailblazers HIIT & Run
DESCRIPTION:Summer activities that make your body happy and healthy. Led by Fire Flame Fitness\, this HIIT workout class is for everyone\, including beginners and low impact participants. Come as you are! Be prepared to walk/jog after class.
URL:https://downtowndayton.org/event/community-fitness-trailblazers-hiit-run/2026-07-01/
LOCATION:RiverScape MetroPark\, 237 E Monument Ave\, Dayton\, OH\, 45402\, United States
ATTACH;FMTTYPE=image/jpeg:https://downtowndayton.org/wp-content/uploads/2026/04/663107436_1363360669156906_1404641221328762545_n.jpg
END:VEVENT
BEGIN:VEVENT
DTSTART;TZID=America/New_York:20260706T193000
DTEND;TZID=America/New_York:20260706T203000
DTSTAMP:20260420T170939
CREATED:20260420T182637Z
LAST-MODIFIED:20260420T182637Z
UID:10055855-1783366200-1783369800@downtowndayton.org
SUMMARY:Community Fitness: Trailblazers HIIT & Run
DESCRIPTION:Summer activities that make your body happy and healthy. Led by Fire Flame Fitness\, this HIIT workout class is for everyone\, including beginners and low impact participants. Come as you are! Be prepared to walk/jog after class.
URL:https://downtowndayton.org/event/community-fitness-trailblazers-hiit-run/2026-07-06/
LOCATION:RiverScape MetroPark\, 237 E Monument Ave\, Dayton\, OH\, 45402\, United States
ATTACH;FMTTYPE=image/jpeg:https://downtowndayton.org/wp-content/uploads/2026/04/663107436_1363360669156906_1404641221328762545_n.jpg
END:VEVENT
BEGIN:VEVENT
DTSTART;TZID=America/New_York:20260708T193000
DTEND;TZID=America/New_York:20260708T203000
DTSTAMP:20260420T170939
CREATED:20260420T182637Z
LAST-MODIFIED:20260420T182637Z
UID:10055856-1783539000-1783542600@downtowndayton.org
SUMMARY:Community Fitness: Trailblazers HIIT & Run
DESCRIPTION:Summer activities that make your body happy and healthy. Led by Fire Flame Fitness\, this HIIT workout class is for everyone\, including beginners and low impact participants. Come as you are! Be prepared to walk/jog after class.
URL:https://downtowndayton.org/event/community-fitness-trailblazers-hiit-run/2026-07-08/
LOCATION:RiverScape MetroPark\, 237 E Monument Ave\, Dayton\, OH\, 45402\, United States
ATTACH;FMTTYPE=image/jpeg:https://downtowndayton.org/wp-content/uploads/2026/04/663107436_1363360669156906_1404641221328762545_n.jpg
END:VEVENT
BEGIN:VEVENT
DTSTART;TZID=America/New_York:20260713T193000
DTEND;TZID=America/New_York:20260713T203000
DTSTAMP:20260420T170939
CREATED:20260420T182637Z
LAST-MODIFIED:20260420T182637Z
UID:10055857-1783971000-1783974600@downtowndayton.org
SUMMARY:Community Fitness: Trailblazers HIIT & Run
DESCRIPTION:Summer activities that make your body happy and healthy. Led by Fire Flame Fitness\, this HIIT workout class is for everyone\, including beginners and low impact participants. Come as you are! Be prepared to walk/jog after class.
URL:https://downtowndayton.org/event/community-fitness-trailblazers-hiit-run/2026-07-13/
LOCATION:RiverScape MetroPark\, 237 E Monument Ave\, Dayton\, OH\, 45402\, United States
ATTACH;FMTTYPE=image/jpeg:https://downtowndayton.org/wp-content/uploads/2026/04/663107436_1363360669156906_1404641221328762545_n.jpg
END:VEVENT
BEGIN:VEVENT
DTSTART;TZID=America/New_York:20260715T193000
DTEND;TZID=America/New_York:20260715T203000
DTSTAMP:20260420T170939
CREATED:20260420T182637Z
LAST-MODIFIED:20260420T182637Z
UID:10055858-1784143800-1784147400@downtowndayton.org
SUMMARY:Community Fitness: Trailblazers HIIT & Run
DESCRIPTION:Summer activities that make your body happy and healthy. Led by Fire Flame Fitness\, this HIIT workout class is for everyone\, including beginners and low impact participants. Come as you are! Be prepared to walk/jog after class.
URL:https://downtowndayton.org/event/community-fitness-trailblazers-hiit-run/2026-07-15/
LOCATION:RiverScape MetroPark\, 237 E Monument Ave\, Dayton\, OH\, 45402\, United States
ATTACH;FMTTYPE=image/jpeg:https://downtowndayton.org/wp-content/uploads/2026/04/663107436_1363360669156906_1404641221328762545_n.jpg
END:VEVENT
BEGIN:VEVENT
DTSTART;TZID=America/New_York:20260720T193000
DTEND;TZID=America/New_York:20260720T203000
DTSTAMP:20260420T170939
CREATED:20260420T182637Z
LAST-MODIFIED:20260420T182637Z
UID:10055859-1784575800-1784579400@downtowndayton.org
SUMMARY:Community Fitness: Trailblazers HIIT & Run
DESCRIPTION:Summer activities that make your body happy and healthy. Led by Fire Flame Fitness\, this HIIT workout class is for everyone\, including beginners and low impact participants. Come as you are! Be prepared to walk/jog after class.
URL:https://downtowndayton.org/event/community-fitness-trailblazers-hiit-run/2026-07-20/
LOCATION:RiverScape MetroPark\, 237 E Monument Ave\, Dayton\, OH\, 45402\, United States
ATTACH;FMTTYPE=image/jpeg:https://downtowndayton.org/wp-content/uploads/2026/04/663107436_1363360669156906_1404641221328762545_n.jpg
END:VEVENT
BEGIN:VEVENT
DTSTART;TZID=America/New_York:20260722T193000
DTEND;TZID=America/New_York:20260722T203000
DTSTAMP:20260420T170939
CREATED:20260420T182637Z
LAST-MODIFIED:20260420T182637Z
UID:10055860-1784748600-1784752200@downtowndayton.org
SUMMARY:Community Fitness: Trailblazers HIIT & Run
DESCRIPTION:Summer activities that make your body happy and healthy. Led by Fire Flame Fitness\, this HIIT workout class is for everyone\, including beginners and low impact participants. Come as you are! Be prepared to walk/jog after class.
URL:https://downtowndayton.org/event/community-fitness-trailblazers-hiit-run/2026-07-22/
LOCATION:RiverScape MetroPark\, 237 E Monument Ave\, Dayton\, OH\, 45402\, United States
ATTACH;FMTTYPE=image/jpeg:https://downtowndayton.org/wp-content/uploads/2026/04/663107436_1363360669156906_1404641221328762545_n.jpg
END:VEVENT
BEGIN:VEVENT
DTSTART;TZID=America/New_York:20260727T193000
DTEND;TZID=America/New_York:20260727T203000
DTSTAMP:20260420T170939
CREATED:20260420T182637Z
LAST-MODIFIED:20260420T182637Z
UID:10055861-1785180600-1785184200@downtowndayton.org
SUMMARY:Community Fitness: Trailblazers HIIT & Run
DESCRIPTION:Summer activities that make your body happy and healthy. Led by Fire Flame Fitness\, this HIIT workout class is for everyone\, including beginners and low impact participants. Come as you are! Be prepared to walk/jog after class.
URL:https://downtowndayton.org/event/community-fitness-trailblazers-hiit-run/2026-07-27/
LOCATION:RiverScape MetroPark\, 237 E Monument Ave\, Dayton\, OH\, 45402\, United States
ATTACH;FMTTYPE=image/jpeg:https://downtowndayton.org/wp-content/uploads/2026/04/663107436_1363360669156906_1404641221328762545_n.jpg
END:VEVENT
BEGIN:VEVENT
DTSTART;TZID=America/New_York:20260729T193000
DTEND;TZID=America/New_York:20260729T203000
DTSTAMP:20260420T170939
CREATED:20260420T182637Z
LAST-MODIFIED:20260420T182637Z
UID:10055862-1785353400-1785357000@downtowndayton.org
SUMMARY:Community Fitness: Trailblazers HIIT & Run
DESCRIPTION:Summer activities that make your body happy and healthy. Led by Fire Flame Fitness\, this HIIT workout class is for everyone\, including beginners and low impact participants. Come as you are! Be prepared to walk/jog after class.
URL:https://downtowndayton.org/event/community-fitness-trailblazers-hiit-run/2026-07-29/
LOCATION:RiverScape MetroPark\, 237 E Monument Ave\, Dayton\, OH\, 45402\, United States
ATTACH;FMTTYPE=image/jpeg:https://downtowndayton.org/wp-content/uploads/2026/04/663107436_1363360669156906_1404641221328762545_n.jpg
END:VEVENT
END:VCALENDAR