BEGIN:VCALENDAR
VERSION:2.0
PRODID:-//Downtown Dayton Partnership - ECPv6.8.1//NONSGML v1.0//EN
CALSCALE:GREGORIAN
METHOD:PUBLISH
X-ORIGINAL-URL:https://downtowndayton.org
X-WR-CALDESC:Events for Downtown Dayton Partnership
REFRESH-INTERVAL;VALUE=DURATION:PT1H
X-Robots-Tag:noindex
X-PUBLISHED-TTL:PT1H
BEGIN:VTIMEZONE
TZID:America/New_York
BEGIN:DAYLIGHT
TZOFFSETFROM:-0500
TZOFFSETTO:-0400
TZNAME:EDT
DTSTART:20260308T070000
END:DAYLIGHT
BEGIN:STANDARD
TZOFFSETFROM:-0400
TZOFFSETTO:-0500
TZNAME:EST
DTSTART:20261101T060000
END:STANDARD
END:VTIMEZONE
BEGIN:VEVENT
DTSTART;TZID=America/New_York:20260425T200000
DTEND;TZID=America/New_York:20260425T200000
DTSTAMP:20260420T213043
CREATED:20260420T184156Z
LAST-MODIFIED:20260420T184156Z
UID:10055918-1777147200-1777147200@downtowndayton.org
SUMMARY:STOMP
DESCRIPTION:STOMP is explosive\, inventive\, provocative\, witty\, and utterly unique – an unforgettable experience for audiences of all ages. The international percussion sensation has garnered armfuls of awards and rave reviews and has appeared on numerous national television shows. The eight-member troupe uses everything but conventional percussion instruments – matchboxes\, wooden poles\, brooms\, garbage cans\, Zippo lighters\, hubcaps – to fill the stage with magnificent rhythms. Year after year\, audiences worldwide keep coming back for more of this pulse-pounding electrifying show.
URL:https://downtowndayton.org/event/stomp/2026-04-25/
LOCATION:Victoria Theatre\, 138 N. Main St.\, Dayton\, OH\, 45402\, United States
ATTACH;FMTTYPE=image/jpeg:https://downtowndayton.org/wp-content/uploads/2026/04/stomp.jpg
END:VEVENT
BEGIN:VEVENT
DTSTART;TZID=America/New_York:20260426T140000
DTEND;TZID=America/New_York:20260426T140000
DTSTAMP:20260420T213043
CREATED:20260420T184156Z
LAST-MODIFIED:20260420T184156Z
UID:10055919-1777212000-1777212000@downtowndayton.org
SUMMARY:STOMP
DESCRIPTION:STOMP is explosive\, inventive\, provocative\, witty\, and utterly unique – an unforgettable experience for audiences of all ages. The international percussion sensation has garnered armfuls of awards and rave reviews and has appeared on numerous national television shows. The eight-member troupe uses everything but conventional percussion instruments – matchboxes\, wooden poles\, brooms\, garbage cans\, Zippo lighters\, hubcaps – to fill the stage with magnificent rhythms. Year after year\, audiences worldwide keep coming back for more of this pulse-pounding electrifying show.
URL:https://downtowndayton.org/event/stomp/2026-04-26/
LOCATION:Victoria Theatre\, 138 N. Main St.\, Dayton\, OH\, 45402\, United States
ATTACH;FMTTYPE=image/jpeg:https://downtowndayton.org/wp-content/uploads/2026/04/stomp.jpg
END:VEVENT
END:VCALENDAR