BEGIN:VCALENDAR
VERSION:2.0
PRODID:-//Downtown Dayton Partnership - ECPv6.8.1//NONSGML v1.0//EN
CALSCALE:GREGORIAN
METHOD:PUBLISH
X-WR-CALNAME:Downtown Dayton Partnership
X-ORIGINAL-URL:https://downtowndayton.org
X-WR-CALDESC:Events for Downtown Dayton Partnership
REFRESH-INTERVAL;VALUE=DURATION:PT1H
X-Robots-Tag:noindex
X-PUBLISHED-TTL:PT1H
BEGIN:VTIMEZONE
TZID:America/New_York
BEGIN:DAYLIGHT
TZOFFSETFROM:-0500
TZOFFSETTO:-0400
TZNAME:EDT
DTSTART:20300310T070000
END:DAYLIGHT
BEGIN:STANDARD
TZOFFSETFROM:-0400
TZOFFSETTO:-0500
TZNAME:EST
DTSTART:20301103T060000
END:STANDARD
END:VTIMEZONE
BEGIN:VEVENT
DTSTART;TZID=America/New_York:20300226T200000
DTEND;TZID=America/New_York:20300226T230000
DTSTAMP:20260422T165136
CREATED:20250318T140916Z
LAST-MODIFIED:20250318T140916Z
UID:10031544-1898366400-1898377200@downtowndayton.org
SUMMARY:Karaoke with Zane
DESCRIPTION:Yellow Cab Tavern Karaoke is BACK every Tuesday at 8pm with MC Zane Gerlach!\nEntry is always free!\nWith a catalog of over 60\,000 songs\, we have your favorites to sing…and if we don’t\, we’ll do everything we can to get it for you!\nGet your friends and family together and we’ll see you on Tuesday nights at The Yellow Cab Tavern!
URL:https://downtowndayton.org/event/karaoke-with-zane/2030-02-26/
LOCATION:Yellow Cab Tavern\, 700 E 4th St\, Dayton\, OH\, 45402\, United States
ATTACH;FMTTYPE=image/jpeg:https://downtowndayton.org/wp-content/uploads/2025/03/yck.jpg
END:VEVENT
BEGIN:VEVENT
DTSTART;TZID=America/New_York:20300305T200000
DTEND;TZID=America/New_York:20300305T230000
DTSTAMP:20260422T165136
CREATED:20250318T140916Z
LAST-MODIFIED:20250318T140916Z
UID:10031545-1898971200-1898982000@downtowndayton.org
SUMMARY:Karaoke with Zane
DESCRIPTION:Yellow Cab Tavern Karaoke is BACK every Tuesday at 8pm with MC Zane Gerlach!\nEntry is always free!\nWith a catalog of over 60\,000 songs\, we have your favorites to sing…and if we don’t\, we’ll do everything we can to get it for you!\nGet your friends and family together and we’ll see you on Tuesday nights at The Yellow Cab Tavern!
URL:https://downtowndayton.org/event/karaoke-with-zane/2030-03-05/
LOCATION:Yellow Cab Tavern\, 700 E 4th St\, Dayton\, OH\, 45402\, United States
ATTACH;FMTTYPE=image/jpeg:https://downtowndayton.org/wp-content/uploads/2025/03/yck.jpg
END:VEVENT
BEGIN:VEVENT
DTSTART;TZID=America/New_York:20300312T200000
DTEND;TZID=America/New_York:20300312T230000
DTSTAMP:20260422T165136
CREATED:20250318T140916Z
LAST-MODIFIED:20250318T140916Z
UID:10031546-1899576000-1899586800@downtowndayton.org
SUMMARY:Karaoke with Zane
DESCRIPTION:Yellow Cab Tavern Karaoke is BACK every Tuesday at 8pm with MC Zane Gerlach!\nEntry is always free!\nWith a catalog of over 60\,000 songs\, we have your favorites to sing…and if we don’t\, we’ll do everything we can to get it for you!\nGet your friends and family together and we’ll see you on Tuesday nights at The Yellow Cab Tavern!
URL:https://downtowndayton.org/event/karaoke-with-zane/2030-03-12/
LOCATION:Yellow Cab Tavern\, 700 E 4th St\, Dayton\, OH\, 45402\, United States
ATTACH;FMTTYPE=image/jpeg:https://downtowndayton.org/wp-content/uploads/2025/03/yck.jpg
END:VEVENT
END:VCALENDAR