BEGIN:VCALENDAR
VERSION:2.0
PRODID:-//Downtown Dayton Partnership - ECPv6.8.1//NONSGML v1.0//EN
CALSCALE:GREGORIAN
METHOD:PUBLISH
X-WR-CALNAME:Downtown Dayton Partnership
X-ORIGINAL-URL:https://downtowndayton.org
X-WR-CALDESC:Events for Downtown Dayton Partnership
REFRESH-INTERVAL;VALUE=DURATION:PT1H
X-Robots-Tag:noindex
X-PUBLISHED-TTL:PT1H
BEGIN:VTIMEZONE
TZID:America/New_York
BEGIN:DAYLIGHT
TZOFFSETFROM:-0500
TZOFFSETTO:-0400
TZNAME:EDT
DTSTART:20300310T070000
END:DAYLIGHT
BEGIN:STANDARD
TZOFFSETFROM:-0400
TZOFFSETTO:-0500
TZNAME:EST
DTSTART:20301103T060000
END:STANDARD
END:VTIMEZONE
BEGIN:VEVENT
DTSTART;TZID=America/New_York:20300227T190000
DTEND;TZID=America/New_York:20300227T230000
DTSTAMP:20260423T064840
CREATED:20250528T120940Z
LAST-MODIFIED:20250925T123704Z
UID:10036814-1898449200-1898463600@downtowndayton.org
SUMMARY:Wu-Tang Wednesdays
DESCRIPTION:Dayton’s legendary Ike B spins old school hip hop and whateva else he wants.
URL:https://downtowndayton.org/event/whateva-wednesdays/2030-02-27/
LOCATION:The Barrel House\, 417 E. Third St.\, Dayton\, OH\, 45402\, United States
ATTACH;FMTTYPE=image/jpeg:https://downtowndayton.org/wp-content/uploads/2025/05/wu.jpg
END:VEVENT
BEGIN:VEVENT
DTSTART;TZID=America/New_York:20300306T190000
DTEND;TZID=America/New_York:20300306T230000
DTSTAMP:20260423T064840
CREATED:20250528T120940Z
LAST-MODIFIED:20250925T123704Z
UID:10036815-1899054000-1899068400@downtowndayton.org
SUMMARY:Wu-Tang Wednesdays
DESCRIPTION:Dayton’s legendary Ike B spins old school hip hop and whateva else he wants.
URL:https://downtowndayton.org/event/whateva-wednesdays/2030-03-06/
LOCATION:The Barrel House\, 417 E. Third St.\, Dayton\, OH\, 45402\, United States
ATTACH;FMTTYPE=image/jpeg:https://downtowndayton.org/wp-content/uploads/2025/05/wu.jpg
END:VEVENT
BEGIN:VEVENT
DTSTART;TZID=America/New_York:20300313T190000
DTEND;TZID=America/New_York:20300313T230000
DTSTAMP:20260423T064841
CREATED:20250528T120940Z
LAST-MODIFIED:20250925T123704Z
UID:10036816-1899658800-1899673200@downtowndayton.org
SUMMARY:Wu-Tang Wednesdays
DESCRIPTION:Dayton’s legendary Ike B spins old school hip hop and whateva else he wants.
URL:https://downtowndayton.org/event/whateva-wednesdays/2030-03-13/
LOCATION:The Barrel House\, 417 E. Third St.\, Dayton\, OH\, 45402\, United States
ATTACH;FMTTYPE=image/jpeg:https://downtowndayton.org/wp-content/uploads/2025/05/wu.jpg
END:VEVENT
BEGIN:VEVENT
DTSTART;TZID=America/New_York:20300320T190000
DTEND;TZID=America/New_York:20300320T230000
DTSTAMP:20260423T064841
CREATED:20250528T120940Z
LAST-MODIFIED:20250925T123704Z
UID:10036817-1900263600-1900278000@downtowndayton.org
SUMMARY:Wu-Tang Wednesdays
DESCRIPTION:Dayton’s legendary Ike B spins old school hip hop and whateva else he wants.
URL:https://downtowndayton.org/event/whateva-wednesdays/2030-03-20/
LOCATION:The Barrel House\, 417 E. Third St.\, Dayton\, OH\, 45402\, United States
ATTACH;FMTTYPE=image/jpeg:https://downtowndayton.org/wp-content/uploads/2025/05/wu.jpg
END:VEVENT
BEGIN:VEVENT
DTSTART;TZID=America/New_York:20300327T190000
DTEND;TZID=America/New_York:20300327T230000
DTSTAMP:20260423T064841
CREATED:20250528T120940Z
LAST-MODIFIED:20250925T123704Z
UID:10036818-1900868400-1900882800@downtowndayton.org
SUMMARY:Wu-Tang Wednesdays
DESCRIPTION:Dayton’s legendary Ike B spins old school hip hop and whateva else he wants.
URL:https://downtowndayton.org/event/whateva-wednesdays/2030-03-27/
LOCATION:The Barrel House\, 417 E. Third St.\, Dayton\, OH\, 45402\, United States
ATTACH;FMTTYPE=image/jpeg:https://downtowndayton.org/wp-content/uploads/2025/05/wu.jpg
END:VEVENT
BEGIN:VEVENT
DTSTART;TZID=America/New_York:20300403T190000
DTEND;TZID=America/New_York:20300403T230000
DTSTAMP:20260423T064841
CREATED:20250528T120940Z
LAST-MODIFIED:20250925T123704Z
UID:10036819-1901473200-1901487600@downtowndayton.org
SUMMARY:Wu-Tang Wednesdays
DESCRIPTION:Dayton’s legendary Ike B spins old school hip hop and whateva else he wants.
URL:https://downtowndayton.org/event/whateva-wednesdays/2030-04-03/
LOCATION:The Barrel House\, 417 E. Third St.\, Dayton\, OH\, 45402\, United States
ATTACH;FMTTYPE=image/jpeg:https://downtowndayton.org/wp-content/uploads/2025/05/wu.jpg
END:VEVENT
BEGIN:VEVENT
DTSTART;TZID=America/New_York:20300410T190000
DTEND;TZID=America/New_York:20300410T230000
DTSTAMP:20260423T064841
CREATED:20250528T120940Z
LAST-MODIFIED:20250925T123704Z
UID:10036820-1902078000-1902092400@downtowndayton.org
SUMMARY:Wu-Tang Wednesdays
DESCRIPTION:Dayton’s legendary Ike B spins old school hip hop and whateva else he wants.
URL:https://downtowndayton.org/event/whateva-wednesdays/2030-04-10/
LOCATION:The Barrel House\, 417 E. Third St.\, Dayton\, OH\, 45402\, United States
ATTACH;FMTTYPE=image/jpeg:https://downtowndayton.org/wp-content/uploads/2025/05/wu.jpg
END:VEVENT
BEGIN:VEVENT
DTSTART;TZID=America/New_York:20300417T190000
DTEND;TZID=America/New_York:20300417T230000
DTSTAMP:20260423T064841
CREATED:20250528T120940Z
LAST-MODIFIED:20250925T123704Z
UID:10036821-1902682800-1902697200@downtowndayton.org
SUMMARY:Wu-Tang Wednesdays
DESCRIPTION:Dayton’s legendary Ike B spins old school hip hop and whateva else he wants.
URL:https://downtowndayton.org/event/whateva-wednesdays/2030-04-17/
LOCATION:The Barrel House\, 417 E. Third St.\, Dayton\, OH\, 45402\, United States
ATTACH;FMTTYPE=image/jpeg:https://downtowndayton.org/wp-content/uploads/2025/05/wu.jpg
END:VEVENT
BEGIN:VEVENT
DTSTART;TZID=America/New_York:20300424T190000
DTEND;TZID=America/New_York:20300424T230000
DTSTAMP:20260423T064841
CREATED:20250528T120940Z
LAST-MODIFIED:20250925T123704Z
UID:10036822-1903287600-1903302000@downtowndayton.org
SUMMARY:Wu-Tang Wednesdays
DESCRIPTION:Dayton’s legendary Ike B spins old school hip hop and whateva else he wants.
URL:https://downtowndayton.org/event/whateva-wednesdays/2030-04-24/
LOCATION:The Barrel House\, 417 E. Third St.\, Dayton\, OH\, 45402\, United States
ATTACH;FMTTYPE=image/jpeg:https://downtowndayton.org/wp-content/uploads/2025/05/wu.jpg
END:VEVENT
BEGIN:VEVENT
DTSTART;TZID=America/New_York:20300501T190000
DTEND;TZID=America/New_York:20300501T230000
DTSTAMP:20260423T064841
CREATED:20250528T120940Z
LAST-MODIFIED:20250925T123704Z
UID:10036823-1903892400-1903906800@downtowndayton.org
SUMMARY:Wu-Tang Wednesdays
DESCRIPTION:Dayton’s legendary Ike B spins old school hip hop and whateva else he wants.
URL:https://downtowndayton.org/event/whateva-wednesdays/2030-05-01/
LOCATION:The Barrel House\, 417 E. Third St.\, Dayton\, OH\, 45402\, United States
ATTACH;FMTTYPE=image/jpeg:https://downtowndayton.org/wp-content/uploads/2025/05/wu.jpg
END:VEVENT
BEGIN:VEVENT
DTSTART;TZID=America/New_York:20300508T190000
DTEND;TZID=America/New_York:20300508T230000
DTSTAMP:20260423T064841
CREATED:20250528T120940Z
LAST-MODIFIED:20250925T123704Z
UID:10036824-1904497200-1904511600@downtowndayton.org
SUMMARY:Wu-Tang Wednesdays
DESCRIPTION:Dayton’s legendary Ike B spins old school hip hop and whateva else he wants.
URL:https://downtowndayton.org/event/whateva-wednesdays/2030-05-08/
LOCATION:The Barrel House\, 417 E. Third St.\, Dayton\, OH\, 45402\, United States
ATTACH;FMTTYPE=image/jpeg:https://downtowndayton.org/wp-content/uploads/2025/05/wu.jpg
END:VEVENT
BEGIN:VEVENT
DTSTART;TZID=America/New_York:20300515T190000
DTEND;TZID=America/New_York:20300515T230000
DTSTAMP:20260423T064841
CREATED:20250528T120940Z
LAST-MODIFIED:20250925T123704Z
UID:10036825-1905102000-1905116400@downtowndayton.org
SUMMARY:Wu-Tang Wednesdays
DESCRIPTION:Dayton’s legendary Ike B spins old school hip hop and whateva else he wants.
URL:https://downtowndayton.org/event/whateva-wednesdays/2030-05-15/
LOCATION:The Barrel House\, 417 E. Third St.\, Dayton\, OH\, 45402\, United States
ATTACH;FMTTYPE=image/jpeg:https://downtowndayton.org/wp-content/uploads/2025/05/wu.jpg
END:VEVENT
BEGIN:VEVENT
DTSTART;TZID=America/New_York:20300522T190000
DTEND;TZID=America/New_York:20300522T230000
DTSTAMP:20260423T064841
CREATED:20250528T120940Z
LAST-MODIFIED:20250925T123704Z
UID:10036826-1905706800-1905721200@downtowndayton.org
SUMMARY:Wu-Tang Wednesdays
DESCRIPTION:Dayton’s legendary Ike B spins old school hip hop and whateva else he wants.
URL:https://downtowndayton.org/event/whateva-wednesdays/2030-05-22/
LOCATION:The Barrel House\, 417 E. Third St.\, Dayton\, OH\, 45402\, United States
ATTACH;FMTTYPE=image/jpeg:https://downtowndayton.org/wp-content/uploads/2025/05/wu.jpg
END:VEVENT
BEGIN:VEVENT
DTSTART;TZID=America/New_York:20300529T190000
DTEND;TZID=America/New_York:20300529T230000
DTSTAMP:20260423T064841
CREATED:20250528T120940Z
LAST-MODIFIED:20250925T123704Z
UID:10040872-1906311600-1906326000@downtowndayton.org
SUMMARY:Wu-Tang Wednesdays
DESCRIPTION:Dayton’s legendary Ike B spins old school hip hop and whateva else he wants.
URL:https://downtowndayton.org/event/whateva-wednesdays/2030-05-29/
LOCATION:The Barrel House\, 417 E. Third St.\, Dayton\, OH\, 45402\, United States
ATTACH;FMTTYPE=image/jpeg:https://downtowndayton.org/wp-content/uploads/2025/05/wu.jpg
END:VEVENT
BEGIN:VEVENT
DTSTART;TZID=America/New_York:20300605T190000
DTEND;TZID=America/New_York:20300605T230000
DTSTAMP:20260423T064841
CREATED:20250528T120940Z
LAST-MODIFIED:20250925T123704Z
UID:10040873-1906916400-1906930800@downtowndayton.org
SUMMARY:Wu-Tang Wednesdays
DESCRIPTION:Dayton’s legendary Ike B spins old school hip hop and whateva else he wants.
URL:https://downtowndayton.org/event/whateva-wednesdays/2030-06-05/
LOCATION:The Barrel House\, 417 E. Third St.\, Dayton\, OH\, 45402\, United States
ATTACH;FMTTYPE=image/jpeg:https://downtowndayton.org/wp-content/uploads/2025/05/wu.jpg
END:VEVENT
BEGIN:VEVENT
DTSTART;TZID=America/New_York:20300612T190000
DTEND;TZID=America/New_York:20300612T230000
DTSTAMP:20260423T064841
CREATED:20250528T120940Z
LAST-MODIFIED:20250925T123704Z
UID:10040874-1907521200-1907535600@downtowndayton.org
SUMMARY:Wu-Tang Wednesdays
DESCRIPTION:Dayton’s legendary Ike B spins old school hip hop and whateva else he wants.
URL:https://downtowndayton.org/event/whateva-wednesdays/2030-06-12/
LOCATION:The Barrel House\, 417 E. Third St.\, Dayton\, OH\, 45402\, United States
ATTACH;FMTTYPE=image/jpeg:https://downtowndayton.org/wp-content/uploads/2025/05/wu.jpg
END:VEVENT
BEGIN:VEVENT
DTSTART;TZID=America/New_York:20300619T190000
DTEND;TZID=America/New_York:20300619T230000
DTSTAMP:20260423T064841
CREATED:20250528T120940Z
LAST-MODIFIED:20250925T123704Z
UID:10040875-1908126000-1908140400@downtowndayton.org
SUMMARY:Wu-Tang Wednesdays
DESCRIPTION:Dayton’s legendary Ike B spins old school hip hop and whateva else he wants.
URL:https://downtowndayton.org/event/whateva-wednesdays/2030-06-19/
LOCATION:The Barrel House\, 417 E. Third St.\, Dayton\, OH\, 45402\, United States
ATTACH;FMTTYPE=image/jpeg:https://downtowndayton.org/wp-content/uploads/2025/05/wu.jpg
END:VEVENT
BEGIN:VEVENT
DTSTART;TZID=America/New_York:20300626T190000
DTEND;TZID=America/New_York:20300626T230000
DTSTAMP:20260423T064841
CREATED:20250528T120940Z
LAST-MODIFIED:20250925T123704Z
UID:10040876-1908730800-1908745200@downtowndayton.org
SUMMARY:Wu-Tang Wednesdays
DESCRIPTION:Dayton’s legendary Ike B spins old school hip hop and whateva else he wants.
URL:https://downtowndayton.org/event/whateva-wednesdays/2030-06-26/
LOCATION:The Barrel House\, 417 E. Third St.\, Dayton\, OH\, 45402\, United States
ATTACH;FMTTYPE=image/jpeg:https://downtowndayton.org/wp-content/uploads/2025/05/wu.jpg
END:VEVENT
BEGIN:VEVENT
DTSTART;TZID=America/New_York:20300703T190000
DTEND;TZID=America/New_York:20300703T230000
DTSTAMP:20260423T064841
CREATED:20250528T120940Z
LAST-MODIFIED:20250925T123704Z
UID:10040877-1909335600-1909350000@downtowndayton.org
SUMMARY:Wu-Tang Wednesdays
DESCRIPTION:Dayton’s legendary Ike B spins old school hip hop and whateva else he wants.
URL:https://downtowndayton.org/event/whateva-wednesdays/2030-07-03/
LOCATION:The Barrel House\, 417 E. Third St.\, Dayton\, OH\, 45402\, United States
ATTACH;FMTTYPE=image/jpeg:https://downtowndayton.org/wp-content/uploads/2025/05/wu.jpg
END:VEVENT
BEGIN:VEVENT
DTSTART;TZID=America/New_York:20300710T190000
DTEND;TZID=America/New_York:20300710T230000
DTSTAMP:20260423T064841
CREATED:20250528T120940Z
LAST-MODIFIED:20250925T123704Z
UID:10040878-1909940400-1909954800@downtowndayton.org
SUMMARY:Wu-Tang Wednesdays
DESCRIPTION:Dayton’s legendary Ike B spins old school hip hop and whateva else he wants.
URL:https://downtowndayton.org/event/whateva-wednesdays/2030-07-10/
LOCATION:The Barrel House\, 417 E. Third St.\, Dayton\, OH\, 45402\, United States
ATTACH;FMTTYPE=image/jpeg:https://downtowndayton.org/wp-content/uploads/2025/05/wu.jpg
END:VEVENT
BEGIN:VEVENT
DTSTART;TZID=America/New_York:20300717T190000
DTEND;TZID=America/New_York:20300717T230000
DTSTAMP:20260423T064841
CREATED:20250528T120940Z
LAST-MODIFIED:20250925T123704Z
UID:10040879-1910545200-1910559600@downtowndayton.org
SUMMARY:Wu-Tang Wednesdays
DESCRIPTION:Dayton’s legendary Ike B spins old school hip hop and whateva else he wants.
URL:https://downtowndayton.org/event/whateva-wednesdays/2030-07-17/
LOCATION:The Barrel House\, 417 E. Third St.\, Dayton\, OH\, 45402\, United States
ATTACH;FMTTYPE=image/jpeg:https://downtowndayton.org/wp-content/uploads/2025/05/wu.jpg
END:VEVENT
BEGIN:VEVENT
DTSTART;TZID=America/New_York:20300724T190000
DTEND;TZID=America/New_York:20300724T230000
DTSTAMP:20260423T064841
CREATED:20250528T120940Z
LAST-MODIFIED:20250925T123704Z
UID:10040880-1911150000-1911164400@downtowndayton.org
SUMMARY:Wu-Tang Wednesdays
DESCRIPTION:Dayton’s legendary Ike B spins old school hip hop and whateva else he wants.
URL:https://downtowndayton.org/event/whateva-wednesdays/2030-07-24/
LOCATION:The Barrel House\, 417 E. Third St.\, Dayton\, OH\, 45402\, United States
ATTACH;FMTTYPE=image/jpeg:https://downtowndayton.org/wp-content/uploads/2025/05/wu.jpg
END:VEVENT
BEGIN:VEVENT
DTSTART;TZID=America/New_York:20300731T190000
DTEND;TZID=America/New_York:20300731T230000
DTSTAMP:20260423T064841
CREATED:20250528T120940Z
LAST-MODIFIED:20250925T123704Z
UID:10040881-1911754800-1911769200@downtowndayton.org
SUMMARY:Wu-Tang Wednesdays
DESCRIPTION:Dayton’s legendary Ike B spins old school hip hop and whateva else he wants.
URL:https://downtowndayton.org/event/whateva-wednesdays/2030-07-31/
LOCATION:The Barrel House\, 417 E. Third St.\, Dayton\, OH\, 45402\, United States
ATTACH;FMTTYPE=image/jpeg:https://downtowndayton.org/wp-content/uploads/2025/05/wu.jpg
END:VEVENT
BEGIN:VEVENT
DTSTART;TZID=America/New_York:20300807T190000
DTEND;TZID=America/New_York:20300807T230000
DTSTAMP:20260423T064841
CREATED:20250528T120940Z
LAST-MODIFIED:20250925T123704Z
UID:10040882-1912359600-1912374000@downtowndayton.org
SUMMARY:Wu-Tang Wednesdays
DESCRIPTION:Dayton’s legendary Ike B spins old school hip hop and whateva else he wants.
URL:https://downtowndayton.org/event/whateva-wednesdays/2030-08-07/
LOCATION:The Barrel House\, 417 E. Third St.\, Dayton\, OH\, 45402\, United States
ATTACH;FMTTYPE=image/jpeg:https://downtowndayton.org/wp-content/uploads/2025/05/wu.jpg
END:VEVENT
BEGIN:VEVENT
DTSTART;TZID=America/New_York:20300814T190000
DTEND;TZID=America/New_York:20300814T230000
DTSTAMP:20260423T064841
CREATED:20250528T120940Z
LAST-MODIFIED:20250925T123704Z
UID:10040883-1912964400-1912978800@downtowndayton.org
SUMMARY:Wu-Tang Wednesdays
DESCRIPTION:Dayton’s legendary Ike B spins old school hip hop and whateva else he wants.
URL:https://downtowndayton.org/event/whateva-wednesdays/2030-08-14/
LOCATION:The Barrel House\, 417 E. Third St.\, Dayton\, OH\, 45402\, United States
ATTACH;FMTTYPE=image/jpeg:https://downtowndayton.org/wp-content/uploads/2025/05/wu.jpg
END:VEVENT
BEGIN:VEVENT
DTSTART;TZID=America/New_York:20300821T190000
DTEND;TZID=America/New_York:20300821T230000
DTSTAMP:20260423T064841
CREATED:20250528T120940Z
LAST-MODIFIED:20250925T123704Z
UID:10040884-1913569200-1913583600@downtowndayton.org
SUMMARY:Wu-Tang Wednesdays
DESCRIPTION:Dayton’s legendary Ike B spins old school hip hop and whateva else he wants.
URL:https://downtowndayton.org/event/whateva-wednesdays/2030-08-21/
LOCATION:The Barrel House\, 417 E. Third St.\, Dayton\, OH\, 45402\, United States
ATTACH;FMTTYPE=image/jpeg:https://downtowndayton.org/wp-content/uploads/2025/05/wu.jpg
END:VEVENT
BEGIN:VEVENT
DTSTART;TZID=America/New_York:20300828T190000
DTEND;TZID=America/New_York:20300828T230000
DTSTAMP:20260423T064841
CREATED:20250528T120940Z
LAST-MODIFIED:20250925T123704Z
UID:10040885-1914174000-1914188400@downtowndayton.org
SUMMARY:Wu-Tang Wednesdays
DESCRIPTION:Dayton’s legendary Ike B spins old school hip hop and whateva else he wants.
URL:https://downtowndayton.org/event/whateva-wednesdays/2030-08-28/
LOCATION:The Barrel House\, 417 E. Third St.\, Dayton\, OH\, 45402\, United States
ATTACH;FMTTYPE=image/jpeg:https://downtowndayton.org/wp-content/uploads/2025/05/wu.jpg
END:VEVENT
BEGIN:VEVENT
DTSTART;TZID=America/New_York:20300904T190000
DTEND;TZID=America/New_York:20300904T230000
DTSTAMP:20260423T064841
CREATED:20250528T120940Z
LAST-MODIFIED:20250925T123704Z
UID:10040886-1914778800-1914793200@downtowndayton.org
SUMMARY:Wu-Tang Wednesdays
DESCRIPTION:Dayton’s legendary Ike B spins old school hip hop and whateva else he wants.
URL:https://downtowndayton.org/event/whateva-wednesdays/2030-09-04/
LOCATION:The Barrel House\, 417 E. Third St.\, Dayton\, OH\, 45402\, United States
ATTACH;FMTTYPE=image/jpeg:https://downtowndayton.org/wp-content/uploads/2025/05/wu.jpg
END:VEVENT
BEGIN:VEVENT
DTSTART;TZID=America/New_York:20300911T190000
DTEND;TZID=America/New_York:20300911T230000
DTSTAMP:20260423T064841
CREATED:20250528T120940Z
LAST-MODIFIED:20250925T123704Z
UID:10040887-1915383600-1915398000@downtowndayton.org
SUMMARY:Wu-Tang Wednesdays
DESCRIPTION:Dayton’s legendary Ike B spins old school hip hop and whateva else he wants.
URL:https://downtowndayton.org/event/whateva-wednesdays/2030-09-11/
LOCATION:The Barrel House\, 417 E. Third St.\, Dayton\, OH\, 45402\, United States
ATTACH;FMTTYPE=image/jpeg:https://downtowndayton.org/wp-content/uploads/2025/05/wu.jpg
END:VEVENT
BEGIN:VEVENT
DTSTART;TZID=America/New_York:20300918T190000
DTEND;TZID=America/New_York:20300918T230000
DTSTAMP:20260423T064841
CREATED:20250528T120940Z
LAST-MODIFIED:20250925T123704Z
UID:10040888-1915988400-1916002800@downtowndayton.org
SUMMARY:Wu-Tang Wednesdays
DESCRIPTION:Dayton’s legendary Ike B spins old school hip hop and whateva else he wants.
URL:https://downtowndayton.org/event/whateva-wednesdays/2030-09-18/
LOCATION:The Barrel House\, 417 E. Third St.\, Dayton\, OH\, 45402\, United States
ATTACH;FMTTYPE=image/jpeg:https://downtowndayton.org/wp-content/uploads/2025/05/wu.jpg
END:VEVENT
END:VCALENDAR