BEGIN:VCALENDAR
VERSION:2.0
PRODID:-//Downtown Dayton Partnership - ECPv6.8.1//NONSGML v1.0//EN
CALSCALE:GREGORIAN
METHOD:PUBLISH
X-ORIGINAL-URL:https://downtowndayton.org
X-WR-CALDESC:Events for Downtown Dayton Partnership
REFRESH-INTERVAL;VALUE=DURATION:PT1H
X-Robots-Tag:noindex
X-PUBLISHED-TTL:PT1H
BEGIN:VTIMEZONE
TZID:America/New_York
BEGIN:DAYLIGHT
TZOFFSETFROM:-0500
TZOFFSETTO:-0400
TZNAME:EDT
DTSTART:20270314T070000
END:DAYLIGHT
BEGIN:STANDARD
TZOFFSETFROM:-0400
TZOFFSETTO:-0500
TZNAME:EST
DTSTART:20271107T060000
END:STANDARD
BEGIN:DAYLIGHT
TZOFFSETFROM:-0500
TZOFFSETTO:-0400
TZNAME:EDT
DTSTART:20280312T070000
END:DAYLIGHT
BEGIN:STANDARD
TZOFFSETFROM:-0400
TZOFFSETTO:-0500
TZNAME:EST
DTSTART:20281105T060000
END:STANDARD
END:VTIMEZONE
BEGIN:VEVENT
DTSTART;TZID=America/New_York:20270617T200000
DTEND;TZID=America/New_York:20270617T200000
DTSTAMP:20260419T171012
CREATED:20250318T142048Z
LAST-MODIFIED:20250318T142048Z
UID:10031926-1813262400-1813262400@downtowndayton.org
SUMMARY:Music Bingo Thursdays
DESCRIPTION:We have music bingo every Thursday! It’s free to play\, lots of fun\, hosted by KG\, and there are prizes galore. Come check it out!
URL:https://downtowndayton.org/event/music-bingo-thursdays/2027-06-17/
LOCATION:The Trolley Stop\, 530 E. Fifth St.\, Dayton\, OH\, 45402\, USA
ATTACH;FMTTYPE=image/jpeg:https://downtowndayton.org/wp-content/uploads/2025/03/trolley.jpg
END:VEVENT
BEGIN:VEVENT
DTSTART;TZID=America/New_York:20270624T200000
DTEND;TZID=America/New_York:20270624T200000
DTSTAMP:20260419T171012
CREATED:20250318T142048Z
LAST-MODIFIED:20250318T142048Z
UID:10031927-1813867200-1813867200@downtowndayton.org
SUMMARY:Music Bingo Thursdays
DESCRIPTION:We have music bingo every Thursday! It’s free to play\, lots of fun\, hosted by KG\, and there are prizes galore. Come check it out!
URL:https://downtowndayton.org/event/music-bingo-thursdays/2027-06-24/
LOCATION:The Trolley Stop\, 530 E. Fifth St.\, Dayton\, OH\, 45402\, USA
ATTACH;FMTTYPE=image/jpeg:https://downtowndayton.org/wp-content/uploads/2025/03/trolley.jpg
END:VEVENT
BEGIN:VEVENT
DTSTART;TZID=America/New_York:20270701T200000
DTEND;TZID=America/New_York:20270701T200000
DTSTAMP:20260419T171012
CREATED:20250318T142048Z
LAST-MODIFIED:20250318T142048Z
UID:10031928-1814472000-1814472000@downtowndayton.org
SUMMARY:Music Bingo Thursdays
DESCRIPTION:We have music bingo every Thursday! It’s free to play\, lots of fun\, hosted by KG\, and there are prizes galore. Come check it out!
URL:https://downtowndayton.org/event/music-bingo-thursdays/2027-07-01/
LOCATION:The Trolley Stop\, 530 E. Fifth St.\, Dayton\, OH\, 45402\, USA
ATTACH;FMTTYPE=image/jpeg:https://downtowndayton.org/wp-content/uploads/2025/03/trolley.jpg
END:VEVENT
BEGIN:VEVENT
DTSTART;TZID=America/New_York:20270708T200000
DTEND;TZID=America/New_York:20270708T200000
DTSTAMP:20260419T171012
CREATED:20250318T142048Z
LAST-MODIFIED:20250318T142048Z
UID:10031929-1815076800-1815076800@downtowndayton.org
SUMMARY:Music Bingo Thursdays
DESCRIPTION:We have music bingo every Thursday! It’s free to play\, lots of fun\, hosted by KG\, and there are prizes galore. Come check it out!
URL:https://downtowndayton.org/event/music-bingo-thursdays/2027-07-08/
LOCATION:The Trolley Stop\, 530 E. Fifth St.\, Dayton\, OH\, 45402\, USA
ATTACH;FMTTYPE=image/jpeg:https://downtowndayton.org/wp-content/uploads/2025/03/trolley.jpg
END:VEVENT
BEGIN:VEVENT
DTSTART;TZID=America/New_York:20270715T200000
DTEND;TZID=America/New_York:20270715T200000
DTSTAMP:20260419T171012
CREATED:20250318T142048Z
LAST-MODIFIED:20250318T142048Z
UID:10031930-1815681600-1815681600@downtowndayton.org
SUMMARY:Music Bingo Thursdays
DESCRIPTION:We have music bingo every Thursday! It’s free to play\, lots of fun\, hosted by KG\, and there are prizes galore. Come check it out!
URL:https://downtowndayton.org/event/music-bingo-thursdays/2027-07-15/
LOCATION:The Trolley Stop\, 530 E. Fifth St.\, Dayton\, OH\, 45402\, USA
ATTACH;FMTTYPE=image/jpeg:https://downtowndayton.org/wp-content/uploads/2025/03/trolley.jpg
END:VEVENT
BEGIN:VEVENT
DTSTART;TZID=America/New_York:20270722T200000
DTEND;TZID=America/New_York:20270722T200000
DTSTAMP:20260419T171012
CREATED:20250318T142048Z
LAST-MODIFIED:20250318T142048Z
UID:10031931-1816286400-1816286400@downtowndayton.org
SUMMARY:Music Bingo Thursdays
DESCRIPTION:We have music bingo every Thursday! It’s free to play\, lots of fun\, hosted by KG\, and there are prizes galore. Come check it out!
URL:https://downtowndayton.org/event/music-bingo-thursdays/2027-07-22/
LOCATION:The Trolley Stop\, 530 E. Fifth St.\, Dayton\, OH\, 45402\, USA
ATTACH;FMTTYPE=image/jpeg:https://downtowndayton.org/wp-content/uploads/2025/03/trolley.jpg
END:VEVENT
BEGIN:VEVENT
DTSTART;TZID=America/New_York:20270729T200000
DTEND;TZID=America/New_York:20270729T200000
DTSTAMP:20260419T171013
CREATED:20250318T142048Z
LAST-MODIFIED:20250318T142048Z
UID:10031932-1816891200-1816891200@downtowndayton.org
SUMMARY:Music Bingo Thursdays
DESCRIPTION:We have music bingo every Thursday! It’s free to play\, lots of fun\, hosted by KG\, and there are prizes galore. Come check it out!
URL:https://downtowndayton.org/event/music-bingo-thursdays/2027-07-29/
LOCATION:The Trolley Stop\, 530 E. Fifth St.\, Dayton\, OH\, 45402\, USA
ATTACH;FMTTYPE=image/jpeg:https://downtowndayton.org/wp-content/uploads/2025/03/trolley.jpg
END:VEVENT
BEGIN:VEVENT
DTSTART;TZID=America/New_York:20270805T200000
DTEND;TZID=America/New_York:20270805T200000
DTSTAMP:20260419T171013
CREATED:20250318T142048Z
LAST-MODIFIED:20250318T142048Z
UID:10031933-1817496000-1817496000@downtowndayton.org
SUMMARY:Music Bingo Thursdays
DESCRIPTION:We have music bingo every Thursday! It’s free to play\, lots of fun\, hosted by KG\, and there are prizes galore. Come check it out!
URL:https://downtowndayton.org/event/music-bingo-thursdays/2027-08-05/
LOCATION:The Trolley Stop\, 530 E. Fifth St.\, Dayton\, OH\, 45402\, USA
ATTACH;FMTTYPE=image/jpeg:https://downtowndayton.org/wp-content/uploads/2025/03/trolley.jpg
END:VEVENT
BEGIN:VEVENT
DTSTART;TZID=America/New_York:20270812T200000
DTEND;TZID=America/New_York:20270812T200000
DTSTAMP:20260419T171013
CREATED:20250318T142048Z
LAST-MODIFIED:20250318T142048Z
UID:10031934-1818100800-1818100800@downtowndayton.org
SUMMARY:Music Bingo Thursdays
DESCRIPTION:We have music bingo every Thursday! It’s free to play\, lots of fun\, hosted by KG\, and there are prizes galore. Come check it out!
URL:https://downtowndayton.org/event/music-bingo-thursdays/2027-08-12/
LOCATION:The Trolley Stop\, 530 E. Fifth St.\, Dayton\, OH\, 45402\, USA
ATTACH;FMTTYPE=image/jpeg:https://downtowndayton.org/wp-content/uploads/2025/03/trolley.jpg
END:VEVENT
BEGIN:VEVENT
DTSTART;TZID=America/New_York:20270819T200000
DTEND;TZID=America/New_York:20270819T200000
DTSTAMP:20260419T171013
CREATED:20250318T142048Z
LAST-MODIFIED:20250318T142048Z
UID:10031935-1818705600-1818705600@downtowndayton.org
SUMMARY:Music Bingo Thursdays
DESCRIPTION:We have music bingo every Thursday! It’s free to play\, lots of fun\, hosted by KG\, and there are prizes galore. Come check it out!
URL:https://downtowndayton.org/event/music-bingo-thursdays/2027-08-19/
LOCATION:The Trolley Stop\, 530 E. Fifth St.\, Dayton\, OH\, 45402\, USA
ATTACH;FMTTYPE=image/jpeg:https://downtowndayton.org/wp-content/uploads/2025/03/trolley.jpg
END:VEVENT
BEGIN:VEVENT
DTSTART;TZID=America/New_York:20270826T200000
DTEND;TZID=America/New_York:20270826T200000
DTSTAMP:20260419T171013
CREATED:20250318T142048Z
LAST-MODIFIED:20250318T142048Z
UID:10031936-1819310400-1819310400@downtowndayton.org
SUMMARY:Music Bingo Thursdays
DESCRIPTION:We have music bingo every Thursday! It’s free to play\, lots of fun\, hosted by KG\, and there are prizes galore. Come check it out!
URL:https://downtowndayton.org/event/music-bingo-thursdays/2027-08-26/
LOCATION:The Trolley Stop\, 530 E. Fifth St.\, Dayton\, OH\, 45402\, USA
ATTACH;FMTTYPE=image/jpeg:https://downtowndayton.org/wp-content/uploads/2025/03/trolley.jpg
END:VEVENT
BEGIN:VEVENT
DTSTART;TZID=America/New_York:20270902T200000
DTEND;TZID=America/New_York:20270902T200000
DTSTAMP:20260419T171013
CREATED:20250318T142048Z
LAST-MODIFIED:20250318T142048Z
UID:10031937-1819915200-1819915200@downtowndayton.org
SUMMARY:Music Bingo Thursdays
DESCRIPTION:We have music bingo every Thursday! It’s free to play\, lots of fun\, hosted by KG\, and there are prizes galore. Come check it out!
URL:https://downtowndayton.org/event/music-bingo-thursdays/2027-09-02/
LOCATION:The Trolley Stop\, 530 E. Fifth St.\, Dayton\, OH\, 45402\, USA
ATTACH;FMTTYPE=image/jpeg:https://downtowndayton.org/wp-content/uploads/2025/03/trolley.jpg
END:VEVENT
BEGIN:VEVENT
DTSTART;TZID=America/New_York:20270909T200000
DTEND;TZID=America/New_York:20270909T200000
DTSTAMP:20260419T171013
CREATED:20250318T142048Z
LAST-MODIFIED:20250318T142048Z
UID:10031938-1820520000-1820520000@downtowndayton.org
SUMMARY:Music Bingo Thursdays
DESCRIPTION:We have music bingo every Thursday! It’s free to play\, lots of fun\, hosted by KG\, and there are prizes galore. Come check it out!
URL:https://downtowndayton.org/event/music-bingo-thursdays/2027-09-09/
LOCATION:The Trolley Stop\, 530 E. Fifth St.\, Dayton\, OH\, 45402\, USA
ATTACH;FMTTYPE=image/jpeg:https://downtowndayton.org/wp-content/uploads/2025/03/trolley.jpg
END:VEVENT
BEGIN:VEVENT
DTSTART;TZID=America/New_York:20270916T200000
DTEND;TZID=America/New_York:20270916T200000
DTSTAMP:20260419T171013
CREATED:20250318T142048Z
LAST-MODIFIED:20250318T142048Z
UID:10031939-1821124800-1821124800@downtowndayton.org
SUMMARY:Music Bingo Thursdays
DESCRIPTION:We have music bingo every Thursday! It’s free to play\, lots of fun\, hosted by KG\, and there are prizes galore. Come check it out!
URL:https://downtowndayton.org/event/music-bingo-thursdays/2027-09-16/
LOCATION:The Trolley Stop\, 530 E. Fifth St.\, Dayton\, OH\, 45402\, USA
ATTACH;FMTTYPE=image/jpeg:https://downtowndayton.org/wp-content/uploads/2025/03/trolley.jpg
END:VEVENT
BEGIN:VEVENT
DTSTART;TZID=America/New_York:20270923T200000
DTEND;TZID=America/New_York:20270923T200000
DTSTAMP:20260419T171013
CREATED:20250318T142048Z
LAST-MODIFIED:20250318T142048Z
UID:10031940-1821729600-1821729600@downtowndayton.org
SUMMARY:Music Bingo Thursdays
DESCRIPTION:We have music bingo every Thursday! It’s free to play\, lots of fun\, hosted by KG\, and there are prizes galore. Come check it out!
URL:https://downtowndayton.org/event/music-bingo-thursdays/2027-09-23/
LOCATION:The Trolley Stop\, 530 E. Fifth St.\, Dayton\, OH\, 45402\, USA
ATTACH;FMTTYPE=image/jpeg:https://downtowndayton.org/wp-content/uploads/2025/03/trolley.jpg
END:VEVENT
BEGIN:VEVENT
DTSTART;TZID=America/New_York:20270930T200000
DTEND;TZID=America/New_York:20270930T200000
DTSTAMP:20260419T171013
CREATED:20250318T142048Z
LAST-MODIFIED:20250318T142048Z
UID:10031941-1822334400-1822334400@downtowndayton.org
SUMMARY:Music Bingo Thursdays
DESCRIPTION:We have music bingo every Thursday! It’s free to play\, lots of fun\, hosted by KG\, and there are prizes galore. Come check it out!
URL:https://downtowndayton.org/event/music-bingo-thursdays/2027-09-30/
LOCATION:The Trolley Stop\, 530 E. Fifth St.\, Dayton\, OH\, 45402\, USA
ATTACH;FMTTYPE=image/jpeg:https://downtowndayton.org/wp-content/uploads/2025/03/trolley.jpg
END:VEVENT
BEGIN:VEVENT
DTSTART;TZID=America/New_York:20271007T200000
DTEND;TZID=America/New_York:20271007T200000
DTSTAMP:20260419T171013
CREATED:20250318T142048Z
LAST-MODIFIED:20250318T142048Z
UID:10031942-1822939200-1822939200@downtowndayton.org
SUMMARY:Music Bingo Thursdays
DESCRIPTION:We have music bingo every Thursday! It’s free to play\, lots of fun\, hosted by KG\, and there are prizes galore. Come check it out!
URL:https://downtowndayton.org/event/music-bingo-thursdays/2027-10-07/
LOCATION:The Trolley Stop\, 530 E. Fifth St.\, Dayton\, OH\, 45402\, USA
ATTACH;FMTTYPE=image/jpeg:https://downtowndayton.org/wp-content/uploads/2025/03/trolley.jpg
END:VEVENT
BEGIN:VEVENT
DTSTART;TZID=America/New_York:20271014T200000
DTEND;TZID=America/New_York:20271014T200000
DTSTAMP:20260419T171013
CREATED:20250318T142048Z
LAST-MODIFIED:20250318T142048Z
UID:10031943-1823544000-1823544000@downtowndayton.org
SUMMARY:Music Bingo Thursdays
DESCRIPTION:We have music bingo every Thursday! It’s free to play\, lots of fun\, hosted by KG\, and there are prizes galore. Come check it out!
URL:https://downtowndayton.org/event/music-bingo-thursdays/2027-10-14/
LOCATION:The Trolley Stop\, 530 E. Fifth St.\, Dayton\, OH\, 45402\, USA
ATTACH;FMTTYPE=image/jpeg:https://downtowndayton.org/wp-content/uploads/2025/03/trolley.jpg
END:VEVENT
BEGIN:VEVENT
DTSTART;TZID=America/New_York:20271021T200000
DTEND;TZID=America/New_York:20271021T200000
DTSTAMP:20260419T171013
CREATED:20250318T142048Z
LAST-MODIFIED:20250318T142048Z
UID:10031944-1824148800-1824148800@downtowndayton.org
SUMMARY:Music Bingo Thursdays
DESCRIPTION:We have music bingo every Thursday! It’s free to play\, lots of fun\, hosted by KG\, and there are prizes galore. Come check it out!
URL:https://downtowndayton.org/event/music-bingo-thursdays/2027-10-21/
LOCATION:The Trolley Stop\, 530 E. Fifth St.\, Dayton\, OH\, 45402\, USA
ATTACH;FMTTYPE=image/jpeg:https://downtowndayton.org/wp-content/uploads/2025/03/trolley.jpg
END:VEVENT
BEGIN:VEVENT
DTSTART;TZID=America/New_York:20271028T200000
DTEND;TZID=America/New_York:20271028T200000
DTSTAMP:20260419T171013
CREATED:20250318T142048Z
LAST-MODIFIED:20250318T142048Z
UID:10031945-1824753600-1824753600@downtowndayton.org
SUMMARY:Music Bingo Thursdays
DESCRIPTION:We have music bingo every Thursday! It’s free to play\, lots of fun\, hosted by KG\, and there are prizes galore. Come check it out!
URL:https://downtowndayton.org/event/music-bingo-thursdays/2027-10-28/
LOCATION:The Trolley Stop\, 530 E. Fifth St.\, Dayton\, OH\, 45402\, USA
ATTACH;FMTTYPE=image/jpeg:https://downtowndayton.org/wp-content/uploads/2025/03/trolley.jpg
END:VEVENT
BEGIN:VEVENT
DTSTART;TZID=America/New_York:20271104T200000
DTEND;TZID=America/New_York:20271104T200000
DTSTAMP:20260419T171013
CREATED:20250318T142048Z
LAST-MODIFIED:20250318T142048Z
UID:10031946-1825358400-1825358400@downtowndayton.org
SUMMARY:Music Bingo Thursdays
DESCRIPTION:We have music bingo every Thursday! It’s free to play\, lots of fun\, hosted by KG\, and there are prizes galore. Come check it out!
URL:https://downtowndayton.org/event/music-bingo-thursdays/2027-11-04/
LOCATION:The Trolley Stop\, 530 E. Fifth St.\, Dayton\, OH\, 45402\, USA
ATTACH;FMTTYPE=image/jpeg:https://downtowndayton.org/wp-content/uploads/2025/03/trolley.jpg
END:VEVENT
BEGIN:VEVENT
DTSTART;TZID=America/New_York:20271111T200000
DTEND;TZID=America/New_York:20271111T200000
DTSTAMP:20260419T171013
CREATED:20250318T142048Z
LAST-MODIFIED:20250318T142048Z
UID:10031947-1825963200-1825963200@downtowndayton.org
SUMMARY:Music Bingo Thursdays
DESCRIPTION:We have music bingo every Thursday! It’s free to play\, lots of fun\, hosted by KG\, and there are prizes galore. Come check it out!
URL:https://downtowndayton.org/event/music-bingo-thursdays/2027-11-11/
LOCATION:The Trolley Stop\, 530 E. Fifth St.\, Dayton\, OH\, 45402\, USA
ATTACH;FMTTYPE=image/jpeg:https://downtowndayton.org/wp-content/uploads/2025/03/trolley.jpg
END:VEVENT
BEGIN:VEVENT
DTSTART;TZID=America/New_York:20271118T200000
DTEND;TZID=America/New_York:20271118T200000
DTSTAMP:20260419T171013
CREATED:20250318T142048Z
LAST-MODIFIED:20250318T142048Z
UID:10031948-1826568000-1826568000@downtowndayton.org
SUMMARY:Music Bingo Thursdays
DESCRIPTION:We have music bingo every Thursday! It’s free to play\, lots of fun\, hosted by KG\, and there are prizes galore. Come check it out!
URL:https://downtowndayton.org/event/music-bingo-thursdays/2027-11-18/
LOCATION:The Trolley Stop\, 530 E. Fifth St.\, Dayton\, OH\, 45402\, USA
ATTACH;FMTTYPE=image/jpeg:https://downtowndayton.org/wp-content/uploads/2025/03/trolley.jpg
END:VEVENT
BEGIN:VEVENT
DTSTART;TZID=America/New_York:20271125T200000
DTEND;TZID=America/New_York:20271125T200000
DTSTAMP:20260419T171013
CREATED:20250318T142048Z
LAST-MODIFIED:20250318T142048Z
UID:10031949-1827172800-1827172800@downtowndayton.org
SUMMARY:Music Bingo Thursdays
DESCRIPTION:We have music bingo every Thursday! It’s free to play\, lots of fun\, hosted by KG\, and there are prizes galore. Come check it out!
URL:https://downtowndayton.org/event/music-bingo-thursdays/2027-11-25/
LOCATION:The Trolley Stop\, 530 E. Fifth St.\, Dayton\, OH\, 45402\, USA
ATTACH;FMTTYPE=image/jpeg:https://downtowndayton.org/wp-content/uploads/2025/03/trolley.jpg
END:VEVENT
BEGIN:VEVENT
DTSTART;TZID=America/New_York:20271202T200000
DTEND;TZID=America/New_York:20271202T200000
DTSTAMP:20260419T171013
CREATED:20250318T142048Z
LAST-MODIFIED:20250318T142048Z
UID:10031950-1827777600-1827777600@downtowndayton.org
SUMMARY:Music Bingo Thursdays
DESCRIPTION:We have music bingo every Thursday! It’s free to play\, lots of fun\, hosted by KG\, and there are prizes galore. Come check it out!
URL:https://downtowndayton.org/event/music-bingo-thursdays/2027-12-02/
LOCATION:The Trolley Stop\, 530 E. Fifth St.\, Dayton\, OH\, 45402\, USA
ATTACH;FMTTYPE=image/jpeg:https://downtowndayton.org/wp-content/uploads/2025/03/trolley.jpg
END:VEVENT
BEGIN:VEVENT
DTSTART;TZID=America/New_York:20271209T200000
DTEND;TZID=America/New_York:20271209T200000
DTSTAMP:20260419T171013
CREATED:20250318T142048Z
LAST-MODIFIED:20250318T142048Z
UID:10031951-1828382400-1828382400@downtowndayton.org
SUMMARY:Music Bingo Thursdays
DESCRIPTION:We have music bingo every Thursday! It’s free to play\, lots of fun\, hosted by KG\, and there are prizes galore. Come check it out!
URL:https://downtowndayton.org/event/music-bingo-thursdays/2027-12-09/
LOCATION:The Trolley Stop\, 530 E. Fifth St.\, Dayton\, OH\, 45402\, USA
ATTACH;FMTTYPE=image/jpeg:https://downtowndayton.org/wp-content/uploads/2025/03/trolley.jpg
END:VEVENT
BEGIN:VEVENT
DTSTART;TZID=America/New_York:20271216T200000
DTEND;TZID=America/New_York:20271216T200000
DTSTAMP:20260419T171013
CREATED:20250318T142048Z
LAST-MODIFIED:20250318T142048Z
UID:10031952-1828987200-1828987200@downtowndayton.org
SUMMARY:Music Bingo Thursdays
DESCRIPTION:We have music bingo every Thursday! It’s free to play\, lots of fun\, hosted by KG\, and there are prizes galore. Come check it out!
URL:https://downtowndayton.org/event/music-bingo-thursdays/2027-12-16/
LOCATION:The Trolley Stop\, 530 E. Fifth St.\, Dayton\, OH\, 45402\, USA
ATTACH;FMTTYPE=image/jpeg:https://downtowndayton.org/wp-content/uploads/2025/03/trolley.jpg
END:VEVENT
BEGIN:VEVENT
DTSTART;TZID=America/New_York:20271223T200000
DTEND;TZID=America/New_York:20271223T200000
DTSTAMP:20260419T171013
CREATED:20250318T142048Z
LAST-MODIFIED:20250318T142048Z
UID:10031953-1829592000-1829592000@downtowndayton.org
SUMMARY:Music Bingo Thursdays
DESCRIPTION:We have music bingo every Thursday! It’s free to play\, lots of fun\, hosted by KG\, and there are prizes galore. Come check it out!
URL:https://downtowndayton.org/event/music-bingo-thursdays/2027-12-23/
LOCATION:The Trolley Stop\, 530 E. Fifth St.\, Dayton\, OH\, 45402\, USA
ATTACH;FMTTYPE=image/jpeg:https://downtowndayton.org/wp-content/uploads/2025/03/trolley.jpg
END:VEVENT
BEGIN:VEVENT
DTSTART;TZID=America/New_York:20271230T200000
DTEND;TZID=America/New_York:20271230T200000
DTSTAMP:20260419T171013
CREATED:20250318T142048Z
LAST-MODIFIED:20250318T142048Z
UID:10031954-1830196800-1830196800@downtowndayton.org
SUMMARY:Music Bingo Thursdays
DESCRIPTION:We have music bingo every Thursday! It’s free to play\, lots of fun\, hosted by KG\, and there are prizes galore. Come check it out!
URL:https://downtowndayton.org/event/music-bingo-thursdays/2027-12-30/
LOCATION:The Trolley Stop\, 530 E. Fifth St.\, Dayton\, OH\, 45402\, USA
ATTACH;FMTTYPE=image/jpeg:https://downtowndayton.org/wp-content/uploads/2025/03/trolley.jpg
END:VEVENT
BEGIN:VEVENT
DTSTART;TZID=America/New_York:20280106T200000
DTEND;TZID=America/New_York:20280106T200000
DTSTAMP:20260419T171013
CREATED:20250318T142048Z
LAST-MODIFIED:20250318T142048Z
UID:10031955-1830801600-1830801600@downtowndayton.org
SUMMARY:Music Bingo Thursdays
DESCRIPTION:We have music bingo every Thursday! It’s free to play\, lots of fun\, hosted by KG\, and there are prizes galore. Come check it out!
URL:https://downtowndayton.org/event/music-bingo-thursdays/2028-01-06/
LOCATION:The Trolley Stop\, 530 E. Fifth St.\, Dayton\, OH\, 45402\, USA
ATTACH;FMTTYPE=image/jpeg:https://downtowndayton.org/wp-content/uploads/2025/03/trolley.jpg
END:VEVENT
END:VCALENDAR