BEGIN:VCALENDAR
VERSION:2.0
PRODID:-//Downtown Dayton Partnership - ECPv6.8.1//NONSGML v1.0//EN
CALSCALE:GREGORIAN
METHOD:PUBLISH
X-WR-CALNAME:Downtown Dayton Partnership
X-ORIGINAL-URL:https://downtowndayton.org
X-WR-CALDESC:Events for Downtown Dayton Partnership
REFRESH-INTERVAL;VALUE=DURATION:PT1H
X-Robots-Tag:noindex
X-PUBLISHED-TTL:PT1H
BEGIN:VTIMEZONE
TZID:America/New_York
BEGIN:DAYLIGHT
TZOFFSETFROM:-0500
TZOFFSETTO:-0400
TZNAME:EDT
DTSTART:20270314T070000
END:DAYLIGHT
BEGIN:STANDARD
TZOFFSETFROM:-0400
TZOFFSETTO:-0500
TZNAME:EST
DTSTART:20271107T060000
END:STANDARD
BEGIN:DAYLIGHT
TZOFFSETFROM:-0500
TZOFFSETTO:-0400
TZNAME:EDT
DTSTART:20280312T070000
END:DAYLIGHT
BEGIN:STANDARD
TZOFFSETFROM:-0400
TZOFFSETTO:-0500
TZNAME:EST
DTSTART:20281105T060000
END:STANDARD
END:VTIMEZONE
BEGIN:VEVENT
DTSTART;TZID=America/New_York:20271103T190000
DTEND;TZID=America/New_York:20271103T230000
DTSTAMP:20260419T112452
CREATED:20250528T120940Z
LAST-MODIFIED:20250925T123704Z
UID:10036693-1825268400-1825282800@downtowndayton.org
SUMMARY:Wu-Tang Wednesdays
DESCRIPTION:Dayton’s legendary Ike B spins old school hip hop and whateva else he wants.
URL:https://downtowndayton.org/event/whateva-wednesdays/2027-11-03/
LOCATION:The Barrel House\, 417 E. Third St.\, Dayton\, OH\, 45402\, United States
ATTACH;FMTTYPE=image/jpeg:https://downtowndayton.org/wp-content/uploads/2025/05/wu.jpg
END:VEVENT
BEGIN:VEVENT
DTSTART;TZID=America/New_York:20271110T190000
DTEND;TZID=America/New_York:20271110T230000
DTSTAMP:20260419T112452
CREATED:20250528T120940Z
LAST-MODIFIED:20250925T123704Z
UID:10036694-1825873200-1825887600@downtowndayton.org
SUMMARY:Wu-Tang Wednesdays
DESCRIPTION:Dayton’s legendary Ike B spins old school hip hop and whateva else he wants.
URL:https://downtowndayton.org/event/whateva-wednesdays/2027-11-10/
LOCATION:The Barrel House\, 417 E. Third St.\, Dayton\, OH\, 45402\, United States
ATTACH;FMTTYPE=image/jpeg:https://downtowndayton.org/wp-content/uploads/2025/05/wu.jpg
END:VEVENT
BEGIN:VEVENT
DTSTART;TZID=America/New_York:20271117T190000
DTEND;TZID=America/New_York:20271117T230000
DTSTAMP:20260419T112452
CREATED:20250528T120940Z
LAST-MODIFIED:20250925T123704Z
UID:10036695-1826478000-1826492400@downtowndayton.org
SUMMARY:Wu-Tang Wednesdays
DESCRIPTION:Dayton’s legendary Ike B spins old school hip hop and whateva else he wants.
URL:https://downtowndayton.org/event/whateva-wednesdays/2027-11-17/
LOCATION:The Barrel House\, 417 E. Third St.\, Dayton\, OH\, 45402\, United States
ATTACH;FMTTYPE=image/jpeg:https://downtowndayton.org/wp-content/uploads/2025/05/wu.jpg
END:VEVENT
BEGIN:VEVENT
DTSTART;TZID=America/New_York:20271124T190000
DTEND;TZID=America/New_York:20271124T230000
DTSTAMP:20260419T112452
CREATED:20250528T120940Z
LAST-MODIFIED:20250925T123704Z
UID:10036696-1827082800-1827097200@downtowndayton.org
SUMMARY:Wu-Tang Wednesdays
DESCRIPTION:Dayton’s legendary Ike B spins old school hip hop and whateva else he wants.
URL:https://downtowndayton.org/event/whateva-wednesdays/2027-11-24/
LOCATION:The Barrel House\, 417 E. Third St.\, Dayton\, OH\, 45402\, United States
ATTACH;FMTTYPE=image/jpeg:https://downtowndayton.org/wp-content/uploads/2025/05/wu.jpg
END:VEVENT
BEGIN:VEVENT
DTSTART;TZID=America/New_York:20271201T190000
DTEND;TZID=America/New_York:20271201T230000
DTSTAMP:20260419T112452
CREATED:20250528T120940Z
LAST-MODIFIED:20250925T123704Z
UID:10036697-1827687600-1827702000@downtowndayton.org
SUMMARY:Wu-Tang Wednesdays
DESCRIPTION:Dayton’s legendary Ike B spins old school hip hop and whateva else he wants.
URL:https://downtowndayton.org/event/whateva-wednesdays/2027-12-01/
LOCATION:The Barrel House\, 417 E. Third St.\, Dayton\, OH\, 45402\, United States
ATTACH;FMTTYPE=image/jpeg:https://downtowndayton.org/wp-content/uploads/2025/05/wu.jpg
END:VEVENT
BEGIN:VEVENT
DTSTART;TZID=America/New_York:20271208T190000
DTEND;TZID=America/New_York:20271208T230000
DTSTAMP:20260419T112452
CREATED:20250528T120940Z
LAST-MODIFIED:20250925T123704Z
UID:10036698-1828292400-1828306800@downtowndayton.org
SUMMARY:Wu-Tang Wednesdays
DESCRIPTION:Dayton’s legendary Ike B spins old school hip hop and whateva else he wants.
URL:https://downtowndayton.org/event/whateva-wednesdays/2027-12-08/
LOCATION:The Barrel House\, 417 E. Third St.\, Dayton\, OH\, 45402\, United States
ATTACH;FMTTYPE=image/jpeg:https://downtowndayton.org/wp-content/uploads/2025/05/wu.jpg
END:VEVENT
BEGIN:VEVENT
DTSTART;TZID=America/New_York:20271215T190000
DTEND;TZID=America/New_York:20271215T230000
DTSTAMP:20260419T112453
CREATED:20250528T120940Z
LAST-MODIFIED:20250925T123704Z
UID:10036699-1828897200-1828911600@downtowndayton.org
SUMMARY:Wu-Tang Wednesdays
DESCRIPTION:Dayton’s legendary Ike B spins old school hip hop and whateva else he wants.
URL:https://downtowndayton.org/event/whateva-wednesdays/2027-12-15/
LOCATION:The Barrel House\, 417 E. Third St.\, Dayton\, OH\, 45402\, United States
ATTACH;FMTTYPE=image/jpeg:https://downtowndayton.org/wp-content/uploads/2025/05/wu.jpg
END:VEVENT
BEGIN:VEVENT
DTSTART;TZID=America/New_York:20271222T190000
DTEND;TZID=America/New_York:20271222T230000
DTSTAMP:20260419T112453
CREATED:20250528T120940Z
LAST-MODIFIED:20250925T123704Z
UID:10036700-1829502000-1829516400@downtowndayton.org
SUMMARY:Wu-Tang Wednesdays
DESCRIPTION:Dayton’s legendary Ike B spins old school hip hop and whateva else he wants.
URL:https://downtowndayton.org/event/whateva-wednesdays/2027-12-22/
LOCATION:The Barrel House\, 417 E. Third St.\, Dayton\, OH\, 45402\, United States
ATTACH;FMTTYPE=image/jpeg:https://downtowndayton.org/wp-content/uploads/2025/05/wu.jpg
END:VEVENT
BEGIN:VEVENT
DTSTART;TZID=America/New_York:20271229T190000
DTEND;TZID=America/New_York:20271229T230000
DTSTAMP:20260419T112453
CREATED:20250528T120940Z
LAST-MODIFIED:20250925T123704Z
UID:10036701-1830106800-1830121200@downtowndayton.org
SUMMARY:Wu-Tang Wednesdays
DESCRIPTION:Dayton’s legendary Ike B spins old school hip hop and whateva else he wants.
URL:https://downtowndayton.org/event/whateva-wednesdays/2027-12-29/
LOCATION:The Barrel House\, 417 E. Third St.\, Dayton\, OH\, 45402\, United States
ATTACH;FMTTYPE=image/jpeg:https://downtowndayton.org/wp-content/uploads/2025/05/wu.jpg
END:VEVENT
BEGIN:VEVENT
DTSTART;TZID=America/New_York:20280105T190000
DTEND;TZID=America/New_York:20280105T230000
DTSTAMP:20260419T112453
CREATED:20250528T120940Z
LAST-MODIFIED:20250925T123704Z
UID:10036702-1830711600-1830726000@downtowndayton.org
SUMMARY:Wu-Tang Wednesdays
DESCRIPTION:Dayton’s legendary Ike B spins old school hip hop and whateva else he wants.
URL:https://downtowndayton.org/event/whateva-wednesdays/2028-01-05/
LOCATION:The Barrel House\, 417 E. Third St.\, Dayton\, OH\, 45402\, United States
ATTACH;FMTTYPE=image/jpeg:https://downtowndayton.org/wp-content/uploads/2025/05/wu.jpg
END:VEVENT
BEGIN:VEVENT
DTSTART;TZID=America/New_York:20280112T190000
DTEND;TZID=America/New_York:20280112T230000
DTSTAMP:20260419T112453
CREATED:20250528T120940Z
LAST-MODIFIED:20250925T123704Z
UID:10036703-1831316400-1831330800@downtowndayton.org
SUMMARY:Wu-Tang Wednesdays
DESCRIPTION:Dayton’s legendary Ike B spins old school hip hop and whateva else he wants.
URL:https://downtowndayton.org/event/whateva-wednesdays/2028-01-12/
LOCATION:The Barrel House\, 417 E. Third St.\, Dayton\, OH\, 45402\, United States
ATTACH;FMTTYPE=image/jpeg:https://downtowndayton.org/wp-content/uploads/2025/05/wu.jpg
END:VEVENT
BEGIN:VEVENT
DTSTART;TZID=America/New_York:20280119T190000
DTEND;TZID=America/New_York:20280119T230000
DTSTAMP:20260419T112453
CREATED:20250528T120940Z
LAST-MODIFIED:20250925T123704Z
UID:10036704-1831921200-1831935600@downtowndayton.org
SUMMARY:Wu-Tang Wednesdays
DESCRIPTION:Dayton’s legendary Ike B spins old school hip hop and whateva else he wants.
URL:https://downtowndayton.org/event/whateva-wednesdays/2028-01-19/
LOCATION:The Barrel House\, 417 E. Third St.\, Dayton\, OH\, 45402\, United States
ATTACH;FMTTYPE=image/jpeg:https://downtowndayton.org/wp-content/uploads/2025/05/wu.jpg
END:VEVENT
BEGIN:VEVENT
DTSTART;TZID=America/New_York:20280126T190000
DTEND;TZID=America/New_York:20280126T230000
DTSTAMP:20260419T112453
CREATED:20250528T120940Z
LAST-MODIFIED:20250925T123704Z
UID:10036705-1832526000-1832540400@downtowndayton.org
SUMMARY:Wu-Tang Wednesdays
DESCRIPTION:Dayton’s legendary Ike B spins old school hip hop and whateva else he wants.
URL:https://downtowndayton.org/event/whateva-wednesdays/2028-01-26/
LOCATION:The Barrel House\, 417 E. Third St.\, Dayton\, OH\, 45402\, United States
ATTACH;FMTTYPE=image/jpeg:https://downtowndayton.org/wp-content/uploads/2025/05/wu.jpg
END:VEVENT
BEGIN:VEVENT
DTSTART;TZID=America/New_York:20280202T190000
DTEND;TZID=America/New_York:20280202T230000
DTSTAMP:20260419T112453
CREATED:20250528T120940Z
LAST-MODIFIED:20250925T123704Z
UID:10036706-1833130800-1833145200@downtowndayton.org
SUMMARY:Wu-Tang Wednesdays
DESCRIPTION:Dayton’s legendary Ike B spins old school hip hop and whateva else he wants.
URL:https://downtowndayton.org/event/whateva-wednesdays/2028-02-02/
LOCATION:The Barrel House\, 417 E. Third St.\, Dayton\, OH\, 45402\, United States
ATTACH;FMTTYPE=image/jpeg:https://downtowndayton.org/wp-content/uploads/2025/05/wu.jpg
END:VEVENT
BEGIN:VEVENT
DTSTART;TZID=America/New_York:20280209T190000
DTEND;TZID=America/New_York:20280209T230000
DTSTAMP:20260419T112453
CREATED:20250528T120940Z
LAST-MODIFIED:20250925T123704Z
UID:10036707-1833735600-1833750000@downtowndayton.org
SUMMARY:Wu-Tang Wednesdays
DESCRIPTION:Dayton’s legendary Ike B spins old school hip hop and whateva else he wants.
URL:https://downtowndayton.org/event/whateva-wednesdays/2028-02-09/
LOCATION:The Barrel House\, 417 E. Third St.\, Dayton\, OH\, 45402\, United States
ATTACH;FMTTYPE=image/jpeg:https://downtowndayton.org/wp-content/uploads/2025/05/wu.jpg
END:VEVENT
BEGIN:VEVENT
DTSTART;TZID=America/New_York:20280216T190000
DTEND;TZID=America/New_York:20280216T230000
DTSTAMP:20260419T112453
CREATED:20250528T120940Z
LAST-MODIFIED:20250925T123704Z
UID:10036708-1834340400-1834354800@downtowndayton.org
SUMMARY:Wu-Tang Wednesdays
DESCRIPTION:Dayton’s legendary Ike B spins old school hip hop and whateva else he wants.
URL:https://downtowndayton.org/event/whateva-wednesdays/2028-02-16/
LOCATION:The Barrel House\, 417 E. Third St.\, Dayton\, OH\, 45402\, United States
ATTACH;FMTTYPE=image/jpeg:https://downtowndayton.org/wp-content/uploads/2025/05/wu.jpg
END:VEVENT
BEGIN:VEVENT
DTSTART;TZID=America/New_York:20280223T190000
DTEND;TZID=America/New_York:20280223T230000
DTSTAMP:20260419T112453
CREATED:20250528T120940Z
LAST-MODIFIED:20250925T123704Z
UID:10036709-1834945200-1834959600@downtowndayton.org
SUMMARY:Wu-Tang Wednesdays
DESCRIPTION:Dayton’s legendary Ike B spins old school hip hop and whateva else he wants.
URL:https://downtowndayton.org/event/whateva-wednesdays/2028-02-23/
LOCATION:The Barrel House\, 417 E. Third St.\, Dayton\, OH\, 45402\, United States
ATTACH;FMTTYPE=image/jpeg:https://downtowndayton.org/wp-content/uploads/2025/05/wu.jpg
END:VEVENT
BEGIN:VEVENT
DTSTART;TZID=America/New_York:20280301T190000
DTEND;TZID=America/New_York:20280301T230000
DTSTAMP:20260419T112453
CREATED:20250528T120940Z
LAST-MODIFIED:20250925T123704Z
UID:10036710-1835550000-1835564400@downtowndayton.org
SUMMARY:Wu-Tang Wednesdays
DESCRIPTION:Dayton’s legendary Ike B spins old school hip hop and whateva else he wants.
URL:https://downtowndayton.org/event/whateva-wednesdays/2028-03-01/
LOCATION:The Barrel House\, 417 E. Third St.\, Dayton\, OH\, 45402\, United States
ATTACH;FMTTYPE=image/jpeg:https://downtowndayton.org/wp-content/uploads/2025/05/wu.jpg
END:VEVENT
BEGIN:VEVENT
DTSTART;TZID=America/New_York:20280308T190000
DTEND;TZID=America/New_York:20280308T230000
DTSTAMP:20260419T112453
CREATED:20250528T120940Z
LAST-MODIFIED:20250925T123704Z
UID:10036711-1836154800-1836169200@downtowndayton.org
SUMMARY:Wu-Tang Wednesdays
DESCRIPTION:Dayton’s legendary Ike B spins old school hip hop and whateva else he wants.
URL:https://downtowndayton.org/event/whateva-wednesdays/2028-03-08/
LOCATION:The Barrel House\, 417 E. Third St.\, Dayton\, OH\, 45402\, United States
ATTACH;FMTTYPE=image/jpeg:https://downtowndayton.org/wp-content/uploads/2025/05/wu.jpg
END:VEVENT
BEGIN:VEVENT
DTSTART;TZID=America/New_York:20280315T190000
DTEND;TZID=America/New_York:20280315T230000
DTSTAMP:20260419T112453
CREATED:20250528T120940Z
LAST-MODIFIED:20250925T123704Z
UID:10036712-1836759600-1836774000@downtowndayton.org
SUMMARY:Wu-Tang Wednesdays
DESCRIPTION:Dayton’s legendary Ike B spins old school hip hop and whateva else he wants.
URL:https://downtowndayton.org/event/whateva-wednesdays/2028-03-15/
LOCATION:The Barrel House\, 417 E. Third St.\, Dayton\, OH\, 45402\, United States
ATTACH;FMTTYPE=image/jpeg:https://downtowndayton.org/wp-content/uploads/2025/05/wu.jpg
END:VEVENT
BEGIN:VEVENT
DTSTART;TZID=America/New_York:20280322T190000
DTEND;TZID=America/New_York:20280322T230000
DTSTAMP:20260419T112453
CREATED:20250528T120940Z
LAST-MODIFIED:20250925T123704Z
UID:10036713-1837364400-1837378800@downtowndayton.org
SUMMARY:Wu-Tang Wednesdays
DESCRIPTION:Dayton’s legendary Ike B spins old school hip hop and whateva else he wants.
URL:https://downtowndayton.org/event/whateva-wednesdays/2028-03-22/
LOCATION:The Barrel House\, 417 E. Third St.\, Dayton\, OH\, 45402\, United States
ATTACH;FMTTYPE=image/jpeg:https://downtowndayton.org/wp-content/uploads/2025/05/wu.jpg
END:VEVENT
BEGIN:VEVENT
DTSTART;TZID=America/New_York:20280329T190000
DTEND;TZID=America/New_York:20280329T230000
DTSTAMP:20260419T112453
CREATED:20250528T120940Z
LAST-MODIFIED:20250925T123704Z
UID:10036714-1837969200-1837983600@downtowndayton.org
SUMMARY:Wu-Tang Wednesdays
DESCRIPTION:Dayton’s legendary Ike B spins old school hip hop and whateva else he wants.
URL:https://downtowndayton.org/event/whateva-wednesdays/2028-03-29/
LOCATION:The Barrel House\, 417 E. Third St.\, Dayton\, OH\, 45402\, United States
ATTACH;FMTTYPE=image/jpeg:https://downtowndayton.org/wp-content/uploads/2025/05/wu.jpg
END:VEVENT
BEGIN:VEVENT
DTSTART;TZID=America/New_York:20280405T190000
DTEND;TZID=America/New_York:20280405T230000
DTSTAMP:20260419T112453
CREATED:20250528T120940Z
LAST-MODIFIED:20250925T123704Z
UID:10036715-1838574000-1838588400@downtowndayton.org
SUMMARY:Wu-Tang Wednesdays
DESCRIPTION:Dayton’s legendary Ike B spins old school hip hop and whateva else he wants.
URL:https://downtowndayton.org/event/whateva-wednesdays/2028-04-05/
LOCATION:The Barrel House\, 417 E. Third St.\, Dayton\, OH\, 45402\, United States
ATTACH;FMTTYPE=image/jpeg:https://downtowndayton.org/wp-content/uploads/2025/05/wu.jpg
END:VEVENT
BEGIN:VEVENT
DTSTART;TZID=America/New_York:20280412T190000
DTEND;TZID=America/New_York:20280412T230000
DTSTAMP:20260419T112453
CREATED:20250528T120940Z
LAST-MODIFIED:20250925T123704Z
UID:10036716-1839178800-1839193200@downtowndayton.org
SUMMARY:Wu-Tang Wednesdays
DESCRIPTION:Dayton’s legendary Ike B spins old school hip hop and whateva else he wants.
URL:https://downtowndayton.org/event/whateva-wednesdays/2028-04-12/
LOCATION:The Barrel House\, 417 E. Third St.\, Dayton\, OH\, 45402\, United States
ATTACH;FMTTYPE=image/jpeg:https://downtowndayton.org/wp-content/uploads/2025/05/wu.jpg
END:VEVENT
BEGIN:VEVENT
DTSTART;TZID=America/New_York:20280419T190000
DTEND;TZID=America/New_York:20280419T230000
DTSTAMP:20260419T112453
CREATED:20250528T120940Z
LAST-MODIFIED:20250925T123704Z
UID:10036717-1839783600-1839798000@downtowndayton.org
SUMMARY:Wu-Tang Wednesdays
DESCRIPTION:Dayton’s legendary Ike B spins old school hip hop and whateva else he wants.
URL:https://downtowndayton.org/event/whateva-wednesdays/2028-04-19/
LOCATION:The Barrel House\, 417 E. Third St.\, Dayton\, OH\, 45402\, United States
ATTACH;FMTTYPE=image/jpeg:https://downtowndayton.org/wp-content/uploads/2025/05/wu.jpg
END:VEVENT
BEGIN:VEVENT
DTSTART;TZID=America/New_York:20280426T190000
DTEND;TZID=America/New_York:20280426T230000
DTSTAMP:20260419T112453
CREATED:20250528T120940Z
LAST-MODIFIED:20250925T123704Z
UID:10036718-1840388400-1840402800@downtowndayton.org
SUMMARY:Wu-Tang Wednesdays
DESCRIPTION:Dayton’s legendary Ike B spins old school hip hop and whateva else he wants.
URL:https://downtowndayton.org/event/whateva-wednesdays/2028-04-26/
LOCATION:The Barrel House\, 417 E. Third St.\, Dayton\, OH\, 45402\, United States
ATTACH;FMTTYPE=image/jpeg:https://downtowndayton.org/wp-content/uploads/2025/05/wu.jpg
END:VEVENT
BEGIN:VEVENT
DTSTART;TZID=America/New_York:20280503T190000
DTEND;TZID=America/New_York:20280503T230000
DTSTAMP:20260419T112453
CREATED:20250528T120940Z
LAST-MODIFIED:20250925T123704Z
UID:10036719-1840993200-1841007600@downtowndayton.org
SUMMARY:Wu-Tang Wednesdays
DESCRIPTION:Dayton’s legendary Ike B spins old school hip hop and whateva else he wants.
URL:https://downtowndayton.org/event/whateva-wednesdays/2028-05-03/
LOCATION:The Barrel House\, 417 E. Third St.\, Dayton\, OH\, 45402\, United States
ATTACH;FMTTYPE=image/jpeg:https://downtowndayton.org/wp-content/uploads/2025/05/wu.jpg
END:VEVENT
BEGIN:VEVENT
DTSTART;TZID=America/New_York:20280510T190000
DTEND;TZID=America/New_York:20280510T230000
DTSTAMP:20260419T112453
CREATED:20250528T120940Z
LAST-MODIFIED:20250925T123704Z
UID:10036720-1841598000-1841612400@downtowndayton.org
SUMMARY:Wu-Tang Wednesdays
DESCRIPTION:Dayton’s legendary Ike B spins old school hip hop and whateva else he wants.
URL:https://downtowndayton.org/event/whateva-wednesdays/2028-05-10/
LOCATION:The Barrel House\, 417 E. Third St.\, Dayton\, OH\, 45402\, United States
ATTACH;FMTTYPE=image/jpeg:https://downtowndayton.org/wp-content/uploads/2025/05/wu.jpg
END:VEVENT
BEGIN:VEVENT
DTSTART;TZID=America/New_York:20280517T190000
DTEND;TZID=America/New_York:20280517T230000
DTSTAMP:20260419T112453
CREATED:20250528T120940Z
LAST-MODIFIED:20250925T123704Z
UID:10036721-1842202800-1842217200@downtowndayton.org
SUMMARY:Wu-Tang Wednesdays
DESCRIPTION:Dayton’s legendary Ike B spins old school hip hop and whateva else he wants.
URL:https://downtowndayton.org/event/whateva-wednesdays/2028-05-17/
LOCATION:The Barrel House\, 417 E. Third St.\, Dayton\, OH\, 45402\, United States
ATTACH;FMTTYPE=image/jpeg:https://downtowndayton.org/wp-content/uploads/2025/05/wu.jpg
END:VEVENT
BEGIN:VEVENT
DTSTART;TZID=America/New_York:20280524T190000
DTEND;TZID=America/New_York:20280524T230000
DTSTAMP:20260419T112453
CREATED:20250528T120940Z
LAST-MODIFIED:20250925T123704Z
UID:10036722-1842807600-1842822000@downtowndayton.org
SUMMARY:Wu-Tang Wednesdays
DESCRIPTION:Dayton’s legendary Ike B spins old school hip hop and whateva else he wants.
URL:https://downtowndayton.org/event/whateva-wednesdays/2028-05-24/
LOCATION:The Barrel House\, 417 E. Third St.\, Dayton\, OH\, 45402\, United States
ATTACH;FMTTYPE=image/jpeg:https://downtowndayton.org/wp-content/uploads/2025/05/wu.jpg
END:VEVENT
END:VCALENDAR