BEGIN:VCALENDAR
VERSION:2.0
PRODID:-//Downtown Dayton Partnership - ECPv6.8.1//NONSGML v1.0//EN
CALSCALE:GREGORIAN
METHOD:PUBLISH
X-ORIGINAL-URL:https://downtowndayton.org
X-WR-CALDESC:Events for Downtown Dayton Partnership
REFRESH-INTERVAL;VALUE=DURATION:PT1H
X-Robots-Tag:noindex
X-PUBLISHED-TTL:PT1H
BEGIN:VTIMEZONE
TZID:America/New_York
BEGIN:DAYLIGHT
TZOFFSETFROM:-0500
TZOFFSETTO:-0400
TZNAME:EDT
DTSTART:20280312T070000
END:DAYLIGHT
BEGIN:STANDARD
TZOFFSETFROM:-0400
TZOFFSETTO:-0500
TZNAME:EST
DTSTART:20281105T060000
END:STANDARD
END:VTIMEZONE
BEGIN:VEVENT
DTSTART;TZID=America/New_York:20280323T200000
DTEND;TZID=America/New_York:20280323T200000
DTSTAMP:20260419T171008
CREATED:20250318T142048Z
LAST-MODIFIED:20250318T142048Z
UID:10031966-1837454400-1837454400@downtowndayton.org
SUMMARY:Music Bingo Thursdays
DESCRIPTION:We have music bingo every Thursday! It’s free to play\, lots of fun\, hosted by KG\, and there are prizes galore. Come check it out!
URL:https://downtowndayton.org/event/music-bingo-thursdays/2028-03-23/
LOCATION:The Trolley Stop\, 530 E. Fifth St.\, Dayton\, OH\, 45402\, USA
ATTACH;FMTTYPE=image/jpeg:https://downtowndayton.org/wp-content/uploads/2025/03/trolley.jpg
END:VEVENT
BEGIN:VEVENT
DTSTART;TZID=America/New_York:20280330T200000
DTEND;TZID=America/New_York:20280330T200000
DTSTAMP:20260419T171008
CREATED:20250318T142048Z
LAST-MODIFIED:20250318T142048Z
UID:10031967-1838059200-1838059200@downtowndayton.org
SUMMARY:Music Bingo Thursdays
DESCRIPTION:We have music bingo every Thursday! It’s free to play\, lots of fun\, hosted by KG\, and there are prizes galore. Come check it out!
URL:https://downtowndayton.org/event/music-bingo-thursdays/2028-03-30/
LOCATION:The Trolley Stop\, 530 E. Fifth St.\, Dayton\, OH\, 45402\, USA
ATTACH;FMTTYPE=image/jpeg:https://downtowndayton.org/wp-content/uploads/2025/03/trolley.jpg
END:VEVENT
BEGIN:VEVENT
DTSTART;TZID=America/New_York:20280406T200000
DTEND;TZID=America/New_York:20280406T200000
DTSTAMP:20260419T171008
CREATED:20250318T142048Z
LAST-MODIFIED:20250318T142048Z
UID:10031968-1838664000-1838664000@downtowndayton.org
SUMMARY:Music Bingo Thursdays
DESCRIPTION:We have music bingo every Thursday! It’s free to play\, lots of fun\, hosted by KG\, and there are prizes galore. Come check it out!
URL:https://downtowndayton.org/event/music-bingo-thursdays/2028-04-06/
LOCATION:The Trolley Stop\, 530 E. Fifth St.\, Dayton\, OH\, 45402\, USA
ATTACH;FMTTYPE=image/jpeg:https://downtowndayton.org/wp-content/uploads/2025/03/trolley.jpg
END:VEVENT
BEGIN:VEVENT
DTSTART;TZID=America/New_York:20280413T200000
DTEND;TZID=America/New_York:20280413T200000
DTSTAMP:20260419T171008
CREATED:20250318T142048Z
LAST-MODIFIED:20250318T142048Z
UID:10031969-1839268800-1839268800@downtowndayton.org
SUMMARY:Music Bingo Thursdays
DESCRIPTION:We have music bingo every Thursday! It’s free to play\, lots of fun\, hosted by KG\, and there are prizes galore. Come check it out!
URL:https://downtowndayton.org/event/music-bingo-thursdays/2028-04-13/
LOCATION:The Trolley Stop\, 530 E. Fifth St.\, Dayton\, OH\, 45402\, USA
ATTACH;FMTTYPE=image/jpeg:https://downtowndayton.org/wp-content/uploads/2025/03/trolley.jpg
END:VEVENT
BEGIN:VEVENT
DTSTART;TZID=America/New_York:20280420T200000
DTEND;TZID=America/New_York:20280420T200000
DTSTAMP:20260419T171008
CREATED:20250318T142048Z
LAST-MODIFIED:20250318T142048Z
UID:10031970-1839873600-1839873600@downtowndayton.org
SUMMARY:Music Bingo Thursdays
DESCRIPTION:We have music bingo every Thursday! It’s free to play\, lots of fun\, hosted by KG\, and there are prizes galore. Come check it out!
URL:https://downtowndayton.org/event/music-bingo-thursdays/2028-04-20/
LOCATION:The Trolley Stop\, 530 E. Fifth St.\, Dayton\, OH\, 45402\, USA
ATTACH;FMTTYPE=image/jpeg:https://downtowndayton.org/wp-content/uploads/2025/03/trolley.jpg
END:VEVENT
BEGIN:VEVENT
DTSTART;TZID=America/New_York:20280427T200000
DTEND;TZID=America/New_York:20280427T200000
DTSTAMP:20260419T171008
CREATED:20250318T142048Z
LAST-MODIFIED:20250318T142048Z
UID:10031971-1840478400-1840478400@downtowndayton.org
SUMMARY:Music Bingo Thursdays
DESCRIPTION:We have music bingo every Thursday! It’s free to play\, lots of fun\, hosted by KG\, and there are prizes galore. Come check it out!
URL:https://downtowndayton.org/event/music-bingo-thursdays/2028-04-27/
LOCATION:The Trolley Stop\, 530 E. Fifth St.\, Dayton\, OH\, 45402\, USA
ATTACH;FMTTYPE=image/jpeg:https://downtowndayton.org/wp-content/uploads/2025/03/trolley.jpg
END:VEVENT
BEGIN:VEVENT
DTSTART;TZID=America/New_York:20280504T200000
DTEND;TZID=America/New_York:20280504T200000
DTSTAMP:20260419T171008
CREATED:20250318T142048Z
LAST-MODIFIED:20250318T142048Z
UID:10031972-1841083200-1841083200@downtowndayton.org
SUMMARY:Music Bingo Thursdays
DESCRIPTION:We have music bingo every Thursday! It’s free to play\, lots of fun\, hosted by KG\, and there are prizes galore. Come check it out!
URL:https://downtowndayton.org/event/music-bingo-thursdays/2028-05-04/
LOCATION:The Trolley Stop\, 530 E. Fifth St.\, Dayton\, OH\, 45402\, USA
ATTACH;FMTTYPE=image/jpeg:https://downtowndayton.org/wp-content/uploads/2025/03/trolley.jpg
END:VEVENT
BEGIN:VEVENT
DTSTART;TZID=America/New_York:20280511T200000
DTEND;TZID=America/New_York:20280511T200000
DTSTAMP:20260419T171008
CREATED:20250318T142048Z
LAST-MODIFIED:20250318T142048Z
UID:10031973-1841688000-1841688000@downtowndayton.org
SUMMARY:Music Bingo Thursdays
DESCRIPTION:We have music bingo every Thursday! It’s free to play\, lots of fun\, hosted by KG\, and there are prizes galore. Come check it out!
URL:https://downtowndayton.org/event/music-bingo-thursdays/2028-05-11/
LOCATION:The Trolley Stop\, 530 E. Fifth St.\, Dayton\, OH\, 45402\, USA
ATTACH;FMTTYPE=image/jpeg:https://downtowndayton.org/wp-content/uploads/2025/03/trolley.jpg
END:VEVENT
BEGIN:VEVENT
DTSTART;TZID=America/New_York:20280518T200000
DTEND;TZID=America/New_York:20280518T200000
DTSTAMP:20260419T171008
CREATED:20250318T142048Z
LAST-MODIFIED:20250318T142048Z
UID:10031974-1842292800-1842292800@downtowndayton.org
SUMMARY:Music Bingo Thursdays
DESCRIPTION:We have music bingo every Thursday! It’s free to play\, lots of fun\, hosted by KG\, and there are prizes galore. Come check it out!
URL:https://downtowndayton.org/event/music-bingo-thursdays/2028-05-18/
LOCATION:The Trolley Stop\, 530 E. Fifth St.\, Dayton\, OH\, 45402\, USA
ATTACH;FMTTYPE=image/jpeg:https://downtowndayton.org/wp-content/uploads/2025/03/trolley.jpg
END:VEVENT
BEGIN:VEVENT
DTSTART;TZID=America/New_York:20280525T200000
DTEND;TZID=America/New_York:20280525T200000
DTSTAMP:20260419T171008
CREATED:20250318T142048Z
LAST-MODIFIED:20250318T142048Z
UID:10031975-1842897600-1842897600@downtowndayton.org
SUMMARY:Music Bingo Thursdays
DESCRIPTION:We have music bingo every Thursday! It’s free to play\, lots of fun\, hosted by KG\, and there are prizes galore. Come check it out!
URL:https://downtowndayton.org/event/music-bingo-thursdays/2028-05-25/
LOCATION:The Trolley Stop\, 530 E. Fifth St.\, Dayton\, OH\, 45402\, USA
ATTACH;FMTTYPE=image/jpeg:https://downtowndayton.org/wp-content/uploads/2025/03/trolley.jpg
END:VEVENT
BEGIN:VEVENT
DTSTART;TZID=America/New_York:20280601T200000
DTEND;TZID=America/New_York:20280601T200000
DTSTAMP:20260419T171008
CREATED:20250318T142048Z
LAST-MODIFIED:20250318T142048Z
UID:10031976-1843502400-1843502400@downtowndayton.org
SUMMARY:Music Bingo Thursdays
DESCRIPTION:We have music bingo every Thursday! It’s free to play\, lots of fun\, hosted by KG\, and there are prizes galore. Come check it out!
URL:https://downtowndayton.org/event/music-bingo-thursdays/2028-06-01/
LOCATION:The Trolley Stop\, 530 E. Fifth St.\, Dayton\, OH\, 45402\, USA
ATTACH;FMTTYPE=image/jpeg:https://downtowndayton.org/wp-content/uploads/2025/03/trolley.jpg
END:VEVENT
BEGIN:VEVENT
DTSTART;TZID=America/New_York:20280608T200000
DTEND;TZID=America/New_York:20280608T200000
DTSTAMP:20260419T171008
CREATED:20250318T142048Z
LAST-MODIFIED:20250318T142048Z
UID:10031977-1844107200-1844107200@downtowndayton.org
SUMMARY:Music Bingo Thursdays
DESCRIPTION:We have music bingo every Thursday! It’s free to play\, lots of fun\, hosted by KG\, and there are prizes galore. Come check it out!
URL:https://downtowndayton.org/event/music-bingo-thursdays/2028-06-08/
LOCATION:The Trolley Stop\, 530 E. Fifth St.\, Dayton\, OH\, 45402\, USA
ATTACH;FMTTYPE=image/jpeg:https://downtowndayton.org/wp-content/uploads/2025/03/trolley.jpg
END:VEVENT
BEGIN:VEVENT
DTSTART;TZID=America/New_York:20280615T200000
DTEND;TZID=America/New_York:20280615T200000
DTSTAMP:20260419T171008
CREATED:20250318T142048Z
LAST-MODIFIED:20250318T142048Z
UID:10031978-1844712000-1844712000@downtowndayton.org
SUMMARY:Music Bingo Thursdays
DESCRIPTION:We have music bingo every Thursday! It’s free to play\, lots of fun\, hosted by KG\, and there are prizes galore. Come check it out!
URL:https://downtowndayton.org/event/music-bingo-thursdays/2028-06-15/
LOCATION:The Trolley Stop\, 530 E. Fifth St.\, Dayton\, OH\, 45402\, USA
ATTACH;FMTTYPE=image/jpeg:https://downtowndayton.org/wp-content/uploads/2025/03/trolley.jpg
END:VEVENT
BEGIN:VEVENT
DTSTART;TZID=America/New_York:20280622T200000
DTEND;TZID=America/New_York:20280622T200000
DTSTAMP:20260419T171008
CREATED:20250318T142048Z
LAST-MODIFIED:20250318T142048Z
UID:10031979-1845316800-1845316800@downtowndayton.org
SUMMARY:Music Bingo Thursdays
DESCRIPTION:We have music bingo every Thursday! It’s free to play\, lots of fun\, hosted by KG\, and there are prizes galore. Come check it out!
URL:https://downtowndayton.org/event/music-bingo-thursdays/2028-06-22/
LOCATION:The Trolley Stop\, 530 E. Fifth St.\, Dayton\, OH\, 45402\, USA
ATTACH;FMTTYPE=image/jpeg:https://downtowndayton.org/wp-content/uploads/2025/03/trolley.jpg
END:VEVENT
BEGIN:VEVENT
DTSTART;TZID=America/New_York:20280629T200000
DTEND;TZID=America/New_York:20280629T200000
DTSTAMP:20260419T171008
CREATED:20250318T142048Z
LAST-MODIFIED:20250318T142048Z
UID:10031980-1845921600-1845921600@downtowndayton.org
SUMMARY:Music Bingo Thursdays
DESCRIPTION:We have music bingo every Thursday! It’s free to play\, lots of fun\, hosted by KG\, and there are prizes galore. Come check it out!
URL:https://downtowndayton.org/event/music-bingo-thursdays/2028-06-29/
LOCATION:The Trolley Stop\, 530 E. Fifth St.\, Dayton\, OH\, 45402\, USA
ATTACH;FMTTYPE=image/jpeg:https://downtowndayton.org/wp-content/uploads/2025/03/trolley.jpg
END:VEVENT
BEGIN:VEVENT
DTSTART;TZID=America/New_York:20280706T200000
DTEND;TZID=America/New_York:20280706T200000
DTSTAMP:20260419T171008
CREATED:20250318T142048Z
LAST-MODIFIED:20250318T142048Z
UID:10031981-1846526400-1846526400@downtowndayton.org
SUMMARY:Music Bingo Thursdays
DESCRIPTION:We have music bingo every Thursday! It’s free to play\, lots of fun\, hosted by KG\, and there are prizes galore. Come check it out!
URL:https://downtowndayton.org/event/music-bingo-thursdays/2028-07-06/
LOCATION:The Trolley Stop\, 530 E. Fifth St.\, Dayton\, OH\, 45402\, USA
ATTACH;FMTTYPE=image/jpeg:https://downtowndayton.org/wp-content/uploads/2025/03/trolley.jpg
END:VEVENT
BEGIN:VEVENT
DTSTART;TZID=America/New_York:20280713T200000
DTEND;TZID=America/New_York:20280713T200000
DTSTAMP:20260419T171008
CREATED:20250318T142048Z
LAST-MODIFIED:20250318T142048Z
UID:10031982-1847131200-1847131200@downtowndayton.org
SUMMARY:Music Bingo Thursdays
DESCRIPTION:We have music bingo every Thursday! It’s free to play\, lots of fun\, hosted by KG\, and there are prizes galore. Come check it out!
URL:https://downtowndayton.org/event/music-bingo-thursdays/2028-07-13/
LOCATION:The Trolley Stop\, 530 E. Fifth St.\, Dayton\, OH\, 45402\, USA
ATTACH;FMTTYPE=image/jpeg:https://downtowndayton.org/wp-content/uploads/2025/03/trolley.jpg
END:VEVENT
BEGIN:VEVENT
DTSTART;TZID=America/New_York:20280720T200000
DTEND;TZID=America/New_York:20280720T200000
DTSTAMP:20260419T171008
CREATED:20250318T142048Z
LAST-MODIFIED:20250318T142048Z
UID:10031983-1847736000-1847736000@downtowndayton.org
SUMMARY:Music Bingo Thursdays
DESCRIPTION:We have music bingo every Thursday! It’s free to play\, lots of fun\, hosted by KG\, and there are prizes galore. Come check it out!
URL:https://downtowndayton.org/event/music-bingo-thursdays/2028-07-20/
LOCATION:The Trolley Stop\, 530 E. Fifth St.\, Dayton\, OH\, 45402\, USA
ATTACH;FMTTYPE=image/jpeg:https://downtowndayton.org/wp-content/uploads/2025/03/trolley.jpg
END:VEVENT
BEGIN:VEVENT
DTSTART;TZID=America/New_York:20280727T200000
DTEND;TZID=America/New_York:20280727T200000
DTSTAMP:20260419T171009
CREATED:20250318T142048Z
LAST-MODIFIED:20250318T142048Z
UID:10031984-1848340800-1848340800@downtowndayton.org
SUMMARY:Music Bingo Thursdays
DESCRIPTION:We have music bingo every Thursday! It’s free to play\, lots of fun\, hosted by KG\, and there are prizes galore. Come check it out!
URL:https://downtowndayton.org/event/music-bingo-thursdays/2028-07-27/
LOCATION:The Trolley Stop\, 530 E. Fifth St.\, Dayton\, OH\, 45402\, USA
ATTACH;FMTTYPE=image/jpeg:https://downtowndayton.org/wp-content/uploads/2025/03/trolley.jpg
END:VEVENT
BEGIN:VEVENT
DTSTART;TZID=America/New_York:20280803T200000
DTEND;TZID=America/New_York:20280803T200000
DTSTAMP:20260419T171009
CREATED:20250318T142048Z
LAST-MODIFIED:20250318T142048Z
UID:10031985-1848945600-1848945600@downtowndayton.org
SUMMARY:Music Bingo Thursdays
DESCRIPTION:We have music bingo every Thursday! It’s free to play\, lots of fun\, hosted by KG\, and there are prizes galore. Come check it out!
URL:https://downtowndayton.org/event/music-bingo-thursdays/2028-08-03/
LOCATION:The Trolley Stop\, 530 E. Fifth St.\, Dayton\, OH\, 45402\, USA
ATTACH;FMTTYPE=image/jpeg:https://downtowndayton.org/wp-content/uploads/2025/03/trolley.jpg
END:VEVENT
BEGIN:VEVENT
DTSTART;TZID=America/New_York:20280810T200000
DTEND;TZID=America/New_York:20280810T200000
DTSTAMP:20260419T171009
CREATED:20250318T142048Z
LAST-MODIFIED:20250318T142048Z
UID:10031986-1849550400-1849550400@downtowndayton.org
SUMMARY:Music Bingo Thursdays
DESCRIPTION:We have music bingo every Thursday! It’s free to play\, lots of fun\, hosted by KG\, and there are prizes galore. Come check it out!
URL:https://downtowndayton.org/event/music-bingo-thursdays/2028-08-10/
LOCATION:The Trolley Stop\, 530 E. Fifth St.\, Dayton\, OH\, 45402\, USA
ATTACH;FMTTYPE=image/jpeg:https://downtowndayton.org/wp-content/uploads/2025/03/trolley.jpg
END:VEVENT
BEGIN:VEVENT
DTSTART;TZID=America/New_York:20280817T200000
DTEND;TZID=America/New_York:20280817T200000
DTSTAMP:20260419T171009
CREATED:20250318T142048Z
LAST-MODIFIED:20250318T142048Z
UID:10031987-1850155200-1850155200@downtowndayton.org
SUMMARY:Music Bingo Thursdays
DESCRIPTION:We have music bingo every Thursday! It’s free to play\, lots of fun\, hosted by KG\, and there are prizes galore. Come check it out!
URL:https://downtowndayton.org/event/music-bingo-thursdays/2028-08-17/
LOCATION:The Trolley Stop\, 530 E. Fifth St.\, Dayton\, OH\, 45402\, USA
ATTACH;FMTTYPE=image/jpeg:https://downtowndayton.org/wp-content/uploads/2025/03/trolley.jpg
END:VEVENT
BEGIN:VEVENT
DTSTART;TZID=America/New_York:20280824T200000
DTEND;TZID=America/New_York:20280824T200000
DTSTAMP:20260419T171009
CREATED:20250318T142048Z
LAST-MODIFIED:20250318T142048Z
UID:10031988-1850760000-1850760000@downtowndayton.org
SUMMARY:Music Bingo Thursdays
DESCRIPTION:We have music bingo every Thursday! It’s free to play\, lots of fun\, hosted by KG\, and there are prizes galore. Come check it out!
URL:https://downtowndayton.org/event/music-bingo-thursdays/2028-08-24/
LOCATION:The Trolley Stop\, 530 E. Fifth St.\, Dayton\, OH\, 45402\, USA
ATTACH;FMTTYPE=image/jpeg:https://downtowndayton.org/wp-content/uploads/2025/03/trolley.jpg
END:VEVENT
BEGIN:VEVENT
DTSTART;TZID=America/New_York:20280831T200000
DTEND;TZID=America/New_York:20280831T200000
DTSTAMP:20260419T171009
CREATED:20250318T142048Z
LAST-MODIFIED:20250318T142048Z
UID:10031989-1851364800-1851364800@downtowndayton.org
SUMMARY:Music Bingo Thursdays
DESCRIPTION:We have music bingo every Thursday! It’s free to play\, lots of fun\, hosted by KG\, and there are prizes galore. Come check it out!
URL:https://downtowndayton.org/event/music-bingo-thursdays/2028-08-31/
LOCATION:The Trolley Stop\, 530 E. Fifth St.\, Dayton\, OH\, 45402\, USA
ATTACH;FMTTYPE=image/jpeg:https://downtowndayton.org/wp-content/uploads/2025/03/trolley.jpg
END:VEVENT
BEGIN:VEVENT
DTSTART;TZID=America/New_York:20280907T200000
DTEND;TZID=America/New_York:20280907T200000
DTSTAMP:20260419T171009
CREATED:20250318T142048Z
LAST-MODIFIED:20250318T142048Z
UID:10031990-1851969600-1851969600@downtowndayton.org
SUMMARY:Music Bingo Thursdays
DESCRIPTION:We have music bingo every Thursday! It’s free to play\, lots of fun\, hosted by KG\, and there are prizes galore. Come check it out!
URL:https://downtowndayton.org/event/music-bingo-thursdays/2028-09-07/
LOCATION:The Trolley Stop\, 530 E. Fifth St.\, Dayton\, OH\, 45402\, USA
ATTACH;FMTTYPE=image/jpeg:https://downtowndayton.org/wp-content/uploads/2025/03/trolley.jpg
END:VEVENT
BEGIN:VEVENT
DTSTART;TZID=America/New_York:20280914T200000
DTEND;TZID=America/New_York:20280914T200000
DTSTAMP:20260419T171009
CREATED:20250318T142048Z
LAST-MODIFIED:20250318T142048Z
UID:10031991-1852574400-1852574400@downtowndayton.org
SUMMARY:Music Bingo Thursdays
DESCRIPTION:We have music bingo every Thursday! It’s free to play\, lots of fun\, hosted by KG\, and there are prizes galore. Come check it out!
URL:https://downtowndayton.org/event/music-bingo-thursdays/2028-09-14/
LOCATION:The Trolley Stop\, 530 E. Fifth St.\, Dayton\, OH\, 45402\, USA
ATTACH;FMTTYPE=image/jpeg:https://downtowndayton.org/wp-content/uploads/2025/03/trolley.jpg
END:VEVENT
BEGIN:VEVENT
DTSTART;TZID=America/New_York:20280921T200000
DTEND;TZID=America/New_York:20280921T200000
DTSTAMP:20260419T171009
CREATED:20250318T142048Z
LAST-MODIFIED:20250318T142048Z
UID:10031992-1853179200-1853179200@downtowndayton.org
SUMMARY:Music Bingo Thursdays
DESCRIPTION:We have music bingo every Thursday! It’s free to play\, lots of fun\, hosted by KG\, and there are prizes galore. Come check it out!
URL:https://downtowndayton.org/event/music-bingo-thursdays/2028-09-21/
LOCATION:The Trolley Stop\, 530 E. Fifth St.\, Dayton\, OH\, 45402\, USA
ATTACH;FMTTYPE=image/jpeg:https://downtowndayton.org/wp-content/uploads/2025/03/trolley.jpg
END:VEVENT
BEGIN:VEVENT
DTSTART;TZID=America/New_York:20280928T200000
DTEND;TZID=America/New_York:20280928T200000
DTSTAMP:20260419T171009
CREATED:20250318T142048Z
LAST-MODIFIED:20250318T142048Z
UID:10031993-1853784000-1853784000@downtowndayton.org
SUMMARY:Music Bingo Thursdays
DESCRIPTION:We have music bingo every Thursday! It’s free to play\, lots of fun\, hosted by KG\, and there are prizes galore. Come check it out!
URL:https://downtowndayton.org/event/music-bingo-thursdays/2028-09-28/
LOCATION:The Trolley Stop\, 530 E. Fifth St.\, Dayton\, OH\, 45402\, USA
ATTACH;FMTTYPE=image/jpeg:https://downtowndayton.org/wp-content/uploads/2025/03/trolley.jpg
END:VEVENT
BEGIN:VEVENT
DTSTART;TZID=America/New_York:20281005T200000
DTEND;TZID=America/New_York:20281005T200000
DTSTAMP:20260419T171009
CREATED:20250318T142048Z
LAST-MODIFIED:20250318T142048Z
UID:10031994-1854388800-1854388800@downtowndayton.org
SUMMARY:Music Bingo Thursdays
DESCRIPTION:We have music bingo every Thursday! It’s free to play\, lots of fun\, hosted by KG\, and there are prizes galore. Come check it out!
URL:https://downtowndayton.org/event/music-bingo-thursdays/2028-10-05/
LOCATION:The Trolley Stop\, 530 E. Fifth St.\, Dayton\, OH\, 45402\, USA
ATTACH;FMTTYPE=image/jpeg:https://downtowndayton.org/wp-content/uploads/2025/03/trolley.jpg
END:VEVENT
BEGIN:VEVENT
DTSTART;TZID=America/New_York:20281012T200000
DTEND;TZID=America/New_York:20281012T200000
DTSTAMP:20260419T171009
CREATED:20250318T142048Z
LAST-MODIFIED:20250318T142048Z
UID:10031995-1854993600-1854993600@downtowndayton.org
SUMMARY:Music Bingo Thursdays
DESCRIPTION:We have music bingo every Thursday! It’s free to play\, lots of fun\, hosted by KG\, and there are prizes galore. Come check it out!
URL:https://downtowndayton.org/event/music-bingo-thursdays/2028-10-12/
LOCATION:The Trolley Stop\, 530 E. Fifth St.\, Dayton\, OH\, 45402\, USA
ATTACH;FMTTYPE=image/jpeg:https://downtowndayton.org/wp-content/uploads/2025/03/trolley.jpg
END:VEVENT
END:VCALENDAR