BEGIN:VCALENDAR
VERSION:2.0
PRODID:-//Downtown Dayton Partnership - ECPv6.8.1//NONSGML v1.0//EN
CALSCALE:GREGORIAN
METHOD:PUBLISH
X-WR-CALNAME:Downtown Dayton Partnership
X-ORIGINAL-URL:https://downtowndayton.org
X-WR-CALDESC:Events for Downtown Dayton Partnership
REFRESH-INTERVAL;VALUE=DURATION:PT1H
X-Robots-Tag:noindex
X-PUBLISHED-TTL:PT1H
BEGIN:VTIMEZONE
TZID:America/New_York
BEGIN:DAYLIGHT
TZOFFSETFROM:-0500
TZOFFSETTO:-0400
TZNAME:EDT
DTSTART:20280312T070000
END:DAYLIGHT
BEGIN:STANDARD
TZOFFSETFROM:-0400
TZOFFSETTO:-0500
TZNAME:EST
DTSTART:20281105T060000
END:STANDARD
BEGIN:DAYLIGHT
TZOFFSETFROM:-0500
TZOFFSETTO:-0400
TZNAME:EDT
DTSTART:20290311T070000
END:DAYLIGHT
BEGIN:STANDARD
TZOFFSETFROM:-0400
TZOFFSETTO:-0500
TZNAME:EST
DTSTART:20291104T060000
END:STANDARD
END:VTIMEZONE
BEGIN:VEVENT
DTSTART;TZID=America/New_York:20281227T190000
DTEND;TZID=America/New_York:20281227T230000
DTSTAMP:20260419T183353
CREATED:20250528T120940Z
LAST-MODIFIED:20250925T123704Z
UID:10036753-1861556400-1861570800@downtowndayton.org
SUMMARY:Wu-Tang Wednesdays
DESCRIPTION:Dayton’s legendary Ike B spins old school hip hop and whateva else he wants.
URL:https://downtowndayton.org/event/whateva-wednesdays/2028-12-27/
LOCATION:The Barrel House\, 417 E. Third St.\, Dayton\, OH\, 45402\, United States
ATTACH;FMTTYPE=image/jpeg:https://downtowndayton.org/wp-content/uploads/2025/05/wu.jpg
END:VEVENT
BEGIN:VEVENT
DTSTART;TZID=America/New_York:20290103T190000
DTEND;TZID=America/New_York:20290103T230000
DTSTAMP:20260419T183353
CREATED:20250528T120940Z
LAST-MODIFIED:20250925T123704Z
UID:10036754-1862161200-1862175600@downtowndayton.org
SUMMARY:Wu-Tang Wednesdays
DESCRIPTION:Dayton’s legendary Ike B spins old school hip hop and whateva else he wants.
URL:https://downtowndayton.org/event/whateva-wednesdays/2029-01-03/
LOCATION:The Barrel House\, 417 E. Third St.\, Dayton\, OH\, 45402\, United States
ATTACH;FMTTYPE=image/jpeg:https://downtowndayton.org/wp-content/uploads/2025/05/wu.jpg
END:VEVENT
BEGIN:VEVENT
DTSTART;TZID=America/New_York:20290110T190000
DTEND;TZID=America/New_York:20290110T230000
DTSTAMP:20260419T183353
CREATED:20250528T120940Z
LAST-MODIFIED:20250925T123704Z
UID:10036755-1862766000-1862780400@downtowndayton.org
SUMMARY:Wu-Tang Wednesdays
DESCRIPTION:Dayton’s legendary Ike B spins old school hip hop and whateva else he wants.
URL:https://downtowndayton.org/event/whateva-wednesdays/2029-01-10/
LOCATION:The Barrel House\, 417 E. Third St.\, Dayton\, OH\, 45402\, United States
ATTACH;FMTTYPE=image/jpeg:https://downtowndayton.org/wp-content/uploads/2025/05/wu.jpg
END:VEVENT
BEGIN:VEVENT
DTSTART;TZID=America/New_York:20290117T190000
DTEND;TZID=America/New_York:20290117T230000
DTSTAMP:20260419T183353
CREATED:20250528T120940Z
LAST-MODIFIED:20250925T123704Z
UID:10036756-1863370800-1863385200@downtowndayton.org
SUMMARY:Wu-Tang Wednesdays
DESCRIPTION:Dayton’s legendary Ike B spins old school hip hop and whateva else he wants.
URL:https://downtowndayton.org/event/whateva-wednesdays/2029-01-17/
LOCATION:The Barrel House\, 417 E. Third St.\, Dayton\, OH\, 45402\, United States
ATTACH;FMTTYPE=image/jpeg:https://downtowndayton.org/wp-content/uploads/2025/05/wu.jpg
END:VEVENT
BEGIN:VEVENT
DTSTART;TZID=America/New_York:20290124T190000
DTEND;TZID=America/New_York:20290124T230000
DTSTAMP:20260419T183353
CREATED:20250528T120940Z
LAST-MODIFIED:20250925T123704Z
UID:10036757-1863975600-1863990000@downtowndayton.org
SUMMARY:Wu-Tang Wednesdays
DESCRIPTION:Dayton’s legendary Ike B spins old school hip hop and whateva else he wants.
URL:https://downtowndayton.org/event/whateva-wednesdays/2029-01-24/
LOCATION:The Barrel House\, 417 E. Third St.\, Dayton\, OH\, 45402\, United States
ATTACH;FMTTYPE=image/jpeg:https://downtowndayton.org/wp-content/uploads/2025/05/wu.jpg
END:VEVENT
BEGIN:VEVENT
DTSTART;TZID=America/New_York:20290131T190000
DTEND;TZID=America/New_York:20290131T230000
DTSTAMP:20260419T183353
CREATED:20250528T120940Z
LAST-MODIFIED:20250925T123704Z
UID:10036758-1864580400-1864594800@downtowndayton.org
SUMMARY:Wu-Tang Wednesdays
DESCRIPTION:Dayton’s legendary Ike B spins old school hip hop and whateva else he wants.
URL:https://downtowndayton.org/event/whateva-wednesdays/2029-01-31/
LOCATION:The Barrel House\, 417 E. Third St.\, Dayton\, OH\, 45402\, United States
ATTACH;FMTTYPE=image/jpeg:https://downtowndayton.org/wp-content/uploads/2025/05/wu.jpg
END:VEVENT
BEGIN:VEVENT
DTSTART;TZID=America/New_York:20290207T190000
DTEND;TZID=America/New_York:20290207T230000
DTSTAMP:20260419T183353
CREATED:20250528T120940Z
LAST-MODIFIED:20250925T123704Z
UID:10036759-1865185200-1865199600@downtowndayton.org
SUMMARY:Wu-Tang Wednesdays
DESCRIPTION:Dayton’s legendary Ike B spins old school hip hop and whateva else he wants.
URL:https://downtowndayton.org/event/whateva-wednesdays/2029-02-07/
LOCATION:The Barrel House\, 417 E. Third St.\, Dayton\, OH\, 45402\, United States
ATTACH;FMTTYPE=image/jpeg:https://downtowndayton.org/wp-content/uploads/2025/05/wu.jpg
END:VEVENT
BEGIN:VEVENT
DTSTART;TZID=America/New_York:20290214T190000
DTEND;TZID=America/New_York:20290214T230000
DTSTAMP:20260419T183353
CREATED:20250528T120940Z
LAST-MODIFIED:20250925T123704Z
UID:10036760-1865790000-1865804400@downtowndayton.org
SUMMARY:Wu-Tang Wednesdays
DESCRIPTION:Dayton’s legendary Ike B spins old school hip hop and whateva else he wants.
URL:https://downtowndayton.org/event/whateva-wednesdays/2029-02-14/
LOCATION:The Barrel House\, 417 E. Third St.\, Dayton\, OH\, 45402\, United States
ATTACH;FMTTYPE=image/jpeg:https://downtowndayton.org/wp-content/uploads/2025/05/wu.jpg
END:VEVENT
BEGIN:VEVENT
DTSTART;TZID=America/New_York:20290221T190000
DTEND;TZID=America/New_York:20290221T230000
DTSTAMP:20260419T183353
CREATED:20250528T120940Z
LAST-MODIFIED:20250925T123704Z
UID:10036761-1866394800-1866409200@downtowndayton.org
SUMMARY:Wu-Tang Wednesdays
DESCRIPTION:Dayton’s legendary Ike B spins old school hip hop and whateva else he wants.
URL:https://downtowndayton.org/event/whateva-wednesdays/2029-02-21/
LOCATION:The Barrel House\, 417 E. Third St.\, Dayton\, OH\, 45402\, United States
ATTACH;FMTTYPE=image/jpeg:https://downtowndayton.org/wp-content/uploads/2025/05/wu.jpg
END:VEVENT
BEGIN:VEVENT
DTSTART;TZID=America/New_York:20290228T190000
DTEND;TZID=America/New_York:20290228T230000
DTSTAMP:20260419T183353
CREATED:20250528T120940Z
LAST-MODIFIED:20250925T123704Z
UID:10036762-1866999600-1867014000@downtowndayton.org
SUMMARY:Wu-Tang Wednesdays
DESCRIPTION:Dayton’s legendary Ike B spins old school hip hop and whateva else he wants.
URL:https://downtowndayton.org/event/whateva-wednesdays/2029-02-28/
LOCATION:The Barrel House\, 417 E. Third St.\, Dayton\, OH\, 45402\, United States
ATTACH;FMTTYPE=image/jpeg:https://downtowndayton.org/wp-content/uploads/2025/05/wu.jpg
END:VEVENT
BEGIN:VEVENT
DTSTART;TZID=America/New_York:20290307T190000
DTEND;TZID=America/New_York:20290307T230000
DTSTAMP:20260419T183353
CREATED:20250528T120940Z
LAST-MODIFIED:20250925T123704Z
UID:10036763-1867604400-1867618800@downtowndayton.org
SUMMARY:Wu-Tang Wednesdays
DESCRIPTION:Dayton’s legendary Ike B spins old school hip hop and whateva else he wants.
URL:https://downtowndayton.org/event/whateva-wednesdays/2029-03-07/
LOCATION:The Barrel House\, 417 E. Third St.\, Dayton\, OH\, 45402\, United States
ATTACH;FMTTYPE=image/jpeg:https://downtowndayton.org/wp-content/uploads/2025/05/wu.jpg
END:VEVENT
BEGIN:VEVENT
DTSTART;TZID=America/New_York:20290314T190000
DTEND;TZID=America/New_York:20290314T230000
DTSTAMP:20260419T183353
CREATED:20250528T120940Z
LAST-MODIFIED:20250925T123704Z
UID:10036764-1868209200-1868223600@downtowndayton.org
SUMMARY:Wu-Tang Wednesdays
DESCRIPTION:Dayton’s legendary Ike B spins old school hip hop and whateva else he wants.
URL:https://downtowndayton.org/event/whateva-wednesdays/2029-03-14/
LOCATION:The Barrel House\, 417 E. Third St.\, Dayton\, OH\, 45402\, United States
ATTACH;FMTTYPE=image/jpeg:https://downtowndayton.org/wp-content/uploads/2025/05/wu.jpg
END:VEVENT
BEGIN:VEVENT
DTSTART;TZID=America/New_York:20290321T190000
DTEND;TZID=America/New_York:20290321T230000
DTSTAMP:20260419T183353
CREATED:20250528T120940Z
LAST-MODIFIED:20250925T123704Z
UID:10036765-1868814000-1868828400@downtowndayton.org
SUMMARY:Wu-Tang Wednesdays
DESCRIPTION:Dayton’s legendary Ike B spins old school hip hop and whateva else he wants.
URL:https://downtowndayton.org/event/whateva-wednesdays/2029-03-21/
LOCATION:The Barrel House\, 417 E. Third St.\, Dayton\, OH\, 45402\, United States
ATTACH;FMTTYPE=image/jpeg:https://downtowndayton.org/wp-content/uploads/2025/05/wu.jpg
END:VEVENT
BEGIN:VEVENT
DTSTART;TZID=America/New_York:20290328T190000
DTEND;TZID=America/New_York:20290328T230000
DTSTAMP:20260419T183353
CREATED:20250528T120940Z
LAST-MODIFIED:20250925T123704Z
UID:10036766-1869418800-1869433200@downtowndayton.org
SUMMARY:Wu-Tang Wednesdays
DESCRIPTION:Dayton’s legendary Ike B spins old school hip hop and whateva else he wants.
URL:https://downtowndayton.org/event/whateva-wednesdays/2029-03-28/
LOCATION:The Barrel House\, 417 E. Third St.\, Dayton\, OH\, 45402\, United States
ATTACH;FMTTYPE=image/jpeg:https://downtowndayton.org/wp-content/uploads/2025/05/wu.jpg
END:VEVENT
BEGIN:VEVENT
DTSTART;TZID=America/New_York:20290404T190000
DTEND;TZID=America/New_York:20290404T230000
DTSTAMP:20260419T183353
CREATED:20250528T120940Z
LAST-MODIFIED:20250925T123704Z
UID:10036767-1870023600-1870038000@downtowndayton.org
SUMMARY:Wu-Tang Wednesdays
DESCRIPTION:Dayton’s legendary Ike B spins old school hip hop and whateva else he wants.
URL:https://downtowndayton.org/event/whateva-wednesdays/2029-04-04/
LOCATION:The Barrel House\, 417 E. Third St.\, Dayton\, OH\, 45402\, United States
ATTACH;FMTTYPE=image/jpeg:https://downtowndayton.org/wp-content/uploads/2025/05/wu.jpg
END:VEVENT
BEGIN:VEVENT
DTSTART;TZID=America/New_York:20290411T190000
DTEND;TZID=America/New_York:20290411T230000
DTSTAMP:20260419T183353
CREATED:20250528T120940Z
LAST-MODIFIED:20250925T123704Z
UID:10036768-1870628400-1870642800@downtowndayton.org
SUMMARY:Wu-Tang Wednesdays
DESCRIPTION:Dayton’s legendary Ike B spins old school hip hop and whateva else he wants.
URL:https://downtowndayton.org/event/whateva-wednesdays/2029-04-11/
LOCATION:The Barrel House\, 417 E. Third St.\, Dayton\, OH\, 45402\, United States
ATTACH;FMTTYPE=image/jpeg:https://downtowndayton.org/wp-content/uploads/2025/05/wu.jpg
END:VEVENT
BEGIN:VEVENT
DTSTART;TZID=America/New_York:20290418T190000
DTEND;TZID=America/New_York:20290418T230000
DTSTAMP:20260419T183353
CREATED:20250528T120940Z
LAST-MODIFIED:20250925T123704Z
UID:10036769-1871233200-1871247600@downtowndayton.org
SUMMARY:Wu-Tang Wednesdays
DESCRIPTION:Dayton’s legendary Ike B spins old school hip hop and whateva else he wants.
URL:https://downtowndayton.org/event/whateva-wednesdays/2029-04-18/
LOCATION:The Barrel House\, 417 E. Third St.\, Dayton\, OH\, 45402\, United States
ATTACH;FMTTYPE=image/jpeg:https://downtowndayton.org/wp-content/uploads/2025/05/wu.jpg
END:VEVENT
BEGIN:VEVENT
DTSTART;TZID=America/New_York:20290425T190000
DTEND;TZID=America/New_York:20290425T230000
DTSTAMP:20260419T183353
CREATED:20250528T120940Z
LAST-MODIFIED:20250925T123704Z
UID:10036770-1871838000-1871852400@downtowndayton.org
SUMMARY:Wu-Tang Wednesdays
DESCRIPTION:Dayton’s legendary Ike B spins old school hip hop and whateva else he wants.
URL:https://downtowndayton.org/event/whateva-wednesdays/2029-04-25/
LOCATION:The Barrel House\, 417 E. Third St.\, Dayton\, OH\, 45402\, United States
ATTACH;FMTTYPE=image/jpeg:https://downtowndayton.org/wp-content/uploads/2025/05/wu.jpg
END:VEVENT
BEGIN:VEVENT
DTSTART;TZID=America/New_York:20290502T190000
DTEND;TZID=America/New_York:20290502T230000
DTSTAMP:20260419T183353
CREATED:20250528T120940Z
LAST-MODIFIED:20250925T123704Z
UID:10036771-1872442800-1872457200@downtowndayton.org
SUMMARY:Wu-Tang Wednesdays
DESCRIPTION:Dayton’s legendary Ike B spins old school hip hop and whateva else he wants.
URL:https://downtowndayton.org/event/whateva-wednesdays/2029-05-02/
LOCATION:The Barrel House\, 417 E. Third St.\, Dayton\, OH\, 45402\, United States
ATTACH;FMTTYPE=image/jpeg:https://downtowndayton.org/wp-content/uploads/2025/05/wu.jpg
END:VEVENT
BEGIN:VEVENT
DTSTART;TZID=America/New_York:20290509T190000
DTEND;TZID=America/New_York:20290509T230000
DTSTAMP:20260419T183353
CREATED:20250528T120940Z
LAST-MODIFIED:20250925T123704Z
UID:10036772-1873047600-1873062000@downtowndayton.org
SUMMARY:Wu-Tang Wednesdays
DESCRIPTION:Dayton’s legendary Ike B spins old school hip hop and whateva else he wants.
URL:https://downtowndayton.org/event/whateva-wednesdays/2029-05-09/
LOCATION:The Barrel House\, 417 E. Third St.\, Dayton\, OH\, 45402\, United States
ATTACH;FMTTYPE=image/jpeg:https://downtowndayton.org/wp-content/uploads/2025/05/wu.jpg
END:VEVENT
BEGIN:VEVENT
DTSTART;TZID=America/New_York:20290516T190000
DTEND;TZID=America/New_York:20290516T230000
DTSTAMP:20260419T183353
CREATED:20250528T120940Z
LAST-MODIFIED:20250925T123704Z
UID:10036773-1873652400-1873666800@downtowndayton.org
SUMMARY:Wu-Tang Wednesdays
DESCRIPTION:Dayton’s legendary Ike B spins old school hip hop and whateva else he wants.
URL:https://downtowndayton.org/event/whateva-wednesdays/2029-05-16/
LOCATION:The Barrel House\, 417 E. Third St.\, Dayton\, OH\, 45402\, United States
ATTACH;FMTTYPE=image/jpeg:https://downtowndayton.org/wp-content/uploads/2025/05/wu.jpg
END:VEVENT
BEGIN:VEVENT
DTSTART;TZID=America/New_York:20290523T190000
DTEND;TZID=America/New_York:20290523T230000
DTSTAMP:20260419T183353
CREATED:20250528T120940Z
LAST-MODIFIED:20250925T123704Z
UID:10036774-1874257200-1874271600@downtowndayton.org
SUMMARY:Wu-Tang Wednesdays
DESCRIPTION:Dayton’s legendary Ike B spins old school hip hop and whateva else he wants.
URL:https://downtowndayton.org/event/whateva-wednesdays/2029-05-23/
LOCATION:The Barrel House\, 417 E. Third St.\, Dayton\, OH\, 45402\, United States
ATTACH;FMTTYPE=image/jpeg:https://downtowndayton.org/wp-content/uploads/2025/05/wu.jpg
END:VEVENT
BEGIN:VEVENT
DTSTART;TZID=America/New_York:20290530T190000
DTEND;TZID=America/New_York:20290530T230000
DTSTAMP:20260419T183353
CREATED:20250528T120940Z
LAST-MODIFIED:20250925T123704Z
UID:10036775-1874862000-1874876400@downtowndayton.org
SUMMARY:Wu-Tang Wednesdays
DESCRIPTION:Dayton’s legendary Ike B spins old school hip hop and whateva else he wants.
URL:https://downtowndayton.org/event/whateva-wednesdays/2029-05-30/
LOCATION:The Barrel House\, 417 E. Third St.\, Dayton\, OH\, 45402\, United States
ATTACH;FMTTYPE=image/jpeg:https://downtowndayton.org/wp-content/uploads/2025/05/wu.jpg
END:VEVENT
BEGIN:VEVENT
DTSTART;TZID=America/New_York:20290606T190000
DTEND;TZID=America/New_York:20290606T230000
DTSTAMP:20260419T183353
CREATED:20250528T120940Z
LAST-MODIFIED:20250925T123704Z
UID:10036776-1875466800-1875481200@downtowndayton.org
SUMMARY:Wu-Tang Wednesdays
DESCRIPTION:Dayton’s legendary Ike B spins old school hip hop and whateva else he wants.
URL:https://downtowndayton.org/event/whateva-wednesdays/2029-06-06/
LOCATION:The Barrel House\, 417 E. Third St.\, Dayton\, OH\, 45402\, United States
ATTACH;FMTTYPE=image/jpeg:https://downtowndayton.org/wp-content/uploads/2025/05/wu.jpg
END:VEVENT
BEGIN:VEVENT
DTSTART;TZID=America/New_York:20290613T190000
DTEND;TZID=America/New_York:20290613T230000
DTSTAMP:20260419T183353
CREATED:20250528T120940Z
LAST-MODIFIED:20250925T123704Z
UID:10036777-1876071600-1876086000@downtowndayton.org
SUMMARY:Wu-Tang Wednesdays
DESCRIPTION:Dayton’s legendary Ike B spins old school hip hop and whateva else he wants.
URL:https://downtowndayton.org/event/whateva-wednesdays/2029-06-13/
LOCATION:The Barrel House\, 417 E. Third St.\, Dayton\, OH\, 45402\, United States
ATTACH;FMTTYPE=image/jpeg:https://downtowndayton.org/wp-content/uploads/2025/05/wu.jpg
END:VEVENT
BEGIN:VEVENT
DTSTART;TZID=America/New_York:20290620T190000
DTEND;TZID=America/New_York:20290620T230000
DTSTAMP:20260419T183353
CREATED:20250528T120940Z
LAST-MODIFIED:20250925T123704Z
UID:10036778-1876676400-1876690800@downtowndayton.org
SUMMARY:Wu-Tang Wednesdays
DESCRIPTION:Dayton’s legendary Ike B spins old school hip hop and whateva else he wants.
URL:https://downtowndayton.org/event/whateva-wednesdays/2029-06-20/
LOCATION:The Barrel House\, 417 E. Third St.\, Dayton\, OH\, 45402\, United States
ATTACH;FMTTYPE=image/jpeg:https://downtowndayton.org/wp-content/uploads/2025/05/wu.jpg
END:VEVENT
BEGIN:VEVENT
DTSTART;TZID=America/New_York:20290627T190000
DTEND;TZID=America/New_York:20290627T230000
DTSTAMP:20260419T183353
CREATED:20250528T120940Z
LAST-MODIFIED:20250925T123704Z
UID:10036779-1877281200-1877295600@downtowndayton.org
SUMMARY:Wu-Tang Wednesdays
DESCRIPTION:Dayton’s legendary Ike B spins old school hip hop and whateva else he wants.
URL:https://downtowndayton.org/event/whateva-wednesdays/2029-06-27/
LOCATION:The Barrel House\, 417 E. Third St.\, Dayton\, OH\, 45402\, United States
ATTACH;FMTTYPE=image/jpeg:https://downtowndayton.org/wp-content/uploads/2025/05/wu.jpg
END:VEVENT
BEGIN:VEVENT
DTSTART;TZID=America/New_York:20290704T190000
DTEND;TZID=America/New_York:20290704T230000
DTSTAMP:20260419T183353
CREATED:20250528T120940Z
LAST-MODIFIED:20250925T123704Z
UID:10036780-1877886000-1877900400@downtowndayton.org
SUMMARY:Wu-Tang Wednesdays
DESCRIPTION:Dayton’s legendary Ike B spins old school hip hop and whateva else he wants.
URL:https://downtowndayton.org/event/whateva-wednesdays/2029-07-04/
LOCATION:The Barrel House\, 417 E. Third St.\, Dayton\, OH\, 45402\, United States
ATTACH;FMTTYPE=image/jpeg:https://downtowndayton.org/wp-content/uploads/2025/05/wu.jpg
END:VEVENT
BEGIN:VEVENT
DTSTART;TZID=America/New_York:20290711T190000
DTEND;TZID=America/New_York:20290711T230000
DTSTAMP:20260419T183353
CREATED:20250528T120940Z
LAST-MODIFIED:20250925T123704Z
UID:10036781-1878490800-1878505200@downtowndayton.org
SUMMARY:Wu-Tang Wednesdays
DESCRIPTION:Dayton’s legendary Ike B spins old school hip hop and whateva else he wants.
URL:https://downtowndayton.org/event/whateva-wednesdays/2029-07-11/
LOCATION:The Barrel House\, 417 E. Third St.\, Dayton\, OH\, 45402\, United States
ATTACH;FMTTYPE=image/jpeg:https://downtowndayton.org/wp-content/uploads/2025/05/wu.jpg
END:VEVENT
BEGIN:VEVENT
DTSTART;TZID=America/New_York:20290718T190000
DTEND;TZID=America/New_York:20290718T230000
DTSTAMP:20260419T183353
CREATED:20250528T120940Z
LAST-MODIFIED:20250925T123704Z
UID:10036782-1879095600-1879110000@downtowndayton.org
SUMMARY:Wu-Tang Wednesdays
DESCRIPTION:Dayton’s legendary Ike B spins old school hip hop and whateva else he wants.
URL:https://downtowndayton.org/event/whateva-wednesdays/2029-07-18/
LOCATION:The Barrel House\, 417 E. Third St.\, Dayton\, OH\, 45402\, United States
ATTACH;FMTTYPE=image/jpeg:https://downtowndayton.org/wp-content/uploads/2025/05/wu.jpg
END:VEVENT
END:VCALENDAR