BEGIN:VCALENDAR
VERSION:2.0
PRODID:-//Downtown Dayton Partnership - ECPv6.8.1//NONSGML v1.0//EN
CALSCALE:GREGORIAN
METHOD:PUBLISH
X-WR-CALNAME:Downtown Dayton Partnership
X-ORIGINAL-URL:https://downtowndayton.org
X-WR-CALDESC:Events for Downtown Dayton Partnership
REFRESH-INTERVAL;VALUE=DURATION:PT1H
X-Robots-Tag:noindex
X-PUBLISHED-TTL:PT1H
BEGIN:VTIMEZONE
TZID:America/New_York
BEGIN:DAYLIGHT
TZOFFSETFROM:-0500
TZOFFSETTO:-0400
TZNAME:EDT
DTSTART:20290311T070000
END:DAYLIGHT
BEGIN:STANDARD
TZOFFSETFROM:-0400
TZOFFSETTO:-0500
TZNAME:EST
DTSTART:20291104T060000
END:STANDARD
END:VTIMEZONE
BEGIN:VEVENT
DTSTART;TZID=America/New_York:20290517T200000
DTEND;TZID=America/New_York:20290517T200000
DTSTAMP:20260422T080720
CREATED:20250318T142048Z
LAST-MODIFIED:20250318T142048Z
UID:10032026-1873742400-1873742400@downtowndayton.org
SUMMARY:Music Bingo Thursdays
DESCRIPTION:We have music bingo every Thursday! It’s free to play\, lots of fun\, hosted by KG\, and there are prizes galore. Come check it out!
URL:https://downtowndayton.org/event/music-bingo-thursdays/2029-05-17/
LOCATION:The Trolley Stop\, 530 E. Fifth St.\, Dayton\, OH\, 45402\, USA
ATTACH;FMTTYPE=image/jpeg:https://downtowndayton.org/wp-content/uploads/2025/03/trolley.jpg
END:VEVENT
BEGIN:VEVENT
DTSTART;TZID=America/New_York:20290524T200000
DTEND;TZID=America/New_York:20290524T200000
DTSTAMP:20260422T080720
CREATED:20250318T142048Z
LAST-MODIFIED:20250318T142048Z
UID:10032027-1874347200-1874347200@downtowndayton.org
SUMMARY:Music Bingo Thursdays
DESCRIPTION:We have music bingo every Thursday! It’s free to play\, lots of fun\, hosted by KG\, and there are prizes galore. Come check it out!
URL:https://downtowndayton.org/event/music-bingo-thursdays/2029-05-24/
LOCATION:The Trolley Stop\, 530 E. Fifth St.\, Dayton\, OH\, 45402\, USA
ATTACH;FMTTYPE=image/jpeg:https://downtowndayton.org/wp-content/uploads/2025/03/trolley.jpg
END:VEVENT
BEGIN:VEVENT
DTSTART;TZID=America/New_York:20290531T200000
DTEND;TZID=America/New_York:20290531T200000
DTSTAMP:20260422T080720
CREATED:20250318T142048Z
LAST-MODIFIED:20250318T142048Z
UID:10032028-1874952000-1874952000@downtowndayton.org
SUMMARY:Music Bingo Thursdays
DESCRIPTION:We have music bingo every Thursday! It’s free to play\, lots of fun\, hosted by KG\, and there are prizes galore. Come check it out!
URL:https://downtowndayton.org/event/music-bingo-thursdays/2029-05-31/
LOCATION:The Trolley Stop\, 530 E. Fifth St.\, Dayton\, OH\, 45402\, USA
ATTACH;FMTTYPE=image/jpeg:https://downtowndayton.org/wp-content/uploads/2025/03/trolley.jpg
END:VEVENT
BEGIN:VEVENT
DTSTART;TZID=America/New_York:20290607T200000
DTEND;TZID=America/New_York:20290607T200000
DTSTAMP:20260422T080720
CREATED:20250318T142048Z
LAST-MODIFIED:20250318T142048Z
UID:10032029-1875556800-1875556800@downtowndayton.org
SUMMARY:Music Bingo Thursdays
DESCRIPTION:We have music bingo every Thursday! It’s free to play\, lots of fun\, hosted by KG\, and there are prizes galore. Come check it out!
URL:https://downtowndayton.org/event/music-bingo-thursdays/2029-06-07/
LOCATION:The Trolley Stop\, 530 E. Fifth St.\, Dayton\, OH\, 45402\, USA
ATTACH;FMTTYPE=image/jpeg:https://downtowndayton.org/wp-content/uploads/2025/03/trolley.jpg
END:VEVENT
BEGIN:VEVENT
DTSTART;TZID=America/New_York:20290614T200000
DTEND;TZID=America/New_York:20290614T200000
DTSTAMP:20260422T080720
CREATED:20250318T142048Z
LAST-MODIFIED:20250318T142048Z
UID:10032030-1876161600-1876161600@downtowndayton.org
SUMMARY:Music Bingo Thursdays
DESCRIPTION:We have music bingo every Thursday! It’s free to play\, lots of fun\, hosted by KG\, and there are prizes galore. Come check it out!
URL:https://downtowndayton.org/event/music-bingo-thursdays/2029-06-14/
LOCATION:The Trolley Stop\, 530 E. Fifth St.\, Dayton\, OH\, 45402\, USA
ATTACH;FMTTYPE=image/jpeg:https://downtowndayton.org/wp-content/uploads/2025/03/trolley.jpg
END:VEVENT
BEGIN:VEVENT
DTSTART;TZID=America/New_York:20290621T200000
DTEND;TZID=America/New_York:20290621T200000
DTSTAMP:20260422T080720
CREATED:20250318T142048Z
LAST-MODIFIED:20250318T142048Z
UID:10032031-1876766400-1876766400@downtowndayton.org
SUMMARY:Music Bingo Thursdays
DESCRIPTION:We have music bingo every Thursday! It’s free to play\, lots of fun\, hosted by KG\, and there are prizes galore. Come check it out!
URL:https://downtowndayton.org/event/music-bingo-thursdays/2029-06-21/
LOCATION:The Trolley Stop\, 530 E. Fifth St.\, Dayton\, OH\, 45402\, USA
ATTACH;FMTTYPE=image/jpeg:https://downtowndayton.org/wp-content/uploads/2025/03/trolley.jpg
END:VEVENT
BEGIN:VEVENT
DTSTART;TZID=America/New_York:20290628T200000
DTEND;TZID=America/New_York:20290628T200000
DTSTAMP:20260422T080720
CREATED:20250318T142048Z
LAST-MODIFIED:20250318T142048Z
UID:10032032-1877371200-1877371200@downtowndayton.org
SUMMARY:Music Bingo Thursdays
DESCRIPTION:We have music bingo every Thursday! It’s free to play\, lots of fun\, hosted by KG\, and there are prizes galore. Come check it out!
URL:https://downtowndayton.org/event/music-bingo-thursdays/2029-06-28/
LOCATION:The Trolley Stop\, 530 E. Fifth St.\, Dayton\, OH\, 45402\, USA
ATTACH;FMTTYPE=image/jpeg:https://downtowndayton.org/wp-content/uploads/2025/03/trolley.jpg
END:VEVENT
BEGIN:VEVENT
DTSTART;TZID=America/New_York:20290705T200000
DTEND;TZID=America/New_York:20290705T200000
DTSTAMP:20260422T080720
CREATED:20250318T142048Z
LAST-MODIFIED:20250318T142048Z
UID:10032033-1877976000-1877976000@downtowndayton.org
SUMMARY:Music Bingo Thursdays
DESCRIPTION:We have music bingo every Thursday! It’s free to play\, lots of fun\, hosted by KG\, and there are prizes galore. Come check it out!
URL:https://downtowndayton.org/event/music-bingo-thursdays/2029-07-05/
LOCATION:The Trolley Stop\, 530 E. Fifth St.\, Dayton\, OH\, 45402\, USA
ATTACH;FMTTYPE=image/jpeg:https://downtowndayton.org/wp-content/uploads/2025/03/trolley.jpg
END:VEVENT
BEGIN:VEVENT
DTSTART;TZID=America/New_York:20290712T200000
DTEND;TZID=America/New_York:20290712T200000
DTSTAMP:20260422T080720
CREATED:20250318T142048Z
LAST-MODIFIED:20250318T142048Z
UID:10032034-1878580800-1878580800@downtowndayton.org
SUMMARY:Music Bingo Thursdays
DESCRIPTION:We have music bingo every Thursday! It’s free to play\, lots of fun\, hosted by KG\, and there are prizes galore. Come check it out!
URL:https://downtowndayton.org/event/music-bingo-thursdays/2029-07-12/
LOCATION:The Trolley Stop\, 530 E. Fifth St.\, Dayton\, OH\, 45402\, USA
ATTACH;FMTTYPE=image/jpeg:https://downtowndayton.org/wp-content/uploads/2025/03/trolley.jpg
END:VEVENT
BEGIN:VEVENT
DTSTART;TZID=America/New_York:20290719T200000
DTEND;TZID=America/New_York:20290719T200000
DTSTAMP:20260422T080720
CREATED:20250318T142048Z
LAST-MODIFIED:20250318T142048Z
UID:10032035-1879185600-1879185600@downtowndayton.org
SUMMARY:Music Bingo Thursdays
DESCRIPTION:We have music bingo every Thursday! It’s free to play\, lots of fun\, hosted by KG\, and there are prizes galore. Come check it out!
URL:https://downtowndayton.org/event/music-bingo-thursdays/2029-07-19/
LOCATION:The Trolley Stop\, 530 E. Fifth St.\, Dayton\, OH\, 45402\, USA
ATTACH;FMTTYPE=image/jpeg:https://downtowndayton.org/wp-content/uploads/2025/03/trolley.jpg
END:VEVENT
BEGIN:VEVENT
DTSTART;TZID=America/New_York:20290726T200000
DTEND;TZID=America/New_York:20290726T200000
DTSTAMP:20260422T080720
CREATED:20250318T142048Z
LAST-MODIFIED:20250318T142048Z
UID:10032036-1879790400-1879790400@downtowndayton.org
SUMMARY:Music Bingo Thursdays
DESCRIPTION:We have music bingo every Thursday! It’s free to play\, lots of fun\, hosted by KG\, and there are prizes galore. Come check it out!
URL:https://downtowndayton.org/event/music-bingo-thursdays/2029-07-26/
LOCATION:The Trolley Stop\, 530 E. Fifth St.\, Dayton\, OH\, 45402\, USA
ATTACH;FMTTYPE=image/jpeg:https://downtowndayton.org/wp-content/uploads/2025/03/trolley.jpg
END:VEVENT
BEGIN:VEVENT
DTSTART;TZID=America/New_York:20290802T200000
DTEND;TZID=America/New_York:20290802T200000
DTSTAMP:20260422T080720
CREATED:20250318T142048Z
LAST-MODIFIED:20250318T142048Z
UID:10032037-1880395200-1880395200@downtowndayton.org
SUMMARY:Music Bingo Thursdays
DESCRIPTION:We have music bingo every Thursday! It’s free to play\, lots of fun\, hosted by KG\, and there are prizes galore. Come check it out!
URL:https://downtowndayton.org/event/music-bingo-thursdays/2029-08-02/
LOCATION:The Trolley Stop\, 530 E. Fifth St.\, Dayton\, OH\, 45402\, USA
ATTACH;FMTTYPE=image/jpeg:https://downtowndayton.org/wp-content/uploads/2025/03/trolley.jpg
END:VEVENT
BEGIN:VEVENT
DTSTART;TZID=America/New_York:20290809T200000
DTEND;TZID=America/New_York:20290809T200000
DTSTAMP:20260422T080720
CREATED:20250318T142048Z
LAST-MODIFIED:20250318T142048Z
UID:10032038-1881000000-1881000000@downtowndayton.org
SUMMARY:Music Bingo Thursdays
DESCRIPTION:We have music bingo every Thursday! It’s free to play\, lots of fun\, hosted by KG\, and there are prizes galore. Come check it out!
URL:https://downtowndayton.org/event/music-bingo-thursdays/2029-08-09/
LOCATION:The Trolley Stop\, 530 E. Fifth St.\, Dayton\, OH\, 45402\, USA
ATTACH;FMTTYPE=image/jpeg:https://downtowndayton.org/wp-content/uploads/2025/03/trolley.jpg
END:VEVENT
BEGIN:VEVENT
DTSTART;TZID=America/New_York:20290816T200000
DTEND;TZID=America/New_York:20290816T200000
DTSTAMP:20260422T080720
CREATED:20250318T142048Z
LAST-MODIFIED:20250318T142048Z
UID:10032039-1881604800-1881604800@downtowndayton.org
SUMMARY:Music Bingo Thursdays
DESCRIPTION:We have music bingo every Thursday! It’s free to play\, lots of fun\, hosted by KG\, and there are prizes galore. Come check it out!
URL:https://downtowndayton.org/event/music-bingo-thursdays/2029-08-16/
LOCATION:The Trolley Stop\, 530 E. Fifth St.\, Dayton\, OH\, 45402\, USA
ATTACH;FMTTYPE=image/jpeg:https://downtowndayton.org/wp-content/uploads/2025/03/trolley.jpg
END:VEVENT
BEGIN:VEVENT
DTSTART;TZID=America/New_York:20290823T200000
DTEND;TZID=America/New_York:20290823T200000
DTSTAMP:20260422T080720
CREATED:20250318T142048Z
LAST-MODIFIED:20250318T142048Z
UID:10032040-1882209600-1882209600@downtowndayton.org
SUMMARY:Music Bingo Thursdays
DESCRIPTION:We have music bingo every Thursday! It’s free to play\, lots of fun\, hosted by KG\, and there are prizes galore. Come check it out!
URL:https://downtowndayton.org/event/music-bingo-thursdays/2029-08-23/
LOCATION:The Trolley Stop\, 530 E. Fifth St.\, Dayton\, OH\, 45402\, USA
ATTACH;FMTTYPE=image/jpeg:https://downtowndayton.org/wp-content/uploads/2025/03/trolley.jpg
END:VEVENT
BEGIN:VEVENT
DTSTART;TZID=America/New_York:20290830T200000
DTEND;TZID=America/New_York:20290830T200000
DTSTAMP:20260422T080720
CREATED:20250318T142048Z
LAST-MODIFIED:20250318T142048Z
UID:10032041-1882814400-1882814400@downtowndayton.org
SUMMARY:Music Bingo Thursdays
DESCRIPTION:We have music bingo every Thursday! It’s free to play\, lots of fun\, hosted by KG\, and there are prizes galore. Come check it out!
URL:https://downtowndayton.org/event/music-bingo-thursdays/2029-08-30/
LOCATION:The Trolley Stop\, 530 E. Fifth St.\, Dayton\, OH\, 45402\, USA
ATTACH;FMTTYPE=image/jpeg:https://downtowndayton.org/wp-content/uploads/2025/03/trolley.jpg
END:VEVENT
BEGIN:VEVENT
DTSTART;TZID=America/New_York:20290906T200000
DTEND;TZID=America/New_York:20290906T200000
DTSTAMP:20260422T080720
CREATED:20250318T142048Z
LAST-MODIFIED:20250318T142048Z
UID:10032042-1883419200-1883419200@downtowndayton.org
SUMMARY:Music Bingo Thursdays
DESCRIPTION:We have music bingo every Thursday! It’s free to play\, lots of fun\, hosted by KG\, and there are prizes galore. Come check it out!
URL:https://downtowndayton.org/event/music-bingo-thursdays/2029-09-06/
LOCATION:The Trolley Stop\, 530 E. Fifth St.\, Dayton\, OH\, 45402\, USA
ATTACH;FMTTYPE=image/jpeg:https://downtowndayton.org/wp-content/uploads/2025/03/trolley.jpg
END:VEVENT
BEGIN:VEVENT
DTSTART;TZID=America/New_York:20290913T200000
DTEND;TZID=America/New_York:20290913T200000
DTSTAMP:20260422T080720
CREATED:20250318T142048Z
LAST-MODIFIED:20250318T142048Z
UID:10032043-1884024000-1884024000@downtowndayton.org
SUMMARY:Music Bingo Thursdays
DESCRIPTION:We have music bingo every Thursday! It’s free to play\, lots of fun\, hosted by KG\, and there are prizes galore. Come check it out!
URL:https://downtowndayton.org/event/music-bingo-thursdays/2029-09-13/
LOCATION:The Trolley Stop\, 530 E. Fifth St.\, Dayton\, OH\, 45402\, USA
ATTACH;FMTTYPE=image/jpeg:https://downtowndayton.org/wp-content/uploads/2025/03/trolley.jpg
END:VEVENT
BEGIN:VEVENT
DTSTART;TZID=America/New_York:20290920T200000
DTEND;TZID=America/New_York:20290920T200000
DTSTAMP:20260422T080720
CREATED:20250318T142048Z
LAST-MODIFIED:20250318T142048Z
UID:10032044-1884628800-1884628800@downtowndayton.org
SUMMARY:Music Bingo Thursdays
DESCRIPTION:We have music bingo every Thursday! It’s free to play\, lots of fun\, hosted by KG\, and there are prizes galore. Come check it out!
URL:https://downtowndayton.org/event/music-bingo-thursdays/2029-09-20/
LOCATION:The Trolley Stop\, 530 E. Fifth St.\, Dayton\, OH\, 45402\, USA
ATTACH;FMTTYPE=image/jpeg:https://downtowndayton.org/wp-content/uploads/2025/03/trolley.jpg
END:VEVENT
BEGIN:VEVENT
DTSTART;TZID=America/New_York:20290927T200000
DTEND;TZID=America/New_York:20290927T200000
DTSTAMP:20260422T080720
CREATED:20250318T142048Z
LAST-MODIFIED:20250318T142048Z
UID:10032045-1885233600-1885233600@downtowndayton.org
SUMMARY:Music Bingo Thursdays
DESCRIPTION:We have music bingo every Thursday! It’s free to play\, lots of fun\, hosted by KG\, and there are prizes galore. Come check it out!
URL:https://downtowndayton.org/event/music-bingo-thursdays/2029-09-27/
LOCATION:The Trolley Stop\, 530 E. Fifth St.\, Dayton\, OH\, 45402\, USA
ATTACH;FMTTYPE=image/jpeg:https://downtowndayton.org/wp-content/uploads/2025/03/trolley.jpg
END:VEVENT
BEGIN:VEVENT
DTSTART;TZID=America/New_York:20291004T200000
DTEND;TZID=America/New_York:20291004T200000
DTSTAMP:20260422T080720
CREATED:20250318T142048Z
LAST-MODIFIED:20250318T142048Z
UID:10032046-1885838400-1885838400@downtowndayton.org
SUMMARY:Music Bingo Thursdays
DESCRIPTION:We have music bingo every Thursday! It’s free to play\, lots of fun\, hosted by KG\, and there are prizes galore. Come check it out!
URL:https://downtowndayton.org/event/music-bingo-thursdays/2029-10-04/
LOCATION:The Trolley Stop\, 530 E. Fifth St.\, Dayton\, OH\, 45402\, USA
ATTACH;FMTTYPE=image/jpeg:https://downtowndayton.org/wp-content/uploads/2025/03/trolley.jpg
END:VEVENT
BEGIN:VEVENT
DTSTART;TZID=America/New_York:20291011T200000
DTEND;TZID=America/New_York:20291011T200000
DTSTAMP:20260422T080720
CREATED:20250318T142048Z
LAST-MODIFIED:20250318T142048Z
UID:10032047-1886443200-1886443200@downtowndayton.org
SUMMARY:Music Bingo Thursdays
DESCRIPTION:We have music bingo every Thursday! It’s free to play\, lots of fun\, hosted by KG\, and there are prizes galore. Come check it out!
URL:https://downtowndayton.org/event/music-bingo-thursdays/2029-10-11/
LOCATION:The Trolley Stop\, 530 E. Fifth St.\, Dayton\, OH\, 45402\, USA
ATTACH;FMTTYPE=image/jpeg:https://downtowndayton.org/wp-content/uploads/2025/03/trolley.jpg
END:VEVENT
BEGIN:VEVENT
DTSTART;TZID=America/New_York:20291018T200000
DTEND;TZID=America/New_York:20291018T200000
DTSTAMP:20260422T080720
CREATED:20250318T142048Z
LAST-MODIFIED:20250318T142048Z
UID:10032048-1887048000-1887048000@downtowndayton.org
SUMMARY:Music Bingo Thursdays
DESCRIPTION:We have music bingo every Thursday! It’s free to play\, lots of fun\, hosted by KG\, and there are prizes galore. Come check it out!
URL:https://downtowndayton.org/event/music-bingo-thursdays/2029-10-18/
LOCATION:The Trolley Stop\, 530 E. Fifth St.\, Dayton\, OH\, 45402\, USA
ATTACH;FMTTYPE=image/jpeg:https://downtowndayton.org/wp-content/uploads/2025/03/trolley.jpg
END:VEVENT
BEGIN:VEVENT
DTSTART;TZID=America/New_York:20291025T200000
DTEND;TZID=America/New_York:20291025T200000
DTSTAMP:20260422T080720
CREATED:20250318T142048Z
LAST-MODIFIED:20250318T142048Z
UID:10032049-1887652800-1887652800@downtowndayton.org
SUMMARY:Music Bingo Thursdays
DESCRIPTION:We have music bingo every Thursday! It’s free to play\, lots of fun\, hosted by KG\, and there are prizes galore. Come check it out!
URL:https://downtowndayton.org/event/music-bingo-thursdays/2029-10-25/
LOCATION:The Trolley Stop\, 530 E. Fifth St.\, Dayton\, OH\, 45402\, USA
ATTACH;FMTTYPE=image/jpeg:https://downtowndayton.org/wp-content/uploads/2025/03/trolley.jpg
END:VEVENT
BEGIN:VEVENT
DTSTART;TZID=America/New_York:20291101T200000
DTEND;TZID=America/New_York:20291101T200000
DTSTAMP:20260422T080720
CREATED:20250318T142048Z
LAST-MODIFIED:20250318T142048Z
UID:10032050-1888257600-1888257600@downtowndayton.org
SUMMARY:Music Bingo Thursdays
DESCRIPTION:We have music bingo every Thursday! It’s free to play\, lots of fun\, hosted by KG\, and there are prizes galore. Come check it out!
URL:https://downtowndayton.org/event/music-bingo-thursdays/2029-11-01/
LOCATION:The Trolley Stop\, 530 E. Fifth St.\, Dayton\, OH\, 45402\, USA
ATTACH;FMTTYPE=image/jpeg:https://downtowndayton.org/wp-content/uploads/2025/03/trolley.jpg
END:VEVENT
BEGIN:VEVENT
DTSTART;TZID=America/New_York:20291108T200000
DTEND;TZID=America/New_York:20291108T200000
DTSTAMP:20260422T080720
CREATED:20250318T142048Z
LAST-MODIFIED:20250318T142048Z
UID:10032051-1888862400-1888862400@downtowndayton.org
SUMMARY:Music Bingo Thursdays
DESCRIPTION:We have music bingo every Thursday! It’s free to play\, lots of fun\, hosted by KG\, and there are prizes galore. Come check it out!
URL:https://downtowndayton.org/event/music-bingo-thursdays/2029-11-08/
LOCATION:The Trolley Stop\, 530 E. Fifth St.\, Dayton\, OH\, 45402\, USA
ATTACH;FMTTYPE=image/jpeg:https://downtowndayton.org/wp-content/uploads/2025/03/trolley.jpg
END:VEVENT
BEGIN:VEVENT
DTSTART;TZID=America/New_York:20291115T200000
DTEND;TZID=America/New_York:20291115T200000
DTSTAMP:20260422T080720
CREATED:20250318T142048Z
LAST-MODIFIED:20250318T142048Z
UID:10032052-1889467200-1889467200@downtowndayton.org
SUMMARY:Music Bingo Thursdays
DESCRIPTION:We have music bingo every Thursday! It’s free to play\, lots of fun\, hosted by KG\, and there are prizes galore. Come check it out!
URL:https://downtowndayton.org/event/music-bingo-thursdays/2029-11-15/
LOCATION:The Trolley Stop\, 530 E. Fifth St.\, Dayton\, OH\, 45402\, USA
ATTACH;FMTTYPE=image/jpeg:https://downtowndayton.org/wp-content/uploads/2025/03/trolley.jpg
END:VEVENT
BEGIN:VEVENT
DTSTART;TZID=America/New_York:20291122T200000
DTEND;TZID=America/New_York:20291122T200000
DTSTAMP:20260422T080720
CREATED:20250318T142048Z
LAST-MODIFIED:20250318T142048Z
UID:10032053-1890072000-1890072000@downtowndayton.org
SUMMARY:Music Bingo Thursdays
DESCRIPTION:We have music bingo every Thursday! It’s free to play\, lots of fun\, hosted by KG\, and there are prizes galore. Come check it out!
URL:https://downtowndayton.org/event/music-bingo-thursdays/2029-11-22/
LOCATION:The Trolley Stop\, 530 E. Fifth St.\, Dayton\, OH\, 45402\, USA
ATTACH;FMTTYPE=image/jpeg:https://downtowndayton.org/wp-content/uploads/2025/03/trolley.jpg
END:VEVENT
BEGIN:VEVENT
DTSTART;TZID=America/New_York:20291129T200000
DTEND;TZID=America/New_York:20291129T200000
DTSTAMP:20260422T080720
CREATED:20250318T142048Z
LAST-MODIFIED:20250318T142048Z
UID:10032054-1890676800-1890676800@downtowndayton.org
SUMMARY:Music Bingo Thursdays
DESCRIPTION:We have music bingo every Thursday! It’s free to play\, lots of fun\, hosted by KG\, and there are prizes galore. Come check it out!
URL:https://downtowndayton.org/event/music-bingo-thursdays/2029-11-29/
LOCATION:The Trolley Stop\, 530 E. Fifth St.\, Dayton\, OH\, 45402\, USA
ATTACH;FMTTYPE=image/jpeg:https://downtowndayton.org/wp-content/uploads/2025/03/trolley.jpg
END:VEVENT
BEGIN:VEVENT
DTSTART;TZID=America/New_York:20291206T200000
DTEND;TZID=America/New_York:20291206T200000
DTSTAMP:20260422T080720
CREATED:20250318T142048Z
LAST-MODIFIED:20250318T142048Z
UID:10032055-1891281600-1891281600@downtowndayton.org
SUMMARY:Music Bingo Thursdays
DESCRIPTION:We have music bingo every Thursday! It’s free to play\, lots of fun\, hosted by KG\, and there are prizes galore. Come check it out!
URL:https://downtowndayton.org/event/music-bingo-thursdays/2029-12-06/
LOCATION:The Trolley Stop\, 530 E. Fifth St.\, Dayton\, OH\, 45402\, USA
ATTACH;FMTTYPE=image/jpeg:https://downtowndayton.org/wp-content/uploads/2025/03/trolley.jpg
END:VEVENT
END:VCALENDAR