BEGIN:VCALENDAR
VERSION:2.0
PRODID:-//Downtown Dayton Partnership - ECPv6.8.1//NONSGML v1.0//EN
CALSCALE:GREGORIAN
METHOD:PUBLISH
X-ORIGINAL-URL:https://downtowndayton.org
X-WR-CALDESC:Events for Downtown Dayton Partnership
REFRESH-INTERVAL;VALUE=DURATION:PT1H
X-Robots-Tag:noindex
X-PUBLISHED-TTL:PT1H
BEGIN:VTIMEZONE
TZID:America/New_York
BEGIN:DAYLIGHT
TZOFFSETFROM:-0500
TZOFFSETTO:-0400
TZNAME:EDT
DTSTART:20250309T070000
END:DAYLIGHT
BEGIN:STANDARD
TZOFFSETFROM:-0400
TZOFFSETTO:-0500
TZNAME:EST
DTSTART:20251102T060000
END:STANDARD
TZID:America/Detroit
BEGIN:DAYLIGHT
TZOFFSETFROM:-0500
TZOFFSETTO:-0400
TZNAME:EDT
DTSTART:20240310T070000
END:DAYLIGHT
BEGIN:STANDARD
TZOFFSETFROM:-0400
TZOFFSETTO:-0500
TZNAME:EST
DTSTART:20241103T060000
END:STANDARD
END:VTIMEZONE
BEGIN:VEVENT
DTSTART;TZID=America/New_York:20251030T200000
DTEND;TZID=America/New_York:20251030T233000
DTSTAMP:20260423T064252
CREATED:20251014T195513Z
LAST-MODIFIED:20251014T195513Z
UID:10041124-1761854400-1761867000@downtowndayton.org
SUMMARY:Kate Wakefield\, Nick Kizirnis and Eric McM
DESCRIPTION:One night only – 3 solo sets from Kate Wakefield (LUNG – new solo album “everything goes around and around”)\, Nick Kizirnis (latest album “Every Moment” on ATOM Records) and Eric McM (Caravan Discordia\, Carrie Nation) Kate Wakefield is a touring musician based out of Cincinnati\, Ohio. She has been writing and performing experimental rock and indie music on her cello since 2014. She writes and performs with a heavy rock band called Lung\, and plays and records solo music under her name as well. Wakefield formed the band Lung with her friend and drummer Daisy Caplan in 2016. Since then\, they have played over 900 shows across the United States and Canada. As a solo artist\, Wakefield has a collection of 3 full-length records (“Unkind”\, “Eyes in Walls are Louder” and her latest album “everything goes around and around”) and numerous EP’s. Wakefield grew up in Ann Arbor Michigan and enjoyed playing the cello from a young age. She received a bachelors degree in vocal performance from the University of Michigan in 2010 and holds a masters degree in operatic performance from Cincinnati’s Conservatory of Music. In 2013\, she developed a vocal disorder that put her operatic career on hold. She picked up her cello\, and began writing music to help her through the experience. When her voice came back\, she had no desire to go back to the world of opera and continued writing and playing her own compositions in music bars and clubs around the country.
URL:https://downtowndayton.org/event/kate-wakefield-nick-kizirnis-and-eric-mcm/
LOCATION:Blind Bob’s\, 430 E. Fifth St.\, Dayton\, OH\, 45402\, United States
ATTACH;FMTTYPE=image/png:https://downtowndayton.org/wp-content/uploads/2025/10/FB-Event-Kate-Wakefield-Eric-McM-Nick-Kizirnis.png
END:VEVENT
BEGIN:VEVENT
DTSTART;TZID=America/New_York:20250906T193000
DTEND;TZID=America/New_York:20250906T193000
DTSTAMP:20260423T064252
CREATED:20250903T120359Z
LAST-MODIFIED:20250903T120359Z
UID:10039655-1757187000-1757187000@downtowndayton.org
SUMMARY:Dayton Music Fest
DESCRIPTION:DAYTON MUSIC FEST 2025 IS SEPTEMBER 5 & 6\nA multi-genre multi-venue showcase of Dayton artists!\n$10 per venue per day$15 all venues per day$25 all venues both days (for sale at the door)\nLocations: Blind Bob’s (Sept 5+6)Yellow Cab Tavern (Sept 5+6)Oregon Express (Sept 5+6)Trolley Stop (Sept 5+6)The Brightside (Sept 5 only)\nFeatured Artists:shellercrabswithoutlegsIllwinMoonTempleMelina MarieFULLBODYHeather Redman and the ReputationGood SoupBlanch RobinsonThe Heisey Glass Co.MidviewDos.GrandioseBrother HillSocksThe FotonsThe New Old FashionedTyebee & The BuzzNEONSENSELandfilthEmpire PoolWarning SignsKellen WilliamsKittingerBasuraLeviathan CycleMontana & Tyrant\n\nSchedule and more info here: https://www.daytonmusicfest.com/\nLineup subject to change.
URL:https://downtowndayton.org/event/dayton-music-fest-2/2025-09-06/
LOCATION:Yellow Cab Tavern\, 700 E 4th St\, Dayton\, OH\, 45402\, United States
ATTACH;FMTTYPE=image/jpeg:https://downtowndayton.org/wp-content/uploads/2025/09/528072173_1252571173547828_2337093497515874728_n.jpg
END:VEVENT
BEGIN:VEVENT
DTSTART;TZID=America/New_York:20250905T193000
DTEND;TZID=America/New_York:20250905T193000
DTSTAMP:20260423T064252
CREATED:20250903T120359Z
LAST-MODIFIED:20250903T120359Z
UID:10039654-1757100600-1757100600@downtowndayton.org
SUMMARY:Dayton Music Fest
DESCRIPTION:DAYTON MUSIC FEST 2025 IS SEPTEMBER 5 & 6\nA multi-genre multi-venue showcase of Dayton artists!\n$10 per venue per day$15 all venues per day$25 all venues both days (for sale at the door)\nLocations: Blind Bob’s (Sept 5+6)Yellow Cab Tavern (Sept 5+6)Oregon Express (Sept 5+6)Trolley Stop (Sept 5+6)The Brightside (Sept 5 only)\nFeatured Artists:shellercrabswithoutlegsIllwinMoonTempleMelina MarieFULLBODYHeather Redman and the ReputationGood SoupBlanch RobinsonThe Heisey Glass Co.MidviewDos.GrandioseBrother HillSocksThe FotonsThe New Old FashionedTyebee & The BuzzNEONSENSELandfilthEmpire PoolWarning SignsKellen WilliamsKittingerBasuraLeviathan CycleMontana & Tyrant\n\nSchedule and more info here: https://www.daytonmusicfest.com/\nLineup subject to change.
URL:https://downtowndayton.org/event/dayton-music-fest-2/2025-09-05/
LOCATION:Yellow Cab Tavern\, 700 E 4th St\, Dayton\, OH\, 45402\, United States
ATTACH;FMTTYPE=image/jpeg:https://downtowndayton.org/wp-content/uploads/2025/09/528072173_1252571173547828_2337093497515874728_n.jpg
END:VEVENT
BEGIN:VEVENT
DTSTART;VALUE=DATE:20241012
DTEND;VALUE=DATE:20241013
DTSTAMP:20260423T064252
CREATED:20241007T124526Z
LAST-MODIFIED:20241007T124526Z
UID:10023553-1728691200-1728777599@downtowndayton.org
SUMMARY:Dayton Music Fest
DESCRIPTION:The 20th Annual Dayton Music Fest is back on Oct 11th and 12th including stages at The Brightside\, Blind Bob’s\, Yellow Cab Tavern\, Oregon Express\, and Trolley Stop Dayton! A portion of all proceeds benefit our friends at WYSO Public Radio as a thank you for all of the support they show local music year round!\nWe’re excited to present 32 local bands\, singer songwriters\, MCs\, DJs\, artists\, and more\, with exciting reunions and amazing new up and coming artists playing side by side over two days at five Downtown Dayton venues!\nTickets and more details available at daytonmusicfest.com\nWeekend passes are $25 in advance and $30 at the doors. Each single night is $20 at the doors.\n*Discounted presale weekend pass sales end on Oct 10th at Midnight.\n*All tickets are will call / check-in and you will not be emailed physical tickets.\nDayton Music Fest 2024 Line-up:\nFriday – Oct 11thDoors and VIP badge pick up starts at 5:00\nThe Brightside\nFreya’s Felines – 5:30Tronee Threat – 6:001984 Draft – 6:30Zac Pitts – 7:00Crabs Without legs – 7:30Paige Beller – 8:30Salvador Ross – 9:30Smug Brothers – 10:00The Nightbeast – 10:30Kim L – 11:30\nSaturday – Oct 12th\nBlind Bob’sLilito – 8:15Palm Ghosts – 9:05Abertooth Lincoln – 9:55Roley Yuma Reunion – 10:45Mr. Gnome – 11:45\nYellow Cab Tavern\nStoneface Syd – 6:20Motion Club – 7:10Ruetschle – 8No Balance – 8:50Exit Angles – 9:40OH Condor – 10:30Sam King and the Suspects – 11:15\nOregon Express\nWoovs – 7:55Rat Bath – 8:45Parade Rainer – 9:35Aaron Magical – 10:25The Funkgi – 11:15\nTrolley Stop\nArianna Holiday – 7:45Tori Lee – 8:35Tim Pritchard – 9:25Nick Kizirnis and Kyleen Downes – 10:15Max Nunery and Friends – 11:05\nCover starts at 5:00pm on both nights. Weekend passes can be picked up at The Brightside anytime after 5:00pm on Friday\, Oct 11th. Full price weekend passes can be purchased at The Brightside as well.\nBlind Bob’s kitchen is open until 11pm\, Trolley Stop’s Kitchen closes at 10pm\, Oregon Express’ kitchen closes at midnight\, and Yellow Cab’s resident food truck\, The Pizza Bandit\, will be set up and serving through 11pm.\nProduced by Level Up Productions\nVenues:\nThe Brightside – 905 E 3rd St\, Dayton\, OH 45402Blind Bob’s – 430 E 5th St\, Dayton\, OH 45402The Yellow Cab Tavern – 700 East 4th Street Dayton\, Ohio 45402Oregon Express – 336 E 5th St\, Dayton\, OH 45402Trolley Stop – 530 E 5th St\, Dayton\, OH 45402
URL:https://downtowndayton.org/event/dayton-music-fest/2024-10-12/
LOCATION:The Brightside\, 905 E. Third St.\, Dayton\, OH\, 45402
END:VEVENT
BEGIN:VEVENT
DTSTART;VALUE=DATE:20241011
DTEND;VALUE=DATE:20241012
DTSTAMP:20260423T064252
CREATED:20241007T124526Z
LAST-MODIFIED:20241007T124526Z
UID:10023552-1728604800-1728691199@downtowndayton.org
SUMMARY:Dayton Music Fest
DESCRIPTION:The 20th Annual Dayton Music Fest is back on Oct 11th and 12th including stages at The Brightside\, Blind Bob’s\, Yellow Cab Tavern\, Oregon Express\, and Trolley Stop Dayton! A portion of all proceeds benefit our friends at WYSO Public Radio as a thank you for all of the support they show local music year round!\nWe’re excited to present 32 local bands\, singer songwriters\, MCs\, DJs\, artists\, and more\, with exciting reunions and amazing new up and coming artists playing side by side over two days at five Downtown Dayton venues!\nTickets and more details available at daytonmusicfest.com\nWeekend passes are $25 in advance and $30 at the doors. Each single night is $20 at the doors.\n*Discounted presale weekend pass sales end on Oct 10th at Midnight.\n*All tickets are will call / check-in and you will not be emailed physical tickets.\nDayton Music Fest 2024 Line-up:\nFriday – Oct 11thDoors and VIP badge pick up starts at 5:00\nThe Brightside\nFreya’s Felines – 5:30Tronee Threat – 6:001984 Draft – 6:30Zac Pitts – 7:00Crabs Without legs – 7:30Paige Beller – 8:30Salvador Ross – 9:30Smug Brothers – 10:00The Nightbeast – 10:30Kim L – 11:30\nSaturday – Oct 12th\nBlind Bob’sLilito – 8:15Palm Ghosts – 9:05Abertooth Lincoln – 9:55Roley Yuma Reunion – 10:45Mr. Gnome – 11:45\nYellow Cab Tavern\nStoneface Syd – 6:20Motion Club – 7:10Ruetschle – 8No Balance – 8:50Exit Angles – 9:40OH Condor – 10:30Sam King and the Suspects – 11:15\nOregon Express\nWoovs – 7:55Rat Bath – 8:45Parade Rainer – 9:35Aaron Magical – 10:25The Funkgi – 11:15\nTrolley Stop\nArianna Holiday – 7:45Tori Lee – 8:35Tim Pritchard – 9:25Nick Kizirnis and Kyleen Downes – 10:15Max Nunery and Friends – 11:05\nCover starts at 5:00pm on both nights. Weekend passes can be picked up at The Brightside anytime after 5:00pm on Friday\, Oct 11th. Full price weekend passes can be purchased at The Brightside as well.\nBlind Bob’s kitchen is open until 11pm\, Trolley Stop’s Kitchen closes at 10pm\, Oregon Express’ kitchen closes at midnight\, and Yellow Cab’s resident food truck\, The Pizza Bandit\, will be set up and serving through 11pm.\nProduced by Level Up Productions\nVenues:\nThe Brightside – 905 E 3rd St\, Dayton\, OH 45402Blind Bob’s – 430 E 5th St\, Dayton\, OH 45402The Yellow Cab Tavern – 700 East 4th Street Dayton\, Ohio 45402Oregon Express – 336 E 5th St\, Dayton\, OH 45402Trolley Stop – 530 E 5th St\, Dayton\, OH 45402
URL:https://downtowndayton.org/event/dayton-music-fest/2024-10-11/
LOCATION:The Brightside\, 905 E. Third St.\, Dayton\, OH\, 45402
END:VEVENT
END:VCALENDAR