BEGIN:VCALENDAR
VERSION:2.0
PRODID:-//Downtown Dayton Partnership - ECPv6.8.1//NONSGML v1.0//EN
CALSCALE:GREGORIAN
METHOD:PUBLISH
X-WR-CALNAME:Downtown Dayton Partnership
X-ORIGINAL-URL:https://downtowndayton.org
X-WR-CALDESC:Events for Downtown Dayton Partnership
REFRESH-INTERVAL;VALUE=DURATION:PT1H
X-Robots-Tag:noindex
X-PUBLISHED-TTL:PT1H
BEGIN:VTIMEZONE
TZID:America/New_York
BEGIN:DAYLIGHT
TZOFFSETFROM:-0500
TZOFFSETTO:-0400
TZNAME:EDT
DTSTART:20260308T070000
END:DAYLIGHT
BEGIN:STANDARD
TZOFFSETFROM:-0400
TZOFFSETTO:-0500
TZNAME:EST
DTSTART:20261101T060000
END:STANDARD
END:VTIMEZONE
BEGIN:VEVENT
DTSTART;TZID=America/New_York:20260815T140000
DTEND;TZID=America/New_York:20260815T140000
DTSTAMP:20260423T010612
CREATED:20260331T171538Z
LAST-MODIFIED:20260331T171538Z
UID:10055575-1786802400-1786802400@downtowndayton.org
SUMMARY:Guided Tours
DESCRIPTION:Join us for an inside look at the exhibition\, with fresh insights into the artist and their work. FREE and open to all. \nhttps://www.eventbrite.com/e/1981877243185?aff=oddtdtcreator
URL:https://downtowndayton.org/event/guided-tours-3/2026-08-15/
LOCATION:The Contemporary Dayton\, 25 W. Fourth St.\, Dayton\, OH\, 45402\, United States
ATTACH;FMTTYPE=image/jpeg:https://downtowndayton.org/wp-content/uploads/2025/12/guided.jpg
END:VEVENT
BEGIN:VEVENT
DTSTART;TZID=America/New_York:20260820T170000
DTEND;TZID=America/New_York:20260820T200000
DTSTAMP:20260423T010612
CREATED:20260406T173924Z
LAST-MODIFIED:20260406T173924Z
UID:10055620-1787245200-1787256000@downtowndayton.org
SUMMARY:Collage Night
DESCRIPTION:Come get creative in a relaxed\, welcome space–no experience necessary! We’ll provide materials\, or feel free to bring your own. Whether you’re an experienced artist or just looking to unwind and try something new\, this night is all about making\, experimenting\, and connecting with others through art. Free .
URL:https://downtowndayton.org/event/collage-night/2026-08-20/
LOCATION:The Contemporary Dayton\, 25 W. Fourth St.\, Dayton\, OH\, 45402\, United States
ATTACH;FMTTYPE=image/jpeg:https://downtowndayton.org/wp-content/uploads/2025/06/collage.jpg
END:VEVENT
BEGIN:VEVENT
DTSTART;TZID=America/New_York:20260903T170000
DTEND;TZID=America/New_York:20260903T200000
DTSTAMP:20260423T010612
CREATED:20260406T173924Z
LAST-MODIFIED:20260406T173924Z
UID:10055621-1788454800-1788465600@downtowndayton.org
SUMMARY:Collage Night
DESCRIPTION:Come get creative in a relaxed\, welcome space–no experience necessary! We’ll provide materials\, or feel free to bring your own. Whether you’re an experienced artist or just looking to unwind and try something new\, this night is all about making\, experimenting\, and connecting with others through art. Free .
URL:https://downtowndayton.org/event/collage-night/2026-09-03/
LOCATION:The Contemporary Dayton\, 25 W. Fourth St.\, Dayton\, OH\, 45402\, United States
ATTACH;FMTTYPE=image/jpeg:https://downtowndayton.org/wp-content/uploads/2025/06/collage.jpg
END:VEVENT
BEGIN:VEVENT
DTSTART;TZID=America/New_York:20260917T170000
DTEND;TZID=America/New_York:20260917T200000
DTSTAMP:20260423T010612
CREATED:20260406T173924Z
LAST-MODIFIED:20260406T173924Z
UID:10055622-1789664400-1789675200@downtowndayton.org
SUMMARY:Collage Night
DESCRIPTION:Come get creative in a relaxed\, welcome space–no experience necessary! We’ll provide materials\, or feel free to bring your own. Whether you’re an experienced artist or just looking to unwind and try something new\, this night is all about making\, experimenting\, and connecting with others through art. Free .
URL:https://downtowndayton.org/event/collage-night/2026-09-17/
LOCATION:The Contemporary Dayton\, 25 W. Fourth St.\, Dayton\, OH\, 45402\, United States
ATTACH;FMTTYPE=image/jpeg:https://downtowndayton.org/wp-content/uploads/2025/06/collage.jpg
END:VEVENT
END:VCALENDAR