BEGIN:VCALENDAR
VERSION:2.0
PRODID:-//Downtown Dayton Partnership - ECPv6.8.1//NONSGML v1.0//EN
CALSCALE:GREGORIAN
METHOD:PUBLISH
X-WR-CALNAME:Downtown Dayton Partnership
X-ORIGINAL-URL:https://downtowndayton.org
X-WR-CALDESC:Events for Downtown Dayton Partnership
REFRESH-INTERVAL;VALUE=DURATION:PT1H
X-Robots-Tag:noindex
X-PUBLISHED-TTL:PT1H
BEGIN:VTIMEZONE
TZID:America/New_York
BEGIN:DAYLIGHT
TZOFFSETFROM:-0500
TZOFFSETTO:-0400
TZNAME:EDT
DTSTART:20300310T070000
END:DAYLIGHT
BEGIN:STANDARD
TZOFFSETFROM:-0400
TZOFFSETTO:-0500
TZNAME:EST
DTSTART:20301103T060000
END:STANDARD
END:VTIMEZONE
BEGIN:VEVENT
DTSTART;TZID=America/New_York:20300715T150000
DTEND;TZID=America/New_York:20300715T180000
DTSTAMP:20260422T105849
CREATED:20250924T115502Z
LAST-MODIFIED:20250924T115502Z
UID:10040823-1910358000-1910368800@downtowndayton.org
SUMMARY:Artist in Training (AIT) Program
DESCRIPTION:After school Artist in Training program geared for grades 3rd-12th grades. Classes are Monday-Wednesdays from 3:00pm-6:00pm. Open Studio time to explore different types of mediums such as Drawing\, Painting\, Clay\, Digital Art.  20.00 per session for Members/40.00 per session for Non-Members.
URL:https://downtowndayton.org/event/artist-in-training-ait-program/2030-07-15/
LOCATION:K12 Gallery & TEJAS\, 341 S. Jefferson St.\, Dayton\, OH\, 45402
ATTACH;FMTTYPE=image/jpeg:https://downtowndayton.org/wp-content/uploads/2023/12/k12tejas-scaled.jpg
END:VEVENT
BEGIN:VEVENT
DTSTART;TZID=America/New_York:20300716T150000
DTEND;TZID=America/New_York:20300716T180000
DTSTAMP:20260422T105849
CREATED:20250924T115502Z
LAST-MODIFIED:20250924T115502Z
UID:10040824-1910444400-1910455200@downtowndayton.org
SUMMARY:Artist in Training (AIT) Program
DESCRIPTION:After school Artist in Training program geared for grades 3rd-12th grades. Classes are Monday-Wednesdays from 3:00pm-6:00pm. Open Studio time to explore different types of mediums such as Drawing\, Painting\, Clay\, Digital Art.  20.00 per session for Members/40.00 per session for Non-Members.
URL:https://downtowndayton.org/event/artist-in-training-ait-program/2030-07-16/
LOCATION:K12 Gallery & TEJAS\, 341 S. Jefferson St.\, Dayton\, OH\, 45402
ATTACH;FMTTYPE=image/jpeg:https://downtowndayton.org/wp-content/uploads/2023/12/k12tejas-scaled.jpg
END:VEVENT
BEGIN:VEVENT
DTSTART;TZID=America/New_York:20300717T150000
DTEND;TZID=America/New_York:20300717T180000
DTSTAMP:20260422T105849
CREATED:20250924T115502Z
LAST-MODIFIED:20250924T115502Z
UID:10040825-1910530800-1910541600@downtowndayton.org
SUMMARY:Artist in Training (AIT) Program
DESCRIPTION:After school Artist in Training program geared for grades 3rd-12th grades. Classes are Monday-Wednesdays from 3:00pm-6:00pm. Open Studio time to explore different types of mediums such as Drawing\, Painting\, Clay\, Digital Art.  20.00 per session for Members/40.00 per session for Non-Members.
URL:https://downtowndayton.org/event/artist-in-training-ait-program/2030-07-17/
LOCATION:K12 Gallery & TEJAS\, 341 S. Jefferson St.\, Dayton\, OH\, 45402
ATTACH;FMTTYPE=image/jpeg:https://downtowndayton.org/wp-content/uploads/2023/12/k12tejas-scaled.jpg
END:VEVENT
BEGIN:VEVENT
DTSTART;TZID=America/New_York:20300722T150000
DTEND;TZID=America/New_York:20300722T180000
DTSTAMP:20260422T105849
CREATED:20250924T115502Z
LAST-MODIFIED:20250924T115502Z
UID:10040826-1910962800-1910973600@downtowndayton.org
SUMMARY:Artist in Training (AIT) Program
DESCRIPTION:After school Artist in Training program geared for grades 3rd-12th grades. Classes are Monday-Wednesdays from 3:00pm-6:00pm. Open Studio time to explore different types of mediums such as Drawing\, Painting\, Clay\, Digital Art.  20.00 per session for Members/40.00 per session for Non-Members.
URL:https://downtowndayton.org/event/artist-in-training-ait-program/2030-07-22/
LOCATION:K12 Gallery & TEJAS\, 341 S. Jefferson St.\, Dayton\, OH\, 45402
ATTACH;FMTTYPE=image/jpeg:https://downtowndayton.org/wp-content/uploads/2023/12/k12tejas-scaled.jpg
END:VEVENT
BEGIN:VEVENT
DTSTART;TZID=America/New_York:20300723T150000
DTEND;TZID=America/New_York:20300723T180000
DTSTAMP:20260422T105849
CREATED:20250924T115502Z
LAST-MODIFIED:20250924T115502Z
UID:10040827-1911049200-1911060000@downtowndayton.org
SUMMARY:Artist in Training (AIT) Program
DESCRIPTION:After school Artist in Training program geared for grades 3rd-12th grades. Classes are Monday-Wednesdays from 3:00pm-6:00pm. Open Studio time to explore different types of mediums such as Drawing\, Painting\, Clay\, Digital Art.  20.00 per session for Members/40.00 per session for Non-Members.
URL:https://downtowndayton.org/event/artist-in-training-ait-program/2030-07-23/
LOCATION:K12 Gallery & TEJAS\, 341 S. Jefferson St.\, Dayton\, OH\, 45402
ATTACH;FMTTYPE=image/jpeg:https://downtowndayton.org/wp-content/uploads/2023/12/k12tejas-scaled.jpg
END:VEVENT
BEGIN:VEVENT
DTSTART;TZID=America/New_York:20300724T150000
DTEND;TZID=America/New_York:20300724T180000
DTSTAMP:20260422T105849
CREATED:20250924T115502Z
LAST-MODIFIED:20250924T115502Z
UID:10040828-1911135600-1911146400@downtowndayton.org
SUMMARY:Artist in Training (AIT) Program
DESCRIPTION:After school Artist in Training program geared for grades 3rd-12th grades. Classes are Monday-Wednesdays from 3:00pm-6:00pm. Open Studio time to explore different types of mediums such as Drawing\, Painting\, Clay\, Digital Art.  20.00 per session for Members/40.00 per session for Non-Members.
URL:https://downtowndayton.org/event/artist-in-training-ait-program/2030-07-24/
LOCATION:K12 Gallery & TEJAS\, 341 S. Jefferson St.\, Dayton\, OH\, 45402
ATTACH;FMTTYPE=image/jpeg:https://downtowndayton.org/wp-content/uploads/2023/12/k12tejas-scaled.jpg
END:VEVENT
BEGIN:VEVENT
DTSTART;TZID=America/New_York:20300729T150000
DTEND;TZID=America/New_York:20300729T180000
DTSTAMP:20260422T105849
CREATED:20250924T115502Z
LAST-MODIFIED:20250924T115502Z
UID:10040829-1911567600-1911578400@downtowndayton.org
SUMMARY:Artist in Training (AIT) Program
DESCRIPTION:After school Artist in Training program geared for grades 3rd-12th grades. Classes are Monday-Wednesdays from 3:00pm-6:00pm. Open Studio time to explore different types of mediums such as Drawing\, Painting\, Clay\, Digital Art.  20.00 per session for Members/40.00 per session for Non-Members.
URL:https://downtowndayton.org/event/artist-in-training-ait-program/2030-07-29/
LOCATION:K12 Gallery & TEJAS\, 341 S. Jefferson St.\, Dayton\, OH\, 45402
ATTACH;FMTTYPE=image/jpeg:https://downtowndayton.org/wp-content/uploads/2023/12/k12tejas-scaled.jpg
END:VEVENT
BEGIN:VEVENT
DTSTART;TZID=America/New_York:20300730T150000
DTEND;TZID=America/New_York:20300730T180000
DTSTAMP:20260422T105849
CREATED:20250924T115502Z
LAST-MODIFIED:20250924T115502Z
UID:10040830-1911654000-1911664800@downtowndayton.org
SUMMARY:Artist in Training (AIT) Program
DESCRIPTION:After school Artist in Training program geared for grades 3rd-12th grades. Classes are Monday-Wednesdays from 3:00pm-6:00pm. Open Studio time to explore different types of mediums such as Drawing\, Painting\, Clay\, Digital Art.  20.00 per session for Members/40.00 per session for Non-Members.
URL:https://downtowndayton.org/event/artist-in-training-ait-program/2030-07-30/
LOCATION:K12 Gallery & TEJAS\, 341 S. Jefferson St.\, Dayton\, OH\, 45402
ATTACH;FMTTYPE=image/jpeg:https://downtowndayton.org/wp-content/uploads/2023/12/k12tejas-scaled.jpg
END:VEVENT
BEGIN:VEVENT
DTSTART;TZID=America/New_York:20300731T150000
DTEND;TZID=America/New_York:20300731T180000
DTSTAMP:20260422T105849
CREATED:20250924T115502Z
LAST-MODIFIED:20250924T115502Z
UID:10040831-1911740400-1911751200@downtowndayton.org
SUMMARY:Artist in Training (AIT) Program
DESCRIPTION:After school Artist in Training program geared for grades 3rd-12th grades. Classes are Monday-Wednesdays from 3:00pm-6:00pm. Open Studio time to explore different types of mediums such as Drawing\, Painting\, Clay\, Digital Art.  20.00 per session for Members/40.00 per session for Non-Members.
URL:https://downtowndayton.org/event/artist-in-training-ait-program/2030-07-31/
LOCATION:K12 Gallery & TEJAS\, 341 S. Jefferson St.\, Dayton\, OH\, 45402
ATTACH;FMTTYPE=image/jpeg:https://downtowndayton.org/wp-content/uploads/2023/12/k12tejas-scaled.jpg
END:VEVENT
BEGIN:VEVENT
DTSTART;TZID=America/New_York:20300805T150000
DTEND;TZID=America/New_York:20300805T180000
DTSTAMP:20260422T105849
CREATED:20250924T115502Z
LAST-MODIFIED:20250924T115502Z
UID:10040832-1912172400-1912183200@downtowndayton.org
SUMMARY:Artist in Training (AIT) Program
DESCRIPTION:After school Artist in Training program geared for grades 3rd-12th grades. Classes are Monday-Wednesdays from 3:00pm-6:00pm. Open Studio time to explore different types of mediums such as Drawing\, Painting\, Clay\, Digital Art.  20.00 per session for Members/40.00 per session for Non-Members.
URL:https://downtowndayton.org/event/artist-in-training-ait-program/2030-08-05/
LOCATION:K12 Gallery & TEJAS\, 341 S. Jefferson St.\, Dayton\, OH\, 45402
ATTACH;FMTTYPE=image/jpeg:https://downtowndayton.org/wp-content/uploads/2023/12/k12tejas-scaled.jpg
END:VEVENT
BEGIN:VEVENT
DTSTART;TZID=America/New_York:20300806T150000
DTEND;TZID=America/New_York:20300806T180000
DTSTAMP:20260422T105849
CREATED:20250924T115502Z
LAST-MODIFIED:20250924T115502Z
UID:10040833-1912258800-1912269600@downtowndayton.org
SUMMARY:Artist in Training (AIT) Program
DESCRIPTION:After school Artist in Training program geared for grades 3rd-12th grades. Classes are Monday-Wednesdays from 3:00pm-6:00pm. Open Studio time to explore different types of mediums such as Drawing\, Painting\, Clay\, Digital Art.  20.00 per session for Members/40.00 per session for Non-Members.
URL:https://downtowndayton.org/event/artist-in-training-ait-program/2030-08-06/
LOCATION:K12 Gallery & TEJAS\, 341 S. Jefferson St.\, Dayton\, OH\, 45402
ATTACH;FMTTYPE=image/jpeg:https://downtowndayton.org/wp-content/uploads/2023/12/k12tejas-scaled.jpg
END:VEVENT
BEGIN:VEVENT
DTSTART;TZID=America/New_York:20300807T150000
DTEND;TZID=America/New_York:20300807T180000
DTSTAMP:20260422T105849
CREATED:20250924T115502Z
LAST-MODIFIED:20250924T115502Z
UID:10040834-1912345200-1912356000@downtowndayton.org
SUMMARY:Artist in Training (AIT) Program
DESCRIPTION:After school Artist in Training program geared for grades 3rd-12th grades. Classes are Monday-Wednesdays from 3:00pm-6:00pm. Open Studio time to explore different types of mediums such as Drawing\, Painting\, Clay\, Digital Art.  20.00 per session for Members/40.00 per session for Non-Members.
URL:https://downtowndayton.org/event/artist-in-training-ait-program/2030-08-07/
LOCATION:K12 Gallery & TEJAS\, 341 S. Jefferson St.\, Dayton\, OH\, 45402
ATTACH;FMTTYPE=image/jpeg:https://downtowndayton.org/wp-content/uploads/2023/12/k12tejas-scaled.jpg
END:VEVENT
BEGIN:VEVENT
DTSTART;TZID=America/New_York:20300812T150000
DTEND;TZID=America/New_York:20300812T180000
DTSTAMP:20260422T105849
CREATED:20250924T115502Z
LAST-MODIFIED:20250924T115502Z
UID:10040835-1912777200-1912788000@downtowndayton.org
SUMMARY:Artist in Training (AIT) Program
DESCRIPTION:After school Artist in Training program geared for grades 3rd-12th grades. Classes are Monday-Wednesdays from 3:00pm-6:00pm. Open Studio time to explore different types of mediums such as Drawing\, Painting\, Clay\, Digital Art.  20.00 per session for Members/40.00 per session for Non-Members.
URL:https://downtowndayton.org/event/artist-in-training-ait-program/2030-08-12/
LOCATION:K12 Gallery & TEJAS\, 341 S. Jefferson St.\, Dayton\, OH\, 45402
ATTACH;FMTTYPE=image/jpeg:https://downtowndayton.org/wp-content/uploads/2023/12/k12tejas-scaled.jpg
END:VEVENT
BEGIN:VEVENT
DTSTART;TZID=America/New_York:20300813T150000
DTEND;TZID=America/New_York:20300813T180000
DTSTAMP:20260422T105849
CREATED:20250924T115502Z
LAST-MODIFIED:20250924T115502Z
UID:10040836-1912863600-1912874400@downtowndayton.org
SUMMARY:Artist in Training (AIT) Program
DESCRIPTION:After school Artist in Training program geared for grades 3rd-12th grades. Classes are Monday-Wednesdays from 3:00pm-6:00pm. Open Studio time to explore different types of mediums such as Drawing\, Painting\, Clay\, Digital Art.  20.00 per session for Members/40.00 per session for Non-Members.
URL:https://downtowndayton.org/event/artist-in-training-ait-program/2030-08-13/
LOCATION:K12 Gallery & TEJAS\, 341 S. Jefferson St.\, Dayton\, OH\, 45402
ATTACH;FMTTYPE=image/jpeg:https://downtowndayton.org/wp-content/uploads/2023/12/k12tejas-scaled.jpg
END:VEVENT
BEGIN:VEVENT
DTSTART;TZID=America/New_York:20300814T150000
DTEND;TZID=America/New_York:20300814T180000
DTSTAMP:20260422T105849
CREATED:20250924T115502Z
LAST-MODIFIED:20250924T115502Z
UID:10040837-1912950000-1912960800@downtowndayton.org
SUMMARY:Artist in Training (AIT) Program
DESCRIPTION:After school Artist in Training program geared for grades 3rd-12th grades. Classes are Monday-Wednesdays from 3:00pm-6:00pm. Open Studio time to explore different types of mediums such as Drawing\, Painting\, Clay\, Digital Art.  20.00 per session for Members/40.00 per session for Non-Members.
URL:https://downtowndayton.org/event/artist-in-training-ait-program/2030-08-14/
LOCATION:K12 Gallery & TEJAS\, 341 S. Jefferson St.\, Dayton\, OH\, 45402
ATTACH;FMTTYPE=image/jpeg:https://downtowndayton.org/wp-content/uploads/2023/12/k12tejas-scaled.jpg
END:VEVENT
BEGIN:VEVENT
DTSTART;TZID=America/New_York:20300819T150000
DTEND;TZID=America/New_York:20300819T180000
DTSTAMP:20260422T105849
CREATED:20250924T115502Z
LAST-MODIFIED:20250924T115502Z
UID:10040838-1913382000-1913392800@downtowndayton.org
SUMMARY:Artist in Training (AIT) Program
DESCRIPTION:After school Artist in Training program geared for grades 3rd-12th grades. Classes are Monday-Wednesdays from 3:00pm-6:00pm. Open Studio time to explore different types of mediums such as Drawing\, Painting\, Clay\, Digital Art.  20.00 per session for Members/40.00 per session for Non-Members.
URL:https://downtowndayton.org/event/artist-in-training-ait-program/2030-08-19/
LOCATION:K12 Gallery & TEJAS\, 341 S. Jefferson St.\, Dayton\, OH\, 45402
ATTACH;FMTTYPE=image/jpeg:https://downtowndayton.org/wp-content/uploads/2023/12/k12tejas-scaled.jpg
END:VEVENT
BEGIN:VEVENT
DTSTART;TZID=America/New_York:20300820T150000
DTEND;TZID=America/New_York:20300820T180000
DTSTAMP:20260422T105849
CREATED:20250924T115502Z
LAST-MODIFIED:20250924T115502Z
UID:10040839-1913468400-1913479200@downtowndayton.org
SUMMARY:Artist in Training (AIT) Program
DESCRIPTION:After school Artist in Training program geared for grades 3rd-12th grades. Classes are Monday-Wednesdays from 3:00pm-6:00pm. Open Studio time to explore different types of mediums such as Drawing\, Painting\, Clay\, Digital Art.  20.00 per session for Members/40.00 per session for Non-Members.
URL:https://downtowndayton.org/event/artist-in-training-ait-program/2030-08-20/
LOCATION:K12 Gallery & TEJAS\, 341 S. Jefferson St.\, Dayton\, OH\, 45402
ATTACH;FMTTYPE=image/jpeg:https://downtowndayton.org/wp-content/uploads/2023/12/k12tejas-scaled.jpg
END:VEVENT
BEGIN:VEVENT
DTSTART;TZID=America/New_York:20300821T150000
DTEND;TZID=America/New_York:20300821T180000
DTSTAMP:20260422T105849
CREATED:20250924T115502Z
LAST-MODIFIED:20250924T115502Z
UID:10040840-1913554800-1913565600@downtowndayton.org
SUMMARY:Artist in Training (AIT) Program
DESCRIPTION:After school Artist in Training program geared for grades 3rd-12th grades. Classes are Monday-Wednesdays from 3:00pm-6:00pm. Open Studio time to explore different types of mediums such as Drawing\, Painting\, Clay\, Digital Art.  20.00 per session for Members/40.00 per session for Non-Members.
URL:https://downtowndayton.org/event/artist-in-training-ait-program/2030-08-21/
LOCATION:K12 Gallery & TEJAS\, 341 S. Jefferson St.\, Dayton\, OH\, 45402
ATTACH;FMTTYPE=image/jpeg:https://downtowndayton.org/wp-content/uploads/2023/12/k12tejas-scaled.jpg
END:VEVENT
BEGIN:VEVENT
DTSTART;TZID=America/New_York:20300826T150000
DTEND;TZID=America/New_York:20300826T180000
DTSTAMP:20260422T105849
CREATED:20250924T115502Z
LAST-MODIFIED:20250924T115502Z
UID:10040841-1913986800-1913997600@downtowndayton.org
SUMMARY:Artist in Training (AIT) Program
DESCRIPTION:After school Artist in Training program geared for grades 3rd-12th grades. Classes are Monday-Wednesdays from 3:00pm-6:00pm. Open Studio time to explore different types of mediums such as Drawing\, Painting\, Clay\, Digital Art.  20.00 per session for Members/40.00 per session for Non-Members.
URL:https://downtowndayton.org/event/artist-in-training-ait-program/2030-08-26/
LOCATION:K12 Gallery & TEJAS\, 341 S. Jefferson St.\, Dayton\, OH\, 45402
ATTACH;FMTTYPE=image/jpeg:https://downtowndayton.org/wp-content/uploads/2023/12/k12tejas-scaled.jpg
END:VEVENT
BEGIN:VEVENT
DTSTART;TZID=America/New_York:20300827T150000
DTEND;TZID=America/New_York:20300827T180000
DTSTAMP:20260422T105849
CREATED:20250924T115502Z
LAST-MODIFIED:20250924T115502Z
UID:10040842-1914073200-1914084000@downtowndayton.org
SUMMARY:Artist in Training (AIT) Program
DESCRIPTION:After school Artist in Training program geared for grades 3rd-12th grades. Classes are Monday-Wednesdays from 3:00pm-6:00pm. Open Studio time to explore different types of mediums such as Drawing\, Painting\, Clay\, Digital Art.  20.00 per session for Members/40.00 per session for Non-Members.
URL:https://downtowndayton.org/event/artist-in-training-ait-program/2030-08-27/
LOCATION:K12 Gallery & TEJAS\, 341 S. Jefferson St.\, Dayton\, OH\, 45402
ATTACH;FMTTYPE=image/jpeg:https://downtowndayton.org/wp-content/uploads/2023/12/k12tejas-scaled.jpg
END:VEVENT
BEGIN:VEVENT
DTSTART;TZID=America/New_York:20300828T150000
DTEND;TZID=America/New_York:20300828T180000
DTSTAMP:20260422T105849
CREATED:20250924T115502Z
LAST-MODIFIED:20250924T115502Z
UID:10040843-1914159600-1914170400@downtowndayton.org
SUMMARY:Artist in Training (AIT) Program
DESCRIPTION:After school Artist in Training program geared for grades 3rd-12th grades. Classes are Monday-Wednesdays from 3:00pm-6:00pm. Open Studio time to explore different types of mediums such as Drawing\, Painting\, Clay\, Digital Art.  20.00 per session for Members/40.00 per session for Non-Members.
URL:https://downtowndayton.org/event/artist-in-training-ait-program/2030-08-28/
LOCATION:K12 Gallery & TEJAS\, 341 S. Jefferson St.\, Dayton\, OH\, 45402
ATTACH;FMTTYPE=image/jpeg:https://downtowndayton.org/wp-content/uploads/2023/12/k12tejas-scaled.jpg
END:VEVENT
BEGIN:VEVENT
DTSTART;TZID=America/New_York:20300902T150000
DTEND;TZID=America/New_York:20300902T180000
DTSTAMP:20260422T105849
CREATED:20250924T115502Z
LAST-MODIFIED:20250924T115502Z
UID:10040844-1914591600-1914602400@downtowndayton.org
SUMMARY:Artist in Training (AIT) Program
DESCRIPTION:After school Artist in Training program geared for grades 3rd-12th grades. Classes are Monday-Wednesdays from 3:00pm-6:00pm. Open Studio time to explore different types of mediums such as Drawing\, Painting\, Clay\, Digital Art.  20.00 per session for Members/40.00 per session for Non-Members.
URL:https://downtowndayton.org/event/artist-in-training-ait-program/2030-09-02/
LOCATION:K12 Gallery & TEJAS\, 341 S. Jefferson St.\, Dayton\, OH\, 45402
ATTACH;FMTTYPE=image/jpeg:https://downtowndayton.org/wp-content/uploads/2023/12/k12tejas-scaled.jpg
END:VEVENT
BEGIN:VEVENT
DTSTART;TZID=America/New_York:20300903T150000
DTEND;TZID=America/New_York:20300903T180000
DTSTAMP:20260422T105849
CREATED:20250924T115502Z
LAST-MODIFIED:20250924T115502Z
UID:10040845-1914678000-1914688800@downtowndayton.org
SUMMARY:Artist in Training (AIT) Program
DESCRIPTION:After school Artist in Training program geared for grades 3rd-12th grades. Classes are Monday-Wednesdays from 3:00pm-6:00pm. Open Studio time to explore different types of mediums such as Drawing\, Painting\, Clay\, Digital Art.  20.00 per session for Members/40.00 per session for Non-Members.
URL:https://downtowndayton.org/event/artist-in-training-ait-program/2030-09-03/
LOCATION:K12 Gallery & TEJAS\, 341 S. Jefferson St.\, Dayton\, OH\, 45402
ATTACH;FMTTYPE=image/jpeg:https://downtowndayton.org/wp-content/uploads/2023/12/k12tejas-scaled.jpg
END:VEVENT
BEGIN:VEVENT
DTSTART;TZID=America/New_York:20300904T150000
DTEND;TZID=America/New_York:20300904T180000
DTSTAMP:20260422T105850
CREATED:20250924T115502Z
LAST-MODIFIED:20250924T115502Z
UID:10040846-1914764400-1914775200@downtowndayton.org
SUMMARY:Artist in Training (AIT) Program
DESCRIPTION:After school Artist in Training program geared for grades 3rd-12th grades. Classes are Monday-Wednesdays from 3:00pm-6:00pm. Open Studio time to explore different types of mediums such as Drawing\, Painting\, Clay\, Digital Art.  20.00 per session for Members/40.00 per session for Non-Members.
URL:https://downtowndayton.org/event/artist-in-training-ait-program/2030-09-04/
LOCATION:K12 Gallery & TEJAS\, 341 S. Jefferson St.\, Dayton\, OH\, 45402
ATTACH;FMTTYPE=image/jpeg:https://downtowndayton.org/wp-content/uploads/2023/12/k12tejas-scaled.jpg
END:VEVENT
BEGIN:VEVENT
DTSTART;TZID=America/New_York:20300909T150000
DTEND;TZID=America/New_York:20300909T180000
DTSTAMP:20260422T105850
CREATED:20250924T115502Z
LAST-MODIFIED:20250924T115502Z
UID:10040847-1915196400-1915207200@downtowndayton.org
SUMMARY:Artist in Training (AIT) Program
DESCRIPTION:After school Artist in Training program geared for grades 3rd-12th grades. Classes are Monday-Wednesdays from 3:00pm-6:00pm. Open Studio time to explore different types of mediums such as Drawing\, Painting\, Clay\, Digital Art.  20.00 per session for Members/40.00 per session for Non-Members.
URL:https://downtowndayton.org/event/artist-in-training-ait-program/2030-09-09/
LOCATION:K12 Gallery & TEJAS\, 341 S. Jefferson St.\, Dayton\, OH\, 45402
ATTACH;FMTTYPE=image/jpeg:https://downtowndayton.org/wp-content/uploads/2023/12/k12tejas-scaled.jpg
END:VEVENT
BEGIN:VEVENT
DTSTART;TZID=America/New_York:20300910T150000
DTEND;TZID=America/New_York:20300910T180000
DTSTAMP:20260422T105850
CREATED:20250924T115502Z
LAST-MODIFIED:20250924T115502Z
UID:10040848-1915282800-1915293600@downtowndayton.org
SUMMARY:Artist in Training (AIT) Program
DESCRIPTION:After school Artist in Training program geared for grades 3rd-12th grades. Classes are Monday-Wednesdays from 3:00pm-6:00pm. Open Studio time to explore different types of mediums such as Drawing\, Painting\, Clay\, Digital Art.  20.00 per session for Members/40.00 per session for Non-Members.
URL:https://downtowndayton.org/event/artist-in-training-ait-program/2030-09-10/
LOCATION:K12 Gallery & TEJAS\, 341 S. Jefferson St.\, Dayton\, OH\, 45402
ATTACH;FMTTYPE=image/jpeg:https://downtowndayton.org/wp-content/uploads/2023/12/k12tejas-scaled.jpg
END:VEVENT
BEGIN:VEVENT
DTSTART;TZID=America/New_York:20300911T150000
DTEND;TZID=America/New_York:20300911T180000
DTSTAMP:20260422T105850
CREATED:20250924T115502Z
LAST-MODIFIED:20250924T115502Z
UID:10040849-1915369200-1915380000@downtowndayton.org
SUMMARY:Artist in Training (AIT) Program
DESCRIPTION:After school Artist in Training program geared for grades 3rd-12th grades. Classes are Monday-Wednesdays from 3:00pm-6:00pm. Open Studio time to explore different types of mediums such as Drawing\, Painting\, Clay\, Digital Art.  20.00 per session for Members/40.00 per session for Non-Members.
URL:https://downtowndayton.org/event/artist-in-training-ait-program/2030-09-11/
LOCATION:K12 Gallery & TEJAS\, 341 S. Jefferson St.\, Dayton\, OH\, 45402
ATTACH;FMTTYPE=image/jpeg:https://downtowndayton.org/wp-content/uploads/2023/12/k12tejas-scaled.jpg
END:VEVENT
BEGIN:VEVENT
DTSTART;TZID=America/New_York:20300916T150000
DTEND;TZID=America/New_York:20300916T180000
DTSTAMP:20260422T105850
CREATED:20250924T115502Z
LAST-MODIFIED:20250924T115502Z
UID:10040850-1915801200-1915812000@downtowndayton.org
SUMMARY:Artist in Training (AIT) Program
DESCRIPTION:After school Artist in Training program geared for grades 3rd-12th grades. Classes are Monday-Wednesdays from 3:00pm-6:00pm. Open Studio time to explore different types of mediums such as Drawing\, Painting\, Clay\, Digital Art.  20.00 per session for Members/40.00 per session for Non-Members.
URL:https://downtowndayton.org/event/artist-in-training-ait-program/2030-09-16/
LOCATION:K12 Gallery & TEJAS\, 341 S. Jefferson St.\, Dayton\, OH\, 45402
ATTACH;FMTTYPE=image/jpeg:https://downtowndayton.org/wp-content/uploads/2023/12/k12tejas-scaled.jpg
END:VEVENT
BEGIN:VEVENT
DTSTART;TZID=America/New_York:20300917T150000
DTEND;TZID=America/New_York:20300917T180000
DTSTAMP:20260422T105850
CREATED:20250924T115502Z
LAST-MODIFIED:20250924T115502Z
UID:10040851-1915887600-1915898400@downtowndayton.org
SUMMARY:Artist in Training (AIT) Program
DESCRIPTION:After school Artist in Training program geared for grades 3rd-12th grades. Classes are Monday-Wednesdays from 3:00pm-6:00pm. Open Studio time to explore different types of mediums such as Drawing\, Painting\, Clay\, Digital Art.  20.00 per session for Members/40.00 per session for Non-Members.
URL:https://downtowndayton.org/event/artist-in-training-ait-program/2030-09-17/
LOCATION:K12 Gallery & TEJAS\, 341 S. Jefferson St.\, Dayton\, OH\, 45402
ATTACH;FMTTYPE=image/jpeg:https://downtowndayton.org/wp-content/uploads/2023/12/k12tejas-scaled.jpg
END:VEVENT
BEGIN:VEVENT
DTSTART;TZID=America/New_York:20300918T150000
DTEND;TZID=America/New_York:20300918T180000
DTSTAMP:20260422T105850
CREATED:20250924T115502Z
LAST-MODIFIED:20250924T115502Z
UID:10040852-1915974000-1915984800@downtowndayton.org
SUMMARY:Artist in Training (AIT) Program
DESCRIPTION:After school Artist in Training program geared for grades 3rd-12th grades. Classes are Monday-Wednesdays from 3:00pm-6:00pm. Open Studio time to explore different types of mediums such as Drawing\, Painting\, Clay\, Digital Art.  20.00 per session for Members/40.00 per session for Non-Members.
URL:https://downtowndayton.org/event/artist-in-training-ait-program/2030-09-18/
LOCATION:K12 Gallery & TEJAS\, 341 S. Jefferson St.\, Dayton\, OH\, 45402
ATTACH;FMTTYPE=image/jpeg:https://downtowndayton.org/wp-content/uploads/2023/12/k12tejas-scaled.jpg
END:VEVENT
END:VCALENDAR