BEGIN:VCALENDAR
VERSION:2.0
PRODID:-//Downtown Dayton Partnership - ECPv6.8.1//NONSGML v1.0//EN
CALSCALE:GREGORIAN
METHOD:PUBLISH
X-ORIGINAL-URL:https://downtowndayton.org
X-WR-CALDESC:Events for Downtown Dayton Partnership
REFRESH-INTERVAL;VALUE=DURATION:PT1H
X-Robots-Tag:noindex
X-PUBLISHED-TTL:PT1H
BEGIN:VTIMEZONE
TZID:America/New_York
BEGIN:DAYLIGHT
TZOFFSETFROM:-0500
TZOFFSETTO:-0400
TZNAME:EDT
DTSTART:20250309T070000
END:DAYLIGHT
BEGIN:STANDARD
TZOFFSETFROM:-0400
TZOFFSETTO:-0500
TZNAME:EST
DTSTART:20251102T060000
END:STANDARD
BEGIN:DAYLIGHT
TZOFFSETFROM:-0500
TZOFFSETTO:-0400
TZNAME:EDT
DTSTART:20260308T070000
END:DAYLIGHT
BEGIN:STANDARD
TZOFFSETFROM:-0400
TZOFFSETTO:-0500
TZNAME:EST
DTSTART:20261101T060000
END:STANDARD
END:VTIMEZONE
BEGIN:VEVENT
DTSTART;TZID=America/New_York:20260411T120000
DTEND;TZID=America/New_York:20260411T150000
DTSTAMP:20260420T002455
CREATED:20260406T173459Z
LAST-MODIFIED:20260406T173459Z
UID:10055612-1775908800-1775919600@downtowndayton.org
SUMMARY:Zen Pathways Succulent Garden Workshop
DESCRIPTION:Create a serene miniature garden that symbolizes transition\, intention\, and new beginnings. In this mindful workshop\, each guest designs a Zen-inspired landscape featuring a wooden bridge—representing the path from where you’ve been to where you’re headed. Choose from a curated selection of plants\, stones\, moss\, and natural embellishments to craft a personal guide that reflects your wishes and intentions for the year ahead. A calming\, creative experience meant to ground you as you step thoughtfully into 2026. Workshop Includes all necessary materials to create your one-of-a-kind dish garden; 10″-12″ ceramic vessel\, succulent plants\, mosses and embellishments\, 1 wooden bridge and take home boxing and care information. Our experienced studio guides are always there to guide and assist with your project building.  https://www.shopnowandzen.com/open-workshop
URL:https://downtowndayton.org/event/zen-pathways-succulent-garden-workshop/
LOCATION:Now and Zen DIY Studio\, 121 E. Third St.\, Dayton\, OH\, 45402
ATTACH;FMTTYPE=image/jpeg:https://downtowndayton.org/wp-content/uploads/2026/04/pathways.jpg
END:VEVENT
BEGIN:VEVENT
DTSTART;TZID=America/New_York:20260404T120000
DTEND;TZID=America/New_York:20260404T150000
DTSTAMP:20260420T002455
CREATED:20260323T122037Z
LAST-MODIFIED:20260323T122037Z
UID:10055410-1775304000-1775314800@downtowndayton.org
SUMMARY:Wine Bottle Terrarium Workshop
DESCRIPTION:Get ready to dig in and let your creativity flow! Join us for a one-of-a-kind workshop where you’ll transform a wine bottle into a stunning succulent terrarium centerpiece. Choose from an amazing assortment of succulents\, cacti\, and quirky embellishments to make your masterpiece truly your own. This fun\, hands-on project is the perfect way to bring fresh vibes and greenery into your space! Workshop Includes: A horizontal wine bottle vessel 4 succulents and/or cacti to choose from A variety of unique embellishments to make your creation pop Hands-on instruction to guide you every step of the way Take-home boxing and care tips to keep your terrarium thriving.
URL:https://downtowndayton.org/event/wine-bottle-terrarium-workshop/
LOCATION:Now and Zen DIY Studio\, 121 E. Third St.\, Dayton\, OH\, 45402
ATTACH;FMTTYPE=image/jpeg:https://downtowndayton.org/wp-content/uploads/2026/03/winebottle.jpg
END:VEVENT
BEGIN:VEVENT
DTSTART;TZID=America/New_York:20260328T120000
DTEND;TZID=America/New_York:20260328T150000
DTSTAMP:20260420T002455
CREATED:20260312T185030Z
LAST-MODIFIED:20260312T185030Z
UID:10055360-1774699200-1774710000@downtowndayton.org
SUMMARY:Moss Wall Art Workshop
DESCRIPTION:Transform your space with your very own piece of natural wall art! In this hands-on workshop\, you’ll use an array of preserved moss and natural elements to design a one-of-a-kind creation. With endless possibilities\, you’ll craft something that’s uniquely yours while adding a touch of greenery to your decor. Note: Registrations are transferable\, but not refundable. What’s Included: 9″ wood frame\, or a 10″ round frame\, a variety of preserved mosses and natural accents\, take-home boxing to transport your masterpiece safely home and step guidance to bring your vision to life!!
URL:https://downtowndayton.org/event/moss-wall-art-workshop-3/
LOCATION:Now and Zen DIY Studio\, 121 E. Third St.\, Dayton\, OH\, 45402
ATTACH;FMTTYPE=image/png:https://downtowndayton.org/wp-content/uploads/2026/03/Moss-Art-Horizontal.png
END:VEVENT
BEGIN:VEVENT
DTSTART;TZID=America/New_York:20260321T120000
DTEND;TZID=America/New_York:20260321T150000
DTSTAMP:20260420T002455
CREATED:20260309T121036Z
LAST-MODIFIED:20260309T121036Z
UID:10055003-1774094400-1774105200@downtowndayton.org
SUMMARY:Tropical Terrarium Workshop
DESCRIPTION:Tropical Terrarium Workshop Create your own lush\, self-sustaining tropical ecosystem. Choose from a variety of colorful\, humidity-loving plants and ferns\, then personalize your terrarium with curated natural embellishments and accents. These closed terrariums thrive on condensation\, creating their own watering cycle—making them both beautiful and easy to care for.
URL:https://downtowndayton.org/event/tropical-terrarium-workshop-2/
LOCATION:Now and Zen DIY Studio\, 121 E. Third St.\, Dayton\, OH\, 45402
ATTACH;FMTTYPE=image/jpeg:https://downtowndayton.org/wp-content/uploads/2026/03/trop.jpg
END:VEVENT
BEGIN:VEVENT
DTSTART;TZID=America/New_York:20260314T120000
DTEND;TZID=America/New_York:20260314T140000
DTSTAMP:20260420T002455
CREATED:20260309T121614Z
LAST-MODIFIED:20260309T121614Z
UID:10055006-1773489600-1773496800@downtowndayton.org
SUMMARY:Fun with Dinos and Groot
DESCRIPTION:A creative terrarium workshop for kids of all ages—4 years to 99 years. In this hands-on workshop\, participants can choose to create a Groot-themed terrarium\, a Dinosaur habitat\, or both. Using natural elements\, miniature accents\, and plants\, each creation becomes a tiny world filled with imagination and personality.
URL:https://downtowndayton.org/event/fun-with-dinos-and-groot/
LOCATION:Now and Zen DIY Studio\, 121 E. Third St.\, Dayton\, OH\, 45402
ATTACH;FMTTYPE=image/jpeg:https://downtowndayton.org/wp-content/uploads/2026/03/iamdinos.jpg
END:VEVENT
BEGIN:VEVENT
DTSTART;TZID=America/New_York:20260307T120000
DTEND;TZID=America/New_York:20260307T150000
DTSTAMP:20260420T002455
CREATED:20260227T181231Z
LAST-MODIFIED:20260227T181231Z
UID:10054907-1772884800-1772895600@downtowndayton.org
SUMMARY:Hanging Geometric Terrarium Workshop
DESCRIPTION:reate a modern\, nature-inspired piece designed to elevate your space. In this relaxing\, guided workshop\, you’ll design a hanging geometric planter using a succulent\, natural elements\, and clean architectural lines. A perfect balance of calm and contemporary design. All materials included Guided instruction Take-home care information No experience needed. https://www.shopnowandzen.com/open-workshop
URL:https://downtowndayton.org/event/hanging-geometric-terrarium-workshop/
LOCATION:Now and Zen DIY Studio\, 121 E. Third St.\, Dayton\, OH\, 45402
ATTACH;FMTTYPE=image/jpeg:https://downtowndayton.org/wp-content/uploads/2026/02/geosuc.jpg
END:VEVENT
BEGIN:VEVENT
DTSTART;TZID=America/New_York:20260307T120000
DTEND;TZID=America/New_York:20260307T150000
DTSTAMP:20260420T002455
CREATED:20260223T161226Z
LAST-MODIFIED:20260223T161226Z
UID:10054707-1772884800-1772895600@downtowndayton.org
SUMMARY:Sand Art Air Plant Workshop
DESCRIPTION:Unleash your creativity in our Sand Art – Air Plant Workshop! This fun and relaxing experience lets you design a vibrant layered sand creation inside a sleek glass vessel. You’ll then bring it to life with easy-care air plants and an array of embellishments. Perfect for beginners and plant lovers alike. No soil\, no mess\, and no green thumb needed. You’ll leave with a unique\, low-maintenance piece of living art to brighten up your space for give as a thoughtful gift.
URL:https://downtowndayton.org/event/sand-art-air-plant-workshop-2/
LOCATION:Now and Zen DIY Studio\, 121 E. Third St.\, Dayton\, OH\, 45402
ATTACH;FMTTYPE=image/jpeg:https://downtowndayton.org/wp-content/uploads/2026/02/sandart.jpg
END:VEVENT
BEGIN:VEVENT
DTSTART;TZID=America/New_York:20260228T140000
DTEND;TZID=America/New_York:20260228T150000
DTSTAMP:20260420T002455
CREATED:20260218T141042Z
LAST-MODIFIED:20260218T141042Z
UID:10054424-1772287200-1772290800@downtowndayton.org
SUMMARY:Curators of Curiosities Workshop
DESCRIPTION:Bring your own treasured oddities and transform them into a one-of-a-kind terrarium in this art-forward workshop designed for adults. Guests are invited to incorporate personal objects—bones\, specimens\, found items\, or curios—into a thoughtfully composed miniature environment using natural elements\, plants\, and textures. You’ll be guided through composition\, balance\, and visual storytelling while blending living and non-living elements into a cohesive\, expressive piece. This relaxed\, creative experience celebrates individuality\, curiosity\, and the beauty of the unusual—no two terrariums will be alike. https://www.shopnowandzen.com/open-workshop
URL:https://downtowndayton.org/event/curators-of-curiosities-workshop/2026-02-28/2/
LOCATION:Now and Zen DIY Studio\, 121 E. Third St.\, Dayton\, OH\, 45402
ATTACH;FMTTYPE=image/jpeg:https://downtowndayton.org/wp-content/uploads/2026/02/curiosity.jpg
END:VEVENT
BEGIN:VEVENT
DTSTART;TZID=America/New_York:20260228T120000
DTEND;TZID=America/New_York:20260228T130000
DTSTAMP:20260420T002455
CREATED:20260218T141042Z
LAST-MODIFIED:20260218T141042Z
UID:10054423-1772280000-1772283600@downtowndayton.org
SUMMARY:Curators of Curiosities Workshop
DESCRIPTION:Bring your own treasured oddities and transform them into a one-of-a-kind terrarium in this art-forward workshop designed for adults. Guests are invited to incorporate personal objects—bones\, specimens\, found items\, or curios—into a thoughtfully composed miniature environment using natural elements\, plants\, and textures. You’ll be guided through composition\, balance\, and visual storytelling while blending living and non-living elements into a cohesive\, expressive piece. This relaxed\, creative experience celebrates individuality\, curiosity\, and the beauty of the unusual—no two terrariums will be alike. https://www.shopnowandzen.com/open-workshop
URL:https://downtowndayton.org/event/curators-of-curiosities-workshop/2026-02-28/1/
LOCATION:Now and Zen DIY Studio\, 121 E. Third St.\, Dayton\, OH\, 45402
ATTACH;FMTTYPE=image/jpeg:https://downtowndayton.org/wp-content/uploads/2026/02/curiosity.jpg
END:VEVENT
BEGIN:VEVENT
DTSTART;TZID=America/New_York:20260221T120000
DTEND;TZID=America/New_York:20260221T150000
DTSTAMP:20260420T002455
CREATED:20260218T140902Z
LAST-MODIFIED:20260218T140902Z
UID:10054422-1771675200-1771686000@downtowndayton.org
SUMMARY:Jellyfish Terrarium Workshop
DESCRIPTION:Join us for a splash of creativity as you craft your very own whimsical floating jellyfish terrarium! Pick from a treasure trove of vessels and delightful urchin/air plant ‘jellyfish’ to make your artistic vision come alive. Let the creativity flow! https://www.shopnowandzen.com/open-workshop
URL:https://downtowndayton.org/event/jellyfish-terrarium-workshop-3/
LOCATION:Now and Zen DIY Studio\, 121 E. Third St.\, Dayton\, OH\, 45402
ATTACH;FMTTYPE=image/jpeg:https://downtowndayton.org/wp-content/uploads/2026/02/readyforthisjely.jpg
END:VEVENT
BEGIN:VEVENT
DTSTART;TZID=America/New_York:20260214T170000
DTEND;TZID=America/New_York:20260214T183000
DTSTAMP:20260420T002455
CREATED:20260209T145040Z
LAST-MODIFIED:20260209T145040Z
UID:10054351-1771088400-1771093800@downtowndayton.org
SUMMARY:Date Night Terrarium Workshop
DESCRIPTION:Hot Date\, Cool Plants – Valentine’s Date Night Workshop – Skip the crowded restaurants and celebrate Valentine’s Day with a creative\, hands-on experience. In Hot Date\, Cool Plants\, couples will build two medium-sized terrariums side-by-side\, choosing from a curated selection of plants\, stones\, and natural embellishments to create living keepsakes that last long after the evening ends. Our friendly studio assistants are on hand throughout the workshop to offer guidance\, design tips\, and plant-care support—no green thumb required.
URL:https://downtowndayton.org/event/date-night-terrarium-workshop-2/
LOCATION:Now and Zen DIY Studio\, 121 E. Third St.\, Dayton\, OH\, 45402
ATTACH;FMTTYPE=image/jpeg:https://downtowndayton.org/wp-content/uploads/2026/02/datenight.jpg
END:VEVENT
BEGIN:VEVENT
DTSTART;TZID=America/New_York:20260207T120000
DTEND;TZID=America/New_York:20260207T150000
DTSTAMP:20260420T002455
CREATED:20260202T134545Z
LAST-MODIFIED:20260202T134545Z
UID:10054259-1770465600-1770476400@downtowndayton.org
SUMMARY:Living Wall Art Workshop
DESCRIPTION:Discover the magic of designing your very own living masterpiece in our most popular workshop at Now and Zen DIY Studio! In this signature class\, you’ll craft stunning wall art using live air plants\, vibrant preserved moss\, and a variety of unique embellishments. The result? A one-of-a-kind creation\, designed by you\, that will captivate and transform any space into a conversation-worthy showcase. $45. https://www.shopnowandzen.com/open-workshop
URL:https://downtowndayton.org/event/living-wall-art-workshop-2/
LOCATION:Now and Zen DIY Studio\, 121 E. Third St.\, Dayton\, OH\, 45402
ATTACH;FMTTYPE=image/jpeg:https://downtowndayton.org/wp-content/uploads/2026/02/livingwall.jpg
END:VEVENT
BEGIN:VEVENT
DTSTART;TZID=America/New_York:20260131T140000
DTEND;TZID=America/New_York:20260131T150000
DTSTAMP:20260420T002455
CREATED:20260128T134725Z
LAST-MODIFIED:20260128T134725Z
UID:10054196-1769868000-1769871600@downtowndayton.org
SUMMARY:Desert Vibes Terrarium Workshop
DESCRIPTION:Desert Vibes Terrarium – Desert Textures – Hardy Beauty Inspired by the quiet beauty of desert landscapes\, this workshop invites you to design a tranquil terrarium using cacti\, succulents\, statement stones\, and thoughtfully chosen embellishments. The result is an aesthetically calming\, low-maintenance piece that blends natural texture with modern simplicity. You’ll enjoy this easy to care for terrarium for years to come Workshop includes all materials to complete this project; 8″ round glass vessel\, up to 4 succulents/cacti\, soil\, sand and embellishments. Take home boxing and care information are also included. Our knowledgeable studio assistants will assist you in creating a personal piece you’ll be proud of! Complimentary beverages provided. This registration is non-refundable\, but fee may be used toward future workshops.  Participants can register for one of two workshop time slots: From 12-1pm or from 2-3pm. $48. https://www.shopnowandzen.com/open-workshop
URL:https://downtowndayton.org/event/desert-vibes-terrarium-workshop/2026-01-31/2/
LOCATION:Now and Zen DIY Studio\, 121 E. Third St.\, Dayton\, OH\, 45402
ATTACH;FMTTYPE=image/jpeg:https://downtowndayton.org/wp-content/uploads/2026/01/desertvibes.jpg
END:VEVENT
BEGIN:VEVENT
DTSTART;TZID=America/New_York:20260131T120000
DTEND;TZID=America/New_York:20260131T130000
DTSTAMP:20260420T002455
CREATED:20260128T134725Z
LAST-MODIFIED:20260128T134725Z
UID:10054195-1769860800-1769864400@downtowndayton.org
SUMMARY:Desert Vibes Terrarium Workshop
DESCRIPTION:Desert Vibes Terrarium – Desert Textures – Hardy Beauty Inspired by the quiet beauty of desert landscapes\, this workshop invites you to design a tranquil terrarium using cacti\, succulents\, statement stones\, and thoughtfully chosen embellishments. The result is an aesthetically calming\, low-maintenance piece that blends natural texture with modern simplicity. You’ll enjoy this easy to care for terrarium for years to come Workshop includes all materials to complete this project; 8″ round glass vessel\, up to 4 succulents/cacti\, soil\, sand and embellishments. Take home boxing and care information are also included. Our knowledgeable studio assistants will assist you in creating a personal piece you’ll be proud of! Complimentary beverages provided. This registration is non-refundable\, but fee may be used toward future workshops.  Participants can register for one of two workshop time slots: From 12-1pm or from 2-3pm. $48. https://www.shopnowandzen.com/open-workshop
URL:https://downtowndayton.org/event/desert-vibes-terrarium-workshop/2026-01-31/1/
LOCATION:Now and Zen DIY Studio\, 121 E. Third St.\, Dayton\, OH\, 45402
ATTACH;FMTTYPE=image/jpeg:https://downtowndayton.org/wp-content/uploads/2026/01/desertvibes.jpg
END:VEVENT
BEGIN:VEVENT
DTSTART;TZID=America/New_York:20260124T120000
DTEND;TZID=America/New_York:20260124T150000
DTSTAMP:20260420T002455
CREATED:20260112T133658Z
LAST-MODIFIED:20260112T133658Z
UID:10054058-1769256000-1769266800@downtowndayton.org
SUMMARY:Tropical Terrarium Workshop
DESCRIPTION:Create your own lush\, self-sustaining tropical ecosystem. Choose from a variety of colorful\, humidity-loving plants and ferns\, then personalize your terrarium with curated natural embellishments and accents. These closed terrariums thrive on condensation\, creating their own watering cycle—making them both beautiful and easy to care for. Join us for a creative good time! Project includes; 1 gal. glass vessel\, plants\, natural embellishments and accents\, take-home boxing and care information. Our studio assistants are always on-hand to help to create and design. This registration is non-refundable. However\, you may use fees towards a future workshop. Quick Question? Text 937-287-1733
URL:https://downtowndayton.org/event/tropical-terrarium-workshop/
LOCATION:Now and Zen DIY Studio\, 121 E. Third St.\, Dayton\, OH\, 45402
ATTACH;FMTTYPE=image/jpeg:https://downtowndayton.org/wp-content/uploads/2026/01/trop.jpg
END:VEVENT
BEGIN:VEVENT
DTSTART;TZID=America/New_York:20260117T120000
DTEND;TZID=America/New_York:20260117T150000
DTSTAMP:20260420T002455
CREATED:20260105T143452Z
LAST-MODIFIED:20260105T143452Z
UID:10054040-1768651200-1768662000@downtowndayton.org
SUMMARY:Zen Pathways
DESCRIPTION:Create a serene miniature garden that symbolizes transition\, intention\, and new beginnings. In this mindful workshop\, each guest designs a Zen-inspired landscape featuring a wooden bridge; representing the path from where you’ve been to where you’re headed. Choose from a curated selection of plants\, stones\, moss\, and natural embellishments to craft a personal guide that reflects your wishes and intentions for the year ahead. A calming\, creative experience meant to ground you as you step thoughtfully into 2026. Workshop Includes all necessary materials to create your one-of-a-kind dish garden; 10″-12″ ceramic vessel\, succulent plants\, mosses and embellishments\, 1 wooden bridge\, take home boxing and care information. Our experienced studio guides are always there to guide and assist with your project building.
URL:https://downtowndayton.org/event/zen-pathways/
LOCATION:Now and Zen DIY Studio\, 121 E. Third St.\, Dayton\, OH\, 45402
ATTACH;FMTTYPE=image/jpeg:https://downtowndayton.org/wp-content/uploads/2024/11/nowandzendiy.jpg
END:VEVENT
BEGIN:VEVENT
DTSTART;TZID=America/New_York:20251221T110000
DTEND;TZID=America/New_York:20251221T160000
DTSTAMP:20260420T002455
CREATED:20251106T132936Z
LAST-MODIFIED:20251106T132936Z
UID:10046726-1766314800-1766332800@downtowndayton.org
SUMMARY:Holiday Greenery Crafting
DESCRIPTION:Stop in for a jolly good time with whimsical holiday plant projects\, including terrarium snowmen\, air plant ornaments\, and more!
URL:https://downtowndayton.org/event/holiday-greenery-crafting-2/2025-12-21/
LOCATION:Now and Zen DIY Studio\, 121 E. Third St.\, Dayton\, OH\, 45402
ATTACH;FMTTYPE=image/jpeg:https://downtowndayton.org/wp-content/uploads/2024/11/nowandzendiy.jpg
END:VEVENT
BEGIN:VEVENT
DTSTART;TZID=America/New_York:20251220T110000
DTEND;TZID=America/New_York:20251220T160000
DTSTAMP:20260420T002455
CREATED:20251106T132936Z
LAST-MODIFIED:20251106T132936Z
UID:10046725-1766228400-1766246400@downtowndayton.org
SUMMARY:Holiday Greenery Crafting
DESCRIPTION:Stop in for a jolly good time with whimsical holiday plant projects\, including terrarium snowmen\, air plant ornaments\, and more!
URL:https://downtowndayton.org/event/holiday-greenery-crafting-2/2025-12-20/
LOCATION:Now and Zen DIY Studio\, 121 E. Third St.\, Dayton\, OH\, 45402
ATTACH;FMTTYPE=image/jpeg:https://downtowndayton.org/wp-content/uploads/2024/11/nowandzendiy.jpg
END:VEVENT
BEGIN:VEVENT
DTSTART;TZID=America/New_York:20251219T110000
DTEND;TZID=America/New_York:20251219T160000
DTSTAMP:20260420T002455
CREATED:20251106T132936Z
LAST-MODIFIED:20251106T132936Z
UID:10046724-1766142000-1766160000@downtowndayton.org
SUMMARY:Holiday Greenery Crafting
DESCRIPTION:Stop in for a jolly good time with whimsical holiday plant projects\, including terrarium snowmen\, air plant ornaments\, and more!
URL:https://downtowndayton.org/event/holiday-greenery-crafting-2/2025-12-19/
LOCATION:Now and Zen DIY Studio\, 121 E. Third St.\, Dayton\, OH\, 45402
ATTACH;FMTTYPE=image/jpeg:https://downtowndayton.org/wp-content/uploads/2024/11/nowandzendiy.jpg
END:VEVENT
BEGIN:VEVENT
DTSTART;TZID=America/New_York:20251218T110000
DTEND;TZID=America/New_York:20251218T160000
DTSTAMP:20260420T002455
CREATED:20251106T132936Z
LAST-MODIFIED:20251106T132936Z
UID:10046723-1766055600-1766073600@downtowndayton.org
SUMMARY:Holiday Greenery Crafting
DESCRIPTION:Stop in for a jolly good time with whimsical holiday plant projects\, including terrarium snowmen\, air plant ornaments\, and more!
URL:https://downtowndayton.org/event/holiday-greenery-crafting-2/2025-12-18/
LOCATION:Now and Zen DIY Studio\, 121 E. Third St.\, Dayton\, OH\, 45402
ATTACH;FMTTYPE=image/jpeg:https://downtowndayton.org/wp-content/uploads/2024/11/nowandzendiy.jpg
END:VEVENT
BEGIN:VEVENT
DTSTART;TZID=America/New_York:20251214T110000
DTEND;TZID=America/New_York:20251214T160000
DTSTAMP:20260420T002455
CREATED:20251106T132936Z
LAST-MODIFIED:20251106T132936Z
UID:10046722-1765710000-1765728000@downtowndayton.org
SUMMARY:Holiday Greenery Crafting
DESCRIPTION:Stop in for a jolly good time with whimsical holiday plant projects\, including terrarium snowmen\, air plant ornaments\, and more!
URL:https://downtowndayton.org/event/holiday-greenery-crafting-2/2025-12-14/
LOCATION:Now and Zen DIY Studio\, 121 E. Third St.\, Dayton\, OH\, 45402
ATTACH;FMTTYPE=image/jpeg:https://downtowndayton.org/wp-content/uploads/2024/11/nowandzendiy.jpg
END:VEVENT
BEGIN:VEVENT
DTSTART;TZID=America/New_York:20251213T110000
DTEND;TZID=America/New_York:20251213T160000
DTSTAMP:20260420T002455
CREATED:20251106T132936Z
LAST-MODIFIED:20251106T132936Z
UID:10046721-1765623600-1765641600@downtowndayton.org
SUMMARY:Holiday Greenery Crafting
DESCRIPTION:Stop in for a jolly good time with whimsical holiday plant projects\, including terrarium snowmen\, air plant ornaments\, and more!
URL:https://downtowndayton.org/event/holiday-greenery-crafting-2/2025-12-13/
LOCATION:Now and Zen DIY Studio\, 121 E. Third St.\, Dayton\, OH\, 45402
ATTACH;FMTTYPE=image/jpeg:https://downtowndayton.org/wp-content/uploads/2024/11/nowandzendiy.jpg
END:VEVENT
BEGIN:VEVENT
DTSTART;TZID=America/New_York:20251212T110000
DTEND;TZID=America/New_York:20251212T160000
DTSTAMP:20260420T002455
CREATED:20251106T132936Z
LAST-MODIFIED:20251106T132936Z
UID:10046720-1765537200-1765555200@downtowndayton.org
SUMMARY:Holiday Greenery Crafting
DESCRIPTION:Stop in for a jolly good time with whimsical holiday plant projects\, including terrarium snowmen\, air plant ornaments\, and more!
URL:https://downtowndayton.org/event/holiday-greenery-crafting-2/2025-12-12/
LOCATION:Now and Zen DIY Studio\, 121 E. Third St.\, Dayton\, OH\, 45402
ATTACH;FMTTYPE=image/jpeg:https://downtowndayton.org/wp-content/uploads/2024/11/nowandzendiy.jpg
END:VEVENT
BEGIN:VEVENT
DTSTART;TZID=America/New_York:20251211T110000
DTEND;TZID=America/New_York:20251211T160000
DTSTAMP:20260420T002455
CREATED:20251106T132936Z
LAST-MODIFIED:20251106T132936Z
UID:10046719-1765450800-1765468800@downtowndayton.org
SUMMARY:Holiday Greenery Crafting
DESCRIPTION:Stop in for a jolly good time with whimsical holiday plant projects\, including terrarium snowmen\, air plant ornaments\, and more!
URL:https://downtowndayton.org/event/holiday-greenery-crafting-2/2025-12-11/
LOCATION:Now and Zen DIY Studio\, 121 E. Third St.\, Dayton\, OH\, 45402
ATTACH;FMTTYPE=image/jpeg:https://downtowndayton.org/wp-content/uploads/2024/11/nowandzendiy.jpg
END:VEVENT
BEGIN:VEVENT
DTSTART;TZID=America/New_York:20251207T110000
DTEND;TZID=America/New_York:20251207T160000
DTSTAMP:20260420T002455
CREATED:20251106T132936Z
LAST-MODIFIED:20251106T132936Z
UID:10046718-1765105200-1765123200@downtowndayton.org
SUMMARY:Holiday Greenery Crafting
DESCRIPTION:Stop in for a jolly good time with whimsical holiday plant projects\, including terrarium snowmen\, air plant ornaments\, and more!
URL:https://downtowndayton.org/event/holiday-greenery-crafting-2/2025-12-07/
LOCATION:Now and Zen DIY Studio\, 121 E. Third St.\, Dayton\, OH\, 45402
ATTACH;FMTTYPE=image/jpeg:https://downtowndayton.org/wp-content/uploads/2024/11/nowandzendiy.jpg
END:VEVENT
BEGIN:VEVENT
DTSTART;TZID=America/New_York:20251206T110000
DTEND;TZID=America/New_York:20251206T160000
DTSTAMP:20260420T002455
CREATED:20251106T132936Z
LAST-MODIFIED:20251106T132936Z
UID:10046717-1765018800-1765036800@downtowndayton.org
SUMMARY:Holiday Greenery Crafting
DESCRIPTION:Stop in for a jolly good time with whimsical holiday plant projects\, including terrarium snowmen\, air plant ornaments\, and more!
URL:https://downtowndayton.org/event/holiday-greenery-crafting-2/2025-12-06/
LOCATION:Now and Zen DIY Studio\, 121 E. Third St.\, Dayton\, OH\, 45402
ATTACH;FMTTYPE=image/jpeg:https://downtowndayton.org/wp-content/uploads/2024/11/nowandzendiy.jpg
END:VEVENT
BEGIN:VEVENT
DTSTART;TZID=America/New_York:20251205T110000
DTEND;TZID=America/New_York:20251205T160000
DTSTAMP:20260420T002455
CREATED:20251106T132936Z
LAST-MODIFIED:20251106T132936Z
UID:10046716-1764932400-1764950400@downtowndayton.org
SUMMARY:Holiday Greenery Crafting
DESCRIPTION:Stop in for a jolly good time with whimsical holiday plant projects\, including terrarium snowmen\, air plant ornaments\, and more!
URL:https://downtowndayton.org/event/holiday-greenery-crafting-2/2025-12-05/
LOCATION:Now and Zen DIY Studio\, 121 E. Third St.\, Dayton\, OH\, 45402
ATTACH;FMTTYPE=image/jpeg:https://downtowndayton.org/wp-content/uploads/2024/11/nowandzendiy.jpg
END:VEVENT
BEGIN:VEVENT
DTSTART;TZID=America/New_York:20251204T110000
DTEND;TZID=America/New_York:20251204T160000
DTSTAMP:20260420T002455
CREATED:20251106T132936Z
LAST-MODIFIED:20251106T132936Z
UID:10046715-1764846000-1764864000@downtowndayton.org
SUMMARY:Holiday Greenery Crafting
DESCRIPTION:Stop in for a jolly good time with whimsical holiday plant projects\, including terrarium snowmen\, air plant ornaments\, and more!
URL:https://downtowndayton.org/event/holiday-greenery-crafting-2/2025-12-04/
LOCATION:Now and Zen DIY Studio\, 121 E. Third St.\, Dayton\, OH\, 45402
ATTACH;FMTTYPE=image/jpeg:https://downtowndayton.org/wp-content/uploads/2024/11/nowandzendiy.jpg
END:VEVENT
BEGIN:VEVENT
DTSTART;TZID=America/New_York:20251130T110000
DTEND;TZID=America/New_York:20251130T160000
DTSTAMP:20260420T002455
CREATED:20251106T132936Z
LAST-MODIFIED:20251106T132936Z
UID:10046714-1764500400-1764518400@downtowndayton.org
SUMMARY:Holiday Greenery Crafting
DESCRIPTION:Stop in for a jolly good time with whimsical holiday plant projects\, including terrarium snowmen\, air plant ornaments\, and more!
URL:https://downtowndayton.org/event/holiday-greenery-crafting-2/2025-11-30/
LOCATION:Now and Zen DIY Studio\, 121 E. Third St.\, Dayton\, OH\, 45402
ATTACH;FMTTYPE=image/jpeg:https://downtowndayton.org/wp-content/uploads/2024/11/nowandzendiy.jpg
END:VEVENT
BEGIN:VEVENT
DTSTART;TZID=America/New_York:20251129T110000
DTEND;TZID=America/New_York:20251129T160000
DTSTAMP:20260420T002455
CREATED:20251106T132936Z
LAST-MODIFIED:20251106T132936Z
UID:10046713-1764414000-1764432000@downtowndayton.org
SUMMARY:Holiday Greenery Crafting
DESCRIPTION:Stop in for a jolly good time with whimsical holiday plant projects\, including terrarium snowmen\, air plant ornaments\, and more!
URL:https://downtowndayton.org/event/holiday-greenery-crafting-2/2025-11-29/
LOCATION:Now and Zen DIY Studio\, 121 E. Third St.\, Dayton\, OH\, 45402
ATTACH;FMTTYPE=image/jpeg:https://downtowndayton.org/wp-content/uploads/2024/11/nowandzendiy.jpg
END:VEVENT
END:VCALENDAR