BEGIN:VCALENDAR
VERSION:2.0
PRODID:-//Downtown Dayton Partnership - ECPv6.8.1//NONSGML v1.0//EN
CALSCALE:GREGORIAN
METHOD:PUBLISH
X-ORIGINAL-URL:https://downtowndayton.org
X-WR-CALDESC:Events for Downtown Dayton Partnership
REFRESH-INTERVAL;VALUE=DURATION:PT1H
X-Robots-Tag:noindex
X-PUBLISHED-TTL:PT1H
BEGIN:VTIMEZONE
TZID:America/New_York
BEGIN:DAYLIGHT
TZOFFSETFROM:-0500
TZOFFSETTO:-0400
TZNAME:EDT
DTSTART:20250309T070000
END:DAYLIGHT
BEGIN:STANDARD
TZOFFSETFROM:-0400
TZOFFSETTO:-0500
TZNAME:EST
DTSTART:20251102T060000
END:STANDARD
TZID:America/Detroit
BEGIN:DAYLIGHT
TZOFFSETFROM:-0500
TZOFFSETTO:-0400
TZNAME:EDT
DTSTART:20240310T070000
END:DAYLIGHT
BEGIN:STANDARD
TZOFFSETFROM:-0400
TZOFFSETTO:-0500
TZNAME:EST
DTSTART:20241103T060000
END:STANDARD
BEGIN:DAYLIGHT
TZOFFSETFROM:-0500
TZOFFSETTO:-0400
TZNAME:EDT
DTSTART:20250309T070000
END:DAYLIGHT
BEGIN:STANDARD
TZOFFSETFROM:-0400
TZOFFSETTO:-0500
TZNAME:EST
DTSTART:20251102T060000
END:STANDARD
END:VTIMEZONE
BEGIN:VEVENT
DTSTART;VALUE=DATE:20251114
DTEND;VALUE=DATE:20251115
DTSTAMP:20260422T181140
CREATED:20251106T184520Z
LAST-MODIFIED:20251106T184520Z
UID:10046937-1763078400-1763164799@downtowndayton.org
SUMMARY:Fall Fun DIY Projects
DESCRIPTION:Make succulent pumpkins for $7 and up and succulent terracotta towers for $13 and up. Prices include pumpkin and moss or terracotta pot. Add your choice of plants and embellishments\, priced separately.
URL:https://downtowndayton.org/event/fall-fun-diy-projects/2025-11-14/
LOCATION:Now and Zen DIY Studio\, 121 E. Third St.\, Dayton\, OH\, 45402
ATTACH;FMTTYPE=image/jpeg:https://downtowndayton.org/wp-content/uploads/2024/11/nowandzendiy.jpg
END:VEVENT
BEGIN:VEVENT
DTSTART;TZID=America/New_York:20251113T110000
DTEND;TZID=America/New_York:20251113T160000
DTSTAMP:20260422T181140
CREATED:20251106T132936Z
LAST-MODIFIED:20251106T132936Z
UID:10046703-1763031600-1763049600@downtowndayton.org
SUMMARY:Holiday Greenery Crafting
DESCRIPTION:Stop in for a jolly good time with whimsical holiday plant projects\, including terrarium snowmen\, air plant ornaments\, and more!
URL:https://downtowndayton.org/event/holiday-greenery-crafting-2/2025-11-13/
LOCATION:Now and Zen DIY Studio\, 121 E. Third St.\, Dayton\, OH\, 45402
ATTACH;FMTTYPE=image/jpeg:https://downtowndayton.org/wp-content/uploads/2024/11/nowandzendiy.jpg
END:VEVENT
BEGIN:VEVENT
DTSTART;VALUE=DATE:20251113
DTEND;VALUE=DATE:20251114
DTSTAMP:20260422T181141
CREATED:20251106T184520Z
LAST-MODIFIED:20251106T184520Z
UID:10046936-1762992000-1763078399@downtowndayton.org
SUMMARY:Fall Fun DIY Projects
DESCRIPTION:Make succulent pumpkins for $7 and up and succulent terracotta towers for $13 and up. Prices include pumpkin and moss or terracotta pot. Add your choice of plants and embellishments\, priced separately.
URL:https://downtowndayton.org/event/fall-fun-diy-projects/2025-11-13/
LOCATION:Now and Zen DIY Studio\, 121 E. Third St.\, Dayton\, OH\, 45402
ATTACH;FMTTYPE=image/jpeg:https://downtowndayton.org/wp-content/uploads/2024/11/nowandzendiy.jpg
END:VEVENT
BEGIN:VEVENT
DTSTART;VALUE=DATE:20251112
DTEND;VALUE=DATE:20251113
DTSTAMP:20260422T181141
CREATED:20251106T184520Z
LAST-MODIFIED:20251106T184520Z
UID:10046935-1762905600-1762991999@downtowndayton.org
SUMMARY:Fall Fun DIY Projects
DESCRIPTION:Make succulent pumpkins for $7 and up and succulent terracotta towers for $13 and up. Prices include pumpkin and moss or terracotta pot. Add your choice of plants and embellishments\, priced separately.
URL:https://downtowndayton.org/event/fall-fun-diy-projects/2025-11-12/
LOCATION:Now and Zen DIY Studio\, 121 E. Third St.\, Dayton\, OH\, 45402
ATTACH;FMTTYPE=image/jpeg:https://downtowndayton.org/wp-content/uploads/2024/11/nowandzendiy.jpg
END:VEVENT
BEGIN:VEVENT
DTSTART;VALUE=DATE:20251111
DTEND;VALUE=DATE:20251112
DTSTAMP:20260422T181141
CREATED:20251106T184520Z
LAST-MODIFIED:20251106T184520Z
UID:10046934-1762819200-1762905599@downtowndayton.org
SUMMARY:Fall Fun DIY Projects
DESCRIPTION:Make succulent pumpkins for $7 and up and succulent terracotta towers for $13 and up. Prices include pumpkin and moss or terracotta pot. Add your choice of plants and embellishments\, priced separately.
URL:https://downtowndayton.org/event/fall-fun-diy-projects/2025-11-11/
LOCATION:Now and Zen DIY Studio\, 121 E. Third St.\, Dayton\, OH\, 45402
ATTACH;FMTTYPE=image/jpeg:https://downtowndayton.org/wp-content/uploads/2024/11/nowandzendiy.jpg
END:VEVENT
BEGIN:VEVENT
DTSTART;VALUE=DATE:20251110
DTEND;VALUE=DATE:20251111
DTSTAMP:20260422T181141
CREATED:20251106T184520Z
LAST-MODIFIED:20251106T184520Z
UID:10046933-1762732800-1762819199@downtowndayton.org
SUMMARY:Fall Fun DIY Projects
DESCRIPTION:Make succulent pumpkins for $7 and up and succulent terracotta towers for $13 and up. Prices include pumpkin and moss or terracotta pot. Add your choice of plants and embellishments\, priced separately.
URL:https://downtowndayton.org/event/fall-fun-diy-projects/2025-11-10/
LOCATION:Now and Zen DIY Studio\, 121 E. Third St.\, Dayton\, OH\, 45402
ATTACH;FMTTYPE=image/jpeg:https://downtowndayton.org/wp-content/uploads/2024/11/nowandzendiy.jpg
END:VEVENT
BEGIN:VEVENT
DTSTART;TZID=America/New_York:20251109T110000
DTEND;TZID=America/New_York:20251109T160000
DTSTAMP:20260422T181141
CREATED:20251106T132936Z
LAST-MODIFIED:20251106T132936Z
UID:10046702-1762686000-1762704000@downtowndayton.org
SUMMARY:Holiday Greenery Crafting
DESCRIPTION:Stop in for a jolly good time with whimsical holiday plant projects\, including terrarium snowmen\, air plant ornaments\, and more!
URL:https://downtowndayton.org/event/holiday-greenery-crafting-2/2025-11-09/
LOCATION:Now and Zen DIY Studio\, 121 E. Third St.\, Dayton\, OH\, 45402
ATTACH;FMTTYPE=image/jpeg:https://downtowndayton.org/wp-content/uploads/2024/11/nowandzendiy.jpg
END:VEVENT
BEGIN:VEVENT
DTSTART;VALUE=DATE:20251109
DTEND;VALUE=DATE:20251110
DTSTAMP:20260422T181141
CREATED:20251106T184520Z
LAST-MODIFIED:20251106T184520Z
UID:10046932-1762646400-1762732799@downtowndayton.org
SUMMARY:Fall Fun DIY Projects
DESCRIPTION:Make succulent pumpkins for $7 and up and succulent terracotta towers for $13 and up. Prices include pumpkin and moss or terracotta pot. Add your choice of plants and embellishments\, priced separately.
URL:https://downtowndayton.org/event/fall-fun-diy-projects/2025-11-09/
LOCATION:Now and Zen DIY Studio\, 121 E. Third St.\, Dayton\, OH\, 45402
ATTACH;FMTTYPE=image/jpeg:https://downtowndayton.org/wp-content/uploads/2024/11/nowandzendiy.jpg
END:VEVENT
BEGIN:VEVENT
DTSTART;TZID=America/New_York:20251108T110000
DTEND;TZID=America/New_York:20251108T160000
DTSTAMP:20260422T181141
CREATED:20251106T132936Z
LAST-MODIFIED:20251106T132936Z
UID:10046701-1762599600-1762617600@downtowndayton.org
SUMMARY:Holiday Greenery Crafting
DESCRIPTION:Stop in for a jolly good time with whimsical holiday plant projects\, including terrarium snowmen\, air plant ornaments\, and more!
URL:https://downtowndayton.org/event/holiday-greenery-crafting-2/2025-11-08/
LOCATION:Now and Zen DIY Studio\, 121 E. Third St.\, Dayton\, OH\, 45402
ATTACH;FMTTYPE=image/jpeg:https://downtowndayton.org/wp-content/uploads/2024/11/nowandzendiy.jpg
END:VEVENT
BEGIN:VEVENT
DTSTART;VALUE=DATE:20251108
DTEND;VALUE=DATE:20251109
DTSTAMP:20260422T181141
CREATED:20251106T184520Z
LAST-MODIFIED:20251106T184520Z
UID:10046931-1762560000-1762646399@downtowndayton.org
SUMMARY:Fall Fun DIY Projects
DESCRIPTION:Make succulent pumpkins for $7 and up and succulent terracotta towers for $13 and up. Prices include pumpkin and moss or terracotta pot. Add your choice of plants and embellishments\, priced separately.
URL:https://downtowndayton.org/event/fall-fun-diy-projects/2025-11-08/
LOCATION:Now and Zen DIY Studio\, 121 E. Third St.\, Dayton\, OH\, 45402
ATTACH;FMTTYPE=image/jpeg:https://downtowndayton.org/wp-content/uploads/2024/11/nowandzendiy.jpg
END:VEVENT
BEGIN:VEVENT
DTSTART;TZID=America/New_York:20251107T110000
DTEND;TZID=America/New_York:20251107T160000
DTSTAMP:20260422T181141
CREATED:20251106T132936Z
LAST-MODIFIED:20251106T132936Z
UID:10046700-1762513200-1762531200@downtowndayton.org
SUMMARY:Holiday Greenery Crafting
DESCRIPTION:Stop in for a jolly good time with whimsical holiday plant projects\, including terrarium snowmen\, air plant ornaments\, and more!
URL:https://downtowndayton.org/event/holiday-greenery-crafting-2/2025-11-07/
LOCATION:Now and Zen DIY Studio\, 121 E. Third St.\, Dayton\, OH\, 45402
ATTACH;FMTTYPE=image/jpeg:https://downtowndayton.org/wp-content/uploads/2024/11/nowandzendiy.jpg
END:VEVENT
BEGIN:VEVENT
DTSTART;VALUE=DATE:20251107
DTEND;VALUE=DATE:20251108
DTSTAMP:20260422T181141
CREATED:20251106T184520Z
LAST-MODIFIED:20251106T184520Z
UID:10046930-1762473600-1762559999@downtowndayton.org
SUMMARY:Fall Fun DIY Projects
DESCRIPTION:Make succulent pumpkins for $7 and up and succulent terracotta towers for $13 and up. Prices include pumpkin and moss or terracotta pot. Add your choice of plants and embellishments\, priced separately.
URL:https://downtowndayton.org/event/fall-fun-diy-projects/2025-11-07/
LOCATION:Now and Zen DIY Studio\, 121 E. Third St.\, Dayton\, OH\, 45402
ATTACH;FMTTYPE=image/jpeg:https://downtowndayton.org/wp-content/uploads/2024/11/nowandzendiy.jpg
END:VEVENT
BEGIN:VEVENT
DTSTART;TZID=America/New_York:20251106T110000
DTEND;TZID=America/New_York:20251106T160000
DTSTAMP:20260422T181141
CREATED:20251106T132936Z
LAST-MODIFIED:20251106T132936Z
UID:10046699-1762426800-1762444800@downtowndayton.org
SUMMARY:Holiday Greenery Crafting
DESCRIPTION:Stop in for a jolly good time with whimsical holiday plant projects\, including terrarium snowmen\, air plant ornaments\, and more!
URL:https://downtowndayton.org/event/holiday-greenery-crafting-2/2025-11-06/
LOCATION:Now and Zen DIY Studio\, 121 E. Third St.\, Dayton\, OH\, 45402
ATTACH;FMTTYPE=image/jpeg:https://downtowndayton.org/wp-content/uploads/2024/11/nowandzendiy.jpg
END:VEVENT
BEGIN:VEVENT
DTSTART;VALUE=DATE:20251106
DTEND;VALUE=DATE:20251107
DTSTAMP:20260422T181141
CREATED:20251106T184520Z
LAST-MODIFIED:20251106T184520Z
UID:10046929-1762387200-1762473599@downtowndayton.org
SUMMARY:Fall Fun DIY Projects
DESCRIPTION:Make succulent pumpkins for $7 and up and succulent terracotta towers for $13 and up. Prices include pumpkin and moss or terracotta pot. Add your choice of plants and embellishments\, priced separately.
URL:https://downtowndayton.org/event/fall-fun-diy-projects/2025-11-06/
LOCATION:Now and Zen DIY Studio\, 121 E. Third St.\, Dayton\, OH\, 45402
ATTACH;FMTTYPE=image/jpeg:https://downtowndayton.org/wp-content/uploads/2024/11/nowandzendiy.jpg
END:VEVENT
BEGIN:VEVENT
DTSTART;TZID=America/New_York:20250920T110000
DTEND;TZID=America/New_York:20250920T130000
DTSTAMP:20260422T181141
CREATED:20250811T131929Z
LAST-MODIFIED:20250811T131929Z
UID:10039515-1758366000-1758373200@downtowndayton.org
SUMMARY:Crafty Kids Terrarium Workshop
DESCRIPTION:Create with Nature! Let your child’s creativity bloom at our Crafty Kids Terrarium Workshop! There will be multiple fun projects to choose from – like mini dinosaur themed terrariums\, ‘Grootopia dish garden\, paint a board air plant holder and more! Kids will have a fun time creating something totally their own. It’s all about digging in\, decorating and having a blast with plants and imagination. Perfect for curious\, crafty kids of all ages!  $8.
URL:https://downtowndayton.org/event/crafty-kids-terrarium-workshop/
LOCATION:Now and Zen DIY Studio\, 121 E. Third St.\, Dayton\, OH\, 45402
ATTACH;FMTTYPE=image/jpeg:https://downtowndayton.org/wp-content/uploads/2025/08/ckids.jpg
END:VEVENT
BEGIN:VEVENT
DTSTART;TZID=America/New_York:20250913T120000
DTEND;TZID=America/New_York:20250913T130000
DTSTAMP:20260422T181141
CREATED:20250811T131754Z
LAST-MODIFIED:20250811T131754Z
UID:10039514-1757764800-1757768400@downtowndayton.org
SUMMARY:Moss Wall Art Workshop
DESCRIPTION:Transform your space with your very own piece of natural wall art! In this hands-on workshop\, you’ll use an array of preserved moss and natural elements to design a one-of-a-kind creation. With endless possibilities\, you’ll craft something that’s uniquely yours while adding a touch of greenery to your decor. $35-$65.
URL:https://downtowndayton.org/event/moss-wall-art-workshop-2/
LOCATION:Now and Zen DIY Studio\, 121 E. Third St.\, Dayton\, OH\, 45402
ATTACH;FMTTYPE=image/jpeg:https://downtowndayton.org/wp-content/uploads/2025/08/moss.jpg
END:VEVENT
BEGIN:VEVENT
DTSTART;TZID=America/New_York:20250905T190000
DTEND;TZID=America/New_York:20250905T203000
DTSTAMP:20260422T181141
CREATED:20250807T165055Z
LAST-MODIFIED:20250807T165055Z
UID:10039512-1757098800-1757104200@downtowndayton.org
SUMMARY:Date Night Terrarium Workshop
DESCRIPTION:Shake up your typical date night with a creative twist! Join us for a hands-on evening where you and your partner will build your own one-of-a-kind terrarium together. It’s the perfect blend of fun\, laughter\, and a little bit of dirt. Whether you’re a new couple or longtime lovers\, you’ll leave with a living creation that reminds you of the experience you shared. All supplies provided—just bring your date and your imagination!
URL:https://downtowndayton.org/event/date-night-terrarium-workshop/
LOCATION:Now and Zen DIY Studio\, 121 E. Third St.\, Dayton\, OH\, 45402
ATTACH;FMTTYPE=image/jpeg:https://downtowndayton.org/wp-content/uploads/2025/08/dateterr.jpg
END:VEVENT
BEGIN:VEVENT
DTSTART;TZID=America/New_York:20250823T120000
DTEND;TZID=America/New_York:20250823T140000
DTSTAMP:20260422T181141
CREATED:20250807T164927Z
LAST-MODIFIED:20250807T164927Z
UID:10039511-1755950400-1755957600@downtowndayton.org
SUMMARY:Succulent in a Mug Workshop
DESCRIPTION:Fun for everyone! Participate in a delightful and easy-peasy workshop where friends\, family\, and children of all ages can get their hands dirty planting succulents or cacti in adorable mugs! We’ll have a fabulous selection of cute cups and mugs for you to choose from\, or feel free to bring your own beloved mug to give it a new life as a planter!
URL:https://downtowndayton.org/event/succulent-in-a-mug-workshop/
LOCATION:Now and Zen DIY Studio\, 121 E. Third St.\, Dayton\, OH\, 45402
ATTACH;FMTTYPE=image/jpeg:https://downtowndayton.org/wp-content/uploads/2025/08/sucmug.jpg
END:VEVENT
BEGIN:VEVENT
DTSTART;TZID=America/New_York:20250816T120000
DTEND;TZID=America/New_York:20250816T130000
DTSTAMP:20260422T181141
CREATED:20250729T130421Z
LAST-MODIFIED:20250729T130421Z
UID:10038980-1755345600-1755349200@downtowndayton.org
SUMMARY:Sand Art – Air Plant Workshop
DESCRIPTION:Unleash your creativity in our Sand Art – Air Plant Workshop! This fun and relaxing experience lets you design a vibrant layered sand creation inside a sleek glass vessel. You’ll then bring it to life with easy-care air plants and an array of embellishments. Perfect for beginners and plant lovers alike. No soil\, no mess\, and no green thumb needed. You’ll leave with a unique\, low-maintenance piece of living art to brighten up your space for give as a thoughtful gift. Registration is Required. $42. https://www.shopnowandzen.com/open-workshop
URL:https://downtowndayton.org/event/sand-art-air-plant-workshop/
LOCATION:Now and Zen DIY Studio\, 121 E. Third St.\, Dayton\, OH\, 45402
ATTACH;FMTTYPE=image/jpeg:https://downtowndayton.org/wp-content/uploads/2025/07/sand.jpg
END:VEVENT
BEGIN:VEVENT
DTSTART;TZID=America/New_York:20250809T120000
DTEND;TZID=America/New_York:20250809T130000
DTSTAMP:20260422T181141
CREATED:20250729T130607Z
LAST-MODIFIED:20250729T130607Z
UID:10038981-1754740800-1754744400@downtowndayton.org
SUMMARY:Jellyfish Terrarium Workshop
DESCRIPTION:Join us for a splash of creativity as you craft your very own whimsical floating jellyfish terrarium! Pick from a treasure trove of embellishments to make your artistic vision come alive. Choose from 2 different Size Vessels! Medium Vessel – 10.5″ X 3.5″ Large Vessel – 12″ X 5″ (Large vessel includes starfish or bamboo top) Note: Registrations are transferable\, but not refundable. $42.00-$47.00.
URL:https://downtowndayton.org/event/jellyfish-terrarium-workshop-2/
LOCATION:Now and Zen DIY Studio\, 121 E. Third St.\, Dayton\, OH\, 45402
ATTACH;FMTTYPE=image/jpeg:https://downtowndayton.org/wp-content/uploads/2025/07/jelly.jpg
END:VEVENT
BEGIN:VEVENT
DTSTART;TZID=America/New_York:20250622T163000
DTEND;TZID=America/New_York:20250622T163000
DTSTAMP:20260422T181141
CREATED:20250602T124015Z
LAST-MODIFIED:20250602T124015Z
UID:10037480-1750609800-1750609800@downtowndayton.org
SUMMARY:Kokedama & Macrame Workshop
DESCRIPTION:Kokedama (Ko-ka-DAH-ma) is a unique and beautiful Japanese garden art where moss and soil are sculpted into a round shape around a plant or tree. It is associated with the beauty and tranquility of bonsai. Join us for this hands-on\, workshop where you’ll create a beautiful and tranquil Kokedama along with beginner friendly macrame hanger to display your macrame\, taught by macrame artist Cortney of Curious Creations Macrame.  $45.00. Register today:  Shopnowandzen.com. Questions? Events@nowandzendiy.com
URL:https://downtowndayton.org/event/kokedama-macrame-workshop/
LOCATION:Now and Zen DIY Studio\, 121 E. Third St.\, Dayton\, OH\, 45402
ATTACH;FMTTYPE=image/png:https://downtowndayton.org/wp-content/uploads/2025/06/IG-Kokedama-Macrame_20250522_085322_0000.png
END:VEVENT
BEGIN:VEVENT
DTSTART;TZID=America/New_York:20250618T110000
DTEND;TZID=America/New_York:20250618T123000
DTSTAMP:20260422T181141
CREATED:20250602T124318Z
LAST-MODIFIED:20250612T134952Z
UID:10037486-1750244400-1750249800@downtowndayton.org
SUMMARY:Zen Kids Summer Camp
DESCRIPTION:Join us for a magical hands-on experience where kids build and decorate their own tiny garden worlds. Each workshop features a unique theme and project designed to inspire creativity and connection to nature.  $12 –  $22. \nRegister & information: Shopnowandzen.com \n4 Fun Projects: \nJurassic Jungle\nClosed terrarium with mini dinosaurs and prehistoric plants! \nFairy Garden Grootopia\nA succulent fairy garden featuring everyone’s favorite tree friend—Groot! \nPaint & Plant Party\nKids paint their own air plant holders and decorate with flair. \nMushroom Magic\nBuild a woodland succulent terrarium full of charm and color.
URL:https://downtowndayton.org/event/zen-kids-summer-camp/2025-06-18/
LOCATION:Now and Zen DIY Studio\, 121 E. Third St.\, Dayton\, OH\, 45402
ATTACH;FMTTYPE=image/jpeg:https://downtowndayton.org/wp-content/uploads/2025/06/zenkids.jpg
END:VEVENT
BEGIN:VEVENT
DTSTART;TZID=America/New_York:20250617T110000
DTEND;TZID=America/New_York:20250617T123000
DTSTAMP:20260422T181141
CREATED:20250602T124318Z
LAST-MODIFIED:20250612T134952Z
UID:10037485-1750158000-1750163400@downtowndayton.org
SUMMARY:Zen Kids Summer Camp
DESCRIPTION:Join us for a magical hands-on experience where kids build and decorate their own tiny garden worlds. Each workshop features a unique theme and project designed to inspire creativity and connection to nature.  $12 –  $22. \nRegister & information: Shopnowandzen.com \n4 Fun Projects: \nJurassic Jungle\nClosed terrarium with mini dinosaurs and prehistoric plants! \nFairy Garden Grootopia\nA succulent fairy garden featuring everyone’s favorite tree friend—Groot! \nPaint & Plant Party\nKids paint their own air plant holders and decorate with flair. \nMushroom Magic\nBuild a woodland succulent terrarium full of charm and color.
URL:https://downtowndayton.org/event/zen-kids-summer-camp/2025-06-17/
LOCATION:Now and Zen DIY Studio\, 121 E. Third St.\, Dayton\, OH\, 45402
ATTACH;FMTTYPE=image/jpeg:https://downtowndayton.org/wp-content/uploads/2025/06/zenkids.jpg
END:VEVENT
BEGIN:VEVENT
DTSTART;TZID=America/New_York:20250611T110000
DTEND;TZID=America/New_York:20250611T123000
DTSTAMP:20260422T181141
CREATED:20250602T124318Z
LAST-MODIFIED:20250612T134952Z
UID:10037484-1749639600-1749645000@downtowndayton.org
SUMMARY:Zen Kids Summer Camp
DESCRIPTION:Join us for a magical hands-on experience where kids build and decorate their own tiny garden worlds. Each workshop features a unique theme and project designed to inspire creativity and connection to nature.  $12 –  $22. \nRegister & information: Shopnowandzen.com \n4 Fun Projects: \nJurassic Jungle\nClosed terrarium with mini dinosaurs and prehistoric plants! \nFairy Garden Grootopia\nA succulent fairy garden featuring everyone’s favorite tree friend—Groot! \nPaint & Plant Party\nKids paint their own air plant holders and decorate with flair. \nMushroom Magic\nBuild a woodland succulent terrarium full of charm and color.
URL:https://downtowndayton.org/event/zen-kids-summer-camp/2025-06-11/
LOCATION:Now and Zen DIY Studio\, 121 E. Third St.\, Dayton\, OH\, 45402
ATTACH;FMTTYPE=image/jpeg:https://downtowndayton.org/wp-content/uploads/2025/06/zenkids.jpg
END:VEVENT
BEGIN:VEVENT
DTSTART;TZID=America/New_York:20250610T110000
DTEND;TZID=America/New_York:20250610T123000
DTSTAMP:20260422T181141
CREATED:20250602T124318Z
LAST-MODIFIED:20250612T134952Z
UID:10037483-1749553200-1749558600@downtowndayton.org
SUMMARY:Zen Kids Summer Camp
DESCRIPTION:Join us for a magical hands-on experience where kids build and decorate their own tiny garden worlds. Each workshop features a unique theme and project designed to inspire creativity and connection to nature.  $12 –  $22. \nRegister & information: Shopnowandzen.com \n4 Fun Projects: \nJurassic Jungle\nClosed terrarium with mini dinosaurs and prehistoric plants! \nFairy Garden Grootopia\nA succulent fairy garden featuring everyone’s favorite tree friend—Groot! \nPaint & Plant Party\nKids paint their own air plant holders and decorate with flair. \nMushroom Magic\nBuild a woodland succulent terrarium full of charm and color.
URL:https://downtowndayton.org/event/zen-kids-summer-camp/2025-06-10/
LOCATION:Now and Zen DIY Studio\, 121 E. Third St.\, Dayton\, OH\, 45402
ATTACH;FMTTYPE=image/jpeg:https://downtowndayton.org/wp-content/uploads/2025/06/zenkids.jpg
END:VEVENT
BEGIN:VEVENT
DTSTART;TZID=America/New_York:20250604T110000
DTEND;TZID=America/New_York:20250604T123000
DTSTAMP:20260422T181141
CREATED:20250602T124318Z
LAST-MODIFIED:20250612T134952Z
UID:10037482-1749034800-1749040200@downtowndayton.org
SUMMARY:Zen Kids Summer Camp
DESCRIPTION:Join us for a magical hands-on experience where kids build and decorate their own tiny garden worlds. Each workshop features a unique theme and project designed to inspire creativity and connection to nature.  $12 –  $22. \nRegister & information: Shopnowandzen.com \n4 Fun Projects: \nJurassic Jungle\nClosed terrarium with mini dinosaurs and prehistoric plants! \nFairy Garden Grootopia\nA succulent fairy garden featuring everyone’s favorite tree friend—Groot! \nPaint & Plant Party\nKids paint their own air plant holders and decorate with flair. \nMushroom Magic\nBuild a woodland succulent terrarium full of charm and color.
URL:https://downtowndayton.org/event/zen-kids-summer-camp/2025-06-04/
LOCATION:Now and Zen DIY Studio\, 121 E. Third St.\, Dayton\, OH\, 45402
ATTACH;FMTTYPE=image/jpeg:https://downtowndayton.org/wp-content/uploads/2025/06/zenkids.jpg
END:VEVENT
BEGIN:VEVENT
DTSTART;TZID=America/New_York:20250603T110000
DTEND;TZID=America/New_York:20250603T123000
DTSTAMP:20260422T181141
CREATED:20250602T124318Z
LAST-MODIFIED:20250612T134952Z
UID:10037481-1748948400-1748953800@downtowndayton.org
SUMMARY:Zen Kids Summer Camp
DESCRIPTION:Join us for a magical hands-on experience where kids build and decorate their own tiny garden worlds. Each workshop features a unique theme and project designed to inspire creativity and connection to nature.  $12 –  $22. \nRegister & information: Shopnowandzen.com \n4 Fun Projects: \nJurassic Jungle\nClosed terrarium with mini dinosaurs and prehistoric plants! \nFairy Garden Grootopia\nA succulent fairy garden featuring everyone’s favorite tree friend—Groot! \nPaint & Plant Party\nKids paint their own air plant holders and decorate with flair. \nMushroom Magic\nBuild a woodland succulent terrarium full of charm and color.
URL:https://downtowndayton.org/event/zen-kids-summer-camp/2025-06-03/
LOCATION:Now and Zen DIY Studio\, 121 E. Third St.\, Dayton\, OH\, 45402
ATTACH;FMTTYPE=image/jpeg:https://downtowndayton.org/wp-content/uploads/2025/06/zenkids.jpg
END:VEVENT
BEGIN:VEVENT
DTSTART;TZID=America/New_York:20250309T163000
DTEND;TZID=America/New_York:20250309T173000
DTSTAMP:20260422T181141
CREATED:20250224T133723Z
LAST-MODIFIED:20250224T133723Z
UID:10030449-1741537800-1741541400@downtowndayton.org
SUMMARY:Moss Wall Art Workshop
DESCRIPTION:Transform your space with your very own piece of natural wall art! In this hands-on workshop\, you’ll use an array of preserved moss and natural elements to design a one-of-a-kind creation. BYOB: Bring your favorite drink to sip while you create! Includes: Your choice of an 8″ square or 10″ round wood frame or a 5″ x 7″ tabletop or hanging frame A variety of preserved mosses and natural accents\, step-by-step guidance to bring your vision to life and take-home boxing to transport your masterpiece safely.
URL:https://downtowndayton.org/event/moss-wall-art-workshop/
LOCATION:Now and Zen DIY Studio\, 121 E. Third St.\, Dayton\, OH\, 45402
ATTACH;FMTTYPE=image/jpeg:https://downtowndayton.org/wp-content/uploads/2025/02/moss.jpg
END:VEVENT
BEGIN:VEVENT
DTSTART;TZID=America/Detroit:20250119T163000
DTEND;TZID=America/Detroit:20250119T183000
DTSTAMP:20260422T181141
CREATED:20250107T130020Z
LAST-MODIFIED:20250107T130020Z
UID:10030138-1737304200-1737311400@downtowndayton.org
SUMMARY:Living Wall Art Workshop
DESCRIPTION:Discover the magic of designing your very own living masterpiece in our most popular workshop! In this signature class\, you’ll craft stunning wall art using live air plants\, vibrant preserved moss\, and a variety of unique embellishments. The result? A one-of-a-kind creation\, designed by you\, that will captivate and transform any space into a conversation-worthy showcase. What’s included: Hands-On Fun: Approx. 2 hours of step-by-step guidance – Learn & Care: Gain knowledge on how to care for your living art – All-Inclusive: Supplies\, plants\, moss\, stones\, and embellishments provided – Your Creation: Leave with a completed 8” x 10” living wall art piece – Bring your favorite snacks and drinks—this is your time to unwind and create! $47.  https://www.shopnowandzen.com/open-workshop
URL:https://downtowndayton.org/event/living-wall-art-workshop/
LOCATION:Now and Zen DIY Studio\, 121 E. Third St.\, Dayton\, OH\, 45402
END:VEVENT
BEGIN:VEVENT
DTSTART;TZID=America/Detroit:20241222T110000
DTEND;TZID=America/Detroit:20241222T160000
DTSTAMP:20260422T181141
CREATED:20241107T203845Z
LAST-MODIFIED:20241107T203845Z
UID:10023689-1734865200-1734883200@downtowndayton.org
SUMMARY:Holiday Greenery Crafting
DESCRIPTION:Stop in for a jolly good time with whimsical holiday plant projects\, including terrarium snowmen\, air plant ornaments\, and more! \nThursdays through Sundays\, 11 a.m.-4 p.m. through Dec. 22
URL:https://downtowndayton.org/event/holiday-greenery-crafting/2024-12-22/
LOCATION:Now and Zen DIY Studio\, 121 E. Third St.\, Dayton\, OH\, 45402
ATTACH;FMTTYPE=image/jpeg:https://downtowndayton.org/wp-content/uploads/2024/11/nowandzendiy.jpg
END:VEVENT
END:VCALENDAR