BEGIN:VCALENDAR
VERSION:2.0
PRODID:-//Downtown Dayton Partnership - ECPv6.8.1//NONSGML v1.0//EN
CALSCALE:GREGORIAN
METHOD:PUBLISH
X-ORIGINAL-URL:https://downtowndayton.org
X-WR-CALDESC:Events for Downtown Dayton Partnership
REFRESH-INTERVAL;VALUE=DURATION:PT1H
X-Robots-Tag:noindex
X-PUBLISHED-TTL:PT1H
BEGIN:VTIMEZONE
TZID:America/Detroit
BEGIN:DAYLIGHT
TZOFFSETFROM:-0500
TZOFFSETTO:-0400
TZNAME:EDT
DTSTART:20240310T070000
END:DAYLIGHT
BEGIN:STANDARD
TZOFFSETFROM:-0400
TZOFFSETTO:-0500
TZNAME:EST
DTSTART:20241103T060000
END:STANDARD
END:VTIMEZONE
BEGIN:VEVENT
DTSTART;TZID=America/Detroit:20241205T110000
DTEND;TZID=America/Detroit:20241205T160000
DTSTAMP:20260423T111544
CREATED:20241107T203845Z
LAST-MODIFIED:20241107T203845Z
UID:10023678-1733396400-1733414400@downtowndayton.org
SUMMARY:Holiday Greenery Crafting
DESCRIPTION:Stop in for a jolly good time with whimsical holiday plant projects\, including terrarium snowmen\, air plant ornaments\, and more! \nThursdays through Sundays\, 11 a.m.-4 p.m. through Dec. 22
URL:https://downtowndayton.org/event/holiday-greenery-crafting/2024-12-05/
LOCATION:Now and Zen DIY Studio\, 121 E. Third St.\, Dayton\, OH\, 45402
ATTACH;FMTTYPE=image/jpeg:https://downtowndayton.org/wp-content/uploads/2024/11/nowandzendiy.jpg
END:VEVENT
BEGIN:VEVENT
DTSTART;TZID=America/Detroit:20241201T110000
DTEND;TZID=America/Detroit:20241201T160000
DTSTAMP:20260423T111544
CREATED:20241107T203845Z
LAST-MODIFIED:20241107T203845Z
UID:10023677-1733050800-1733068800@downtowndayton.org
SUMMARY:Holiday Greenery Crafting
DESCRIPTION:Stop in for a jolly good time with whimsical holiday plant projects\, including terrarium snowmen\, air plant ornaments\, and more! \nThursdays through Sundays\, 11 a.m.-4 p.m. through Dec. 22
URL:https://downtowndayton.org/event/holiday-greenery-crafting/2024-12-01/
LOCATION:Now and Zen DIY Studio\, 121 E. Third St.\, Dayton\, OH\, 45402
ATTACH;FMTTYPE=image/jpeg:https://downtowndayton.org/wp-content/uploads/2024/11/nowandzendiy.jpg
END:VEVENT
BEGIN:VEVENT
DTSTART;TZID=America/Detroit:20241130T110000
DTEND;TZID=America/Detroit:20241130T160000
DTSTAMP:20260423T111544
CREATED:20241107T203845Z
LAST-MODIFIED:20241107T203845Z
UID:10023676-1732964400-1732982400@downtowndayton.org
SUMMARY:Holiday Greenery Crafting
DESCRIPTION:Stop in for a jolly good time with whimsical holiday plant projects\, including terrarium snowmen\, air plant ornaments\, and more! \nThursdays through Sundays\, 11 a.m.-4 p.m. through Dec. 22
URL:https://downtowndayton.org/event/holiday-greenery-crafting/2024-11-30/
LOCATION:Now and Zen DIY Studio\, 121 E. Third St.\, Dayton\, OH\, 45402
ATTACH;FMTTYPE=image/jpeg:https://downtowndayton.org/wp-content/uploads/2024/11/nowandzendiy.jpg
END:VEVENT
BEGIN:VEVENT
DTSTART;TZID=America/Detroit:20241129T110000
DTEND;TZID=America/Detroit:20241129T160000
DTSTAMP:20260423T111544
CREATED:20241107T203845Z
LAST-MODIFIED:20241107T203845Z
UID:10023675-1732878000-1732896000@downtowndayton.org
SUMMARY:Holiday Greenery Crafting
DESCRIPTION:Stop in for a jolly good time with whimsical holiday plant projects\, including terrarium snowmen\, air plant ornaments\, and more! \nThursdays through Sundays\, 11 a.m.-4 p.m. through Dec. 22
URL:https://downtowndayton.org/event/holiday-greenery-crafting/2024-11-29/
LOCATION:Now and Zen DIY Studio\, 121 E. Third St.\, Dayton\, OH\, 45402
ATTACH;FMTTYPE=image/jpeg:https://downtowndayton.org/wp-content/uploads/2024/11/nowandzendiy.jpg
END:VEVENT
BEGIN:VEVENT
DTSTART;TZID=America/Detroit:20241128T110000
DTEND;TZID=America/Detroit:20241128T160000
DTSTAMP:20260423T111544
CREATED:20241107T203845Z
LAST-MODIFIED:20241107T203845Z
UID:10023674-1732791600-1732809600@downtowndayton.org
SUMMARY:Holiday Greenery Crafting
DESCRIPTION:Stop in for a jolly good time with whimsical holiday plant projects\, including terrarium snowmen\, air plant ornaments\, and more! \nThursdays through Sundays\, 11 a.m.-4 p.m. through Dec. 22
URL:https://downtowndayton.org/event/holiday-greenery-crafting/2024-11-28/
LOCATION:Now and Zen DIY Studio\, 121 E. Third St.\, Dayton\, OH\, 45402
ATTACH;FMTTYPE=image/jpeg:https://downtowndayton.org/wp-content/uploads/2024/11/nowandzendiy.jpg
END:VEVENT
BEGIN:VEVENT
DTSTART;TZID=America/Detroit:20241124T110000
DTEND;TZID=America/Detroit:20241124T160000
DTSTAMP:20260423T111544
CREATED:20241107T203845Z
LAST-MODIFIED:20241107T203845Z
UID:10023673-1732446000-1732464000@downtowndayton.org
SUMMARY:Holiday Greenery Crafting
DESCRIPTION:Stop in for a jolly good time with whimsical holiday plant projects\, including terrarium snowmen\, air plant ornaments\, and more! \nThursdays through Sundays\, 11 a.m.-4 p.m. through Dec. 22
URL:https://downtowndayton.org/event/holiday-greenery-crafting/2024-11-24/
LOCATION:Now and Zen DIY Studio\, 121 E. Third St.\, Dayton\, OH\, 45402
ATTACH;FMTTYPE=image/jpeg:https://downtowndayton.org/wp-content/uploads/2024/11/nowandzendiy.jpg
END:VEVENT
BEGIN:VEVENT
DTSTART;TZID=America/Detroit:20241123T110000
DTEND;TZID=America/Detroit:20241123T160000
DTSTAMP:20260423T111544
CREATED:20241107T203845Z
LAST-MODIFIED:20241107T203845Z
UID:10023672-1732359600-1732377600@downtowndayton.org
SUMMARY:Holiday Greenery Crafting
DESCRIPTION:Stop in for a jolly good time with whimsical holiday plant projects\, including terrarium snowmen\, air plant ornaments\, and more! \nThursdays through Sundays\, 11 a.m.-4 p.m. through Dec. 22
URL:https://downtowndayton.org/event/holiday-greenery-crafting/2024-11-23/
LOCATION:Now and Zen DIY Studio\, 121 E. Third St.\, Dayton\, OH\, 45402
ATTACH;FMTTYPE=image/jpeg:https://downtowndayton.org/wp-content/uploads/2024/11/nowandzendiy.jpg
END:VEVENT
BEGIN:VEVENT
DTSTART;TZID=America/Detroit:20241122T110000
DTEND;TZID=America/Detroit:20241122T160000
DTSTAMP:20260423T111544
CREATED:20241107T203845Z
LAST-MODIFIED:20241107T203845Z
UID:10023671-1732273200-1732291200@downtowndayton.org
SUMMARY:Holiday Greenery Crafting
DESCRIPTION:Stop in for a jolly good time with whimsical holiday plant projects\, including terrarium snowmen\, air plant ornaments\, and more! \nThursdays through Sundays\, 11 a.m.-4 p.m. through Dec. 22
URL:https://downtowndayton.org/event/holiday-greenery-crafting/2024-11-22/
LOCATION:Now and Zen DIY Studio\, 121 E. Third St.\, Dayton\, OH\, 45402
ATTACH;FMTTYPE=image/jpeg:https://downtowndayton.org/wp-content/uploads/2024/11/nowandzendiy.jpg
END:VEVENT
BEGIN:VEVENT
DTSTART;TZID=America/Detroit:20241121T110000
DTEND;TZID=America/Detroit:20241121T160000
DTSTAMP:20260423T111544
CREATED:20241107T203845Z
LAST-MODIFIED:20241107T203845Z
UID:10023670-1732186800-1732204800@downtowndayton.org
SUMMARY:Holiday Greenery Crafting
DESCRIPTION:Stop in for a jolly good time with whimsical holiday plant projects\, including terrarium snowmen\, air plant ornaments\, and more! \nThursdays through Sundays\, 11 a.m.-4 p.m. through Dec. 22
URL:https://downtowndayton.org/event/holiday-greenery-crafting/2024-11-21/
LOCATION:Now and Zen DIY Studio\, 121 E. Third St.\, Dayton\, OH\, 45402
ATTACH;FMTTYPE=image/jpeg:https://downtowndayton.org/wp-content/uploads/2024/11/nowandzendiy.jpg
END:VEVENT
BEGIN:VEVENT
DTSTART;TZID=America/Detroit:20241117T110000
DTEND;TZID=America/Detroit:20241117T160000
DTSTAMP:20260423T111544
CREATED:20241107T203845Z
LAST-MODIFIED:20241107T203845Z
UID:10023669-1731841200-1731859200@downtowndayton.org
SUMMARY:Holiday Greenery Crafting
DESCRIPTION:Stop in for a jolly good time with whimsical holiday plant projects\, including terrarium snowmen\, air plant ornaments\, and more! \nThursdays through Sundays\, 11 a.m.-4 p.m. through Dec. 22
URL:https://downtowndayton.org/event/holiday-greenery-crafting/2024-11-17/
LOCATION:Now and Zen DIY Studio\, 121 E. Third St.\, Dayton\, OH\, 45402
ATTACH;FMTTYPE=image/jpeg:https://downtowndayton.org/wp-content/uploads/2024/11/nowandzendiy.jpg
END:VEVENT
BEGIN:VEVENT
DTSTART;TZID=America/Detroit:20241116T110000
DTEND;TZID=America/Detroit:20241116T160000
DTSTAMP:20260423T111544
CREATED:20241107T203845Z
LAST-MODIFIED:20241107T203845Z
UID:10023668-1731754800-1731772800@downtowndayton.org
SUMMARY:Holiday Greenery Crafting
DESCRIPTION:Stop in for a jolly good time with whimsical holiday plant projects\, including terrarium snowmen\, air plant ornaments\, and more! \nThursdays through Sundays\, 11 a.m.-4 p.m. through Dec. 22
URL:https://downtowndayton.org/event/holiday-greenery-crafting/2024-11-16/
LOCATION:Now and Zen DIY Studio\, 121 E. Third St.\, Dayton\, OH\, 45402
ATTACH;FMTTYPE=image/jpeg:https://downtowndayton.org/wp-content/uploads/2024/11/nowandzendiy.jpg
END:VEVENT
BEGIN:VEVENT
DTSTART;TZID=America/Detroit:20241115T110000
DTEND;TZID=America/Detroit:20241115T160000
DTSTAMP:20260423T111544
CREATED:20241107T203845Z
LAST-MODIFIED:20241107T203845Z
UID:10023667-1731668400-1731686400@downtowndayton.org
SUMMARY:Holiday Greenery Crafting
DESCRIPTION:Stop in for a jolly good time with whimsical holiday plant projects\, including terrarium snowmen\, air plant ornaments\, and more! \nThursdays through Sundays\, 11 a.m.-4 p.m. through Dec. 22
URL:https://downtowndayton.org/event/holiday-greenery-crafting/2024-11-15/
LOCATION:Now and Zen DIY Studio\, 121 E. Third St.\, Dayton\, OH\, 45402
ATTACH;FMTTYPE=image/jpeg:https://downtowndayton.org/wp-content/uploads/2024/11/nowandzendiy.jpg
END:VEVENT
BEGIN:VEVENT
DTSTART;TZID=America/Detroit:20241114T110000
DTEND;TZID=America/Detroit:20241114T160000
DTSTAMP:20260423T111544
CREATED:20241107T203845Z
LAST-MODIFIED:20241107T203845Z
UID:10023666-1731582000-1731600000@downtowndayton.org
SUMMARY:Holiday Greenery Crafting
DESCRIPTION:Stop in for a jolly good time with whimsical holiday plant projects\, including terrarium snowmen\, air plant ornaments\, and more! \nThursdays through Sundays\, 11 a.m.-4 p.m. through Dec. 22
URL:https://downtowndayton.org/event/holiday-greenery-crafting/2024-11-14/
LOCATION:Now and Zen DIY Studio\, 121 E. Third St.\, Dayton\, OH\, 45402
ATTACH;FMTTYPE=image/jpeg:https://downtowndayton.org/wp-content/uploads/2024/11/nowandzendiy.jpg
END:VEVENT
BEGIN:VEVENT
DTSTART;TZID=America/Detroit:20241110T110000
DTEND;TZID=America/Detroit:20241110T160000
DTSTAMP:20260423T111544
CREATED:20241107T203845Z
LAST-MODIFIED:20241107T203845Z
UID:10023665-1731236400-1731254400@downtowndayton.org
SUMMARY:Holiday Greenery Crafting
DESCRIPTION:Stop in for a jolly good time with whimsical holiday plant projects\, including terrarium snowmen\, air plant ornaments\, and more! \nThursdays through Sundays\, 11 a.m.-4 p.m. through Dec. 22
URL:https://downtowndayton.org/event/holiday-greenery-crafting/2024-11-10/
LOCATION:Now and Zen DIY Studio\, 121 E. Third St.\, Dayton\, OH\, 45402
ATTACH;FMTTYPE=image/jpeg:https://downtowndayton.org/wp-content/uploads/2024/11/nowandzendiy.jpg
END:VEVENT
BEGIN:VEVENT
DTSTART;TZID=America/Detroit:20241109T110000
DTEND;TZID=America/Detroit:20241109T160000
DTSTAMP:20260423T111544
CREATED:20241107T203845Z
LAST-MODIFIED:20241107T203845Z
UID:10023664-1731150000-1731168000@downtowndayton.org
SUMMARY:Holiday Greenery Crafting
DESCRIPTION:Stop in for a jolly good time with whimsical holiday plant projects\, including terrarium snowmen\, air plant ornaments\, and more! \nThursdays through Sundays\, 11 a.m.-4 p.m. through Dec. 22
URL:https://downtowndayton.org/event/holiday-greenery-crafting/2024-11-09/
LOCATION:Now and Zen DIY Studio\, 121 E. Third St.\, Dayton\, OH\, 45402
ATTACH;FMTTYPE=image/jpeg:https://downtowndayton.org/wp-content/uploads/2024/11/nowandzendiy.jpg
END:VEVENT
BEGIN:VEVENT
DTSTART;TZID=America/Detroit:20241108T110000
DTEND;TZID=America/Detroit:20241108T160000
DTSTAMP:20260423T111544
CREATED:20241107T203845Z
LAST-MODIFIED:20241107T203845Z
UID:10023663-1731063600-1731081600@downtowndayton.org
SUMMARY:Holiday Greenery Crafting
DESCRIPTION:Stop in for a jolly good time with whimsical holiday plant projects\, including terrarium snowmen\, air plant ornaments\, and more! \nThursdays through Sundays\, 11 a.m.-4 p.m. through Dec. 22
URL:https://downtowndayton.org/event/holiday-greenery-crafting/2024-11-08/
LOCATION:Now and Zen DIY Studio\, 121 E. Third St.\, Dayton\, OH\, 45402
ATTACH;FMTTYPE=image/jpeg:https://downtowndayton.org/wp-content/uploads/2024/11/nowandzendiy.jpg
END:VEVENT
BEGIN:VEVENT
DTSTART;TZID=America/Detroit:20241107T110000
DTEND;TZID=America/Detroit:20241107T160000
DTSTAMP:20260423T111544
CREATED:20241107T203845Z
LAST-MODIFIED:20241107T203845Z
UID:10023662-1730977200-1730995200@downtowndayton.org
SUMMARY:Holiday Greenery Crafting
DESCRIPTION:Stop in for a jolly good time with whimsical holiday plant projects\, including terrarium snowmen\, air plant ornaments\, and more! \nThursdays through Sundays\, 11 a.m.-4 p.m. through Dec. 22
URL:https://downtowndayton.org/event/holiday-greenery-crafting/2024-11-07/
LOCATION:Now and Zen DIY Studio\, 121 E. Third St.\, Dayton\, OH\, 45402
ATTACH;FMTTYPE=image/jpeg:https://downtowndayton.org/wp-content/uploads/2024/11/nowandzendiy.jpg
END:VEVENT
BEGIN:VEVENT
DTSTART;TZID=America/Detroit:20241020T110000
DTEND;TZID=America/Detroit:20241020T153000
DTSTAMP:20260423T111544
CREATED:20240919T174812Z
LAST-MODIFIED:20240919T174812Z
UID:10029657-1729422000-1729438200@downtowndayton.org
SUMMARY:Family Fun! Succulent in a Mug
DESCRIPTION:Get ready for a delightful and easy-peasy workshop where friends\, family\, and kiddos of all ages can get their hands dirty planting succulents or cacti in adorable mugs! We’ll have a fabulous selection of cute cups and mugs for you to choose from\, or feel free to bring your own beloved mug to give it a new life as a planter! Hop over to our website\, ShopNowandZen.com\, to register. Don’t miss out on this fantastic opportunity to bond and have a blast with your favorite people! The event lasts all day Saturday the 19th and Sunday the 20th Walk-in anytime – No reservations needed.
URL:https://downtowndayton.org/event/family-fun-succulent-in-a-mug/2024-10-20/
LOCATION:Now and Zen DIY Studio\, 121 E. Third St.\, Dayton\, OH\, 45402
END:VEVENT
BEGIN:VEVENT
DTSTART;TZID=America/Detroit:20241019T110000
DTEND;TZID=America/Detroit:20241019T153000
DTSTAMP:20260423T111545
CREATED:20240919T174812Z
LAST-MODIFIED:20240919T174812Z
UID:10029656-1729335600-1729351800@downtowndayton.org
SUMMARY:Family Fun! Succulent in a Mug
DESCRIPTION:Get ready for a delightful and easy-peasy workshop where friends\, family\, and kiddos of all ages can get their hands dirty planting succulents or cacti in adorable mugs! We’ll have a fabulous selection of cute cups and mugs for you to choose from\, or feel free to bring your own beloved mug to give it a new life as a planter! Hop over to our website\, ShopNowandZen.com\, to register. Don’t miss out on this fantastic opportunity to bond and have a blast with your favorite people! The event lasts all day Saturday the 19th and Sunday the 20th Walk-in anytime – No reservations needed.
URL:https://downtowndayton.org/event/family-fun-succulent-in-a-mug/2024-10-19/
LOCATION:Now and Zen DIY Studio\, 121 E. Third St.\, Dayton\, OH\, 45402
END:VEVENT
BEGIN:VEVENT
DTSTART;TZID=America/Detroit:20240928T110000
DTEND;TZID=America/Detroit:20240928T153000
DTSTAMP:20260423T111545
CREATED:20240919T174645Z
LAST-MODIFIED:20240919T174645Z
UID:10029655-1727521200-1727537400@downtowndayton.org
SUMMARY:Jellyfish Terrarium Workshop
DESCRIPTION:Join us for a splash of creativity as you craft your very own whimsical floating jellyfish terrarium! Pick from a treasure trove of vessels and delightful urchin/air plant ‘jellyfish’ to make your artistic vision come alive. Let the creativity flow! Appropriate for age 5 and up!  Walk-in anytime – No reservations needed.
URL:https://downtowndayton.org/event/jellyfish-terrarium-workshop/
LOCATION:Now and Zen DIY Studio\, 121 E. Third St.\, Dayton\, OH\, 45402
END:VEVENT
BEGIN:VEVENT
DTSTART;TZID=America/Detroit:20240728T163000
DTEND;TZID=America/Detroit:20240728T163000
DTSTAMP:20260423T111545
CREATED:20240725T133228Z
LAST-MODIFIED:20240725T133228Z
UID:10029499-1722184200-1722184200@downtowndayton.org
SUMMARY:Moss Art Workshop
DESCRIPTION:Moss Art Workshop\n\n $35.00 – $65.00 \nJoin us and design a beautiful piece of art using preserved moss and other natural elements to display on your wall! \n» Design tips and instructions \n» All supplies\, embellishments\, stones\, moss\, etc.\, necessary to complete project \n» DORA alcohol accepted \nNote: Appropriate for ages 16 to adult \nRegistration is non-refundable
URL:https://downtowndayton.org/event/moss-art-workshop/
LOCATION:Now and Zen DIY Studio\, 121 E. Third St.\, Dayton\, OH\, 45402
ATTACH;FMTTYPE=image/jpeg:https://downtowndayton.org/wp-content/uploads/2024/07/mossart.jpg
END:VEVENT
END:VCALENDAR