BEGIN:VCALENDAR
VERSION:2.0
PRODID:-//Downtown Dayton Partnership - ECPv6.8.1//NONSGML v1.0//EN
CALSCALE:GREGORIAN
METHOD:PUBLISH
X-ORIGINAL-URL:https://downtowndayton.org
X-WR-CALDESC:Events for Downtown Dayton Partnership
REFRESH-INTERVAL;VALUE=DURATION:PT1H
X-Robots-Tag:noindex
X-PUBLISHED-TTL:PT1H
BEGIN:VTIMEZONE
TZID:America/New_York
BEGIN:DAYLIGHT
TZOFFSETFROM:-0500
TZOFFSETTO:-0400
TZNAME:EDT
DTSTART:20250309T070000
END:DAYLIGHT
BEGIN:STANDARD
TZOFFSETFROM:-0400
TZOFFSETTO:-0500
TZNAME:EST
DTSTART:20251102T060000
END:STANDARD
TZID:America/Detroit
BEGIN:DAYLIGHT
TZOFFSETFROM:-0500
TZOFFSETTO:-0400
TZNAME:EDT
DTSTART:20250309T070000
END:DAYLIGHT
BEGIN:STANDARD
TZOFFSETFROM:-0400
TZOFFSETTO:-0500
TZNAME:EST
DTSTART:20251102T060000
END:STANDARD
END:VTIMEZONE
BEGIN:VEVENT
DTSTART;TZID=America/New_York:20250608T110000
DTEND;TZID=America/New_York:20250608T180000
DTSTAMP:20260424T230751
CREATED:20250604T173445Z
LAST-MODIFIED:20250604T173445Z
UID:10037614-1749380400-1749405600@downtowndayton.org
SUMMARY:Jewish Cultural Festival
DESCRIPTION:Temple Israel’s Jewish Cultural Festival opens the door to Judaism for all who wish to learn more about our traditions and our faith. In past years\, over 2500 people have turned out to enjoy music and stories\, learn about rituals\, Torah\, and holidays\, taste brisket and falafel\, play games\, shop for crafts and Judaica\, dance and laugh.  This family-friendly and accessible event is sure to delight everyone who has ever had questions about Judaism or those that simply want to have some fun.  With our friends from all faiths\, we enjoy a beautiful day at Temple and learn that we have a lot in common. The Festival involves more than 150 Temple volunteers\, who serve food\, perform\, lead tours or explain holidays\, answer questions\, and proudly welcome friends and newcomers to share a Jewish experience. More info: https://tidayton.org/festival/
URL:https://downtowndayton.org/event/jewish-cultural-festival-3/
LOCATION:Temple Israel\, 130 Riverside Dr.\, Dayton\, OH\, 45405
ATTACH;FMTTYPE=image/jpeg:https://downtowndayton.org/wp-content/uploads/2025/06/jf.jpg
END:VEVENT
BEGIN:VEVENT
DTSTART;TZID=America/Detroit:20250608T110000
DTEND;TZID=America/Detroit:20250608T180000
DTSTAMP:20260424T230751
CREATED:20241220T142736Z
LAST-MODIFIED:20241220T142736Z
UID:10030117-1749380400-1749405600@downtowndayton.org
SUMMARY:Jewish Cultural Festival
DESCRIPTION:Temple Israel invites the community to explore the beauty of Judaism at it’s annual Jewish Cultural Festival. Discover our rich traditions\, faith\, and community. Drawing over 2\,500 attendees in past years\, this vibrant event offers something for everyone: live music and storytelling\, insights into rituals\, Torah\, and holidays\, delicious brisket and falafel\, fun games\, unique crafts and Judaica shopping\, dancing\, and laughter. This free\, family-friendly\, and accessible celebration is perfect for those curious about Judaism or anyone looking for a fun-filled day. It’s a time to come together with friends from all faiths\, fostering connections and discovering what unites us
URL:https://downtowndayton.org/event/jewish-cultural-festival-2/
LOCATION:Temple Israel\, 130 Riverside Dr.\, Dayton\, OH\, 45405
ATTACH;FMTTYPE=image/png:https://downtowndayton.org/wp-content/uploads/2024/12/Asset-1.png
END:VEVENT
END:VCALENDAR