BEGIN:VCALENDAR
VERSION:2.0
PRODID:-//Downtown Dayton Partnership - ECPv6.8.1//NONSGML v1.0//EN
CALSCALE:GREGORIAN
METHOD:PUBLISH
X-WR-CALNAME:Downtown Dayton Partnership
X-ORIGINAL-URL:https://downtowndayton.org
X-WR-CALDESC:Events for Downtown Dayton Partnership
REFRESH-INTERVAL;VALUE=DURATION:PT1H
X-Robots-Tag:noindex
X-PUBLISHED-TTL:PT1H
BEGIN:VTIMEZONE
TZID:America/Detroit
BEGIN:DAYLIGHT
TZOFFSETFROM:-0500
TZOFFSETTO:-0400
TZNAME:EDT
DTSTART:20240310T070000
END:DAYLIGHT
BEGIN:STANDARD
TZOFFSETFROM:-0400
TZOFFSETTO:-0500
TZNAME:EST
DTSTART:20241103T060000
END:STANDARD
END:VTIMEZONE
BEGIN:VEVENT
DTSTART;TZID=America/Detroit:20240720T120000
DTEND;TZID=America/Detroit:20240720T170000
DTSTAMP:20260425T073223
CREATED:20240703T121320Z
LAST-MODIFIED:20240703T121320Z
UID:10023062-1721476800-1721494800@downtowndayton.org
SUMMARY:Exhibit: Part of a Whole: 1/2
DESCRIPTION:PART OF A WHOLE: 1/2\nDSA’S ANNUAL MEMBERS SHOW\nThe Dayton Society of Artists (DSA) is thrilled to present PART OF A WHOLE: 1/2\, the first segment of our annual members’ exhibition. This unique two-part event showcases the diverse and vibrant talents of our member artists\, encompassing a wide range of mediums\, techniques\, and styles. \nWe are honored to have Marsha Pippenger\, past president of the DSA\, as our juror for this exhibition and this year\, DSA has divided the annual members’ exhibition into two parts to ensure all members have the opportunity to present their best work. We are excited to see the incredible variety and quality of art that will be on display\, and make sure to come back on August 2nd for another unique members exhibition! \nPART OF A WHOLE: 1/2 runs from Friday\, July 5th to Saturday\, July 27th. Our gallery is open to the public on Fridays and Saturdays from 12:00 PM to 5:00 PM\, with additional viewing times available by appointment (email info@daytondsa.org to schedule).
URL:https://downtowndayton.org/event/exhibit-part-of-a-whole-1-2/2024-07-20/
LOCATION:Dayton Society of Artists\, 48 High Street\, Dayton\, OH\, 45402\, United States
ATTACH;FMTTYPE=image/jpeg:https://downtowndayton.org/wp-content/uploads/2024/07/part.jpg
END:VEVENT
BEGIN:VEVENT
DTSTART;TZID=America/Detroit:20240719T120000
DTEND;TZID=America/Detroit:20240719T170000
DTSTAMP:20260425T073223
CREATED:20240703T121320Z
LAST-MODIFIED:20240703T121320Z
UID:10023061-1721390400-1721408400@downtowndayton.org
SUMMARY:Exhibit: Part of a Whole: 1/2
DESCRIPTION:PART OF A WHOLE: 1/2\nDSA’S ANNUAL MEMBERS SHOW\nThe Dayton Society of Artists (DSA) is thrilled to present PART OF A WHOLE: 1/2\, the first segment of our annual members’ exhibition. This unique two-part event showcases the diverse and vibrant talents of our member artists\, encompassing a wide range of mediums\, techniques\, and styles. \nWe are honored to have Marsha Pippenger\, past president of the DSA\, as our juror for this exhibition and this year\, DSA has divided the annual members’ exhibition into two parts to ensure all members have the opportunity to present their best work. We are excited to see the incredible variety and quality of art that will be on display\, and make sure to come back on August 2nd for another unique members exhibition! \nPART OF A WHOLE: 1/2 runs from Friday\, July 5th to Saturday\, July 27th. Our gallery is open to the public on Fridays and Saturdays from 12:00 PM to 5:00 PM\, with additional viewing times available by appointment (email info@daytondsa.org to schedule).
URL:https://downtowndayton.org/event/exhibit-part-of-a-whole-1-2/2024-07-19/
LOCATION:Dayton Society of Artists\, 48 High Street\, Dayton\, OH\, 45402\, United States
ATTACH;FMTTYPE=image/jpeg:https://downtowndayton.org/wp-content/uploads/2024/07/part.jpg
END:VEVENT
BEGIN:VEVENT
DTSTART;TZID=America/Detroit:20240713T120000
DTEND;TZID=America/Detroit:20240713T170000
DTSTAMP:20260425T073223
CREATED:20240703T121320Z
LAST-MODIFIED:20240703T121320Z
UID:10023060-1720872000-1720890000@downtowndayton.org
SUMMARY:Exhibit: Part of a Whole: 1/2
DESCRIPTION:PART OF A WHOLE: 1/2\nDSA’S ANNUAL MEMBERS SHOW\nThe Dayton Society of Artists (DSA) is thrilled to present PART OF A WHOLE: 1/2\, the first segment of our annual members’ exhibition. This unique two-part event showcases the diverse and vibrant talents of our member artists\, encompassing a wide range of mediums\, techniques\, and styles. \nWe are honored to have Marsha Pippenger\, past president of the DSA\, as our juror for this exhibition and this year\, DSA has divided the annual members’ exhibition into two parts to ensure all members have the opportunity to present their best work. We are excited to see the incredible variety and quality of art that will be on display\, and make sure to come back on August 2nd for another unique members exhibition! \nPART OF A WHOLE: 1/2 runs from Friday\, July 5th to Saturday\, July 27th. Our gallery is open to the public on Fridays and Saturdays from 12:00 PM to 5:00 PM\, with additional viewing times available by appointment (email info@daytondsa.org to schedule).
URL:https://downtowndayton.org/event/exhibit-part-of-a-whole-1-2/2024-07-13/
LOCATION:Dayton Society of Artists\, 48 High Street\, Dayton\, OH\, 45402\, United States
ATTACH;FMTTYPE=image/jpeg:https://downtowndayton.org/wp-content/uploads/2024/07/part.jpg
END:VEVENT
BEGIN:VEVENT
DTSTART;TZID=America/Detroit:20240713T093000
DTEND;TZID=America/Detroit:20240713T120000
DTSTAMP:20260425T073223
CREATED:20240627T132059Z
LAST-MODIFIED:20240627T132059Z
UID:10023048-1720863000-1720872000@downtowndayton.org
SUMMARY:Figure Drawing
DESCRIPTION:Join us for our Saturday Nude Figure Drawing session. $5 modeling fee\, and make sure to bring your own supplies. Easels and drawing horses are available to borrow. Space is filling fast so make sure to come a little early for a good seat. \nFree street parking or in the lot across the street – we hope to see you there!
URL:https://downtowndayton.org/event/figure-drawing-3/
LOCATION:Dayton Society of Artists\, 48 High Street\, Dayton\, OH\, 45402\, United States
ATTACH;FMTTYPE=image/png:https://downtowndayton.org/wp-content/uploads/2024/06/fig713.png
END:VEVENT
BEGIN:VEVENT
DTSTART;TZID=America/Detroit:20240712T120000
DTEND;TZID=America/Detroit:20240712T170000
DTSTAMP:20260425T073223
CREATED:20240703T121320Z
LAST-MODIFIED:20240703T121320Z
UID:10023059-1720785600-1720803600@downtowndayton.org
SUMMARY:Exhibit: Part of a Whole: 1/2
DESCRIPTION:PART OF A WHOLE: 1/2\nDSA’S ANNUAL MEMBERS SHOW\nThe Dayton Society of Artists (DSA) is thrilled to present PART OF A WHOLE: 1/2\, the first segment of our annual members’ exhibition. This unique two-part event showcases the diverse and vibrant talents of our member artists\, encompassing a wide range of mediums\, techniques\, and styles. \nWe are honored to have Marsha Pippenger\, past president of the DSA\, as our juror for this exhibition and this year\, DSA has divided the annual members’ exhibition into two parts to ensure all members have the opportunity to present their best work. We are excited to see the incredible variety and quality of art that will be on display\, and make sure to come back on August 2nd for another unique members exhibition! \nPART OF A WHOLE: 1/2 runs from Friday\, July 5th to Saturday\, July 27th. Our gallery is open to the public on Fridays and Saturdays from 12:00 PM to 5:00 PM\, with additional viewing times available by appointment (email info@daytondsa.org to schedule).
URL:https://downtowndayton.org/event/exhibit-part-of-a-whole-1-2/2024-07-12/
LOCATION:Dayton Society of Artists\, 48 High Street\, Dayton\, OH\, 45402\, United States
ATTACH;FMTTYPE=image/jpeg:https://downtowndayton.org/wp-content/uploads/2024/07/part.jpg
END:VEVENT
BEGIN:VEVENT
DTSTART;TZID=America/Detroit:20240707T140000
DTEND;TZID=America/Detroit:20240707T153000
DTSTAMP:20260425T073223
CREATED:20240613T124848Z
LAST-MODIFIED:20240613T124848Z
UID:10023016-1720360800-1720366200@downtowndayton.org
SUMMARY:Introducing… Dynamic Duo: Color and Collage with Marsha Pippenger
DESCRIPTION:Discover the art of collage in a hands-on workshop led by the talented Marsha Pippenger. This engaging session offers a perfect opportunity for both beginners and experienced artists to explore their creativity in a supportive environment. \nWith all supplies provided\, all you need to bring is your imagination! \nSeating is limited to 14 people\, so be sure to secure your spot early. \nDate and Time: Sunday\, July 7th – 2  to 3:30 PM \nLocation: The Dayton Society of Artists\, 48 High St. Dayton\, 45403 \nFee: $20 (all supplies included)
URL:https://downtowndayton.org/event/introducing-dynamic-duo-color-and-collage-with-marsha-pippenger/
LOCATION:Dayton Society of Artists\, 48 High Street\, Dayton\, OH\, 45402\, United States
ATTACH;FMTTYPE=image/jpeg:https://downtowndayton.org/wp-content/uploads/2024/06/intro.jpg
END:VEVENT
BEGIN:VEVENT
DTSTART;TZID=America/Detroit:20240706T120000
DTEND;TZID=America/Detroit:20240706T170000
DTSTAMP:20260425T073223
CREATED:20240703T121320Z
LAST-MODIFIED:20240703T121320Z
UID:10023058-1720267200-1720285200@downtowndayton.org
SUMMARY:Exhibit: Part of a Whole: 1/2
DESCRIPTION:PART OF A WHOLE: 1/2\nDSA’S ANNUAL MEMBERS SHOW\nThe Dayton Society of Artists (DSA) is thrilled to present PART OF A WHOLE: 1/2\, the first segment of our annual members’ exhibition. This unique two-part event showcases the diverse and vibrant talents of our member artists\, encompassing a wide range of mediums\, techniques\, and styles. \nWe are honored to have Marsha Pippenger\, past president of the DSA\, as our juror for this exhibition and this year\, DSA has divided the annual members’ exhibition into two parts to ensure all members have the opportunity to present their best work. We are excited to see the incredible variety and quality of art that will be on display\, and make sure to come back on August 2nd for another unique members exhibition! \nPART OF A WHOLE: 1/2 runs from Friday\, July 5th to Saturday\, July 27th. Our gallery is open to the public on Fridays and Saturdays from 12:00 PM to 5:00 PM\, with additional viewing times available by appointment (email info@daytondsa.org to schedule).
URL:https://downtowndayton.org/event/exhibit-part-of-a-whole-1-2/2024-07-06/
LOCATION:Dayton Society of Artists\, 48 High Street\, Dayton\, OH\, 45402\, United States
ATTACH;FMTTYPE=image/jpeg:https://downtowndayton.org/wp-content/uploads/2024/07/part.jpg
END:VEVENT
BEGIN:VEVENT
DTSTART;TZID=America/Detroit:20240705T120000
DTEND;TZID=America/Detroit:20240705T170000
DTSTAMP:20260425T073223
CREATED:20240703T121320Z
LAST-MODIFIED:20240703T121320Z
UID:10023057-1720180800-1720198800@downtowndayton.org
SUMMARY:Exhibit: Part of a Whole: 1/2
DESCRIPTION:PART OF A WHOLE: 1/2\nDSA’S ANNUAL MEMBERS SHOW\nThe Dayton Society of Artists (DSA) is thrilled to present PART OF A WHOLE: 1/2\, the first segment of our annual members’ exhibition. This unique two-part event showcases the diverse and vibrant talents of our member artists\, encompassing a wide range of mediums\, techniques\, and styles. \nWe are honored to have Marsha Pippenger\, past president of the DSA\, as our juror for this exhibition and this year\, DSA has divided the annual members’ exhibition into two parts to ensure all members have the opportunity to present their best work. We are excited to see the incredible variety and quality of art that will be on display\, and make sure to come back on August 2nd for another unique members exhibition! \nPART OF A WHOLE: 1/2 runs from Friday\, July 5th to Saturday\, July 27th. Our gallery is open to the public on Fridays and Saturdays from 12:00 PM to 5:00 PM\, with additional viewing times available by appointment (email info@daytondsa.org to schedule).
URL:https://downtowndayton.org/event/exhibit-part-of-a-whole-1-2/2024-07-05/
LOCATION:Dayton Society of Artists\, 48 High Street\, Dayton\, OH\, 45402\, United States
ATTACH;FMTTYPE=image/jpeg:https://downtowndayton.org/wp-content/uploads/2024/07/part.jpg
END:VEVENT
END:VCALENDAR