BEGIN:VCALENDAR
VERSION:2.0
PRODID:-//Downtown Dayton Partnership - ECPv6.8.1//NONSGML v1.0//EN
CALSCALE:GREGORIAN
METHOD:PUBLISH
X-ORIGINAL-URL:https://downtowndayton.org
X-WR-CALDESC:Events for Downtown Dayton Partnership
REFRESH-INTERVAL;VALUE=DURATION:PT1H
X-Robots-Tag:noindex
X-PUBLISHED-TTL:PT1H
BEGIN:VTIMEZONE
TZID:America/New_York
BEGIN:DAYLIGHT
TZOFFSETFROM:-0500
TZOFFSETTO:-0400
TZNAME:EDT
DTSTART:20260308T070000
END:DAYLIGHT
BEGIN:STANDARD
TZOFFSETFROM:-0400
TZOFFSETTO:-0500
TZNAME:EST
DTSTART:20261101T060000
END:STANDARD
END:VTIMEZONE
BEGIN:VEVENT
DTSTART;TZID=America/New_York:20260424T190000
DTEND;TZID=America/New_York:20260424T230000
DTSTAMP:20260425T220505
CREATED:20260420T181038Z
LAST-MODIFIED:20260420T181038Z
UID:10055695-1777057200-1777071600@downtowndayton.org
SUMMARY:Jazz Night with George Balog ft. Rhinegeist and Thrive Youth Collective
DESCRIPTION:Join us for an evening of jazz\, beer\, and some good old fashioned do-gooding!\nGeorge Balog is behind the turntables 7-11pm playing a curated selection of the choisest jazz cuts.\nWe’ll have six killer beers from Cincy’s esteemed Rhinegiest Brewering Company on tap.\nWe’re raising funds for the good folks at Thrive Youth Collective from open to close! We will be donating 10% of all draft sales\, and Rhinegeist will be donating $1 from every Rhinegeist full pour sold\, and $2 from each full Rhinegiest flight sold!\nNote: Dayton Street Snacks will not be in operation\, but our friends across the street at Verecruz Express would be more than happy to whip you up some amazing Mexican fare!\nAbout Thrive Youth Collective:\nThrive Youth Collective provides research-informed\, best-practice programming in partnership with trusted local organizations\, all devoted to enhancing the lived experiences of Q+ youth and their families. Programming is grounded in prevention science and centers protective factors known to improve mental health\, reduce risk behaviors\, and strengthen long-term well-being.\nAt the heart of this work is connection through community—a shared space where Q+ youth can build skills\, take developmentally appropriate risks\, strengthen autonomy\, and amplify their voices for both self and community.\nVISIONA place where youth are celebrated for who they are\, resilience is strengthened\, and community is built.\nMISSIONThrive Youth Collective co-creates a transformational space where youth feel affirmed\, empowered\, and engaged in activities that promote well-being.\nWhile resilience is a guiding value\, thriving is the intended outcome.\nGuided by the Thrive Youth Collective Board\, the LGBTQ+ Health Alliance\, community partners\, and—most importantly—Q+ youth themselves\, the Collective practices intentional inclusion and advances equity through empowering experiences. By prioritizing connection over isolation and autonomy over fear\, Thrive Youth Collective contributes to reduced anxiety and depression\, increased help-seeking behaviors\, healthier decision-making\, and stronger\, more authentic relationships among youth and their families—both biological and chosen—in Montgomery County.\nThrive Youth Collective directly counters the stigma and structural barriers Q+ youth face across school\, family\, and community systems.\nAt its core\, this is prevention work.It is mental health promotion.It is community building.It is life-saving.We imagine—and actively build toward—a world where Q+ youth are no longer forced to demonstrate daily resilience simply to survive\, but are fully supported in thriving.
URL:https://downtowndayton.org/event/jazz-night-with-george-balog-ft-rhinegeist-and-thrive-youth-collective/
LOCATION:The Barrel House\, 417 E. Third St.\, Dayton\, OH\, 45402\, United States
ATTACH;FMTTYPE=image/jpeg:https://downtowndayton.org/wp-content/uploads/2026/04/671721077_1382204533937373_4962549287670739584_n.jpg
END:VEVENT
BEGIN:VEVENT
DTSTART;TZID=America/New_York:20260423T193000
DTEND;TZID=America/New_York:20260423T223000
DTSTAMP:20260425T220505
CREATED:20250528T121150Z
LAST-MODIFIED:20250528T121150Z
UID:10036874-1776972600-1776983400@downtowndayton.org
SUMMARY:Open Mic Night
DESCRIPTION:Open Mic Night – sign up online\, then show up and show out.
URL:https://downtowndayton.org/event/open-mic-night/2026-04-23/
LOCATION:The Barrel House\, 417 E. Third St.\, Dayton\, OH\, 45402\, United States
ATTACH;FMTTYPE=image/jpeg:https://downtowndayton.org/wp-content/uploads/2025/05/bhom.jpg
END:VEVENT
BEGIN:VEVENT
DTSTART;TZID=America/New_York:20260422T190000
DTEND;TZID=America/New_York:20260422T230000
DTSTAMP:20260425T220505
CREATED:20250528T120940Z
LAST-MODIFIED:20250925T123704Z
UID:10036613-1776884400-1776898800@downtowndayton.org
SUMMARY:Wu-Tang Wednesdays
DESCRIPTION:Dayton’s legendary Ike B spins old school hip hop and whateva else he wants.
URL:https://downtowndayton.org/event/whateva-wednesdays/2026-04-22/
LOCATION:The Barrel House\, 417 E. Third St.\, Dayton\, OH\, 45402\, United States
ATTACH;FMTTYPE=image/jpeg:https://downtowndayton.org/wp-content/uploads/2025/05/wu.jpg
END:VEVENT
BEGIN:VEVENT
DTSTART;TZID=America/New_York:20260421T190000
DTEND;TZID=America/New_York:20260421T230000
DTSTAMP:20260425T220505
CREATED:20250528T120726Z
LAST-MODIFIED:20250528T120726Z
UID:10036352-1776798000-1776812400@downtowndayton.org
SUMMARY:Karaoke
DESCRIPTION:Tuesdays – Karaoke with @raineyday.entertainment – $5 off full draft flights until 9 p.m.
URL:https://downtowndayton.org/event/karaoke-2/2026-04-21/
LOCATION:The Barrel House\, 417 E. Third St.\, Dayton\, OH\, 45402\, United States
ATTACH;FMTTYPE=image/jpeg:https://downtowndayton.org/wp-content/uploads/2025/05/bhk.jpg
END:VEVENT
BEGIN:VEVENT
DTSTART;VALUE=DATE:20260419
DTEND;VALUE=DATE:20260420
DTSTAMP:20260425T220505
CREATED:20250528T121344Z
LAST-MODIFIED:20250528T121344Z
UID:10037134-1776556800-1776643199@downtowndayton.org
SUMMARY:Vinyl Vinyl Sundays
DESCRIPTION:Sunday – Vinyl Vinyl Sunday – bring your records\, we’ll play ’em
URL:https://downtowndayton.org/event/vinyl-vinyl-sundays/2026-04-19/
LOCATION:The Barrel House\, 417 E. Third St.\, Dayton\, OH\, 45402\, United States
ATTACH;FMTTYPE=image/jpeg:https://downtowndayton.org/wp-content/uploads/2025/05/bhvvs.jpg
END:VEVENT
BEGIN:VEVENT
DTSTART;TZID=America/New_York:20260416T193000
DTEND;TZID=America/New_York:20260416T223000
DTSTAMP:20260425T220505
CREATED:20250528T121150Z
LAST-MODIFIED:20250528T121150Z
UID:10036873-1776367800-1776378600@downtowndayton.org
SUMMARY:Open Mic Night
DESCRIPTION:Open Mic Night – sign up online\, then show up and show out.
URL:https://downtowndayton.org/event/open-mic-night/2026-04-16/
LOCATION:The Barrel House\, 417 E. Third St.\, Dayton\, OH\, 45402\, United States
ATTACH;FMTTYPE=image/jpeg:https://downtowndayton.org/wp-content/uploads/2025/05/bhom.jpg
END:VEVENT
BEGIN:VEVENT
DTSTART;TZID=America/New_York:20260415T190000
DTEND;TZID=America/New_York:20260415T230000
DTSTAMP:20260425T220505
CREATED:20250528T120940Z
LAST-MODIFIED:20250925T123704Z
UID:10036612-1776279600-1776294000@downtowndayton.org
SUMMARY:Wu-Tang Wednesdays
DESCRIPTION:Dayton’s legendary Ike B spins old school hip hop and whateva else he wants.
URL:https://downtowndayton.org/event/whateva-wednesdays/2026-04-15/
LOCATION:The Barrel House\, 417 E. Third St.\, Dayton\, OH\, 45402\, United States
ATTACH;FMTTYPE=image/jpeg:https://downtowndayton.org/wp-content/uploads/2025/05/wu.jpg
END:VEVENT
BEGIN:VEVENT
DTSTART;TZID=America/New_York:20260414T190000
DTEND;TZID=America/New_York:20260414T230000
DTSTAMP:20260425T220505
CREATED:20250528T120726Z
LAST-MODIFIED:20250528T120726Z
UID:10036351-1776193200-1776207600@downtowndayton.org
SUMMARY:Karaoke
DESCRIPTION:Tuesdays – Karaoke with @raineyday.entertainment – $5 off full draft flights until 9 p.m.
URL:https://downtowndayton.org/event/karaoke-2/2026-04-14/
LOCATION:The Barrel House\, 417 E. Third St.\, Dayton\, OH\, 45402\, United States
ATTACH;FMTTYPE=image/jpeg:https://downtowndayton.org/wp-content/uploads/2025/05/bhk.jpg
END:VEVENT
BEGIN:VEVENT
DTSTART;VALUE=DATE:20260412
DTEND;VALUE=DATE:20260413
DTSTAMP:20260425T220505
CREATED:20250528T121344Z
LAST-MODIFIED:20250528T121344Z
UID:10037133-1775952000-1776038399@downtowndayton.org
SUMMARY:Vinyl Vinyl Sundays
DESCRIPTION:Sunday – Vinyl Vinyl Sunday – bring your records\, we’ll play ’em
URL:https://downtowndayton.org/event/vinyl-vinyl-sundays/2026-04-12/
LOCATION:The Barrel House\, 417 E. Third St.\, Dayton\, OH\, 45402\, United States
ATTACH;FMTTYPE=image/jpeg:https://downtowndayton.org/wp-content/uploads/2025/05/bhvvs.jpg
END:VEVENT
BEGIN:VEVENT
DTSTART;TZID=America/New_York:20260409T193000
DTEND;TZID=America/New_York:20260409T223000
DTSTAMP:20260425T220505
CREATED:20250528T121150Z
LAST-MODIFIED:20250528T121150Z
UID:10036872-1775763000-1775773800@downtowndayton.org
SUMMARY:Open Mic Night
DESCRIPTION:Open Mic Night – sign up online\, then show up and show out.
URL:https://downtowndayton.org/event/open-mic-night/2026-04-09/
LOCATION:The Barrel House\, 417 E. Third St.\, Dayton\, OH\, 45402\, United States
ATTACH;FMTTYPE=image/jpeg:https://downtowndayton.org/wp-content/uploads/2025/05/bhom.jpg
END:VEVENT
BEGIN:VEVENT
DTSTART;TZID=America/New_York:20260408T190000
DTEND;TZID=America/New_York:20260408T230000
DTSTAMP:20260425T220505
CREATED:20250528T120940Z
LAST-MODIFIED:20250925T123704Z
UID:10036611-1775674800-1775689200@downtowndayton.org
SUMMARY:Wu-Tang Wednesdays
DESCRIPTION:Dayton’s legendary Ike B spins old school hip hop and whateva else he wants.
URL:https://downtowndayton.org/event/whateva-wednesdays/2026-04-08/
LOCATION:The Barrel House\, 417 E. Third St.\, Dayton\, OH\, 45402\, United States
ATTACH;FMTTYPE=image/jpeg:https://downtowndayton.org/wp-content/uploads/2025/05/wu.jpg
END:VEVENT
BEGIN:VEVENT
DTSTART;TZID=America/New_York:20260407T190000
DTEND;TZID=America/New_York:20260407T230000
DTSTAMP:20260425T220505
CREATED:20250528T120726Z
LAST-MODIFIED:20250528T120726Z
UID:10036350-1775588400-1775602800@downtowndayton.org
SUMMARY:Karaoke
DESCRIPTION:Tuesdays – Karaoke with @raineyday.entertainment – $5 off full draft flights until 9 p.m.
URL:https://downtowndayton.org/event/karaoke-2/2026-04-07/
LOCATION:The Barrel House\, 417 E. Third St.\, Dayton\, OH\, 45402\, United States
ATTACH;FMTTYPE=image/jpeg:https://downtowndayton.org/wp-content/uploads/2025/05/bhk.jpg
END:VEVENT
BEGIN:VEVENT
DTSTART;VALUE=DATE:20260405
DTEND;VALUE=DATE:20260406
DTSTAMP:20260425T220505
CREATED:20250528T121344Z
LAST-MODIFIED:20250528T121344Z
UID:10037132-1775347200-1775433599@downtowndayton.org
SUMMARY:Vinyl Vinyl Sundays
DESCRIPTION:Sunday – Vinyl Vinyl Sunday – bring your records\, we’ll play ’em
URL:https://downtowndayton.org/event/vinyl-vinyl-sundays/2026-04-05/
LOCATION:The Barrel House\, 417 E. Third St.\, Dayton\, OH\, 45402\, United States
ATTACH;FMTTYPE=image/jpeg:https://downtowndayton.org/wp-content/uploads/2025/05/bhvvs.jpg
END:VEVENT
BEGIN:VEVENT
DTSTART;TZID=America/New_York:20260402T193000
DTEND;TZID=America/New_York:20260402T223000
DTSTAMP:20260425T220505
CREATED:20250528T121150Z
LAST-MODIFIED:20250528T121150Z
UID:10036871-1775158200-1775169000@downtowndayton.org
SUMMARY:Open Mic Night
DESCRIPTION:Open Mic Night – sign up online\, then show up and show out.
URL:https://downtowndayton.org/event/open-mic-night/2026-04-02/
LOCATION:The Barrel House\, 417 E. Third St.\, Dayton\, OH\, 45402\, United States
ATTACH;FMTTYPE=image/jpeg:https://downtowndayton.org/wp-content/uploads/2025/05/bhom.jpg
END:VEVENT
BEGIN:VEVENT
DTSTART;TZID=America/New_York:20260401T190000
DTEND;TZID=America/New_York:20260401T230000
DTSTAMP:20260425T220505
CREATED:20250528T120940Z
LAST-MODIFIED:20250925T123704Z
UID:10036610-1775070000-1775084400@downtowndayton.org
SUMMARY:Wu-Tang Wednesdays
DESCRIPTION:Dayton’s legendary Ike B spins old school hip hop and whateva else he wants.
URL:https://downtowndayton.org/event/whateva-wednesdays/2026-04-01/
LOCATION:The Barrel House\, 417 E. Third St.\, Dayton\, OH\, 45402\, United States
ATTACH;FMTTYPE=image/jpeg:https://downtowndayton.org/wp-content/uploads/2025/05/wu.jpg
END:VEVENT
BEGIN:VEVENT
DTSTART;TZID=America/New_York:20260331T190000
DTEND;TZID=America/New_York:20260331T230000
DTSTAMP:20260425T220505
CREATED:20250528T120726Z
LAST-MODIFIED:20250528T120726Z
UID:10036349-1774983600-1774998000@downtowndayton.org
SUMMARY:Karaoke
DESCRIPTION:Tuesdays – Karaoke with @raineyday.entertainment – $5 off full draft flights until 9 p.m.
URL:https://downtowndayton.org/event/karaoke-2/2026-03-31/
LOCATION:The Barrel House\, 417 E. Third St.\, Dayton\, OH\, 45402\, United States
ATTACH;FMTTYPE=image/jpeg:https://downtowndayton.org/wp-content/uploads/2025/05/bhk.jpg
END:VEVENT
BEGIN:VEVENT
DTSTART;VALUE=DATE:20260329
DTEND;VALUE=DATE:20260330
DTSTAMP:20260425T220506
CREATED:20250528T121344Z
LAST-MODIFIED:20250528T121344Z
UID:10037131-1774742400-1774828799@downtowndayton.org
SUMMARY:Vinyl Vinyl Sundays
DESCRIPTION:Sunday – Vinyl Vinyl Sunday – bring your records\, we’ll play ’em
URL:https://downtowndayton.org/event/vinyl-vinyl-sundays/2026-03-29/
LOCATION:The Barrel House\, 417 E. Third St.\, Dayton\, OH\, 45402\, United States
ATTACH;FMTTYPE=image/jpeg:https://downtowndayton.org/wp-content/uploads/2025/05/bhvvs.jpg
END:VEVENT
BEGIN:VEVENT
DTSTART;TZID=America/New_York:20260326T193000
DTEND;TZID=America/New_York:20260326T223000
DTSTAMP:20260425T220506
CREATED:20250528T121150Z
LAST-MODIFIED:20250528T121150Z
UID:10036870-1774553400-1774564200@downtowndayton.org
SUMMARY:Open Mic Night
DESCRIPTION:Open Mic Night – sign up online\, then show up and show out.
URL:https://downtowndayton.org/event/open-mic-night/2026-03-26/
LOCATION:The Barrel House\, 417 E. Third St.\, Dayton\, OH\, 45402\, United States
ATTACH;FMTTYPE=image/jpeg:https://downtowndayton.org/wp-content/uploads/2025/05/bhom.jpg
END:VEVENT
BEGIN:VEVENT
DTSTART;TZID=America/New_York:20260325T190000
DTEND;TZID=America/New_York:20260325T230000
DTSTAMP:20260425T220506
CREATED:20250528T120940Z
LAST-MODIFIED:20250925T123704Z
UID:10036609-1774465200-1774479600@downtowndayton.org
SUMMARY:Wu-Tang Wednesdays
DESCRIPTION:Dayton’s legendary Ike B spins old school hip hop and whateva else he wants.
URL:https://downtowndayton.org/event/whateva-wednesdays/2026-03-25/
LOCATION:The Barrel House\, 417 E. Third St.\, Dayton\, OH\, 45402\, United States
ATTACH;FMTTYPE=image/jpeg:https://downtowndayton.org/wp-content/uploads/2025/05/wu.jpg
END:VEVENT
BEGIN:VEVENT
DTSTART;TZID=America/New_York:20260324T190000
DTEND;TZID=America/New_York:20260324T230000
DTSTAMP:20260425T220506
CREATED:20250528T120726Z
LAST-MODIFIED:20250528T120726Z
UID:10036348-1774378800-1774393200@downtowndayton.org
SUMMARY:Karaoke
DESCRIPTION:Tuesdays – Karaoke with @raineyday.entertainment – $5 off full draft flights until 9 p.m.
URL:https://downtowndayton.org/event/karaoke-2/2026-03-24/
LOCATION:The Barrel House\, 417 E. Third St.\, Dayton\, OH\, 45402\, United States
ATTACH;FMTTYPE=image/jpeg:https://downtowndayton.org/wp-content/uploads/2025/05/bhk.jpg
END:VEVENT
BEGIN:VEVENT
DTSTART;VALUE=DATE:20260322
DTEND;VALUE=DATE:20260323
DTSTAMP:20260425T220506
CREATED:20250528T121344Z
LAST-MODIFIED:20250528T121344Z
UID:10037130-1774137600-1774223999@downtowndayton.org
SUMMARY:Vinyl Vinyl Sundays
DESCRIPTION:Sunday – Vinyl Vinyl Sunday – bring your records\, we’ll play ’em
URL:https://downtowndayton.org/event/vinyl-vinyl-sundays/2026-03-22/
LOCATION:The Barrel House\, 417 E. Third St.\, Dayton\, OH\, 45402\, United States
ATTACH;FMTTYPE=image/jpeg:https://downtowndayton.org/wp-content/uploads/2025/05/bhvvs.jpg
END:VEVENT
BEGIN:VEVENT
DTSTART;TZID=America/New_York:20260321T190000
DTEND;TZID=America/New_York:20260321T220000
DTSTAMP:20260425T220506
CREATED:20260317T172502Z
LAST-MODIFIED:20260317T172502Z
UID:10055400-1774119600-1774130400@downtowndayton.org
SUMMARY:Yacht Rock: Third Street
DESCRIPTION:Join us for an evening of breezy jams\, laid back vibes\, and most importantly – making Tommy happy.\nDJ Cat Scratch spins a yacht rock set\, Dayton Street Snacks ups their yacht food game\, and we attempt maybe our most daring Malort infusion yet…
URL:https://downtowndayton.org/event/yacht-rock-third-street/
LOCATION:The Barrel House\, 417 E. Third St.\, Dayton\, OH\, 45402\, United States
ATTACH;FMTTYPE=image/jpeg:https://downtowndayton.org/wp-content/uploads/2026/03/650727559_1352777850213375_2315299961641346930_n.jpg
END:VEVENT
BEGIN:VEVENT
DTSTART;TZID=America/New_York:20260319T193000
DTEND;TZID=America/New_York:20260319T223000
DTSTAMP:20260425T220506
CREATED:20250528T121150Z
LAST-MODIFIED:20250528T121150Z
UID:10036869-1773948600-1773959400@downtowndayton.org
SUMMARY:Open Mic Night
DESCRIPTION:Open Mic Night – sign up online\, then show up and show out.
URL:https://downtowndayton.org/event/open-mic-night/2026-03-19/
LOCATION:The Barrel House\, 417 E. Third St.\, Dayton\, OH\, 45402\, United States
ATTACH;FMTTYPE=image/jpeg:https://downtowndayton.org/wp-content/uploads/2025/05/bhom.jpg
END:VEVENT
BEGIN:VEVENT
DTSTART;TZID=America/New_York:20260318T190000
DTEND;TZID=America/New_York:20260318T230000
DTSTAMP:20260425T220506
CREATED:20250528T120940Z
LAST-MODIFIED:20250925T123704Z
UID:10036608-1773860400-1773874800@downtowndayton.org
SUMMARY:Wu-Tang Wednesdays
DESCRIPTION:Dayton’s legendary Ike B spins old school hip hop and whateva else he wants.
URL:https://downtowndayton.org/event/whateva-wednesdays/2026-03-18/
LOCATION:The Barrel House\, 417 E. Third St.\, Dayton\, OH\, 45402\, United States
ATTACH;FMTTYPE=image/jpeg:https://downtowndayton.org/wp-content/uploads/2025/05/wu.jpg
END:VEVENT
BEGIN:VEVENT
DTSTART;TZID=America/New_York:20260317T190000
DTEND;TZID=America/New_York:20260317T230000
DTSTAMP:20260425T220506
CREATED:20250528T120726Z
LAST-MODIFIED:20250528T120726Z
UID:10036347-1773774000-1773788400@downtowndayton.org
SUMMARY:Karaoke
DESCRIPTION:Tuesdays – Karaoke with @raineyday.entertainment – $5 off full draft flights until 9 p.m.
URL:https://downtowndayton.org/event/karaoke-2/2026-03-17/
LOCATION:The Barrel House\, 417 E. Third St.\, Dayton\, OH\, 45402\, United States
ATTACH;FMTTYPE=image/jpeg:https://downtowndayton.org/wp-content/uploads/2025/05/bhk.jpg
END:VEVENT
BEGIN:VEVENT
DTSTART;VALUE=DATE:20260315
DTEND;VALUE=DATE:20260316
DTSTAMP:20260425T220506
CREATED:20250528T121344Z
LAST-MODIFIED:20250528T121344Z
UID:10037129-1773532800-1773619199@downtowndayton.org
SUMMARY:Vinyl Vinyl Sundays
DESCRIPTION:Sunday – Vinyl Vinyl Sunday – bring your records\, we’ll play ’em
URL:https://downtowndayton.org/event/vinyl-vinyl-sundays/2026-03-15/
LOCATION:The Barrel House\, 417 E. Third St.\, Dayton\, OH\, 45402\, United States
ATTACH;FMTTYPE=image/jpeg:https://downtowndayton.org/wp-content/uploads/2025/05/bhvvs.jpg
END:VEVENT
BEGIN:VEVENT
DTSTART;TZID=America/New_York:20260314T180000
DTEND;TZID=America/New_York:20260314T220000
DTSTAMP:20260425T220506
CREATED:20260310T124553Z
LAST-MODIFIED:20260310T124553Z
UID:10055040-1773511200-1773525600@downtowndayton.org
SUMMARY:Divas Live Drag Show
DESCRIPTION:$1 from every beer and 10% from every cocktail goes straight to KETTERING PRIDE!Music starts playing at 5pm Dance the evening away with us! Pop up shows every hour starting at 6pm until 10pm! Dress to impress as your favorite diva!Cocktails \, thc drinks\, And MORE!
URL:https://downtowndayton.org/event/divas-live-drag-show/
LOCATION:The Barrel House\, 417 E. Third St.\, Dayton\, OH\, 45402\, United States
ATTACH;FMTTYPE=image/jpeg:https://downtowndayton.org/wp-content/uploads/2026/03/643536658_943058248056924_4407189340526480865_n.jpg
END:VEVENT
BEGIN:VEVENT
DTSTART;TZID=America/New_York:20260314T150000
DTEND;TZID=America/New_York:20260314T190000
DTSTAMP:20260425T220506
CREATED:20260212T181314Z
LAST-MODIFIED:20260212T181314Z
UID:10054385-1773500400-1773514800@downtowndayton.org
SUMMARY:Malortigras Dayton 2026
DESCRIPTION:Join us for a rambunctious afternoon of celebrating the infamous Malört. Born in Chicago and revered by many. We’ll have a special flight of infused Malörts\, jambalaya\, New Orleans jazz curated by George Balog\, and the return of the Malört Face photo wall. There’ll probably be some swag involved. Limited Malörtigras t-shirts are available for pre-order here: https://www.customink.com/g/snm0-00d1-bct0\nMajor shoutout to Mike Colvin and Pepp’s Pub in NOLA for being the brains behind this celebration.\nMay the Lört be with you.
URL:https://downtowndayton.org/event/malortigras-dayton-2026/
LOCATION:The Barrel House\, 417 E. Third St.\, Dayton\, OH\, 45402\, United States
ATTACH;FMTTYPE=image/jpeg:https://downtowndayton.org/wp-content/uploads/2026/02/633066602_1328771582614002_4053087551530128374_n.jpg
END:VEVENT
BEGIN:VEVENT
DTSTART;TZID=America/New_York:20260313T110000
DTEND;TZID=America/New_York:20260313T110000
DTSTAMP:20260425T220506
CREATED:20260310T124500Z
LAST-MODIFIED:20260310T124500Z
UID:10055039-1773399600-1773399600@downtowndayton.org
SUMMARY:Night of the Living Lobstah
DESCRIPTION:Join us for an evening of killer seafood\, really good beer\, and a DJ who may or may not (probably not\, lets be real) be dressed as a zombie lobster.\nOur friends from The Naughty Lobstah and Dayton Street Snacks will have our bellies full\, and the Jackie O’s homies are taking over the draft board. DJ Johnny Clawmeat spins an all-vinyl set at some point probably in the evening.\nFeatured Jackie O’s draft:\nMystic Mama – WC IPASea Foam – Hazy IPAFirefly – AmberMatriarch – Triple IPAEndolith – Barrel Aged BarleywineElle – Foeder Aged Saison…and maybe a special something from our keg cellar
URL:https://downtowndayton.org/event/night-of-the-living-lobstah/
LOCATION:The Barrel House\, 417 E. Third St.\, Dayton\, OH\, 45402\, United States
ATTACH;FMTTYPE=image/jpeg:https://downtowndayton.org/wp-content/uploads/2026/03/642266079_1340275201463640_4246734369754199459_n.jpg
END:VEVENT
BEGIN:VEVENT
DTSTART;TZID=America/New_York:20260312T193000
DTEND;TZID=America/New_York:20260312T223000
DTSTAMP:20260425T220506
CREATED:20250528T121150Z
LAST-MODIFIED:20250528T121150Z
UID:10036868-1773343800-1773354600@downtowndayton.org
SUMMARY:Open Mic Night
DESCRIPTION:Open Mic Night – sign up online\, then show up and show out.
URL:https://downtowndayton.org/event/open-mic-night/2026-03-12/
LOCATION:The Barrel House\, 417 E. Third St.\, Dayton\, OH\, 45402\, United States
ATTACH;FMTTYPE=image/jpeg:https://downtowndayton.org/wp-content/uploads/2025/05/bhom.jpg
END:VEVENT
END:VCALENDAR