BEGIN:VCALENDAR
VERSION:2.0
PRODID:-//Downtown Dayton Partnership - ECPv6.8.1//NONSGML v1.0//EN
CALSCALE:GREGORIAN
METHOD:PUBLISH
X-WR-CALNAME:Downtown Dayton Partnership
X-ORIGINAL-URL:https://downtowndayton.org
X-WR-CALDESC:Events for Downtown Dayton Partnership
REFRESH-INTERVAL;VALUE=DURATION:PT1H
X-Robots-Tag:noindex
X-PUBLISHED-TTL:PT1H
BEGIN:VTIMEZONE
TZID:America/New_York
BEGIN:DAYLIGHT
TZOFFSETFROM:-0500
TZOFFSETTO:-0400
TZNAME:EDT
DTSTART:20250309T070000
END:DAYLIGHT
BEGIN:STANDARD
TZOFFSETFROM:-0400
TZOFFSETTO:-0500
TZNAME:EST
DTSTART:20251102T060000
END:STANDARD
END:VTIMEZONE
BEGIN:VEVENT
DTSTART;TZID=America/New_York:20251218T120000
DTEND;TZID=America/New_York:20251218T140000
DTSTAMP:20260423T011439
CREATED:20251118T183536Z
LAST-MODIFIED:20251118T183536Z
UID:10050717-1766059200-1766066400@downtowndayton.org
SUMMARY:Bach’s Lunch
DESCRIPTION:The Carillon Brass is thrilled to present a favorite Dayton holiday tradition: Bach’s Lunch. All five members of the ensemble are members of the Philharmonic Orchestra. The program features traditional holiday favorites as well as other music for brass instruments\, presented in a lighthearted\, audience-friendly format. \nDuring your visit\, enjoy complimentary coffee and donuts\, plus a boxed lunch available for purchase. \nNote: This is a free event\, but a ticket is required to attend. If you can no longer attend the performance\, you can return your reserved tickets to the box office to ensure that more can enjoy the performance. \nGenerously sponsored by the Richard A. and Mary T. Whitney Fund of the Dayton Foundation
URL:https://downtowndayton.org/event/bachs-lunch/2025-12-18/2/
LOCATION:The Loft Theatre\, 126 N. Main Street\, Third Floor\, Dayton\, OH\, 45402
CATEGORIES:Arts & Theater,Free Events,Holiday,Holidays,Live Music,Music
ATTACH;FMTTYPE=image/jpeg:https://downtowndayton.org/wp-content/uploads/2025/11/unnamed-1.jpg
END:VEVENT
BEGIN:VEVENT
DTSTART;TZID=America/New_York:20251218T100000
DTEND;TZID=America/New_York:20251218T120000
DTSTAMP:20260423T011439
CREATED:20251118T183536Z
LAST-MODIFIED:20251118T183536Z
UID:10050716-1766052000-1766059200@downtowndayton.org
SUMMARY:Bach’s Lunch
DESCRIPTION:The Carillon Brass is thrilled to present a favorite Dayton holiday tradition: Bach’s Lunch. All five members of the ensemble are members of the Philharmonic Orchestra. The program features traditional holiday favorites as well as other music for brass instruments\, presented in a lighthearted\, audience-friendly format. \nDuring your visit\, enjoy complimentary coffee and donuts\, plus a boxed lunch available for purchase. \nNote: This is a free event\, but a ticket is required to attend. If you can no longer attend the performance\, you can return your reserved tickets to the box office to ensure that more can enjoy the performance. \nGenerously sponsored by the Richard A. and Mary T. Whitney Fund of the Dayton Foundation
URL:https://downtowndayton.org/event/bachs-lunch/2025-12-18/1/
LOCATION:The Loft Theatre\, 126 N. Main Street\, Third Floor\, Dayton\, OH\, 45402
CATEGORIES:Arts & Theater,Free Events,Holiday,Holidays,Live Music,Music
ATTACH;FMTTYPE=image/jpeg:https://downtowndayton.org/wp-content/uploads/2025/11/unnamed-1.jpg
END:VEVENT
BEGIN:VEVENT
DTSTART;TZID=America/New_York:20250615T140000
DTEND;TZID=America/New_York:20250615T140000
DTSTAMP:20260423T011439
CREATED:20250528T192707Z
LAST-MODIFIED:20250528T192707Z
UID:10037361-1749996000-1749996000@downtowndayton.org
SUMMARY:The Comeuppance
DESCRIPTION:As the sun sets on the eve of their twentieth high school reunion\, a close-knit group of former classmates—once known as the “Multi-Ethnic Reject Group”—reunites to pre-game the monumental night. Bonded in their youth as outsiders\, they now navigate the complexities of adulthood with humor\, heart\, and a hint of nostalgia. \nBrilliantly witty\, theatrical\, and moving\, The Comeuppance focuses on millennials reckoning with the world they will soon inherit. This play is a toast to the ties that bind us\, the past that shapes us\, and the future we step into together. \nRecommended if you liked… Barbecue\, peerless\, Dead Like Me\, Heathers
URL:https://downtowndayton.org/event/the-comeuppance-2/2025-06-15/
LOCATION:The Loft Theatre\, 126 N. Main Street\, Third Floor\, Dayton\, OH\, 45402
ATTACH;FMTTYPE=image/jpeg:https://downtowndayton.org/wp-content/uploads/2025/05/comeupp.jpg
END:VEVENT
BEGIN:VEVENT
DTSTART;TZID=America/New_York:20250614T193000
DTEND;TZID=America/New_York:20250614T193000
DTSTAMP:20260423T011439
CREATED:20250528T192707Z
LAST-MODIFIED:20250528T192707Z
UID:10037360-1749929400-1749929400@downtowndayton.org
SUMMARY:The Comeuppance
DESCRIPTION:As the sun sets on the eve of their twentieth high school reunion\, a close-knit group of former classmates—once known as the “Multi-Ethnic Reject Group”—reunites to pre-game the monumental night. Bonded in their youth as outsiders\, they now navigate the complexities of adulthood with humor\, heart\, and a hint of nostalgia. \nBrilliantly witty\, theatrical\, and moving\, The Comeuppance focuses on millennials reckoning with the world they will soon inherit. This play is a toast to the ties that bind us\, the past that shapes us\, and the future we step into together. \nRecommended if you liked… Barbecue\, peerless\, Dead Like Me\, Heathers
URL:https://downtowndayton.org/event/the-comeuppance-2/2025-06-14/
LOCATION:The Loft Theatre\, 126 N. Main Street\, Third Floor\, Dayton\, OH\, 45402
ATTACH;FMTTYPE=image/jpeg:https://downtowndayton.org/wp-content/uploads/2025/05/comeupp.jpg
END:VEVENT
BEGIN:VEVENT
DTSTART;TZID=America/New_York:20250613T193000
DTEND;TZID=America/New_York:20250613T193000
DTSTAMP:20260423T011439
CREATED:20250528T192707Z
LAST-MODIFIED:20250528T192707Z
UID:10037359-1749843000-1749843000@downtowndayton.org
SUMMARY:The Comeuppance
DESCRIPTION:As the sun sets on the eve of their twentieth high school reunion\, a close-knit group of former classmates—once known as the “Multi-Ethnic Reject Group”—reunites to pre-game the monumental night. Bonded in their youth as outsiders\, they now navigate the complexities of adulthood with humor\, heart\, and a hint of nostalgia. \nBrilliantly witty\, theatrical\, and moving\, The Comeuppance focuses on millennials reckoning with the world they will soon inherit. This play is a toast to the ties that bind us\, the past that shapes us\, and the future we step into together. \nRecommended if you liked… Barbecue\, peerless\, Dead Like Me\, Heathers
URL:https://downtowndayton.org/event/the-comeuppance-2/2025-06-13/
LOCATION:The Loft Theatre\, 126 N. Main Street\, Third Floor\, Dayton\, OH\, 45402
ATTACH;FMTTYPE=image/jpeg:https://downtowndayton.org/wp-content/uploads/2025/05/comeupp.jpg
END:VEVENT
BEGIN:VEVENT
DTSTART;TZID=America/New_York:20250612T193000
DTEND;TZID=America/New_York:20250612T193000
DTSTAMP:20260423T011439
CREATED:20250528T192707Z
LAST-MODIFIED:20250528T192707Z
UID:10037358-1749756600-1749756600@downtowndayton.org
SUMMARY:The Comeuppance
DESCRIPTION:As the sun sets on the eve of their twentieth high school reunion\, a close-knit group of former classmates—once known as the “Multi-Ethnic Reject Group”—reunites to pre-game the monumental night. Bonded in their youth as outsiders\, they now navigate the complexities of adulthood with humor\, heart\, and a hint of nostalgia. \nBrilliantly witty\, theatrical\, and moving\, The Comeuppance focuses on millennials reckoning with the world they will soon inherit. This play is a toast to the ties that bind us\, the past that shapes us\, and the future we step into together. \nRecommended if you liked… Barbecue\, peerless\, Dead Like Me\, Heathers
URL:https://downtowndayton.org/event/the-comeuppance-2/2025-06-12/
LOCATION:The Loft Theatre\, 126 N. Main Street\, Third Floor\, Dayton\, OH\, 45402
ATTACH;FMTTYPE=image/jpeg:https://downtowndayton.org/wp-content/uploads/2025/05/comeupp.jpg
END:VEVENT
BEGIN:VEVENT
DTSTART;TZID=America/New_York:20250611T193000
DTEND;TZID=America/New_York:20250611T193000
DTSTAMP:20260423T011439
CREATED:20250528T192707Z
LAST-MODIFIED:20250528T192707Z
UID:10037357-1749670200-1749670200@downtowndayton.org
SUMMARY:The Comeuppance
DESCRIPTION:As the sun sets on the eve of their twentieth high school reunion\, a close-knit group of former classmates—once known as the “Multi-Ethnic Reject Group”—reunites to pre-game the monumental night. Bonded in their youth as outsiders\, they now navigate the complexities of adulthood with humor\, heart\, and a hint of nostalgia. \nBrilliantly witty\, theatrical\, and moving\, The Comeuppance focuses on millennials reckoning with the world they will soon inherit. This play is a toast to the ties that bind us\, the past that shapes us\, and the future we step into together. \nRecommended if you liked… Barbecue\, peerless\, Dead Like Me\, Heathers
URL:https://downtowndayton.org/event/the-comeuppance-2/2025-06-11/
LOCATION:The Loft Theatre\, 126 N. Main Street\, Third Floor\, Dayton\, OH\, 45402
ATTACH;FMTTYPE=image/jpeg:https://downtowndayton.org/wp-content/uploads/2025/05/comeupp.jpg
END:VEVENT
BEGIN:VEVENT
DTSTART;TZID=America/New_York:20250610T193000
DTEND;TZID=America/New_York:20250610T193000
DTSTAMP:20260423T011439
CREATED:20250528T192707Z
LAST-MODIFIED:20250528T192707Z
UID:10037356-1749583800-1749583800@downtowndayton.org
SUMMARY:The Comeuppance
DESCRIPTION:As the sun sets on the eve of their twentieth high school reunion\, a close-knit group of former classmates—once known as the “Multi-Ethnic Reject Group”—reunites to pre-game the monumental night. Bonded in their youth as outsiders\, they now navigate the complexities of adulthood with humor\, heart\, and a hint of nostalgia. \nBrilliantly witty\, theatrical\, and moving\, The Comeuppance focuses on millennials reckoning with the world they will soon inherit. This play is a toast to the ties that bind us\, the past that shapes us\, and the future we step into together. \nRecommended if you liked… Barbecue\, peerless\, Dead Like Me\, Heathers
URL:https://downtowndayton.org/event/the-comeuppance-2/2025-06-10/
LOCATION:The Loft Theatre\, 126 N. Main Street\, Third Floor\, Dayton\, OH\, 45402
ATTACH;FMTTYPE=image/jpeg:https://downtowndayton.org/wp-content/uploads/2025/05/comeupp.jpg
END:VEVENT
BEGIN:VEVENT
DTSTART;TZID=America/New_York:20250608T193000
DTEND;TZID=America/New_York:20250608T193000
DTSTAMP:20260423T011439
CREATED:20250528T192707Z
LAST-MODIFIED:20250528T192707Z
UID:10037355-1749411000-1749411000@downtowndayton.org
SUMMARY:The Comeuppance
DESCRIPTION:As the sun sets on the eve of their twentieth high school reunion\, a close-knit group of former classmates—once known as the “Multi-Ethnic Reject Group”—reunites to pre-game the monumental night. Bonded in their youth as outsiders\, they now navigate the complexities of adulthood with humor\, heart\, and a hint of nostalgia. \nBrilliantly witty\, theatrical\, and moving\, The Comeuppance focuses on millennials reckoning with the world they will soon inherit. This play is a toast to the ties that bind us\, the past that shapes us\, and the future we step into together. \nRecommended if you liked… Barbecue\, peerless\, Dead Like Me\, Heathers
URL:https://downtowndayton.org/event/the-comeuppance-2/2025-06-08/2/
LOCATION:The Loft Theatre\, 126 N. Main Street\, Third Floor\, Dayton\, OH\, 45402
ATTACH;FMTTYPE=image/jpeg:https://downtowndayton.org/wp-content/uploads/2025/05/comeupp.jpg
END:VEVENT
BEGIN:VEVENT
DTSTART;TZID=America/New_York:20250608T140000
DTEND;TZID=America/New_York:20250608T140000
DTSTAMP:20260423T011439
CREATED:20250528T192707Z
LAST-MODIFIED:20250528T192707Z
UID:10037354-1749391200-1749391200@downtowndayton.org
SUMMARY:The Comeuppance
DESCRIPTION:As the sun sets on the eve of their twentieth high school reunion\, a close-knit group of former classmates—once known as the “Multi-Ethnic Reject Group”—reunites to pre-game the monumental night. Bonded in their youth as outsiders\, they now navigate the complexities of adulthood with humor\, heart\, and a hint of nostalgia. \nBrilliantly witty\, theatrical\, and moving\, The Comeuppance focuses on millennials reckoning with the world they will soon inherit. This play is a toast to the ties that bind us\, the past that shapes us\, and the future we step into together. \nRecommended if you liked… Barbecue\, peerless\, Dead Like Me\, Heathers
URL:https://downtowndayton.org/event/the-comeuppance-2/2025-06-08/1/
LOCATION:The Loft Theatre\, 126 N. Main Street\, Third Floor\, Dayton\, OH\, 45402
ATTACH;FMTTYPE=image/jpeg:https://downtowndayton.org/wp-content/uploads/2025/05/comeupp.jpg
END:VEVENT
BEGIN:VEVENT
DTSTART;TZID=America/New_York:20250607T193000
DTEND;TZID=America/New_York:20250607T193000
DTSTAMP:20260423T011439
CREATED:20250528T192707Z
LAST-MODIFIED:20250528T192707Z
UID:10037353-1749324600-1749324600@downtowndayton.org
SUMMARY:The Comeuppance
DESCRIPTION:As the sun sets on the eve of their twentieth high school reunion\, a close-knit group of former classmates—once known as the “Multi-Ethnic Reject Group”—reunites to pre-game the monumental night. Bonded in their youth as outsiders\, they now navigate the complexities of adulthood with humor\, heart\, and a hint of nostalgia. \nBrilliantly witty\, theatrical\, and moving\, The Comeuppance focuses on millennials reckoning with the world they will soon inherit. This play is a toast to the ties that bind us\, the past that shapes us\, and the future we step into together. \nRecommended if you liked… Barbecue\, peerless\, Dead Like Me\, Heathers
URL:https://downtowndayton.org/event/the-comeuppance-2/2025-06-07/
LOCATION:The Loft Theatre\, 126 N. Main Street\, Third Floor\, Dayton\, OH\, 45402
ATTACH;FMTTYPE=image/jpeg:https://downtowndayton.org/wp-content/uploads/2025/05/comeupp.jpg
END:VEVENT
BEGIN:VEVENT
DTSTART;TZID=America/New_York:20250606T193000
DTEND;TZID=America/New_York:20250606T193000
DTSTAMP:20260423T011439
CREATED:20250528T192707Z
LAST-MODIFIED:20250528T192707Z
UID:10037352-1749238200-1749238200@downtowndayton.org
SUMMARY:The Comeuppance
DESCRIPTION:As the sun sets on the eve of their twentieth high school reunion\, a close-knit group of former classmates—once known as the “Multi-Ethnic Reject Group”—reunites to pre-game the monumental night. Bonded in their youth as outsiders\, they now navigate the complexities of adulthood with humor\, heart\, and a hint of nostalgia. \nBrilliantly witty\, theatrical\, and moving\, The Comeuppance focuses on millennials reckoning with the world they will soon inherit. This play is a toast to the ties that bind us\, the past that shapes us\, and the future we step into together. \nRecommended if you liked… Barbecue\, peerless\, Dead Like Me\, Heathers
URL:https://downtowndayton.org/event/the-comeuppance-2/2025-06-06/
LOCATION:The Loft Theatre\, 126 N. Main Street\, Third Floor\, Dayton\, OH\, 45402
ATTACH;FMTTYPE=image/jpeg:https://downtowndayton.org/wp-content/uploads/2025/05/comeupp.jpg
END:VEVENT
BEGIN:VEVENT
DTSTART;TZID=America/New_York:20250605T193000
DTEND;TZID=America/New_York:20250605T193000
DTSTAMP:20260423T011440
CREATED:20250528T192707Z
LAST-MODIFIED:20250528T192707Z
UID:10037351-1749151800-1749151800@downtowndayton.org
SUMMARY:The Comeuppance
DESCRIPTION:As the sun sets on the eve of their twentieth high school reunion\, a close-knit group of former classmates—once known as the “Multi-Ethnic Reject Group”—reunites to pre-game the monumental night. Bonded in their youth as outsiders\, they now navigate the complexities of adulthood with humor\, heart\, and a hint of nostalgia. \nBrilliantly witty\, theatrical\, and moving\, The Comeuppance focuses on millennials reckoning with the world they will soon inherit. This play is a toast to the ties that bind us\, the past that shapes us\, and the future we step into together. \nRecommended if you liked… Barbecue\, peerless\, Dead Like Me\, Heathers
URL:https://downtowndayton.org/event/the-comeuppance-2/2025-06-05/
LOCATION:The Loft Theatre\, 126 N. Main Street\, Third Floor\, Dayton\, OH\, 45402
ATTACH;FMTTYPE=image/jpeg:https://downtowndayton.org/wp-content/uploads/2025/05/comeupp.jpg
END:VEVENT
BEGIN:VEVENT
DTSTART;TZID=America/New_York:20250604T193000
DTEND;TZID=America/New_York:20250604T193000
DTSTAMP:20260423T011440
CREATED:20250528T192707Z
LAST-MODIFIED:20250528T192707Z
UID:10037350-1749065400-1749065400@downtowndayton.org
SUMMARY:The Comeuppance
DESCRIPTION:As the sun sets on the eve of their twentieth high school reunion\, a close-knit group of former classmates—once known as the “Multi-Ethnic Reject Group”—reunites to pre-game the monumental night. Bonded in their youth as outsiders\, they now navigate the complexities of adulthood with humor\, heart\, and a hint of nostalgia. \nBrilliantly witty\, theatrical\, and moving\, The Comeuppance focuses on millennials reckoning with the world they will soon inherit. This play is a toast to the ties that bind us\, the past that shapes us\, and the future we step into together. \nRecommended if you liked… Barbecue\, peerless\, Dead Like Me\, Heathers
URL:https://downtowndayton.org/event/the-comeuppance-2/2025-06-04/
LOCATION:The Loft Theatre\, 126 N. Main Street\, Third Floor\, Dayton\, OH\, 45402
ATTACH;FMTTYPE=image/jpeg:https://downtowndayton.org/wp-content/uploads/2025/05/comeupp.jpg
END:VEVENT
BEGIN:VEVENT
DTSTART;TZID=America/New_York:20250603T193000
DTEND;TZID=America/New_York:20250603T193000
DTSTAMP:20260423T011440
CREATED:20250528T192707Z
LAST-MODIFIED:20250528T192707Z
UID:10037349-1748979000-1748979000@downtowndayton.org
SUMMARY:The Comeuppance
DESCRIPTION:As the sun sets on the eve of their twentieth high school reunion\, a close-knit group of former classmates—once known as the “Multi-Ethnic Reject Group”—reunites to pre-game the monumental night. Bonded in their youth as outsiders\, they now navigate the complexities of adulthood with humor\, heart\, and a hint of nostalgia. \nBrilliantly witty\, theatrical\, and moving\, The Comeuppance focuses on millennials reckoning with the world they will soon inherit. This play is a toast to the ties that bind us\, the past that shapes us\, and the future we step into together. \nRecommended if you liked… Barbecue\, peerless\, Dead Like Me\, Heathers
URL:https://downtowndayton.org/event/the-comeuppance-2/2025-06-03/
LOCATION:The Loft Theatre\, 126 N. Main Street\, Third Floor\, Dayton\, OH\, 45402
ATTACH;FMTTYPE=image/jpeg:https://downtowndayton.org/wp-content/uploads/2025/05/comeupp.jpg
END:VEVENT
END:VCALENDAR