BEGIN:VCALENDAR
VERSION:2.0
PRODID:-//Downtown Dayton Partnership - ECPv6.8.1//NONSGML v1.0//EN
CALSCALE:GREGORIAN
METHOD:PUBLISH
X-WR-CALNAME:Downtown Dayton Partnership
X-ORIGINAL-URL:https://downtowndayton.org
X-WR-CALDESC:Events for Downtown Dayton Partnership
REFRESH-INTERVAL;VALUE=DURATION:PT1H
X-Robots-Tag:noindex
X-PUBLISHED-TTL:PT1H
BEGIN:VTIMEZONE
TZID:America/New_York
BEGIN:DAYLIGHT
TZOFFSETFROM:-0500
TZOFFSETTO:-0400
TZNAME:EDT
DTSTART:20260308T070000
END:DAYLIGHT
BEGIN:STANDARD
TZOFFSETFROM:-0400
TZOFFSETTO:-0500
TZNAME:EST
DTSTART:20261101T060000
END:STANDARD
END:VTIMEZONE
BEGIN:VEVENT
DTSTART;TZID=America/New_York:20260630T200000
DTEND;TZID=America/New_York:20260630T230000
DTSTAMP:20260419T140740
CREATED:20250318T140916Z
LAST-MODIFIED:20250318T140916Z
UID:10031353-1782849600-1782860400@downtowndayton.org
SUMMARY:Karaoke with Zane
DESCRIPTION:Yellow Cab Tavern Karaoke is BACK every Tuesday at 8pm with MC Zane Gerlach!\nEntry is always free!\nWith a catalog of over 60\,000 songs\, we have your favorites to sing…and if we don’t\, we’ll do everything we can to get it for you!\nGet your friends and family together and we’ll see you on Tuesday nights at The Yellow Cab Tavern!
URL:https://downtowndayton.org/event/karaoke-with-zane/2026-06-30/
LOCATION:Yellow Cab Tavern\, 700 E 4th St\, Dayton\, OH\, 45402\, United States
ATTACH;FMTTYPE=image/jpeg:https://downtowndayton.org/wp-content/uploads/2025/03/yck.jpg
END:VEVENT
BEGIN:VEVENT
DTSTART;TZID=America/New_York:20260701T183000
DTEND;TZID=America/New_York:20260701T203000
DTSTAMP:20260419T140740
CREATED:20250318T141159Z
LAST-MODIFIED:20250318T141159Z
UID:10031614-1782930600-1782937800@downtowndayton.org
SUMMARY:Live Trivia
DESCRIPTION:We are excited to host live trivia every Wednesday at The Yellow Cab Tavern! Since there are a limited number of indoor tables\, so please reserve as soon as possible.\nPepper Sprout Productions will be doing 3 rounds of general trivia from 6:30 – 8:30! Win prizes and gift cards! Watch their page on the day of for a clue about the bonus round theme!\nYou can enjoy pizza from The Pizza Bandit and beverages from The Yellow Cab Tavern!Pizza Bandit’s standard carryout\, delivery\, and onsite dining will be available from 4-9pm!
URL:https://downtowndayton.org/event/live-trivia/2026-07-01/
LOCATION:Yellow Cab Tavern\, 700 E 4th St\, Dayton\, OH\, 45402\, United States
ATTACH;FMTTYPE=image/jpeg:https://downtowndayton.org/wp-content/uploads/2025/03/yct.jpg
END:VEVENT
BEGIN:VEVENT
DTSTART;TZID=America/New_York:20260707T200000
DTEND;TZID=America/New_York:20260707T230000
DTSTAMP:20260419T140740
CREATED:20250318T140916Z
LAST-MODIFIED:20250318T140916Z
UID:10031354-1783454400-1783465200@downtowndayton.org
SUMMARY:Karaoke with Zane
DESCRIPTION:Yellow Cab Tavern Karaoke is BACK every Tuesday at 8pm with MC Zane Gerlach!\nEntry is always free!\nWith a catalog of over 60\,000 songs\, we have your favorites to sing…and if we don’t\, we’ll do everything we can to get it for you!\nGet your friends and family together and we’ll see you on Tuesday nights at The Yellow Cab Tavern!
URL:https://downtowndayton.org/event/karaoke-with-zane/2026-07-07/
LOCATION:Yellow Cab Tavern\, 700 E 4th St\, Dayton\, OH\, 45402\, United States
ATTACH;FMTTYPE=image/jpeg:https://downtowndayton.org/wp-content/uploads/2025/03/yck.jpg
END:VEVENT
BEGIN:VEVENT
DTSTART;TZID=America/New_York:20260708T183000
DTEND;TZID=America/New_York:20260708T203000
DTSTAMP:20260419T140740
CREATED:20250318T141159Z
LAST-MODIFIED:20250318T141159Z
UID:10031615-1783535400-1783542600@downtowndayton.org
SUMMARY:Live Trivia
DESCRIPTION:We are excited to host live trivia every Wednesday at The Yellow Cab Tavern! Since there are a limited number of indoor tables\, so please reserve as soon as possible.\nPepper Sprout Productions will be doing 3 rounds of general trivia from 6:30 – 8:30! Win prizes and gift cards! Watch their page on the day of for a clue about the bonus round theme!\nYou can enjoy pizza from The Pizza Bandit and beverages from The Yellow Cab Tavern!Pizza Bandit’s standard carryout\, delivery\, and onsite dining will be available from 4-9pm!
URL:https://downtowndayton.org/event/live-trivia/2026-07-08/
LOCATION:Yellow Cab Tavern\, 700 E 4th St\, Dayton\, OH\, 45402\, United States
ATTACH;FMTTYPE=image/jpeg:https://downtowndayton.org/wp-content/uploads/2025/03/yct.jpg
END:VEVENT
BEGIN:VEVENT
DTSTART;TZID=America/New_York:20260714T200000
DTEND;TZID=America/New_York:20260714T230000
DTSTAMP:20260419T140740
CREATED:20250318T140916Z
LAST-MODIFIED:20250318T140916Z
UID:10031355-1784059200-1784070000@downtowndayton.org
SUMMARY:Karaoke with Zane
DESCRIPTION:Yellow Cab Tavern Karaoke is BACK every Tuesday at 8pm with MC Zane Gerlach!\nEntry is always free!\nWith a catalog of over 60\,000 songs\, we have your favorites to sing…and if we don’t\, we’ll do everything we can to get it for you!\nGet your friends and family together and we’ll see you on Tuesday nights at The Yellow Cab Tavern!
URL:https://downtowndayton.org/event/karaoke-with-zane/2026-07-14/
LOCATION:Yellow Cab Tavern\, 700 E 4th St\, Dayton\, OH\, 45402\, United States
ATTACH;FMTTYPE=image/jpeg:https://downtowndayton.org/wp-content/uploads/2025/03/yck.jpg
END:VEVENT
BEGIN:VEVENT
DTSTART;TZID=America/New_York:20260715T183000
DTEND;TZID=America/New_York:20260715T203000
DTSTAMP:20260419T140740
CREATED:20250318T141159Z
LAST-MODIFIED:20250318T141159Z
UID:10031616-1784140200-1784147400@downtowndayton.org
SUMMARY:Live Trivia
DESCRIPTION:We are excited to host live trivia every Wednesday at The Yellow Cab Tavern! Since there are a limited number of indoor tables\, so please reserve as soon as possible.\nPepper Sprout Productions will be doing 3 rounds of general trivia from 6:30 – 8:30! Win prizes and gift cards! Watch their page on the day of for a clue about the bonus round theme!\nYou can enjoy pizza from The Pizza Bandit and beverages from The Yellow Cab Tavern!Pizza Bandit’s standard carryout\, delivery\, and onsite dining will be available from 4-9pm!
URL:https://downtowndayton.org/event/live-trivia/2026-07-15/
LOCATION:Yellow Cab Tavern\, 700 E 4th St\, Dayton\, OH\, 45402\, United States
ATTACH;FMTTYPE=image/jpeg:https://downtowndayton.org/wp-content/uploads/2025/03/yct.jpg
END:VEVENT
BEGIN:VEVENT
DTSTART;TZID=America/New_York:20260721T200000
DTEND;TZID=America/New_York:20260721T230000
DTSTAMP:20260419T140740
CREATED:20250318T140916Z
LAST-MODIFIED:20250318T140916Z
UID:10031356-1784664000-1784674800@downtowndayton.org
SUMMARY:Karaoke with Zane
DESCRIPTION:Yellow Cab Tavern Karaoke is BACK every Tuesday at 8pm with MC Zane Gerlach!\nEntry is always free!\nWith a catalog of over 60\,000 songs\, we have your favorites to sing…and if we don’t\, we’ll do everything we can to get it for you!\nGet your friends and family together and we’ll see you on Tuesday nights at The Yellow Cab Tavern!
URL:https://downtowndayton.org/event/karaoke-with-zane/2026-07-21/
LOCATION:Yellow Cab Tavern\, 700 E 4th St\, Dayton\, OH\, 45402\, United States
ATTACH;FMTTYPE=image/jpeg:https://downtowndayton.org/wp-content/uploads/2025/03/yck.jpg
END:VEVENT
BEGIN:VEVENT
DTSTART;TZID=America/New_York:20260722T183000
DTEND;TZID=America/New_York:20260722T203000
DTSTAMP:20260419T140740
CREATED:20250318T141159Z
LAST-MODIFIED:20250318T141159Z
UID:10031617-1784745000-1784752200@downtowndayton.org
SUMMARY:Live Trivia
DESCRIPTION:We are excited to host live trivia every Wednesday at The Yellow Cab Tavern! Since there are a limited number of indoor tables\, so please reserve as soon as possible.\nPepper Sprout Productions will be doing 3 rounds of general trivia from 6:30 – 8:30! Win prizes and gift cards! Watch their page on the day of for a clue about the bonus round theme!\nYou can enjoy pizza from The Pizza Bandit and beverages from The Yellow Cab Tavern!Pizza Bandit’s standard carryout\, delivery\, and onsite dining will be available from 4-9pm!
URL:https://downtowndayton.org/event/live-trivia/2026-07-22/
LOCATION:Yellow Cab Tavern\, 700 E 4th St\, Dayton\, OH\, 45402\, United States
ATTACH;FMTTYPE=image/jpeg:https://downtowndayton.org/wp-content/uploads/2025/03/yct.jpg
END:VEVENT
BEGIN:VEVENT
DTSTART;TZID=America/New_York:20260728T200000
DTEND;TZID=America/New_York:20260728T230000
DTSTAMP:20260419T140740
CREATED:20250318T140916Z
LAST-MODIFIED:20250318T140916Z
UID:10031357-1785268800-1785279600@downtowndayton.org
SUMMARY:Karaoke with Zane
DESCRIPTION:Yellow Cab Tavern Karaoke is BACK every Tuesday at 8pm with MC Zane Gerlach!\nEntry is always free!\nWith a catalog of over 60\,000 songs\, we have your favorites to sing…and if we don’t\, we’ll do everything we can to get it for you!\nGet your friends and family together and we’ll see you on Tuesday nights at The Yellow Cab Tavern!
URL:https://downtowndayton.org/event/karaoke-with-zane/2026-07-28/
LOCATION:Yellow Cab Tavern\, 700 E 4th St\, Dayton\, OH\, 45402\, United States
ATTACH;FMTTYPE=image/jpeg:https://downtowndayton.org/wp-content/uploads/2025/03/yck.jpg
END:VEVENT
BEGIN:VEVENT
DTSTART;TZID=America/New_York:20260729T183000
DTEND;TZID=America/New_York:20260729T203000
DTSTAMP:20260419T140740
CREATED:20250318T141159Z
LAST-MODIFIED:20250318T141159Z
UID:10031618-1785349800-1785357000@downtowndayton.org
SUMMARY:Live Trivia
DESCRIPTION:We are excited to host live trivia every Wednesday at The Yellow Cab Tavern! Since there are a limited number of indoor tables\, so please reserve as soon as possible.\nPepper Sprout Productions will be doing 3 rounds of general trivia from 6:30 – 8:30! Win prizes and gift cards! Watch their page on the day of for a clue about the bonus round theme!\nYou can enjoy pizza from The Pizza Bandit and beverages from The Yellow Cab Tavern!Pizza Bandit’s standard carryout\, delivery\, and onsite dining will be available from 4-9pm!
URL:https://downtowndayton.org/event/live-trivia/2026-07-29/
LOCATION:Yellow Cab Tavern\, 700 E 4th St\, Dayton\, OH\, 45402\, United States
ATTACH;FMTTYPE=image/jpeg:https://downtowndayton.org/wp-content/uploads/2025/03/yct.jpg
END:VEVENT
BEGIN:VEVENT
DTSTART;TZID=America/New_York:20260804T200000
DTEND;TZID=America/New_York:20260804T230000
DTSTAMP:20260419T140740
CREATED:20250318T140916Z
LAST-MODIFIED:20250318T140916Z
UID:10031358-1785873600-1785884400@downtowndayton.org
SUMMARY:Karaoke with Zane
DESCRIPTION:Yellow Cab Tavern Karaoke is BACK every Tuesday at 8pm with MC Zane Gerlach!\nEntry is always free!\nWith a catalog of over 60\,000 songs\, we have your favorites to sing…and if we don’t\, we’ll do everything we can to get it for you!\nGet your friends and family together and we’ll see you on Tuesday nights at The Yellow Cab Tavern!
URL:https://downtowndayton.org/event/karaoke-with-zane/2026-08-04/
LOCATION:Yellow Cab Tavern\, 700 E 4th St\, Dayton\, OH\, 45402\, United States
ATTACH;FMTTYPE=image/jpeg:https://downtowndayton.org/wp-content/uploads/2025/03/yck.jpg
END:VEVENT
BEGIN:VEVENT
DTSTART;TZID=America/New_York:20260805T183000
DTEND;TZID=America/New_York:20260805T203000
DTSTAMP:20260419T140740
CREATED:20250318T141159Z
LAST-MODIFIED:20250318T141159Z
UID:10031619-1785954600-1785961800@downtowndayton.org
SUMMARY:Live Trivia
DESCRIPTION:We are excited to host live trivia every Wednesday at The Yellow Cab Tavern! Since there are a limited number of indoor tables\, so please reserve as soon as possible.\nPepper Sprout Productions will be doing 3 rounds of general trivia from 6:30 – 8:30! Win prizes and gift cards! Watch their page on the day of for a clue about the bonus round theme!\nYou can enjoy pizza from The Pizza Bandit and beverages from The Yellow Cab Tavern!Pizza Bandit’s standard carryout\, delivery\, and onsite dining will be available from 4-9pm!
URL:https://downtowndayton.org/event/live-trivia/2026-08-05/
LOCATION:Yellow Cab Tavern\, 700 E 4th St\, Dayton\, OH\, 45402\, United States
ATTACH;FMTTYPE=image/jpeg:https://downtowndayton.org/wp-content/uploads/2025/03/yct.jpg
END:VEVENT
BEGIN:VEVENT
DTSTART;TZID=America/New_York:20260811T200000
DTEND;TZID=America/New_York:20260811T230000
DTSTAMP:20260419T140740
CREATED:20250318T140916Z
LAST-MODIFIED:20250318T140916Z
UID:10031359-1786478400-1786489200@downtowndayton.org
SUMMARY:Karaoke with Zane
DESCRIPTION:Yellow Cab Tavern Karaoke is BACK every Tuesday at 8pm with MC Zane Gerlach!\nEntry is always free!\nWith a catalog of over 60\,000 songs\, we have your favorites to sing…and if we don’t\, we’ll do everything we can to get it for you!\nGet your friends and family together and we’ll see you on Tuesday nights at The Yellow Cab Tavern!
URL:https://downtowndayton.org/event/karaoke-with-zane/2026-08-11/
LOCATION:Yellow Cab Tavern\, 700 E 4th St\, Dayton\, OH\, 45402\, United States
ATTACH;FMTTYPE=image/jpeg:https://downtowndayton.org/wp-content/uploads/2025/03/yck.jpg
END:VEVENT
BEGIN:VEVENT
DTSTART;TZID=America/New_York:20260812T183000
DTEND;TZID=America/New_York:20260812T203000
DTSTAMP:20260419T140740
CREATED:20250318T141159Z
LAST-MODIFIED:20250318T141159Z
UID:10031620-1786559400-1786566600@downtowndayton.org
SUMMARY:Live Trivia
DESCRIPTION:We are excited to host live trivia every Wednesday at The Yellow Cab Tavern! Since there are a limited number of indoor tables\, so please reserve as soon as possible.\nPepper Sprout Productions will be doing 3 rounds of general trivia from 6:30 – 8:30! Win prizes and gift cards! Watch their page on the day of for a clue about the bonus round theme!\nYou can enjoy pizza from The Pizza Bandit and beverages from The Yellow Cab Tavern!Pizza Bandit’s standard carryout\, delivery\, and onsite dining will be available from 4-9pm!
URL:https://downtowndayton.org/event/live-trivia/2026-08-12/
LOCATION:Yellow Cab Tavern\, 700 E 4th St\, Dayton\, OH\, 45402\, United States
ATTACH;FMTTYPE=image/jpeg:https://downtowndayton.org/wp-content/uploads/2025/03/yct.jpg
END:VEVENT
BEGIN:VEVENT
DTSTART;TZID=America/New_York:20260818T200000
DTEND;TZID=America/New_York:20260818T230000
DTSTAMP:20260419T140740
CREATED:20250318T140916Z
LAST-MODIFIED:20250318T140916Z
UID:10031360-1787083200-1787094000@downtowndayton.org
SUMMARY:Karaoke with Zane
DESCRIPTION:Yellow Cab Tavern Karaoke is BACK every Tuesday at 8pm with MC Zane Gerlach!\nEntry is always free!\nWith a catalog of over 60\,000 songs\, we have your favorites to sing…and if we don’t\, we’ll do everything we can to get it for you!\nGet your friends and family together and we’ll see you on Tuesday nights at The Yellow Cab Tavern!
URL:https://downtowndayton.org/event/karaoke-with-zane/2026-08-18/
LOCATION:Yellow Cab Tavern\, 700 E 4th St\, Dayton\, OH\, 45402\, United States
ATTACH;FMTTYPE=image/jpeg:https://downtowndayton.org/wp-content/uploads/2025/03/yck.jpg
END:VEVENT
BEGIN:VEVENT
DTSTART;TZID=America/New_York:20260819T183000
DTEND;TZID=America/New_York:20260819T203000
DTSTAMP:20260419T140740
CREATED:20250318T141159Z
LAST-MODIFIED:20250318T141159Z
UID:10031621-1787164200-1787171400@downtowndayton.org
SUMMARY:Live Trivia
DESCRIPTION:We are excited to host live trivia every Wednesday at The Yellow Cab Tavern! Since there are a limited number of indoor tables\, so please reserve as soon as possible.\nPepper Sprout Productions will be doing 3 rounds of general trivia from 6:30 – 8:30! Win prizes and gift cards! Watch their page on the day of for a clue about the bonus round theme!\nYou can enjoy pizza from The Pizza Bandit and beverages from The Yellow Cab Tavern!Pizza Bandit’s standard carryout\, delivery\, and onsite dining will be available from 4-9pm!
URL:https://downtowndayton.org/event/live-trivia/2026-08-19/
LOCATION:Yellow Cab Tavern\, 700 E 4th St\, Dayton\, OH\, 45402\, United States
ATTACH;FMTTYPE=image/jpeg:https://downtowndayton.org/wp-content/uploads/2025/03/yct.jpg
END:VEVENT
BEGIN:VEVENT
DTSTART;TZID=America/New_York:20260825T200000
DTEND;TZID=America/New_York:20260825T230000
DTSTAMP:20260419T140740
CREATED:20250318T140916Z
LAST-MODIFIED:20250318T140916Z
UID:10031361-1787688000-1787698800@downtowndayton.org
SUMMARY:Karaoke with Zane
DESCRIPTION:Yellow Cab Tavern Karaoke is BACK every Tuesday at 8pm with MC Zane Gerlach!\nEntry is always free!\nWith a catalog of over 60\,000 songs\, we have your favorites to sing…and if we don’t\, we’ll do everything we can to get it for you!\nGet your friends and family together and we’ll see you on Tuesday nights at The Yellow Cab Tavern!
URL:https://downtowndayton.org/event/karaoke-with-zane/2026-08-25/
LOCATION:Yellow Cab Tavern\, 700 E 4th St\, Dayton\, OH\, 45402\, United States
ATTACH;FMTTYPE=image/jpeg:https://downtowndayton.org/wp-content/uploads/2025/03/yck.jpg
END:VEVENT
BEGIN:VEVENT
DTSTART;TZID=America/New_York:20260826T183000
DTEND;TZID=America/New_York:20260826T203000
DTSTAMP:20260419T140740
CREATED:20250318T141159Z
LAST-MODIFIED:20250318T141159Z
UID:10031622-1787769000-1787776200@downtowndayton.org
SUMMARY:Live Trivia
DESCRIPTION:We are excited to host live trivia every Wednesday at The Yellow Cab Tavern! Since there are a limited number of indoor tables\, so please reserve as soon as possible.\nPepper Sprout Productions will be doing 3 rounds of general trivia from 6:30 – 8:30! Win prizes and gift cards! Watch their page on the day of for a clue about the bonus round theme!\nYou can enjoy pizza from The Pizza Bandit and beverages from The Yellow Cab Tavern!Pizza Bandit’s standard carryout\, delivery\, and onsite dining will be available from 4-9pm!
URL:https://downtowndayton.org/event/live-trivia/2026-08-26/
LOCATION:Yellow Cab Tavern\, 700 E 4th St\, Dayton\, OH\, 45402\, United States
ATTACH;FMTTYPE=image/jpeg:https://downtowndayton.org/wp-content/uploads/2025/03/yct.jpg
END:VEVENT
BEGIN:VEVENT
DTSTART;TZID=America/New_York:20260901T200000
DTEND;TZID=America/New_York:20260901T230000
DTSTAMP:20260419T140740
CREATED:20250318T140916Z
LAST-MODIFIED:20250318T140916Z
UID:10031362-1788292800-1788303600@downtowndayton.org
SUMMARY:Karaoke with Zane
DESCRIPTION:Yellow Cab Tavern Karaoke is BACK every Tuesday at 8pm with MC Zane Gerlach!\nEntry is always free!\nWith a catalog of over 60\,000 songs\, we have your favorites to sing…and if we don’t\, we’ll do everything we can to get it for you!\nGet your friends and family together and we’ll see you on Tuesday nights at The Yellow Cab Tavern!
URL:https://downtowndayton.org/event/karaoke-with-zane/2026-09-01/
LOCATION:Yellow Cab Tavern\, 700 E 4th St\, Dayton\, OH\, 45402\, United States
ATTACH;FMTTYPE=image/jpeg:https://downtowndayton.org/wp-content/uploads/2025/03/yck.jpg
END:VEVENT
BEGIN:VEVENT
DTSTART;TZID=America/New_York:20260902T183000
DTEND;TZID=America/New_York:20260902T203000
DTSTAMP:20260419T140740
CREATED:20250318T141159Z
LAST-MODIFIED:20250318T141159Z
UID:10031623-1788373800-1788381000@downtowndayton.org
SUMMARY:Live Trivia
DESCRIPTION:We are excited to host live trivia every Wednesday at The Yellow Cab Tavern! Since there are a limited number of indoor tables\, so please reserve as soon as possible.\nPepper Sprout Productions will be doing 3 rounds of general trivia from 6:30 – 8:30! Win prizes and gift cards! Watch their page on the day of for a clue about the bonus round theme!\nYou can enjoy pizza from The Pizza Bandit and beverages from The Yellow Cab Tavern!Pizza Bandit’s standard carryout\, delivery\, and onsite dining will be available from 4-9pm!
URL:https://downtowndayton.org/event/live-trivia/2026-09-02/
LOCATION:Yellow Cab Tavern\, 700 E 4th St\, Dayton\, OH\, 45402\, United States
ATTACH;FMTTYPE=image/jpeg:https://downtowndayton.org/wp-content/uploads/2025/03/yct.jpg
END:VEVENT
BEGIN:VEVENT
DTSTART;TZID=America/New_York:20260908T200000
DTEND;TZID=America/New_York:20260908T230000
DTSTAMP:20260419T140740
CREATED:20250318T140916Z
LAST-MODIFIED:20250318T140916Z
UID:10031363-1788897600-1788908400@downtowndayton.org
SUMMARY:Karaoke with Zane
DESCRIPTION:Yellow Cab Tavern Karaoke is BACK every Tuesday at 8pm with MC Zane Gerlach!\nEntry is always free!\nWith a catalog of over 60\,000 songs\, we have your favorites to sing…and if we don’t\, we’ll do everything we can to get it for you!\nGet your friends and family together and we’ll see you on Tuesday nights at The Yellow Cab Tavern!
URL:https://downtowndayton.org/event/karaoke-with-zane/2026-09-08/
LOCATION:Yellow Cab Tavern\, 700 E 4th St\, Dayton\, OH\, 45402\, United States
ATTACH;FMTTYPE=image/jpeg:https://downtowndayton.org/wp-content/uploads/2025/03/yck.jpg
END:VEVENT
BEGIN:VEVENT
DTSTART;TZID=America/New_York:20260909T183000
DTEND;TZID=America/New_York:20260909T203000
DTSTAMP:20260419T140740
CREATED:20250318T141159Z
LAST-MODIFIED:20250318T141159Z
UID:10031624-1788978600-1788985800@downtowndayton.org
SUMMARY:Live Trivia
DESCRIPTION:We are excited to host live trivia every Wednesday at The Yellow Cab Tavern! Since there are a limited number of indoor tables\, so please reserve as soon as possible.\nPepper Sprout Productions will be doing 3 rounds of general trivia from 6:30 – 8:30! Win prizes and gift cards! Watch their page on the day of for a clue about the bonus round theme!\nYou can enjoy pizza from The Pizza Bandit and beverages from The Yellow Cab Tavern!Pizza Bandit’s standard carryout\, delivery\, and onsite dining will be available from 4-9pm!
URL:https://downtowndayton.org/event/live-trivia/2026-09-09/
LOCATION:Yellow Cab Tavern\, 700 E 4th St\, Dayton\, OH\, 45402\, United States
ATTACH;FMTTYPE=image/jpeg:https://downtowndayton.org/wp-content/uploads/2025/03/yct.jpg
END:VEVENT
BEGIN:VEVENT
DTSTART;TZID=America/New_York:20260915T200000
DTEND;TZID=America/New_York:20260915T230000
DTSTAMP:20260419T140740
CREATED:20250318T140916Z
LAST-MODIFIED:20250318T140916Z
UID:10031364-1789502400-1789513200@downtowndayton.org
SUMMARY:Karaoke with Zane
DESCRIPTION:Yellow Cab Tavern Karaoke is BACK every Tuesday at 8pm with MC Zane Gerlach!\nEntry is always free!\nWith a catalog of over 60\,000 songs\, we have your favorites to sing…and if we don’t\, we’ll do everything we can to get it for you!\nGet your friends and family together and we’ll see you on Tuesday nights at The Yellow Cab Tavern!
URL:https://downtowndayton.org/event/karaoke-with-zane/2026-09-15/
LOCATION:Yellow Cab Tavern\, 700 E 4th St\, Dayton\, OH\, 45402\, United States
ATTACH;FMTTYPE=image/jpeg:https://downtowndayton.org/wp-content/uploads/2025/03/yck.jpg
END:VEVENT
BEGIN:VEVENT
DTSTART;TZID=America/New_York:20260916T183000
DTEND;TZID=America/New_York:20260916T203000
DTSTAMP:20260419T140740
CREATED:20250318T141159Z
LAST-MODIFIED:20250318T141159Z
UID:10031625-1789583400-1789590600@downtowndayton.org
SUMMARY:Live Trivia
DESCRIPTION:We are excited to host live trivia every Wednesday at The Yellow Cab Tavern! Since there are a limited number of indoor tables\, so please reserve as soon as possible.\nPepper Sprout Productions will be doing 3 rounds of general trivia from 6:30 – 8:30! Win prizes and gift cards! Watch their page on the day of for a clue about the bonus round theme!\nYou can enjoy pizza from The Pizza Bandit and beverages from The Yellow Cab Tavern!Pizza Bandit’s standard carryout\, delivery\, and onsite dining will be available from 4-9pm!
URL:https://downtowndayton.org/event/live-trivia/2026-09-16/
LOCATION:Yellow Cab Tavern\, 700 E 4th St\, Dayton\, OH\, 45402\, United States
ATTACH;FMTTYPE=image/jpeg:https://downtowndayton.org/wp-content/uploads/2025/03/yct.jpg
END:VEVENT
BEGIN:VEVENT
DTSTART;TZID=America/New_York:20260922T200000
DTEND;TZID=America/New_York:20260922T230000
DTSTAMP:20260419T140740
CREATED:20250318T140916Z
LAST-MODIFIED:20250318T140916Z
UID:10031365-1790107200-1790118000@downtowndayton.org
SUMMARY:Karaoke with Zane
DESCRIPTION:Yellow Cab Tavern Karaoke is BACK every Tuesday at 8pm with MC Zane Gerlach!\nEntry is always free!\nWith a catalog of over 60\,000 songs\, we have your favorites to sing…and if we don’t\, we’ll do everything we can to get it for you!\nGet your friends and family together and we’ll see you on Tuesday nights at The Yellow Cab Tavern!
URL:https://downtowndayton.org/event/karaoke-with-zane/2026-09-22/
LOCATION:Yellow Cab Tavern\, 700 E 4th St\, Dayton\, OH\, 45402\, United States
ATTACH;FMTTYPE=image/jpeg:https://downtowndayton.org/wp-content/uploads/2025/03/yck.jpg
END:VEVENT
BEGIN:VEVENT
DTSTART;TZID=America/New_York:20260923T183000
DTEND;TZID=America/New_York:20260923T203000
DTSTAMP:20260419T140740
CREATED:20250318T141159Z
LAST-MODIFIED:20250318T141159Z
UID:10031626-1790188200-1790195400@downtowndayton.org
SUMMARY:Live Trivia
DESCRIPTION:We are excited to host live trivia every Wednesday at The Yellow Cab Tavern! Since there are a limited number of indoor tables\, so please reserve as soon as possible.\nPepper Sprout Productions will be doing 3 rounds of general trivia from 6:30 – 8:30! Win prizes and gift cards! Watch their page on the day of for a clue about the bonus round theme!\nYou can enjoy pizza from The Pizza Bandit and beverages from The Yellow Cab Tavern!Pizza Bandit’s standard carryout\, delivery\, and onsite dining will be available from 4-9pm!
URL:https://downtowndayton.org/event/live-trivia/2026-09-23/
LOCATION:Yellow Cab Tavern\, 700 E 4th St\, Dayton\, OH\, 45402\, United States
ATTACH;FMTTYPE=image/jpeg:https://downtowndayton.org/wp-content/uploads/2025/03/yct.jpg
END:VEVENT
BEGIN:VEVENT
DTSTART;TZID=America/New_York:20260929T200000
DTEND;TZID=America/New_York:20260929T230000
DTSTAMP:20260419T140740
CREATED:20250318T140916Z
LAST-MODIFIED:20250318T140916Z
UID:10031366-1790712000-1790722800@downtowndayton.org
SUMMARY:Karaoke with Zane
DESCRIPTION:Yellow Cab Tavern Karaoke is BACK every Tuesday at 8pm with MC Zane Gerlach!\nEntry is always free!\nWith a catalog of over 60\,000 songs\, we have your favorites to sing…and if we don’t\, we’ll do everything we can to get it for you!\nGet your friends and family together and we’ll see you on Tuesday nights at The Yellow Cab Tavern!
URL:https://downtowndayton.org/event/karaoke-with-zane/2026-09-29/
LOCATION:Yellow Cab Tavern\, 700 E 4th St\, Dayton\, OH\, 45402\, United States
ATTACH;FMTTYPE=image/jpeg:https://downtowndayton.org/wp-content/uploads/2025/03/yck.jpg
END:VEVENT
BEGIN:VEVENT
DTSTART;TZID=America/New_York:20260930T183000
DTEND;TZID=America/New_York:20260930T203000
DTSTAMP:20260419T140740
CREATED:20250318T141159Z
LAST-MODIFIED:20250318T141159Z
UID:10031627-1790793000-1790800200@downtowndayton.org
SUMMARY:Live Trivia
DESCRIPTION:We are excited to host live trivia every Wednesday at The Yellow Cab Tavern! Since there are a limited number of indoor tables\, so please reserve as soon as possible.\nPepper Sprout Productions will be doing 3 rounds of general trivia from 6:30 – 8:30! Win prizes and gift cards! Watch their page on the day of for a clue about the bonus round theme!\nYou can enjoy pizza from The Pizza Bandit and beverages from The Yellow Cab Tavern!Pizza Bandit’s standard carryout\, delivery\, and onsite dining will be available from 4-9pm!
URL:https://downtowndayton.org/event/live-trivia/2026-09-30/
LOCATION:Yellow Cab Tavern\, 700 E 4th St\, Dayton\, OH\, 45402\, United States
ATTACH;FMTTYPE=image/jpeg:https://downtowndayton.org/wp-content/uploads/2025/03/yct.jpg
END:VEVENT
BEGIN:VEVENT
DTSTART;TZID=America/New_York:20261006T200000
DTEND;TZID=America/New_York:20261006T230000
DTSTAMP:20260419T140740
CREATED:20250318T140916Z
LAST-MODIFIED:20250318T140916Z
UID:10031367-1791316800-1791327600@downtowndayton.org
SUMMARY:Karaoke with Zane
DESCRIPTION:Yellow Cab Tavern Karaoke is BACK every Tuesday at 8pm with MC Zane Gerlach!\nEntry is always free!\nWith a catalog of over 60\,000 songs\, we have your favorites to sing…and if we don’t\, we’ll do everything we can to get it for you!\nGet your friends and family together and we’ll see you on Tuesday nights at The Yellow Cab Tavern!
URL:https://downtowndayton.org/event/karaoke-with-zane/2026-10-06/
LOCATION:Yellow Cab Tavern\, 700 E 4th St\, Dayton\, OH\, 45402\, United States
ATTACH;FMTTYPE=image/jpeg:https://downtowndayton.org/wp-content/uploads/2025/03/yck.jpg
END:VEVENT
BEGIN:VEVENT
DTSTART;TZID=America/New_York:20261007T183000
DTEND;TZID=America/New_York:20261007T203000
DTSTAMP:20260419T140740
CREATED:20250318T141159Z
LAST-MODIFIED:20250318T141159Z
UID:10031628-1791397800-1791405000@downtowndayton.org
SUMMARY:Live Trivia
DESCRIPTION:We are excited to host live trivia every Wednesday at The Yellow Cab Tavern! Since there are a limited number of indoor tables\, so please reserve as soon as possible.\nPepper Sprout Productions will be doing 3 rounds of general trivia from 6:30 – 8:30! Win prizes and gift cards! Watch their page on the day of for a clue about the bonus round theme!\nYou can enjoy pizza from The Pizza Bandit and beverages from The Yellow Cab Tavern!Pizza Bandit’s standard carryout\, delivery\, and onsite dining will be available from 4-9pm!
URL:https://downtowndayton.org/event/live-trivia/2026-10-07/
LOCATION:Yellow Cab Tavern\, 700 E 4th St\, Dayton\, OH\, 45402\, United States
ATTACH;FMTTYPE=image/jpeg:https://downtowndayton.org/wp-content/uploads/2025/03/yct.jpg
END:VEVENT
END:VCALENDAR